{"text_format":"3","workbook":"xlsx","n_sheets":10,"sheets":["Junioři","Dorost","Starší žactvo","Mladší žactvo","Nejmladší žactvo","Juniorky","Dorostenky","Starší žákyně","Mladší žákyně","Nejmladší žákyně"],"not_rendered":{"macros":1,"external_links":10,"defined_names":110},"read":"whole","date_system":"1900"}

{"sheet":"Junioři","index":0,"n_rows":339,"n_cols":88,"rows_kept":339,"merged":[[2,1,2,6],[2,7,2,8],[2,9,2,10],[2,11,2,12],[2,13,2,14],[2,15,2,16],[2,17,2,18],[2,19,2,20],[2,21,2,22]]}
["PRŮBĚŽNÉ BODOVÉ POŘADÍ RBTM A PR KARVINÁ JUNIORŮ"]
[]
[null," - započítává se 5 nejlepších turnajů z 8 odehraných za poslední rok",{"$nulls":5},{"$f":"+Dorost!H3","v":"KARVINÁ 17.9.2011"},null,{"$f":"+Dorost!J3","v":"HAVÍŘOV 24.9.2011"},null,{"$f":"+Dorost!L3","v":"KARVINÁ 3.12.2011"},null,{"$f":"+Dorost!N3","v":"HAVÍŘOV 7.1.2012"},null,{"$f":"+Dorost!P3","v":"HAVÍŘOV 4.2.2012"},null,{"$f":"+Dorost!R3","v":"KARVINÁ 19.3.2011"},null,{"$f":"+Dorost!T3","v":"KARVINÁ 16.4.2011"},null,{"$f":"+Dorost!V3","v":"KARVINÁ 14.5.2011"}]
[{"$nulls":7},{"$f":"+[1]Tabulka!AU709","v":36},{"$f":"SUBTOTAL(9,I6:I300)","v":68.0554556524308},{"$f":"+[1]Tabulka!AW709","v":40},{"$f":"SUBTOTAL(9,K6:K300)","v":69.97170693689507},{"$f":"+[1]Tabulka!AY709","v":44},{"$f":"SUBTOTAL(9,M6:M300)","v":71.13283210819819},{"$f":"+[1]Tabulka!BA709","v":29},{"$f":"SUBTOTAL(9,O6:O300)","v":73.47203686223126},{"$f":"+[1]Tabulka!BC709","v":36},{"$f":"SUBTOTAL(9,Q6:Q300)","v":68.0554556524308},{"$f":"+[1]Tabulka!BE709","v":34},{"$f":"SUBTOTAL(9,S6:S300)","v":67.00973096722795},{"$f":"+[1]Tabulka!BG709","v":47},{"$f":"SUBTOTAL(9,U6:U300)","v":71.9397099558488},{"$f":"+[1]Tabulka!BI709","v":34},{"$f":"SUBTOTAL(9,W6:W300)","v":67.00973096722795},{"$f":"+[1]Tabulka!AP5","v":0},{"$f":"+[1]Tabulka!AQ5","v":0},{"$f":"+[1]Tabulka!AR5","v":0},{"$f":"+[1]Tabulka!AS5","v":0},{"$f":"+[1]Tabulka!AT5","v":0}]
[{"$f":"SUBTOTAL(3,A6:A340)","v":97},{"$f":"[1]Tabulka!C6","v":"Přijmení"},{"$f":"[1]Tabulka!D6","v":"jméno"},{"$f":"[1]Tabulka!E6","v":"nar."},{"$f":"[1]Tabulka!F6","v":"oddíl-klub"},{"$f":"[1]Tabulka!G6","v":"okr"},{"$f":"[1]Tabulka!H6","v":"pop"},{"$f":"+[1]Tabulka!Z6","v":"um."},{"$f":"+[1]Tabulka!AA6","v":"b."},{"$f":"+[1]Tabulka!AB6","v":"um."},{"$f":"+[1]Tabulka!AC6","v":"b."},{"$f":"+[1]Tabulka!AD6","v":"um."},{"$f":"+[1]Tabulka!AE6","v":"b."},{"$f":"+[1]Tabulka!AF6","v":"um."},{"$f":"+[1]Tabulka!AG6","v":"b."},{"$f":"+[1]Tabulka!AH6","v":"um."},{"$f":"+[1]Tabulka!AI6","v":"b."},{"$f":"+[1]Tabulka!AJ6","v":"um."},{"$f":"+[1]Tabulka!AK6","v":"b."},{"$f":"+[1]Tabulka!AL6","v":"um."},{"$f":"+[1]Tabulka!AM6","v":"b."},{"$f":"+[1]Tabulka!AN6","v":"um."},{"$f":"+[1]Tabulka!AO6","v":"b."},{"$f":"+[1]Tabulka!AP6","v":"I."},{"$f":"+[1]Tabulka!AQ6","v":"t"},{"$f":"+[1]Tabulka!AR6","v":"I.+II."},{"$f":"+[1]Tabulka!AS6","v":"t"},{"$f":"+[1]Tabulka!AT6","v":"R"},{"$nulls":6},{"$f":"[1]Tabulka!DG6","v":0},{"$f":"[1]Tabulka!DH6","v":0},{"$f":"[1]Tabulka!DI6","v":0},{"$f":"[1]Tabulka!DJ6","v":0},{"$f":"[1]Tabulka!DK6","v":0},{"$f":"[1]Tabulka!DL6","v":0},{"$f":"[1]Tabulka!DM6","v":0},{"$f":"[1]Tabulka!DN6","v":0},{"$f":"[1]Tabulka!DO6","v":0},{"$f":"[1]Tabulka!DP6","v":0},{"$f":"[1]Tabulka!DQ6","v":0},{"$f":"[1]Tabulka!DR6","v":0},{"$f":"[1]Tabulka!DS6","v":0},{"$f":"[1]Tabulka!DT6","v":0},{"$f":"[1]Tabulka!DU6","v":0},{"$f":"[1]Tabulka!DV6","v":0},{"$f":"[1]Tabulka!DW6","v":0},{"$f":"[1]Tabulka!DX6","v":0},{"$f":"[1]Tabulka!DY6","v":0},{"$f":"[1]Tabulka!DZ6","v":0},{"$f":"[1]Tabulka!EA6","v":0},{"$f":"[1]Tabulka!EB6","v":0},{"$f":"[1]Tabulka!EC6","v":0},{"$f":"[1]Tabulka!ED6","v":0},{"$f":"[1]Tabulka!EE6","v":0},{"$f":"[1]Tabulka!EF6","v":0},{"$f":"[1]Tabulka!EG6","v":0},{"$f":"[1]Tabulka!EH6","v":0},{"$f":"[1]Tabulka!EI6","v":0},{"$f":"[1]Tabulka!EJ6","v":0},{"$f":"[1]Tabulka!EK6","v":0},{"$f":"[1]Tabulka!EL6","v":0},{"$f":"[1]Tabulka!EM6","v":0},{"$f":"[1]Tabulka!EN6","v":0},{"$f":"[1]Tabulka!EO6","v":0},{"$f":"[1]Tabulka!EP6","v":0},{"$f":"[1]Tabulka!EQ6","v":0},{"$f":"[1]Tabulka!ER6","v":0},{"$f":"[1]Tabulka!ES6","v":0},{"$f":"[1]Tabulka!ET6","v":0},{"$f":"[1]Tabulka!EU6","v":0},{"$f":"[1]Tabulka!EV6","v":0},{"$f":"[1]Tabulka!EW6","v":0},{"$f":"[1]Tabulka!EX6","v":0},{"$f":"[1]Tabulka!EY6","v":0},{"$f":"[1]Tabulka!EZ6","v":0},{"$f":"[1]Tabulka!FA6","v":0},{"$f":"[1]Tabulka!FB6","v":0},{"$f":"[1]Tabulka!FC6","v":0},{"$f":"[1]Tabulka!FD6","v":0},{"$f":"[1]Tabulka!FE6","v":0},{"$f":"[1]Tabulka!FF6","v":0},{"$f":"[1]Tabulka!FG6","v":0},{"$f":"[1]Tabulka!FH6","v":0}]
[1,{"$f":"[1]Tabulka!C7","v":"ŠTĚTINA"},{"$f":"[1]Tabulka!D7","v":"Lukáš"},{"$f":"[1]Tabulka!E7","v":"1996-08-08"},{"$f":"[1]Tabulka!F7","v":"Havířov- CSVČ sv. Jana Boska"},{"$f":"[1]Tabulka!G7","v":"KA"},{"$f":"[1]Tabulka!H7","v":100},{"$f":"+[1]Tabulka!AU7","v":0},{"$f":"+[1]Tabulka!AV7","v":{"v":0,"d":"0.00"}},{"$f":"+[1]Tabulka!AW7","v":0},{"$f":"+[1]Tabulka!AX7","v":{"v":0,"d":"0.00"}},{"$f":"+[1]Tabulka!AY7","v":1},{"$f":"+[1]Tabulka!AZ7","v":{"v":4.655343691373548,"d":"4.66"}},{"$f":"+[1]Tabulka!BA7","v":3},{"$f":"+[1]Tabulka!BB7","v":{"v":4.101020071683792,"d":"4.10"}},{"$f":"+[1]Tabulka!BC7","v":1},{"$f":"+[1]Tabulka!BD7","v":{"v":4.655343691373548,"d":"4.66"}},{"$f":"+[1]Tabulka!BE7","v":0},{"$f":"+[1]Tabulka!BF7","v":{"v":0,"d":"0.00"}},{"$f":"+[1]Tabulka!BG7","v":5},{"$f":"+[1]Tabulka!BH7","v":{"v":3.6127011759664778,"d":"3.61"}},{"$f":"+[1]Tabulka!BI7","v":3},{"$f":"+[1]Tabulka!BJ7","v":{"v":4.101020071683792,"d":"4.10"}},{"$f":"+[1]Tabulka!AP7","v":{"v":3.392987370036549,"d":"3.39"}},{"$f":"+[1]Tabulka!AQ7","v":{"v":1,"d":"1.00"}},{"$f":"+[1]Tabulka!BM7","v":{"v":21.12542870208116,"d":"21.13"}},{"$f":"+[1]Tabulka!BN7","v":5},{"$f":"+[1]Tabulka!BO7","v":{"v":21.12542870208116,"d":"21.13"}}]
[2,{"$f":"[1]Tabulka!C8","v":"ZATLOUKAL"},{"$f":"[1]Tabulka!D8","v":"Martin"},{"$f":"[1]Tabulka!E8","v":"1998-10-05"},{"$f":"[1]Tabulka!F8","v":"Karviná- KLUBsten KST"},{"$f":"[1]Tabulka!G8","v":"KA"},{"$f":"[1]Tabulka!H8","v":100},{"$f":"+[1]Tabulka!AU8","v":3},{"$f":"+[1]Tabulka!AV8","v":{"v":4.101020071683792,"d":"4.10"}},{"$f":"+[1]Tabulka!AW8","v":2},{"$f":"+[1]Tabulka!AX8","v":{"v":4.369400178389413,"d":"4.37"}},{"$f":"+[1]Tabulka!AY8","v":2},{"$f":"+[1]Tabulka!AZ8","v":{"v":4.369400178389413,"d":"4.37"}},{"$f":"+[1]Tabulka!BA8","v":4},{"$f":"+[1]Tabulka!BB8","v":{"v":3.8491245804252903,"d":"3.85"}},{"$f":"+[1]Tabulka!BC8","v":2},{"$f":"+[1]Tabulka!BD8","v":{"v":4.369400178389413,"d":"4.37"}},{"$f":"+[1]Tabulka!BE8","v":5},{"$f":"+[1]Tabulka!BF8","v":{"v":3.6127011759664778,"d":"3.61"}},{"$f":"+[1]Tabulka!BG8","v":7},{"$f":"+[1]Tabulka!BH8","v":{"v":3.1825276537773326,"d":"3.18"}},{"$f":"+[1]Tabulka!BI8","v":7},{"$f":"+[1]Tabulka!BJ8","v":{"v":3.1825276537773326,"d":"3.18"}},{"$f":"+[1]Tabulka!AP8","v":{"v":21.710813136172114,"d":"21.71"}},{"$f":"+[1]Tabulka!AQ8","v":{"v":4,"d":"4.00"}},{"$f":"+[1]Tabulka!BM8","v":{"v":31.036101670798462,"d":"31.04"}},{"$f":"+[1]Tabulka!BN8","v":8},{"$f":"+[1]Tabulka!BO8","v":{"v":21.05834518727732,"d":"21.06"}}]
[3,{"$f":"[1]Tabulka!C9","v":"NOVÁK"},{"$f":"[1]Tabulka!D9","v":"Petr"},{"$f":"[1]Tabulka!E9","v":"1993-03-23"},{"$f":"[1]Tabulka!F9","v":"Český Těšín- SKST"},{"$f":"[1]Tabulka!G9","v":"KA"},{"$f":"[1]Tabulka!H9","v":200},{"$f":"+[1]Tabulka!AU9","v":2},{"$f":"+[1]Tabulka!AV9","v":{"v":4.369400178389413,"d":"4.37"}},{"$f":"+[1]Tabulka!AW9","v":4},{"$f":"+[1]Tabulka!AX9","v":{"v":3.8491245804252903,"d":"3.85"}},{"$f":"+[1]Tabulka!AY9","v":7},{"$f":"+[1]Tabulka!AZ9","v":{"v":3.1825276537773326,"d":"3.18"}},{"$f":"+[1]Tabulka!BA9","v":8},{"$f":"+[1]Tabulka!BB9","v":{"v":2.987048394281082,"d":"2.99"}},{"$f":"+[1]Tabulka!BC9","v":4},{"$f":"+[1]Tabulka!BD9","v":{"v":3.8491245804252903,"d":"3.85"}},{"$f":"+[1]Tabulka!BE9","v":3},{"$f":"+[1]Tabulka!BF9","v":{"v":4.101020071683792,"d":"4.10"}},{"$f":"+[1]Tabulka!BG9","v":2},{"$f":"+[1]Tabulka!BH9","v":{"v":4.369400178389413,"d":"4.37"}},{"$f":"+[1]Tabulka!BI9","v":8},{"$f":"+[1]Tabulka!BJ9","v":{"v":2.987048394281082,"d":"2.99"}},{"$f":"+[1]Tabulka!AP9","v":{"v":7.735195538718127,"d":"7.74"}},{"$f":"+[1]Tabulka!AQ9","v":{"v":1,"d":"1.00"}},{"$f":"+[1]Tabulka!BM9","v":{"v":29.694694031652695,"d":"29.69"}},{"$f":"+[1]Tabulka!BN9","v":8},{"$f":"+[1]Tabulka!BO9","v":{"v":20.5380695893132,"d":"20.54"}}]
[4,{"$f":"[1]Tabulka!C10","v":"ŠTĚTINA"},{"$f":"[1]Tabulka!D10","v":"Ondřej"},{"$f":"[1]Tabulka!E10","v":"1996-08-08"},{"$f":"[1]Tabulka!F10","v":"Havířov- CSVČ sv. Jana Boska"},{"$f":"[1]Tabulka!G10","v":"KA"},{"$f":"[1]Tabulka!H10","v":100},{"$f":"+[1]Tabulka!AU10","v":0},{"$f":"+[1]Tabulka!AV10","v":{"v":0,"d":"0.00"}},{"$f":"+[1]Tabulka!AW10","v":0},{"$f":"+[1]Tabulka!AX10","v":{"v":0,"d":"0.00"}},{"$f":"+[1]Tabulka!AY10","v":4},{"$f":"+[1]Tabulka!AZ10","v":{"v":3.8491245804252903,"d":"3.85"}},{"$f":"+[1]Tabulka!BA10","v":7},{"$f":"+[1]Tabulka!BB10","v":{"v":3.1825276537773326,"d":"3.18"}},{"$f":"+[1]Tabulka!BC10","v":5},{"$f":"+[1]Tabulka!BD10","v":{"v":3.6127011759664778,"d":"3.61"}},{"$f":"+[1]Tabulka!BE10","v":0},{"$f":"+[1]Tabulka!BF10","v":{"v":0,"d":"0.00"}},{"$f":"+[1]Tabulka!BG10","v":1},{"$f":"+[1]Tabulka!BH10","v":{"v":4.655343691373548,"d":"4.66"}},{"$f":"+[1]Tabulka!BI10","v":4},{"$f":"+[1]Tabulka!BJ10","v":{"v":3.8491245804252903,"d":"3.85"}},{"$f":"+[1]Tabulka!AP10","v":{"v":3.392987370036549,"d":"3.39"}},{"$f":"+[1]Tabulka!AQ10","v":{"v":1,"d":"1.00"}},{"$f":"+[1]Tabulka!BM10","v":{"v":19.148821681967938,"d":"19.15"}},{"$f":"+[1]Tabulka!BN10","v":5},{"$f":"+[1]Tabulka!BO10","v":{"v":19.148821681967938,"d":"19.15"}}]
[5,{"$f":"[1]Tabulka!C11","v":"SIWIEC"},{"$f":"[1]Tabulka!D11","v":"Vojtěch"},{"$f":"[1]Tabulka!E11","v":"1997-08-11"},{"$f":"[1]Tabulka!F11","v":"Karviná- KLUBsten KST"},{"$f":"[1]Tabulka!G11","v":"KA"},{"$f":"[1]Tabulka!H11","v":100},{"$f":"+[1]Tabulka!AU11","v":0},{"$f":"+[1]Tabulka!AV11","v":{"v":0,"d":"0.00"}},{"$f":"+[1]Tabulka!AW11","v":0},{"$f":"+[1]Tabulka!AX11","v":{"v":0,"d":"0.00"}},{"$f":"+[1]Tabulka!AY11","v":5},{"$f":"+[1]Tabulka!AZ11","v":{"v":3.6127011759664778,"d":"3.61"}},{"$f":"+[1]Tabulka!BA11","v":2},{"$f":"+[1]Tabulka!BB11","v":{"v":4.369400178389413,"d":"4.37"}},{"$f":"+[1]Tabulka!BC11","v":7},{"$f":"+[1]Tabulka!BD11","v":{"v":3.1825276537773326,"d":"3.18"}},{"$f":"+[1]Tabulka!BE11","v":4},{"$f":"+[1]Tabulka!BF11","v":{"v":3.8491245804252903,"d":"3.85"}},{"$f":"+[1]Tabulka!BG11","v":8},{"$f":"+[1]Tabulka!BH11","v":{"v":2.987048394281082,"d":"2.99"}},{"$f":"+[1]Tabulka!BI11","v":5},{"$f":"+[1]Tabulka!BJ11","v":{"v":3.6127011759664778,"d":"3.61"}},{"$f":"+[1]Tabulka!AP11","v":{"v":1.4877645414544585,"d":"1.49"}},{"$f":"+[1]Tabulka!AQ11","v":{"v":3,"d":"3.00"}},{"$f":"+[1]Tabulka!BM11","v":{"v":21.613503158806076,"d":"21.61"}},{"$f":"+[1]Tabulka!BN11","v":6},{"$f":"+[1]Tabulka!BO11","v":{"v":18.626454764524993,"d":"18.63"}}]
[6,{"$f":"[1]Tabulka!C12","v":"PREFETOVÁ"},{"$f":"[1]Tabulka!D12","v":"Lucie"},{"$f":"[1]Tabulka!E12","v":"1994-07-07"},{"$f":"[1]Tabulka!F12","v":"Karviná- KLUBsten KST"},{"$f":"[1]Tabulka!G12","v":"KA"},{"$f":"[1]Tabulka!H12","v":100},{"$f":"+[1]Tabulka!AU12","v":9},{"$f":"+[1]Tabulka!AV12","v":{"v":2.803575987529016,"d":"2.80"}},{"$f":"+[1]Tabulka!AW12","v":1},{"$f":"+[1]Tabulka!AX12","v":{"v":4.655343691373548,"d":"4.66"}},{"$f":"+[1]Tabulka!AY12","v":6},{"$f":"+[1]Tabulka!AZ12","v":{"v":3.3907995218454317,"d":"3.39"}},{"$f":"+[1]Tabulka!BA12","v":5},{"$f":"+[1]Tabulka!BB12","v":{"v":3.6127011759664778,"d":"3.61"}},{"$f":"+[1]Tabulka!BC12","v":0},{"$f":"+[1]Tabulka!BD12","v":{"v":0,"d":"0.00"}},{"$f":"+[1]Tabulka!BE12","v":6},{"$f":"+[1]Tabulka!BF12","v":{"v":3.3907995218454317,"d":"3.39"}},{"$f":"+[1]Tabulka!BG12","v":6},{"$f":"+[1]Tabulka!BH12","v":{"v":3.3907995218454317,"d":"3.39"}},{"$f":"+[1]Tabulka!BI12","v":9},{"$f":"+[1]Tabulka!BJ12","v":{"v":2.803575987529016,"d":"2.80"}},{"$f":"+[1]Tabulka!AP12","v":{"v":8.971590455270519,"d":"8.97"}},{"$f":"+[1]Tabulka!AQ12","v":{"v":4,"d":"4.00"}},{"$f":"+[1]Tabulka!BM12","v":{"v":24.047595407934352,"d":"24.05"}},{"$f":"+[1]Tabulka!BN12","v":7},{"$f":"+[1]Tabulka!BO12","v":{"v":18.44044343287632,"d":"18.44"}}]
["7",{"$f":"[1]Tabulka!C13","v":"PŘIBYL"},{"$f":"[1]Tabulka!D13","v":"Jan"},{"$f":"[1]Tabulka!E13","v":"2000-07-14"},{"$f":"[1]Tabulka!F13","v":"Český Těšín- SKST"},{"$f":"[1]Tabulka!G13","v":"KA"},{"$f":"[1]Tabulka!H13","v":100},{"$f":"+[1]Tabulka!AU13","v":6},{"$f":"+[1]Tabulka!AV13","v":{"v":3.3907995218454317,"d":"3.39"}},{"$f":"+[1]Tabulka!AW13","v":7},{"$f":"+[1]Tabulka!AX13","v":{"v":3.1825276537773326,"d":"3.18"}},{"$f":"+[1]Tabulka!AY13","v":3},{"$f":"+[1]Tabulka!AZ13","v":{"v":4.101020071683792,"d":"4.10"}},{"$f":"+[1]Tabulka!BA13","v":9},{"$f":"+[1]Tabulka!BB13","v":{"v":2.803575987529016,"d":"2.80"}},{"$f":"+[1]Tabulka!BC13","v":3},{"$f":"+[1]Tabulka!BD13","v":{"v":4.101020071683792,"d":"4.10"}},{"$f":"+[1]Tabulka!BE13","v":8},{"$f":"+[1]Tabulka!BF13","v":{"v":2.987048394281082,"d":"2.99"}},{"$f":"+[1]Tabulka!BG13","v":19},{"$f":"+[1]Tabulka!BH13","v":{"v":1.4873495950244735,"d":"1.49"}},{"$f":"+[1]Tabulka!BI13","v":19},{"$f":"+[1]Tabulka!BJ13","v":{"v":1.4873495950244735,"d":"1.49"}},{"$f":"+[1]Tabulka!AP13","v":{"v":5.851203921378257,"d":"5.85"}},{"$f":"+[1]Tabulka!AQ13","v":{"v":3,"d":"3.00"}},{"$f":"+[1]Tabulka!BM13","v":{"v":23.54069089084939,"d":"23.54"}},{"$f":"+[1]Tabulka!BN13","v":8},{"$f":"+[1]Tabulka!BO13","v":{"v":17.76241571327143,"d":"17.76"}}]
["8",{"$f":"[1]Tabulka!C14","v":"ŠTÁNSKÝ"},{"$f":"[1]Tabulka!D14","v":"Dominik"},{"$f":"[1]Tabulka!E14","v":"1995-12-02"},{"$f":"[1]Tabulka!F14","v":"Český Těšín- SKST"},{"$f":"[1]Tabulka!G14","v":"KA"},{"$f":"[1]Tabulka!H14","v":100},{"$f":"+[1]Tabulka!AU14","v":0},{"$f":"+[1]Tabulka!AV14","v":{"v":0,"d":"0.00"}},{"$f":"+[1]Tabulka!AW14","v":3},{"$f":"+[1]Tabulka!AX14","v":{"v":4.101020071683792,"d":"4.10"}},{"$f":"+[1]Tabulka!AY14","v":10},{"$f":"+[1]Tabulka!AZ14","v":{"v":2.6313729408930584,"d":"2.63"}},{"$f":"+[1]Tabulka!BA14","v":6},{"$f":"+[1]Tabulka!BB14","v":{"v":3.3907995218454317,"d":"3.39"}},{"$f":"+[1]Tabulka!BC14","v":6},{"$f":"+[1]Tabulka!BD14","v":{"v":3.3907995218454317,"d":"3.39"}},{"$f":"+[1]Tabulka!BE14","v":7},{"$f":"+[1]Tabulka!BF14","v":{"v":3.1825276537773326,"d":"3.18"}},{"$f":"+[1]Tabulka!BG14","v":11},{"$f":"+[1]Tabulka!BH14","v":{"v":2.4697470604914433,"d":"2.47"}},{"$f":"+[1]Tabulka!BI14","v":13},{"$f":"+[1]Tabulka!BJ14","v":{"v":2.1756679932838794,"d":"2.18"}},{"$f":"+[1]Tabulka!AP14","v":{"v":4.372219449837039,"d":"4.37"}},{"$f":"+[1]Tabulka!AQ14","v":{"v":1,"d":"1.00"}},{"$f":"+[1]Tabulka!BM14","v":{"v":21.34193476382037,"d":"21.34"}},{"$f":"+[1]Tabulka!BN14","v":7},{"$f":"+[1]Tabulka!BO14","v":{"v":16.696519710045045,"d":"16.70"}}]
[9,{"$f":"[1]Tabulka!C15","v":"KRNÁČOVÁ"},{"$f":"[1]Tabulka!D15","v":"Anna"},{"$f":"[1]Tabulka!E15","v":"1999-02-09"},{"$f":"[1]Tabulka!F15","v":"Karviná- KLUBsten KST"},{"$f":"[1]Tabulka!G15","v":"KA"},{"$f":"[1]Tabulka!H15","v":100},{"$f":"+[1]Tabulka!AU15","v":4},{"$f":"+[1]Tabulka!AV15","v":{"v":3.8491245804252903,"d":"3.85"}},{"$f":"+[1]Tabulka!AW15","v":0},{"$f":"+[1]Tabulka!AX15","v":{"v":0,"d":"0.00"}},{"$f":"+[1]Tabulka!AY15","v":13},{"$f":"+[1]Tabulka!AZ15","v":{"v":2.1756679932838794,"d":"2.18"}},{"$f":"+[1]Tabulka!BA15","v":11},{"$f":"+[1]Tabulka!BB15","v":{"v":2.4697470604914433,"d":"2.47"}},{"$f":"+[1]Tabulka!BC15","v":13},{"$f":"+[1]Tabulka!BD15","v":{"v":2.1756679932838794,"d":"2.18"}},{"$f":"+[1]Tabulka!BE15","v":10},{"$f":"+[1]Tabulka!BF15","v":{"v":2.6313729408930584,"d":"2.63"}},{"$f":"+[1]Tabulka!BG15","v":9},{"$f":"+[1]Tabulka!BH15","v":{"v":2.803575987529016,"d":"2.80"}},{"$f":"+[1]Tabulka!BI15","v":10},{"$f":"+[1]Tabulka!BJ15","v":{"v":2.6313729408930584,"d":"2.63"}},{"$f":"+[1]Tabulka!AP15","v":{"v":2.882223457820235,"d":"2.88"}},{"$f":"+[1]Tabulka!AQ15","v":{"v":3,"d":"3.00"}},{"$f":"+[1]Tabulka!BM15","v":{"v":18.736529496799626,"d":"18.74"}},{"$f":"+[1]Tabulka!BN15","v":7},{"$f":"+[1]Tabulka!BO15","v":{"v":14.385193510231865,"d":"14.39"}}]
["10",{"$f":"[1]Tabulka!C16","v":"FREJVOLT"},{"$f":"[1]Tabulka!D16","v":"Lukáš"},{"$f":"[1]Tabulka!E16","v":"2000-04-22"},{"$f":"[1]Tabulka!F16","v":"Havířov- Baník SKST"},{"$f":"[1]Tabulka!G16","v":"KA"},{"$f":"[1]Tabulka!H16","v":100},{"$f":"+[1]Tabulka!AU16","v":1},{"$f":"+[1]Tabulka!AV16","v":{"v":4.655343691373548,"d":"4.66"}},{"$f":"+[1]Tabulka!AW16","v":0},{"$f":"+[1]Tabulka!AX16","v":{"v":0,"d":"0.00"}},{"$f":"+[1]Tabulka!AY16","v":0},{"$f":"+[1]Tabulka!AZ16","v":{"v":0,"d":"0.00"}},{"$f":"+[1]Tabulka!BA16","v":1},{"$f":"+[1]Tabulka!BB16","v":{"v":4.655343691373548,"d":"4.66"}},{"$f":"+[1]Tabulka!BC16","v":0},{"$f":"+[1]Tabulka!BD16","v":{"v":0,"d":"0.00"}},{"$f":"+[1]Tabulka!BE16","v":0},{"$f":"+[1]Tabulka!BF16","v":{"v":0,"d":"0.00"}},{"$f":"+[1]Tabulka!BG16","v":0},{"$f":"+[1]Tabulka!BH16","v":{"v":0,"d":"0.00"}},{"$f":"+[1]Tabulka!BI16","v":1},{"$f":"+[1]Tabulka!BJ16","v":{"v":4.655343691373548,"d":"4.66"}},{"$f":"+[1]Tabulka!AP16","v":{"v":11.918426848002099,"d":"11.92"}},{"$f":"+[1]Tabulka!AQ16","v":{"v":2,"d":"2.00"}},{"$f":"+[1]Tabulka!BM16","v":{"v":13.966031074120643,"d":"13.97"}},{"$f":"+[1]Tabulka!BN16","v":3},{"$f":"+[1]Tabulka!BO16","v":{"v":13.966031074120643,"d":"13.97"}}]
["11",{"$f":"[1]Tabulka!C17","v":"MARTINKO"},{"$f":"[1]Tabulka!D17","v":"Jiří"},{"$f":"[1]Tabulka!E17","v":"1999-10-13"},{"$f":"[1]Tabulka!F17","v":"Ostrava- Mittal TJ"},{"$f":"[1]Tabulka!G17","v":"OV"},{"$f":"[1]Tabulka!H17","v":100},{"$f":"+[1]Tabulka!AU17","v":2},{"$f":"+[1]Tabulka!AV17","v":{"v":4.369400178389413,"d":"4.37"}},{"$f":"+[1]Tabulka!AW17","v":0},{"$f":"+[1]Tabulka!AX17","v":{"v":0,"d":"0.00"}},{"$f":"+[1]Tabulka!AY17","v":4},{"$f":"+[1]Tabulka!AZ17","v":{"v":3.8491245804252903,"d":"3.85"}},{"$f":"+[1]Tabulka!BA17","v":0},{"$f":"+[1]Tabulka!BB17","v":{"v":0,"d":"0.00"}},{"$f":"+[1]Tabulka!BC17","v":1},{"$f":"+[1]Tabulka!BD17","v":{"v":4.655343691373548,"d":"4.66"}},{"$f":"+[1]Tabulka!BE17","v":2},{"$f":"+[1]Tabulka!BF17","v":{"v":4.369400178389413,"d":"4.37"}},{"$f":"+[1]Tabulka!BG17","v":0},{"$f":"+[1]Tabulka!BH17","v":{"v":0,"d":"0.00"}},{"$f":"+[1]Tabulka!BI17","v":0},{"$f":"+[1]Tabulka!BJ17","v":{"v":0,"d":"0.00"}},{"$f":"+[1]Tabulka!AP17","v":{"v":55.357634335809486,"d":"55.36"}},{"$f":"+[1]Tabulka!AQ17","v":{"v":3,"d":"3.00"}},{"$f":"+[1]Tabulka!BM17","v":{"v":17.243268628577663,"d":"17.24"}},{"$f":"+[1]Tabulka!BN17","v":4},{"$f":"+[1]Tabulka!BO17","v":{"v":13.394144048152373,"d":"13.39"}}]
[null,{"$f":"[1]Tabulka!C18","v":"MADUSIOK"},{"$f":"[1]Tabulka!D18","v":"Marek"},{"$f":"[1]Tabulka!E18","v":"1995-11-29"},{"$f":"[1]Tabulka!F18","v":"Ostrava- Mittal TJ"},{"$f":"[1]Tabulka!G18","v":"OV"},{"$f":"[1]Tabulka!H18","v":100},{"$f":"+[1]Tabulka!AU18","v":5},{"$f":"+[1]Tabulka!AV18","v":{"v":3.6127011759664778,"d":"3.61"}},{"$f":"+[1]Tabulka!AW18","v":0},{"$f":"+[1]Tabulka!AX18","v":{"v":0,"d":"0.00"}},{"$f":"+[1]Tabulka!AY18","v":2},{"$f":"+[1]Tabulka!AZ18","v":{"v":4.369400178389413,"d":"4.37"}},{"$f":"+[1]Tabulka!BA18","v":2},{"$f":"+[1]Tabulka!BB18","v":{"v":4.369400178389413,"d":"4.37"}},{"$f":"+[1]Tabulka!BC18","v":2},{"$f":"+[1]Tabulka!BD18","v":{"v":4.369400178389413,"d":"4.37"}},{"$f":"+[1]Tabulka!BE18","v":0},{"$f":"+[1]Tabulka!BF18","v":{"v":0,"d":"0.00"}},{"$f":"+[1]Tabulka!BG18","v":0},{"$f":"+[1]Tabulka!BH18","v":{"v":0,"d":"0.00"}},{"$f":"+[1]Tabulka!BI18","v":0},{"$f":"+[1]Tabulka!BJ18","v":{"v":0,"d":"0.00"}},{"$f":"+[1]Tabulka!AP18","v":{"v":12.844308095408651,"d":"12.84"}},{"$f":"+[1]Tabulka!AQ18","v":{"v":1,"d":"1.00"}},{"$f":"+[1]Tabulka!BM18","v":{"v":16.720901711134715,"d":"16.72"}},{"$f":"+[1]Tabulka!BN18","v":4},{"$f":"+[1]Tabulka!BO18","v":{"v":13.10820053516824,"d":"13.11"}}]
["11",{"$f":"[1]Tabulka!C19","v":"BRANNÝ"},{"$f":"[1]Tabulka!D19","v":"Tomáš"},{"$f":"[1]Tabulka!E19","v":"2002-06-04"},{"$f":"[1]Tabulka!F19","v":"Orlová- Siko TTC"},{"$f":"[1]Tabulka!G19","v":"KA"},{"$f":"[1]Tabulka!H19","v":100},{"$f":"+[1]Tabulka!AU19","v":10},{"$f":"+[1]Tabulka!AV19","v":{"v":2.6313729408930584,"d":"2.63"}},{"$f":"+[1]Tabulka!AW19","v":5},{"$f":"+[1]Tabulka!AX19","v":{"v":3.6127011759664778,"d":"3.61"}},{"$f":"+[1]Tabulka!AY19","v":14},{"$f":"+[1]Tabulka!AZ19","v":{"v":2.0420327151325517,"d":"2.04"}},{"$f":"+[1]Tabulka!BA19","v":16},{"$f":"+[1]Tabulka!BB19","v":{"v":1.7988826834228204,"d":"1.80"}},{"$f":"+[1]Tabulka!BC19","v":12},{"$f":"+[1]Tabulka!BD19","v":{"v":2.3180486688200013,"d":"2.32"}},{"$f":"+[1]Tabulka!BE19","v":16},{"$f":"+[1]Tabulka!BF19","v":{"v":1.7988826834228204,"d":"1.80"}},{"$f":"+[1]Tabulka!BG19","v":16},{"$f":"+[1]Tabulka!BH19","v":{"v":1.7988826834228204,"d":"1.80"}},{"$f":"+[1]Tabulka!BI19","v":21},{"$f":"+[1]Tabulka!BJ19","v":{"v":1.3102470939168058,"d":"1.31"}},{"$f":"+[1]Tabulka!AP19","v":{"v":3.885582358009028,"d":"3.89"}},{"$f":"+[1]Tabulka!AQ19","v":{"v":3,"d":"3.00"}},{"$f":"+[1]Tabulka!BM19","v":{"v":17.31105064499736,"d":"17.31"}},{"$f":"+[1]Tabulka!BN19","v":8},{"$f":"+[1]Tabulka!BO19","v":{"v":12.403038184234909,"d":"12.40"}}]
["11",{"$f":"[1]Tabulka!C20","v":"NOVOTNÝ"},{"$f":"[1]Tabulka!D20","v":"Pavel"},{"$f":"[1]Tabulka!E20","v":"1995-01-03"},{"$f":"[1]Tabulka!F20","v":"Ostrava- Mittal TJ"},{"$f":"[1]Tabulka!G20","v":"OV"},{"$f":"[1]Tabulka!H20","v":100},{"$f":"+[1]Tabulka!AU20","v":3},{"$f":"+[1]Tabulka!AV20","v":{"v":4.101020071683792,"d":"4.10"}},{"$f":"+[1]Tabulka!AW20","v":0},{"$f":"+[1]Tabulka!AX20","v":{"v":0,"d":"0.00"}},{"$f":"+[1]Tabulka!AY20","v":3},{"$f":"+[1]Tabulka!AZ20","v":{"v":4.101020071683792,"d":"4.10"}},{"$f":"+[1]Tabulka!BA20","v":3},{"$f":"+[1]Tabulka!BB20","v":{"v":4.101020071683792,"d":"4.10"}},{"$f":"+[1]Tabulka!BC20","v":5},{"$f":"+[1]Tabulka!BD20","v":{"v":3.6127011759664778,"d":"3.61"}},{"$f":"+[1]Tabulka!BE20","v":9},{"$f":"+[1]Tabulka!BF20","v":{"v":2.803575987529016,"d":"2.80"}},{"$f":"+[1]Tabulka!BG20","v":0},{"$f":"+[1]Tabulka!BH20","v":{"v":0,"d":"0.00"}},{"$f":"+[1]Tabulka!BI20","v":0},{"$f":"+[1]Tabulka!BJ20","v":{"v":0,"d":"0.00"}},{"$f":"+[1]Tabulka!AP20","v":{"v":34.52098633268727,"d":"34.52"}},{"$f":"+[1]Tabulka!AQ20","v":{"v":3,"d":"3.00"}},{"$f":"+[1]Tabulka!BM20","v":{"v":18.71933737854687,"d":"18.72"}},{"$f":"+[1]Tabulka!BN20","v":5},{"$f":"+[1]Tabulka!BO20","v":{"v":12.303060215051378,"d":"12.30"}}]
["12",{"$f":"[1]Tabulka!C21","v":"ADAMCZYK"},{"$f":"[1]Tabulka!D21","v":"Jiří"},{"$f":"[1]Tabulka!E21","v":"2002-02-21"},{"$f":"[1]Tabulka!F21","v":"Dětmarovice- Sokol TJ"},{"$f":"[1]Tabulka!G21","v":"KA"},{"$f":"[1]Tabulka!H21","v":100},{"$f":"+[1]Tabulka!AU21","v":13},{"$f":"+[1]Tabulka!AV21","v":{"v":2.1756679932838794,"d":"2.18"}},{"$f":"+[1]Tabulka!AW21","v":0},{"$f":"+[1]Tabulka!AX21","v":{"v":0,"d":"0.00"}},{"$f":"+[1]Tabulka!AY21","v":9},{"$f":"+[1]Tabulka!AZ21","v":{"v":2.803575987529016,"d":"2.80"}},{"$f":"+[1]Tabulka!BA21","v":12},{"$f":"+[1]Tabulka!BB21","v":{"v":2.3180486688200013,"d":"2.32"}},{"$f":"+[1]Tabulka!BC21","v":14},{"$f":"+[1]Tabulka!BD21","v":{"v":2.0420327151325517,"d":"2.04"}},{"$f":"+[1]Tabulka!BE21","v":11},{"$f":"+[1]Tabulka!BF21","v":{"v":2.4697470604914433,"d":"2.47"}},{"$f":"+[1]Tabulka!BG21","v":13},{"$f":"+[1]Tabulka!BH21","v":{"v":2.1756679932838794,"d":"2.18"}},{"$f":"+[1]Tabulka!BI21","v":14},{"$f":"+[1]Tabulka!BJ21","v":{"v":2.0420327151325517,"d":"2.04"}},{"$f":"+[1]Tabulka!AP21","v":{"v":3.7984249648954482,"d":"3.80"}},{"$f":"+[1]Tabulka!AQ21","v":{"v":4,"d":"4.00"}},{"$f":"+[1]Tabulka!BM21","v":{"v":16.026773133673323,"d":"16.03"}},{"$f":"+[1]Tabulka!BN21","v":7},{"$f":"+[1]Tabulka!BO21","v":{"v":11.94270770340822,"d":"11.94"}}]
["13",{"$f":"[1]Tabulka!C22","v":"ČERNOCH"},{"$f":"[1]Tabulka!D22","v":"Václav"},{"$f":"[1]Tabulka!E22","v":"1996-11-19"},{"$f":"[1]Tabulka!F22","v":"Ostrava- Mittal TJ"},{"$f":"[1]Tabulka!G22","v":"OV"},{"$f":"[1]Tabulka!H22","v":100},{"$f":"+[1]Tabulka!AU22","v":0},{"$f":"+[1]Tabulka!AV22","v":{"v":0,"d":"0.00"}},{"$f":"+[1]Tabulka!AW22","v":1},{"$f":"+[1]Tabulka!AX22","v":{"v":4.655343691373548,"d":"4.66"}},{"$f":"+[1]Tabulka!AY22","v":6},{"$f":"+[1]Tabulka!AZ22","v":{"v":3.3907995218454317,"d":"3.39"}},{"$f":"+[1]Tabulka!BA22","v":5},{"$f":"+[1]Tabulka!BB22","v":{"v":3.6127011759664778,"d":"3.61"}},{"$f":"+[1]Tabulka!BC22","v":0},{"$f":"+[1]Tabulka!BD22","v":{"v":0,"d":"0.00"}},{"$f":"+[1]Tabulka!BE22","v":5},{"$f":"+[1]Tabulka!BF22","v":{"v":3.6127011759664778,"d":"3.61"}},{"$f":"+[1]Tabulka!BG22","v":0},{"$f":"+[1]Tabulka!BH22","v":{"v":0,"d":"0.00"}},{"$f":"+[1]Tabulka!BI22","v":0},{"$f":"+[1]Tabulka!BJ22","v":{"v":0,"d":"0.00"}},{"$f":"+[1]Tabulka!AP22","v":{"v":6.002768403724998,"d":"6.00"}},{"$f":"+[1]Tabulka!AQ22","v":{"v":1,"d":"1.00"}},{"$f":"+[1]Tabulka!BM22","v":{"v":15.271545565151936,"d":"15.27"}},{"$f":"+[1]Tabulka!BN22","v":4},{"$f":"+[1]Tabulka!BO22","v":{"v":11.880746043306504,"d":"11.88"}}]
["13",{"$f":"[1]Tabulka!C23","v":"SLIŽ"},{"$f":"[1]Tabulka!D23","v":"Petr"},{"$f":"[1]Tabulka!E23","v":"1997-07-19"},{"$f":"[1]Tabulka!F23","v":"Karviná- KLUBsten KST"},{"$f":"[1]Tabulka!G23","v":"KA"},{"$f":"[1]Tabulka!H23","v":100},{"$f":"+[1]Tabulka!AU23","v":0},{"$f":"+[1]Tabulka!AV23","v":{"v":0,"d":"0.00"}},{"$f":"+[1]Tabulka!AW23","v":9},{"$f":"+[1]Tabulka!AX23","v":{"v":2.803575987529016,"d":"2.80"}},{"$f":"+[1]Tabulka!AY23","v":12},{"$f":"+[1]Tabulka!AZ23","v":{"v":2.3180486688200013,"d":"2.32"}},{"$f":"+[1]Tabulka!BA23","v":13},{"$f":"+[1]Tabulka!BB23","v":{"v":2.1756679932838794,"d":"2.18"}},{"$f":"+[1]Tabulka!BC23","v":10},{"$f":"+[1]Tabulka!BD23","v":{"v":2.6313729408930584,"d":"2.63"}},{"$f":"+[1]Tabulka!BE23","v":17},{"$f":"+[1]Tabulka!BF23","v":{"v":1.6883905547970857,"d":"1.69"}},{"$f":"+[1]Tabulka!BG23","v":15},{"$f":"+[1]Tabulka!BH23","v":{"v":1.91660566894571,"d":"1.92"}},{"$f":"+[1]Tabulka!BI23","v":18},{"$f":"+[1]Tabulka!BJ23","v":{"v":1.584685144727681,"d":"1.58"}},{"$f":"+[1]Tabulka!AP23","v":{"v":5.197208938212109,"d":"5.20"}},{"$f":"+[1]Tabulka!AQ23","v":{"v":4,"d":"4.00"}},{"$f":"+[1]Tabulka!BM23","v":{"v":15.118346958996431,"d":"15.12"}},{"$f":"+[1]Tabulka!BN23","v":7},{"$f":"+[1]Tabulka!BO23","v":{"v":11.845271259471664,"d":"11.85"}}]
[null,{"$f":"[1]Tabulka!C24","v":"MORAVEC"},{"$f":"[1]Tabulka!D24","v":"Michal"},{"$f":"[1]Tabulka!E24","v":"1998-01-26"},{"$f":"[1]Tabulka!F24","v":"Darkovice- KST"},{"$f":"[1]Tabulka!G24","v":"OP"},{"$f":"[1]Tabulka!H24","v":100},{"$f":"+[1]Tabulka!AU24","v":9},{"$f":"+[1]Tabulka!AV24","v":{"v":2.803575987529016,"d":"2.80"}},{"$f":"+[1]Tabulka!AW24","v":2},{"$f":"+[1]Tabulka!AX24","v":{"v":4.369400178389413,"d":"4.37"}},{"$f":"+[1]Tabulka!AY24","v":8},{"$f":"+[1]Tabulka!AZ24","v":{"v":2.987048394281082,"d":"2.99"}},{"$f":"+[1]Tabulka!BA24","v":5},{"$f":"+[1]Tabulka!BB24","v":{"v":3.6127011759664778,"d":"3.61"}},{"$f":"+[1]Tabulka!BC24","v":4},{"$f":"+[1]Tabulka!BD24","v":{"v":3.8491245804252903,"d":"3.85"}},{"$f":"+[1]Tabulka!BE24","v":5},{"$f":"+[1]Tabulka!BF24","v":{"v":3.6127011759664778,"d":"3.61"}},{"$f":"+[1]Tabulka!BG24","v":0},{"$f":"+[1]Tabulka!BH24","v":{"v":0,"d":"0.00"}},{"$f":"+[1]Tabulka!BI24","v":0},{"$f":"+[1]Tabulka!BJ24","v":{"v":0,"d":"0.00"}},{"$f":"+[1]Tabulka!AP24","v":{"v":29.051115766782882,"d":"29.05"}},{"$f":"+[1]Tabulka!AQ24","v":{"v":4,"d":"4.00"}},{"$f":"+[1]Tabulka!BM24","v":{"v":21.23455149255776,"d":"21.23"}},{"$f":"+[1]Tabulka!BN24","v":6},{"$f":"+[1]Tabulka!BO24","v":{"v":11.831225934781182,"d":"11.83"}}]
["13",{"$f":"[1]Tabulka!C25","v":"KLOS"},{"$f":"[1]Tabulka!D25","v":"Patrik"},{"$f":"[1]Tabulka!E25","v":"1998-01-17"},{"$f":"[1]Tabulka!F25","v":"Ostrava- Mittal TJ"},{"$f":"[1]Tabulka!G25","v":"OV"},{"$f":"[1]Tabulka!H25","v":100},{"$f":"+[1]Tabulka!AU25","v":0},{"$f":"+[1]Tabulka!AV25","v":{"v":0,"d":"0.00"}},{"$f":"+[1]Tabulka!AW25","v":0},{"$f":"+[1]Tabulka!AX25","v":{"v":0,"d":"0.00"}},{"$f":"+[1]Tabulka!AY25","v":5},{"$f":"+[1]Tabulka!AZ25","v":{"v":3.6127011759664778,"d":"3.61"}},{"$f":"+[1]Tabulka!BA25","v":0},{"$f":"+[1]Tabulka!BB25","v":{"v":0,"d":"0.00"}},{"$f":"+[1]Tabulka!BC25","v":3},{"$f":"+[1]Tabulka!BD25","v":{"v":4.101020071683792,"d":"4.10"}},{"$f":"+[1]Tabulka!BE25","v":3},{"$f":"+[1]Tabulka!BF25","v":{"v":4.101020071683792,"d":"4.10"}},{"$f":"+[1]Tabulka!BG25","v":0},{"$f":"+[1]Tabulka!BH25","v":{"v":0,"d":"0.00"}},{"$f":"+[1]Tabulka!BI25","v":0},{"$f":"+[1]Tabulka!BJ25","v":{"v":0,"d":"0.00"}},{"$f":"+[1]Tabulka!AP25","v":{"v":56.440784948221044,"d":"56.44"}},{"$f":"+[1]Tabulka!AQ25","v":{"v":3,"d":"3.00"}},{"$f":"+[1]Tabulka!BM25","v":{"v":11.814741319334061,"d":"11.81"}},{"$f":"+[1]Tabulka!BN25","v":3},{"$f":"+[1]Tabulka!BO25","v":{"v":11.814741319334063,"d":"11.81"}}]
["14",{"$f":"[1]Tabulka!C26","v":"MAZŮREK"},{"$f":"[1]Tabulka!D26","v":"Matěj"},{"$f":"[1]Tabulka!E26","v":"1999-03-26"},{"$f":"[1]Tabulka!F26","v":"Havířov- CSVČ sv. Jana Boska"},{"$f":"[1]Tabulka!G26","v":"KA"},{"$f":"[1]Tabulka!H26","v":100},{"$f":"+[1]Tabulka!AU26","v":14},{"$f":"+[1]Tabulka!AV26","v":{"v":2.0420327151325517,"d":"2.04"}},{"$f":"+[1]Tabulka!AW26","v":0},{"$f":"+[1]Tabulka!AX26","v":{"v":0,"d":"0.00"}},{"$f":"+[1]Tabulka!AY26","v":11},{"$f":"+[1]Tabulka!AZ26","v":{"v":2.4697470604914433,"d":"2.47"}},{"$f":"+[1]Tabulka!BA26","v":14},{"$f":"+[1]Tabulka!BB26","v":{"v":2.0420327151325517,"d":"2.04"}},{"$f":"+[1]Tabulka!BC26","v":8},{"$f":"+[1]Tabulka!BD26","v":{"v":2.987048394281082,"d":"2.99"}},{"$f":"+[1]Tabulka!BE26","v":13},{"$f":"+[1]Tabulka!BF26","v":{"v":2.1756679932838794,"d":"2.18"}},{"$f":"+[1]Tabulka!BG26","v":14},{"$f":"+[1]Tabulka!BH26","v":{"v":2.0420327151325517,"d":"2.04"}},{"$f":"+[1]Tabulka!BI26","v":15},{"$f":"+[1]Tabulka!BJ26","v":{"v":1.91660566894571,"d":"1.92"}},{"$f":"+[1]Tabulka!AP26","v":{"v":5.794360670846819,"d":"5.79"}},{"$f":"+[1]Tabulka!AQ26","v":{"v":2,"d":"2.00"}},{"$f":"+[1]Tabulka!BM26","v":{"v":15.67516726239977,"d":"15.68"}},{"$f":"+[1]Tabulka!BN26","v":7},{"$f":"+[1]Tabulka!BO26","v":{"v":11.716528878321506,"d":"11.72"}}]
["15",{"$f":"[1]Tabulka!C27","v":"MOHELNÍK"},{"$f":"[1]Tabulka!D27","v":"Radek"},{"$f":"[1]Tabulka!E27","v":"1996-11-20"},{"$f":"[1]Tabulka!F27","v":"Darkovice- KST"},{"$f":"[1]Tabulka!G27","v":"OP"},{"$f":"[1]Tabulka!H27","v":100},{"$f":"+[1]Tabulka!AU27","v":17},{"$f":"+[1]Tabulka!AV27","v":{"v":1.6883905547970857,"d":"1.69"}},{"$f":"+[1]Tabulka!AW27","v":5},{"$f":"+[1]Tabulka!AX27","v":{"v":3.6127011759664778,"d":"3.61"}},{"$f":"+[1]Tabulka!AY27","v":0},{"$f":"+[1]Tabulka!AZ27","v":{"v":0,"d":"0.00"}},{"$f":"+[1]Tabulka!BA27","v":5},{"$f":"+[1]Tabulka!BB27","v":{"v":3.6127011759664778,"d":"3.61"}},{"$f":"+[1]Tabulka!BC27","v":33},{"$f":"+[1]Tabulka!BD27","v":{"v":0.6123420427175658,"d":"0.61"}},{"$f":"+[1]Tabulka!BE27","v":5},{"$f":"+[1]Tabulka!BF27","v":{"v":3.6127011759664778,"d":"3.61"}},{"$f":"+[1]Tabulka!BG27","v":0},{"$f":"+[1]Tabulka!BH27","v":{"v":0,"d":"0.00"}},{"$f":"+[1]Tabulka!BI27","v":0},{"$f":"+[1]Tabulka!BJ27","v":{"v":0,"d":"0.00"}},{"$f":"+[1]Tabulka!AP27","v":{"v":5.46964765609931,"d":"5.47"}},{"$f":"+[1]Tabulka!AQ27","v":{"v":3,"d":"3.00"}},{"$f":"+[1]Tabulka!BM27","v":{"v":13.138836125414086,"d":"13.14"}},{"$f":"+[1]Tabulka!BN27","v":5},{"$f":"+[1]Tabulka!BO27","v":{"v":10.838103527899433,"d":"10.84"}}]
["16",{"$f":"[1]Tabulka!C28","v":"KOBLOVSKÁ"},{"$f":"[1]Tabulka!D28","v":"Dominika"},{"$f":"[1]Tabulka!E28","v":"1998-08-30"},{"$f":"[1]Tabulka!F28","v":"Ostrava- Mittal TJ"},{"$f":"[1]Tabulka!G28","v":"OV"},{"$f":"[1]Tabulka!H28","v":100},{"$f":"+[1]Tabulka!AU28","v":7},{"$f":"+[1]Tabulka!AV28","v":{"v":3.1825276537773326,"d":"3.18"}},{"$f":"+[1]Tabulka!AW28","v":0},{"$f":"+[1]Tabulka!AX28","v":{"v":0,"d":"0.00"}},{"$f":"+[1]Tabulka!AY28","v":10},{"$f":"+[1]Tabulka!AZ28","v":{"v":2.6313729408930584,"d":"2.63"}},{"$f":"+[1]Tabulka!BA28","v":0},{"$f":"+[1]Tabulka!BB28","v":{"v":0,"d":"0.00"}},{"$f":"+[1]Tabulka!BC28","v":5},{"$f":"+[1]Tabulka!BD28","v":{"v":3.6127011759664778,"d":"3.61"}},{"$f":"+[1]Tabulka!BE28","v":5},{"$f":"+[1]Tabulka!BF28","v":{"v":3.6127011759664778,"d":"3.61"}},{"$f":"+[1]Tabulka!BG28","v":0},{"$f":"+[1]Tabulka!BH28","v":{"v":0,"d":"0.00"}},{"$f":"+[1]Tabulka!BI28","v":0},{"$f":"+[1]Tabulka!BJ28","v":{"v":0,"d":"0.00"}},{"$f":"+[1]Tabulka!AP28","v":{"v":23.247629175790607,"d":"23.25"}},{"$f":"+[1]Tabulka!AQ28","v":{"v":4,"d":"4.00"}},{"$f":"+[1]Tabulka!BM28","v":{"v":13.039302946603348,"d":"13.04"}},{"$f":"+[1]Tabulka!BN28","v":4},{"$f":"+[1]Tabulka!BO28","v":{"v":10.407930005710288,"d":"10.41"}}]
["15",{"$f":"[1]Tabulka!C29","v":"SIWIEC"},{"$f":"[1]Tabulka!D29","v":"Matěj"},{"$f":"[1]Tabulka!E29","v":"2001-04-17"},{"$f":"[1]Tabulka!F29","v":"Karviná- KLUBsten KST"},{"$f":"[1]Tabulka!G29","v":"KA"},{"$f":"[1]Tabulka!H29","v":100},{"$f":"+[1]Tabulka!AU29","v":0},{"$f":"+[1]Tabulka!AV29","v":{"v":0,"d":"0.00"}},{"$f":"+[1]Tabulka!AW29","v":0},{"$f":"+[1]Tabulka!AX29","v":{"v":0,"d":"0.00"}},{"$f":"+[1]Tabulka!AY29","v":0},{"$f":"+[1]Tabulka!AZ29","v":{"v":0,"d":"0.00"}},{"$f":"+[1]Tabulka!BA29","v":0},{"$f":"+[1]Tabulka!BB29","v":{"v":0,"d":"0.00"}},{"$f":"+[1]Tabulka!BC29","v":0},{"$f":"+[1]Tabulka!BD29","v":{"v":0,"d":"0.00"}},{"$f":"+[1]Tabulka!BE29","v":9},{"$f":"+[1]Tabulka!BF29","v":{"v":2.803575987529016,"d":"2.80"}},{"$f":"+[1]Tabulka!BG29","v":3},{"$f":"+[1]Tabulka!BH29","v":{"v":4.101020071683792,"d":"4.10"}},{"$f":"+[1]Tabulka!BI29","v":6},{"$f":"+[1]Tabulka!BJ29","v":{"v":3.3907995218454317,"d":"3.39"}},{"$f":"+[1]Tabulka!AP29","v":{"v":10.695168221176974,"d":"10.70"}},{"$f":"+[1]Tabulka!AQ29","v":{"v":3,"d":"3.00"}},{"$f":"+[1]Tabulka!BM29","v":{"v":10.29539558105824,"d":"10.30"}},{"$f":"+[1]Tabulka!BN29","v":3},{"$f":"+[1]Tabulka!BO29","v":{"v":10.29539558105824,"d":"10.30"}}]
["16",{"$f":"[1]Tabulka!C30","v":"MIKA"},{"$f":"[1]Tabulka!D30","v":"Tomáš"},{"$f":"[1]Tabulka!E30","v":"1993-08-29"},{"$f":"[1]Tabulka!F30","v":"Bohumín- TJ"},{"$f":"[1]Tabulka!G30","v":"KA"},{"$f":"[1]Tabulka!H30","v":200},{"$f":"+[1]Tabulka!AU30","v":8},{"$f":"+[1]Tabulka!AV30","v":{"v":2.987048394281082,"d":"2.99"}},{"$f":"+[1]Tabulka!AW30","v":11},{"$f":"+[1]Tabulka!AX30","v":{"v":2.4697470604914433,"d":"2.47"}},{"$f":"+[1]Tabulka!AY30","v":0},{"$f":"+[1]Tabulka!AZ30","v":{"v":0,"d":"0.00"}},{"$f":"+[1]Tabulka!BA30","v":0},{"$f":"+[1]Tabulka!BB30","v":{"v":0,"d":"0.00"}},{"$f":"+[1]Tabulka!BC30","v":0},{"$f":"+[1]Tabulka!BD30","v":{"v":0,"d":"0.00"}},{"$f":"+[1]Tabulka!BE30","v":15},{"$f":"+[1]Tabulka!BF30","v":{"v":1.91660566894571,"d":"1.92"}},{"$f":"+[1]Tabulka!BG30","v":0},{"$f":"+[1]Tabulka!BH30","v":{"v":0,"d":"0.00"}},{"$f":"+[1]Tabulka!BI30","v":12},{"$f":"+[1]Tabulka!BJ30","v":{"v":2.3180486688200013,"d":"2.32"}},{"$f":"+[1]Tabulka!AP30","v":{"v":0.44629762157690905,"d":"0.45"}},{"$f":"+[1]Tabulka!AQ30","v":{"v":1,"d":"1.00"}},{"$f":"+[1]Tabulka!BM30","v":{"v":9.691449792538236,"d":"9.69"}},{"$f":"+[1]Tabulka!BN30","v":4},{"$f":"+[1]Tabulka!BO30","v":{"v":9.691449792538236,"d":"9.69"}}]
["17",{"$f":"[1]Tabulka!C31","v":"RECK"},{"$f":"[1]Tabulka!D31","v":"Dominik"},{"$f":"[1]Tabulka!E31","v":"1996-07-31"},{"$f":"[1]Tabulka!F31","v":"Karviná- KLUBsten KST"},{"$f":"[1]Tabulka!G31","v":"KA"},{"$f":"[1]Tabulka!H31","v":100},{"$f":"+[1]Tabulka!AU31","v":0},{"$f":"+[1]Tabulka!AV31","v":{"v":0,"d":"0.00"}},{"$f":"+[1]Tabulka!AW31","v":0},{"$f":"+[1]Tabulka!AX31","v":{"v":0,"d":"0.00"}},{"$f":"+[1]Tabulka!AY31","v":0},{"$f":"+[1]Tabulka!AZ31","v":{"v":0,"d":"0.00"}},{"$f":"+[1]Tabulka!BA31","v":20},{"$f":"+[1]Tabulka!BB31","v":{"v":1.3959926520290693,"d":"1.40"}},{"$f":"+[1]Tabulka!BC31","v":11},{"$f":"+[1]Tabulka!BD31","v":{"v":2.4697470604914433,"d":"2.47"}},{"$f":"+[1]Tabulka!BE31","v":18},{"$f":"+[1]Tabulka!BF31","v":{"v":1.584685144727681,"d":"1.58"}},{"$f":"+[1]Tabulka!BG31","v":12},{"$f":"+[1]Tabulka!BH31","v":{"v":2.3180486688200013,"d":"2.32"}},{"$f":"+[1]Tabulka!BI31","v":17},{"$f":"+[1]Tabulka!BJ31","v":{"v":1.6883905547970857,"d":"1.69"}},{"$f":"+[1]Tabulka!AP31","v":{"v":0.36042163532039967,"d":"0.36"}},{"$f":"+[1]Tabulka!AQ31","v":{"v":2,"d":"2.00"}},{"$f":"+[1]Tabulka!BM31","v":{"v":9.45686408086528,"d":"9.46"}},{"$f":"+[1]Tabulka!BN31","v":5},{"$f":"+[1]Tabulka!BO31","v":{"v":9.45686408086528,"d":"9.46"}}]
["18",{"$f":"[1]Tabulka!C32","v":"OBERHERR"},{"$f":"[1]Tabulka!D32","v":"Jan"},{"$f":"[1]Tabulka!E32","v":"1995-09-15"},{"$f":"[1]Tabulka!F32","v":"Kravaře- SK TJ"},{"$f":"[1]Tabulka!G32","v":"OP"},{"$f":"[1]Tabulka!H32","v":100},{"$f":"+[1]Tabulka!AU32","v":4},{"$f":"+[1]Tabulka!AV32","v":{"v":3.8491245804252903,"d":"3.85"}},{"$f":"+[1]Tabulka!AW32","v":0},{"$f":"+[1]Tabulka!AX32","v":{"v":0,"d":"0.00"}},{"$f":"+[1]Tabulka!AY32","v":9},{"$f":"+[1]Tabulka!AZ32","v":{"v":2.803575987529016,"d":"2.80"}},{"$f":"+[1]Tabulka!BA32","v":9},{"$f":"+[1]Tabulka!BB32","v":{"v":2.803575987529016,"d":"2.80"}},{"$f":"+[1]Tabulka!BC32","v":0},{"$f":"+[1]Tabulka!BD32","v":{"v":0,"d":"0.00"}},{"$f":"+[1]Tabulka!BE32","v":0},{"$f":"+[1]Tabulka!BF32","v":{"v":0,"d":"0.00"}},{"$f":"+[1]Tabulka!BG32","v":0},{"$f":"+[1]Tabulka!BH32","v":{"v":0,"d":"0.00"}},{"$f":"+[1]Tabulka!BI32","v":0},{"$f":"+[1]Tabulka!BJ32","v":{"v":0,"d":"0.00"}},{"$f":"+[1]Tabulka!AP32","v":{"v":0,"d":"0.00"}},{"$f":"+[1]Tabulka!AQ32","v":{"v":0,"d":"0.00"}},{"$f":"+[1]Tabulka!BM32","v":{"v":9.456276555483322,"d":"9.46"}},{"$f":"+[1]Tabulka!BN32","v":3},{"$f":"+[1]Tabulka!BO32","v":{"v":9.456276555483322,"d":"9.46"}}]
["18",{"$f":"[1]Tabulka!C33","v":"REITZ"},{"$f":"[1]Tabulka!D33","v":"Aleš"},{"$f":"[1]Tabulka!E33","v":"1999-08-05"},{"$f":"[1]Tabulka!F33","v":"Karviná- KLUBsten KST"},{"$f":"[1]Tabulka!G33","v":"KA"},{"$f":"[1]Tabulka!H33","v":100},{"$f":"+[1]Tabulka!AU33","v":18},{"$f":"+[1]Tabulka!AV33","v":{"v":1.584685144727681,"d":"1.58"}},{"$f":"+[1]Tabulka!AW33","v":6},{"$f":"+[1]Tabulka!AX33","v":{"v":3.3907995218454317,"d":"3.39"}},{"$f":"+[1]Tabulka!AY33","v":17},{"$f":"+[1]Tabulka!AZ33","v":{"v":1.6883905547970857,"d":"1.69"}},{"$f":"+[1]Tabulka!BA33","v":10},{"$f":"+[1]Tabulka!BB33","v":{"v":2.6313729408930584,"d":"2.63"}},{"$f":"+[1]Tabulka!BC33","v":0},{"$f":"+[1]Tabulka!BD33","v":{"v":0,"d":"0.00"}},{"$f":"+[1]Tabulka!BE33","v":0},{"$f":"+[1]Tabulka!BF33","v":{"v":0,"d":"0.00"}},{"$f":"+[1]Tabulka!BG33","v":0},{"$f":"+[1]Tabulka!BH33","v":{"v":0,"d":"0.00"}},{"$f":"+[1]Tabulka!BI33","v":0},{"$f":"+[1]Tabulka!BJ33","v":{"v":0,"d":"0.00"}},{"$f":"+[1]Tabulka!AP33","v":{"v":0.5751012098384416,"d":"0.58"}},{"$f":"+[1]Tabulka!AQ33","v":{"v":1,"d":"1.00"}},{"$f":"+[1]Tabulka!BM33","v":{"v":9.295248162263256,"d":"9.30"}},{"$f":"+[1]Tabulka!BN33","v":4},{"$f":"+[1]Tabulka!BO33","v":{"v":9.295248162263256,"d":"9.30"}}]
["19",{"$f":"[1]Tabulka!C34","v":"ŠTIKA"},{"$f":"[1]Tabulka!D34","v":"Petr"},{"$f":"[1]Tabulka!E34","v":"1991-01-01"},{"$f":"[1]Tabulka!F34","v":"Orlová- Slávie SK"},{"$f":"[1]Tabulka!G34","v":"KA"},{"$f":"[1]Tabulka!H34","v":0},{"$f":"+[1]Tabulka!AU34","v":0},{"$f":"+[1]Tabulka!AV34","v":{"v":0,"d":"0.00"}},{"$f":"+[1]Tabulka!AW34","v":0},{"$f":"+[1]Tabulka!AX34","v":{"v":0,"d":"0.00"}},{"$f":"+[1]Tabulka!AY34","v":0},{"$f":"+[1]Tabulka!AZ34","v":{"v":0,"d":"0.00"}},{"$f":"+[1]Tabulka!BA34","v":0},{"$f":"+[1]Tabulka!BB34","v":{"v":0,"d":"0.00"}},{"$f":"+[1]Tabulka!BC34","v":0},{"$f":"+[1]Tabulka!BD34","v":{"v":0,"d":"0.00"}},{"$f":"+[1]Tabulka!BE34","v":1},{"$f":"+[1]Tabulka!BF34","v":{"v":4.655343691373548,"d":"4.66"}},{"$f":"+[1]Tabulka!BG34","v":0},{"$f":"+[1]Tabulka!BH34","v":{"v":0,"d":"0.00"}},{"$f":"+[1]Tabulka!BI34","v":2},{"$f":"+[1]Tabulka!BJ34","v":{"v":4.369400178389413,"d":"4.37"}},{"$f":"+[1]Tabulka!AP34","v":{"v":0,"d":"0.00"}},{"$f":"+[1]Tabulka!AQ34","v":{"v":0,"d":"0.00"}},{"$f":"+[1]Tabulka!BM34","v":{"v":9.024743869762961,"d":"9.02"}},{"$f":"+[1]Tabulka!BN34","v":2},{"$f":"+[1]Tabulka!BO34","v":{"v":9.024743869762961,"d":"9.02"}}]
["20",{"$f":"[1]Tabulka!C35","v":"KURIAL"},{"$f":"[1]Tabulka!D35","v":"Patrik"},{"$f":"[1]Tabulka!E35","v":"1996-01-01"},{"$f":"[1]Tabulka!F35","v":"Havířov- Baník SKST"},{"$f":"[1]Tabulka!G35","v":"KA"},{"$f":"[1]Tabulka!H35","v":100},{"$f":"+[1]Tabulka!AU35","v":0},{"$f":"+[1]Tabulka!AV35","v":{"v":0,"d":"0.00"}},{"$f":"+[1]Tabulka!AW35","v":10},{"$f":"+[1]Tabulka!AX35","v":{"v":2.6313729408930584,"d":"2.63"}},{"$f":"+[1]Tabulka!AY35","v":8},{"$f":"+[1]Tabulka!AZ35","v":{"v":2.987048394281082,"d":"2.99"}},{"$f":"+[1]Tabulka!BA35","v":21},{"$f":"+[1]Tabulka!BB35","v":{"v":1.3102470939168058,"d":"1.31"}},{"$f":"+[1]Tabulka!BC35","v":0},{"$f":"+[1]Tabulka!BD35","v":{"v":0,"d":"0.00"}},{"$f":"+[1]Tabulka!BE35","v":0},{"$f":"+[1]Tabulka!BF35","v":{"v":0,"d":"0.00"}},{"$f":"+[1]Tabulka!BG35","v":18},{"$f":"+[1]Tabulka!BH35","v":{"v":1.584685144727681,"d":"1.58"}},{"$f":"+[1]Tabulka!BI35","v":0},{"$f":"+[1]Tabulka!BJ35","v":{"v":0,"d":"0.00"}},{"$f":"+[1]Tabulka!AP35","v":{"v":0.652836060864107,"d":"0.65"}},{"$f":"+[1]Tabulka!AQ35","v":{"v":1,"d":"1.00"}},{"$f":"+[1]Tabulka!BM35","v":{"v":8.513353573818627,"d":"8.51"}},{"$f":"+[1]Tabulka!BN35","v":4},{"$f":"+[1]Tabulka!BO35","v":{"v":8.513353573818627,"d":"8.51"}}]
["21",{"$f":"[1]Tabulka!C36","v":"DOMBROWSKI"},{"$f":"[1]Tabulka!D36","v":"Ondřej"},{"$f":"[1]Tabulka!E36","v":"1997-10-03"},{"$f":"[1]Tabulka!F36","v":"Orlová- Slávie SK"},{"$f":"[1]Tabulka!G36","v":"KA"},{"$f":"[1]Tabulka!H36","v":100},{"$f":"+[1]Tabulka!AU36","v":15},{"$f":"+[1]Tabulka!AV36","v":{"v":1.91660566894571,"d":"1.92"}},{"$f":"+[1]Tabulka!AW36","v":12},{"$f":"+[1]Tabulka!AX36","v":{"v":2.3180486688200013,"d":"2.32"}},{"$f":"+[1]Tabulka!AY36","v":27},{"$f":"+[1]Tabulka!AZ36","v":{"v":0.8957228265226755,"d":"0.90"}},{"$f":"+[1]Tabulka!BA36","v":27},{"$f":"+[1]Tabulka!BB36","v":{"v":0.8957228265226755,"d":"0.90"}},{"$f":"+[1]Tabulka!BC36","v":15},{"$f":"+[1]Tabulka!BD36","v":{"v":1.91660566894571,"d":"1.92"}},{"$f":"+[1]Tabulka!BE36","v":22},{"$f":"+[1]Tabulka!BF36","v":{"v":1.2297682545980093,"d":"1.23"}},{"$f":"+[1]Tabulka!BG36","v":29},{"$f":"+[1]Tabulka!BH36","v":{"v":0.7890668302410581,"d":"0.79"}},{"$f":"+[1]Tabulka!BI36","v":26},{"$f":"+[1]Tabulka!BJ36","v":{"v":0.9543409711693354,"d":"0.95"}},{"$f":"+[1]Tabulka!AP36","v":{"v":0,"d":"0.00"}},{"$f":"+[1]Tabulka!AQ36","v":{"v":0,"d":"0.00"}},{"$f":"+[1]Tabulka!BM36","v":{"v":10.915881715765176,"d":"10.92"}},{"$f":"+[1]Tabulka!BN36","v":8},{"$f":"+[1]Tabulka!BO36","v":{"v":8.335369232478765,"d":"8.34"}}]
["22",{"$f":"[1]Tabulka!C37","v":"VILČEK"},{"$f":"[1]Tabulka!D37","v":"Martin"},{"$f":"[1]Tabulka!E37","v":"1993-02-16"},{"$f":"[1]Tabulka!F37","v":"Bohumín- TJ"},{"$f":"[1]Tabulka!G37","v":"KA"},{"$f":"[1]Tabulka!H37","v":200},{"$f":"+[1]Tabulka!AU37","v":11},{"$f":"+[1]Tabulka!AV37","v":{"v":2.4697470604914433,"d":"2.47"}},{"$f":"+[1]Tabulka!AW37","v":8},{"$f":"+[1]Tabulka!AX37","v":{"v":2.987048394281082,"d":"2.99"}},{"$f":"+[1]Tabulka!AY37","v":15},{"$f":"+[1]Tabulka!AZ37","v":{"v":1.91660566894571,"d":"1.92"}},{"$f":"+[1]Tabulka!BA37","v":26},{"$f":"+[1]Tabulka!BB37","v":{"v":0.9543409711693354,"d":"0.95"}},{"$f":"+[1]Tabulka!BC37","v":0},{"$f":"+[1]Tabulka!BD37","v":{"v":0,"d":"0.00"}},{"$f":"+[1]Tabulka!BE37","v":0},{"$f":"+[1]Tabulka!BF37","v":{"v":0,"d":"0.00"}},{"$f":"+[1]Tabulka!BG37","v":0},{"$f":"+[1]Tabulka!BH37","v":{"v":0,"d":"0.00"}},{"$f":"+[1]Tabulka!BI37","v":0},{"$f":"+[1]Tabulka!BJ37","v":{"v":0,"d":"0.00"}},{"$f":"+[1]Tabulka!AP37","v":{"v":0.1957652118434682,"d":"0.20"}},{"$f":"+[1]Tabulka!AQ37","v":{"v":1,"d":"1.00"}},{"$f":"+[1]Tabulka!BM37","v":{"v":8.32774209488757,"d":"8.33"}},{"$f":"+[1]Tabulka!BN37","v":4},{"$f":"+[1]Tabulka!BO37","v":{"v":8.32774209488757,"d":"8.33"}}]
["23",{"$f":"[1]Tabulka!C38","v":"GORECKI"},{"$f":"[1]Tabulka!D38","v":"Jan"},{"$f":"[1]Tabulka!E38","v":"1999-09-05"},{"$f":"[1]Tabulka!F38","v":"Havířov- Baník SKST"},{"$f":"[1]Tabulka!G38","v":"KA"},{"$f":"[1]Tabulka!H38","v":100},{"$f":"+[1]Tabulka!AU38","v":0},{"$f":"+[1]Tabulka!AV38","v":{"v":0,"d":"0.00"}},{"$f":"+[1]Tabulka!AW38","v":0},{"$f":"+[1]Tabulka!AX38","v":{"v":0,"d":"0.00"}},{"$f":"+[1]Tabulka!AY38","v":0},{"$f":"+[1]Tabulka!AZ38","v":{"v":0,"d":"0.00"}},{"$f":"+[1]Tabulka!BA38","v":0},{"$f":"+[1]Tabulka!BB38","v":{"v":0,"d":"0.00"}},{"$f":"+[1]Tabulka!BC38","v":0},{"$f":"+[1]Tabulka!BD38","v":{"v":0,"d":"0.00"}},{"$f":"+[1]Tabulka!BE38","v":2},{"$f":"+[1]Tabulka!BF38","v":{"v":4.369400178389413,"d":"4.37"}},{"$f":"+[1]Tabulka!BG38","v":4},{"$f":"+[1]Tabulka!BH38","v":{"v":3.8491245804252903,"d":"3.85"}},{"$f":"+[1]Tabulka!BI38","v":0},{"$f":"+[1]Tabulka!BJ38","v":{"v":0,"d":"0.00"}},{"$f":"+[1]Tabulka!AP38","v":{"v":13.068168385568818,"d":"13.07"}},{"$f":"+[1]Tabulka!AQ38","v":{"v":3,"d":"3.00"}},{"$f":"+[1]Tabulka!BM38","v":{"v":8.218524758814704,"d":"8.22"}},{"$f":"+[1]Tabulka!BN38","v":2},{"$f":"+[1]Tabulka!BO38","v":{"v":8.218524758814704,"d":"8.22"}}]
["23",{"$f":"[1]Tabulka!C39","v":"SYNKOVÁ"},{"$f":"[1]Tabulka!D39","v":"Kristýna"},{"$f":"[1]Tabulka!E39","v":"1998-08-10"},{"$f":"[1]Tabulka!F39","v":"Děhylov- Sokol TJ"},{"$f":"[1]Tabulka!G39","v":"OP"},{"$f":"[1]Tabulka!H39","v":100},{"$f":"+[1]Tabulka!AU39","v":25},{"$f":"+[1]Tabulka!AV39","v":{"v":1.0167952208923348,"d":"1.02"}},{"$f":"+[1]Tabulka!AW39","v":0},{"$f":"+[1]Tabulka!AX39","v":{"v":0,"d":"0.00"}},{"$f":"+[1]Tabulka!AY39","v":11},{"$f":"+[1]Tabulka!AZ39","v":{"v":2.4697470604914433,"d":"2.47"}},{"$f":"+[1]Tabulka!BA39","v":0},{"$f":"+[1]Tabulka!BB39","v":{"v":0,"d":"0.00"}},{"$f":"+[1]Tabulka!BC39","v":9},{"$f":"+[1]Tabulka!BD39","v":{"v":2.803575987529016,"d":"2.80"}},{"$f":"+[1]Tabulka!BE39","v":9},{"$f":"+[1]Tabulka!BF39","v":{"v":2.803575987529016,"d":"2.80"}},{"$f":"+[1]Tabulka!BG39","v":0},{"$f":"+[1]Tabulka!BH39","v":{"v":0,"d":"0.00"}},{"$f":"+[1]Tabulka!BI39","v":0},{"$f":"+[1]Tabulka!BJ39","v":{"v":0,"d":"0.00"}},{"$f":"+[1]Tabulka!AP39","v":{"v":5.934641614614036,"d":"5.93"}},{"$f":"+[1]Tabulka!AQ39","v":{"v":3,"d":"3.00"}},{"$f":"+[1]Tabulka!BM39","v":{"v":9.09369425644181,"d":"9.09"}},{"$f":"+[1]Tabulka!BN39","v":4},{"$f":"+[1]Tabulka!BO39","v":{"v":8.076899035549475,"d":"8.08"}}]
["24",{"$f":"[1]Tabulka!C40","v":"KOMÍNEK"},{"$f":"[1]Tabulka!D40","v":"Jan"},{"$f":"[1]Tabulka!E40","v":"1996-10-11"},{"$f":"[1]Tabulka!F40","v":"Děhylov- Sokol TJ"},{"$f":"[1]Tabulka!G40","v":"OP"},{"$f":"[1]Tabulka!H40","v":100},{"$f":"+[1]Tabulka!AU40","v":25},{"$f":"+[1]Tabulka!AV40","v":{"v":1.0167952208923348,"d":"1.02"}},{"$f":"+[1]Tabulka!AW40","v":7},{"$f":"+[1]Tabulka!AX40","v":{"v":3.1825276537773326,"d":"3.18"}},{"$f":"+[1]Tabulka!AY40","v":16},{"$f":"+[1]Tabulka!AZ40","v":{"v":1.7988826834228204,"d":"1.80"}},{"$f":"+[1]Tabulka!BA40","v":9},{"$f":"+[1]Tabulka!BB40","v":{"v":2.803575987529016,"d":"2.80"}},{"$f":"+[1]Tabulka!BC40","v":17},{"$f":"+[1]Tabulka!BD40","v":{"v":1.6883905547970857,"d":"1.69"}},{"$f":"+[1]Tabulka!BE40","v":0},{"$f":"+[1]Tabulka!BF40","v":{"v":0,"d":"0.00"}},{"$f":"+[1]Tabulka!BG40","v":0},{"$f":"+[1]Tabulka!BH40","v":{"v":0,"d":"0.00"}},{"$f":"+[1]Tabulka!BI40","v":0},{"$f":"+[1]Tabulka!BJ40","v":{"v":0,"d":"0.00"}},{"$f":"+[1]Tabulka!AP40","v":{"v":0,"d":"0.00"}},{"$f":"+[1]Tabulka!AQ40","v":{"v":0,"d":"0.00"}},{"$f":"+[1]Tabulka!BM40","v":{"v":10.49017210041859,"d":"10.49"}},{"$f":"+[1]Tabulka!BN40","v":5},{"$f":"+[1]Tabulka!BO40","v":{"v":7.784986324729169,"d":"7.78"}}]
["24",{"$f":"[1]Tabulka!C41","v":"KAVICKÝ"},{"$f":"[1]Tabulka!D41","v":"Jan"},{"$f":"[1]Tabulka!E41","v":"1994-10-03"},{"$f":"[1]Tabulka!F41","v":"Chotěbuz- Sokol TJ"},{"$f":"[1]Tabulka!G41","v":"KA"},{"$f":"[1]Tabulka!H41","v":100},{"$f":"+[1]Tabulka!AU41","v":7},{"$f":"+[1]Tabulka!AV41","v":{"v":3.1825276537773326,"d":"3.18"}},{"$f":"+[1]Tabulka!AW41","v":0},{"$f":"+[1]Tabulka!AX41","v":{"v":0,"d":"0.00"}},{"$f":"+[1]Tabulka!AY41","v":0},{"$f":"+[1]Tabulka!AZ41","v":{"v":0,"d":"0.00"}},{"$f":"+[1]Tabulka!BA41","v":17},{"$f":"+[1]Tabulka!BB41","v":{"v":1.6883905547970857,"d":"1.69"}},{"$f":"+[1]Tabulka!BC41","v":9},{"$f":"+[1]Tabulka!BD41","v":{"v":2.803575987529016,"d":"2.80"}},{"$f":"+[1]Tabulka!BE41","v":0},{"$f":"+[1]Tabulka!BF41","v":{"v":0,"d":"0.00"}},{"$f":"+[1]Tabulka!BG41","v":0},{"$f":"+[1]Tabulka!BH41","v":{"v":0,"d":"0.00"}},{"$f":"+[1]Tabulka!BI41","v":0},{"$f":"+[1]Tabulka!BJ41","v":{"v":0,"d":"0.00"}},{"$f":"+[1]Tabulka!AP41","v":{"v":0,"d":"0.00"}},{"$f":"+[1]Tabulka!AQ41","v":{"v":0,"d":"0.00"}},{"$f":"+[1]Tabulka!BM41","v":{"v":7.674494196103433,"d":"7.67"}},{"$f":"+[1]Tabulka!BN41","v":3},{"$f":"+[1]Tabulka!BO41","v":{"v":7.674494196103433,"d":"7.67"}}]
["25",{"$f":"[1]Tabulka!C42","v":"RAŠKA"},{"$f":"[1]Tabulka!D42","v":"Michal"},{"$f":"[1]Tabulka!E42","v":"1999-01-31"},{"$f":"[1]Tabulka!F42","v":"Frýdek-Místek- Slezan TJ"},{"$f":"[1]Tabulka!G42","v":"FM"},{"$f":"[1]Tabulka!H42","v":100},{"$f":"+[1]Tabulka!AU42","v":17},{"$f":"+[1]Tabulka!AV42","v":{"v":1.6883905547970857,"d":"1.69"}},{"$f":"+[1]Tabulka!AW42","v":9},{"$f":"+[1]Tabulka!AX42","v":{"v":2.803575987529016,"d":"2.80"}},{"$f":"+[1]Tabulka!AY42","v":14},{"$f":"+[1]Tabulka!AZ42","v":{"v":2.0420327151325517,"d":"2.04"}},{"$f":"+[1]Tabulka!BA42","v":9},{"$f":"+[1]Tabulka!BB42","v":{"v":2.803575987529016,"d":"2.80"}},{"$f":"+[1]Tabulka!BC42","v":33},{"$f":"+[1]Tabulka!BD42","v":{"v":0.6123420427175658,"d":"0.61"}},{"$f":"+[1]Tabulka!BE42","v":33},{"$f":"+[1]Tabulka!BF42","v":{"v":0.6123420427175658,"d":"0.61"}},{"$f":"+[1]Tabulka!BG42","v":0},{"$f":"+[1]Tabulka!BH42","v":{"v":0,"d":"0.00"}},{"$f":"+[1]Tabulka!BI42","v":0},{"$f":"+[1]Tabulka!BJ42","v":{"v":0,"d":"0.00"}},{"$f":"+[1]Tabulka!AP42","v":{"v":1.2453068851296125,"d":"1.25"}},{"$f":"+[1]Tabulka!AQ42","v":{"v":3,"d":"3.00"}},{"$f":"+[1]Tabulka!BM42","v":{"v":10.562259330422801,"d":"10.56"}},{"$f":"+[1]Tabulka!BN42","v":6},{"$f":"+[1]Tabulka!BO42","v":{"v":7.649184690190584,"d":"7.65"}}]
["25",{"$f":"[1]Tabulka!C43","v":"NAMYSLO"},{"$f":"[1]Tabulka!D43","v":"Tomáš"},{"$f":"[1]Tabulka!E43","v":"2000-05-09"},{"$f":"[1]Tabulka!F43","v":"Orlová- Slávie SK"},{"$f":"[1]Tabulka!G43","v":"KA"},{"$f":"[1]Tabulka!H43","v":100},{"$f":"+[1]Tabulka!AU43","v":21},{"$f":"+[1]Tabulka!AV43","v":{"v":1.3102470939168058,"d":"1.31"}},{"$f":"+[1]Tabulka!AW43","v":14},{"$f":"+[1]Tabulka!AX43","v":{"v":2.0420327151325517,"d":"2.04"}},{"$f":"+[1]Tabulka!AY43","v":22},{"$f":"+[1]Tabulka!AZ43","v":{"v":1.2297682545980093,"d":"1.23"}},{"$f":"+[1]Tabulka!BA43","v":0},{"$f":"+[1]Tabulka!BB43","v":{"v":0,"d":"0.00"}},{"$f":"+[1]Tabulka!BC43","v":16},{"$f":"+[1]Tabulka!BD43","v":{"v":1.7988826834228204,"d":"1.80"}},{"$f":"+[1]Tabulka!BE43","v":28},{"$f":"+[1]Tabulka!BF43","v":{"v":0.8407051632402461,"d":"0.84"}},{"$f":"+[1]Tabulka!BG43","v":24},{"$f":"+[1]Tabulka!BH43","v":{"v":1.083336619156891,"d":"1.08"}},{"$f":"+[1]Tabulka!BI43","v":30},{"$f":"+[1]Tabulka!BJ43","v":{"v":0.7406002601279904,"d":"0.74"}},{"$f":"+[1]Tabulka!AP43","v":{"v":0,"d":"0.00"}},{"$f":"+[1]Tabulka!AQ43","v":{"v":0,"d":"0.00"}},{"$f":"+[1]Tabulka!BM43","v":{"v":9.045572789595315,"d":"9.05"}},{"$f":"+[1]Tabulka!BN43","v":7},{"$f":"+[1]Tabulka!BO43","v":{"v":7.464267366227078,"d":"7.46"}}]
["26",{"$f":"[1]Tabulka!C44","v":"BLAHUT"},{"$f":"[1]Tabulka!D44","v":"Daniel"},{"$f":"[1]Tabulka!E44","v":"1994-10-23"},{"$f":"[1]Tabulka!F44","v":"Frýdlant nad Ostravicí- SK"},{"$f":"[1]Tabulka!G44","v":"FM"},{"$f":"[1]Tabulka!H44","v":100},{"$f":"+[1]Tabulka!AU44","v":0},{"$f":"+[1]Tabulka!AV44","v":{"v":0,"d":"0.00"}},{"$f":"+[1]Tabulka!AW44","v":0},{"$f":"+[1]Tabulka!AX44","v":{"v":0,"d":"0.00"}},{"$f":"+[1]Tabulka!AY44","v":0},{"$f":"+[1]Tabulka!AZ44","v":{"v":0,"d":"0.00"}},{"$f":"+[1]Tabulka!BA44","v":17},{"$f":"+[1]Tabulka!BB44","v":{"v":1.6883905547970857,"d":"1.69"}},{"$f":"+[1]Tabulka!BC44","v":9},{"$f":"+[1]Tabulka!BD44","v":{"v":2.803575987529016,"d":"2.80"}},{"$f":"+[1]Tabulka!BE44","v":9},{"$f":"+[1]Tabulka!BF44","v":{"v":2.803575987529016,"d":"2.80"}},{"$f":"+[1]Tabulka!BG44","v":0},{"$f":"+[1]Tabulka!BH44","v":{"v":0,"d":"0.00"}},{"$f":"+[1]Tabulka!BI44","v":0},{"$f":"+[1]Tabulka!BJ44","v":{"v":0,"d":"0.00"}},{"$f":"+[1]Tabulka!AP44","v":{"v":9.17303722753427,"d":"9.17"}},{"$f":"+[1]Tabulka!AQ44","v":{"v":4,"d":"4.00"}},{"$f":"+[1]Tabulka!BM44","v":{"v":7.295542529855117,"d":"7.30"}},{"$f":"+[1]Tabulka!BN44","v":3},{"$f":"+[1]Tabulka!BO44","v":{"v":7.295542529855117,"d":"7.30"}}]
["26",{"$f":"[1]Tabulka!C45","v":"RYBOŘ"},{"$f":"[1]Tabulka!D45","v":"Marek"},{"$f":"[1]Tabulka!E45","v":"1995-06-02"},{"$f":"[1]Tabulka!F45","v":"Kravaře- SK TJ"},{"$f":"[1]Tabulka!G45","v":"OP"},{"$f":"[1]Tabulka!H45","v":100},{"$f":"+[1]Tabulka!AU45","v":13},{"$f":"+[1]Tabulka!AV45","v":{"v":2.1756679932838794,"d":"2.18"}},{"$f":"+[1]Tabulka!AW45","v":0},{"$f":"+[1]Tabulka!AX45","v":{"v":0,"d":"0.00"}},{"$f":"+[1]Tabulka!AY45","v":13},{"$f":"+[1]Tabulka!AZ45","v":{"v":2.1756679932838794,"d":"2.18"}},{"$f":"+[1]Tabulka!BA45","v":9},{"$f":"+[1]Tabulka!BB45","v":{"v":2.803575987529016,"d":"2.80"}},{"$f":"+[1]Tabulka!BC45","v":0},{"$f":"+[1]Tabulka!BD45","v":{"v":0,"d":"0.00"}},{"$f":"+[1]Tabulka!BE45","v":0},{"$f":"+[1]Tabulka!BF45","v":{"v":0,"d":"0.00"}},{"$f":"+[1]Tabulka!BG45","v":0},{"$f":"+[1]Tabulka!BH45","v":{"v":0,"d":"0.00"}},{"$f":"+[1]Tabulka!BI45","v":0},{"$f":"+[1]Tabulka!BJ45","v":{"v":0,"d":"0.00"}},{"$f":"+[1]Tabulka!AP45","v":{"v":0,"d":"0.00"}},{"$f":"+[1]Tabulka!AQ45","v":{"v":0,"d":"0.00"}},{"$f":"+[1]Tabulka!BM45","v":{"v":7.154911974096775,"d":"7.15"}},{"$f":"+[1]Tabulka!BN45","v":3},{"$f":"+[1]Tabulka!BO45","v":{"v":7.154911974096775,"d":"7.15"}}]
["26",{"$f":"[1]Tabulka!C46","v":"KUROVSKÝ"},{"$f":"[1]Tabulka!D46","v":"Kamil"},{"$f":"[1]Tabulka!E46","v":"1999-01-14"},{"$f":"[1]Tabulka!F46","v":"Karviná- KLUBsten KST"},{"$f":"[1]Tabulka!G46","v":"KA"},{"$f":"[1]Tabulka!H46","v":100},{"$f":"+[1]Tabulka!AU46","v":12},{"$f":"+[1]Tabulka!AV46","v":{"v":2.3180486688200013,"d":"2.32"}},{"$f":"+[1]Tabulka!AW46","v":15},{"$f":"+[1]Tabulka!AX46","v":{"v":1.91660566894571,"d":"1.92"}},{"$f":"+[1]Tabulka!AY46","v":0},{"$f":"+[1]Tabulka!AZ46","v":{"v":0,"d":"0.00"}},{"$f":"+[1]Tabulka!BA46","v":28},{"$f":"+[1]Tabulka!BB46","v":{"v":0.8407051632402461,"d":"0.84"}},{"$f":"+[1]Tabulka!BC46","v":0},{"$f":"+[1]Tabulka!BD46","v":{"v":0,"d":"0.00"}},{"$f":"+[1]Tabulka!BE46","v":24},{"$f":"+[1]Tabulka!BF46","v":{"v":1.083336619156891,"d":"1.08"}},{"$f":"+[1]Tabulka!BG46","v":27},{"$f":"+[1]Tabulka!BH46","v":{"v":0.8957228265226755,"d":"0.90"}},{"$f":"+[1]Tabulka!BI46","v":27},{"$f":"+[1]Tabulka!BJ46","v":{"v":0.8957228265226755,"d":"0.90"}},{"$f":"+[1]Tabulka!AP46","v":{"v":2.685310627556966,"d":"2.69"}},{"$f":"+[1]Tabulka!AQ46","v":{"v":3,"d":"3.00"}},{"$f":"+[1]Tabulka!BM46","v":{"v":7.950141773208199,"d":"7.95"}},{"$f":"+[1]Tabulka!BN46","v":6},{"$f":"+[1]Tabulka!BO46","v":{"v":7.109436609967953,"d":"7.11"}}]
[null,{"$f":"[1]Tabulka!C47","v":"AUGUSTÍN"},{"$f":"[1]Tabulka!D47","v":"Michal"},{"$f":"[1]Tabulka!E47","v":"1994-08-08"},{"$f":"[1]Tabulka!F47","v":"Vratimov- MG Odra Gas TTC"},{"$f":"[1]Tabulka!G47","v":"OV"},{"$f":"[1]Tabulka!H47","v":100},{"$f":"+[1]Tabulka!AU47","v":0},{"$f":"+[1]Tabulka!AV47","v":{"v":0,"d":"0.00"}},{"$f":"+[1]Tabulka!AW47","v":3},{"$f":"+[1]Tabulka!AX47","v":{"v":4.101020071683792,"d":"4.10"}},{"$f":"+[1]Tabulka!AY47","v":0},{"$f":"+[1]Tabulka!AZ47","v":{"v":0,"d":"0.00"}},{"$f":"+[1]Tabulka!BA47","v":9},{"$f":"+[1]Tabulka!BB47","v":{"v":2.803575987529016,"d":"2.80"}},{"$f":"+[1]Tabulka!BC47","v":0},{"$f":"+[1]Tabulka!BD47","v":{"v":0,"d":"0.00"}},{"$f":"+[1]Tabulka!BE47","v":0},{"$f":"+[1]Tabulka!BF47","v":{"v":0,"d":"0.00"}},{"$f":"+[1]Tabulka!BG47","v":0},{"$f":"+[1]Tabulka!BH47","v":{"v":0,"d":"0.00"}},{"$f":"+[1]Tabulka!BI47","v":0},{"$f":"+[1]Tabulka!BJ47","v":{"v":0,"d":"0.00"}},{"$f":"+[1]Tabulka!AP47","v":{"v":4.103666176028142,"d":"4.10"}},{"$f":"+[1]Tabulka!AQ47","v":{"v":1,"d":"1.00"}},{"$f":"+[1]Tabulka!BM47","v":{"v":6.904596059212809,"d":"6.90"}},{"$f":"+[1]Tabulka!BN47","v":2},{"$f":"+[1]Tabulka!BO47","v":{"v":6.904596059212809,"d":"6.90"}}]
[null,{"$f":"[1]Tabulka!C48","v":"PECHA"},{"$f":"[1]Tabulka!D48","v":"Pavel"},{"$f":"[1]Tabulka!E48","v":"1997-03-07"},{"$f":"[1]Tabulka!F48","v":"Ostrava- Don Bosco SSVČ"},{"$f":"[1]Tabulka!G48","v":"OV"},{"$f":"[1]Tabulka!H48","v":100},{"$f":"+[1]Tabulka!AU48","v":9},{"$f":"+[1]Tabulka!AV48","v":{"v":2.803575987529016,"d":"2.80"}},{"$f":"+[1]Tabulka!AW48","v":0},{"$f":"+[1]Tabulka!AX48","v":{"v":0,"d":"0.00"}},{"$f":"+[1]Tabulka!AY48","v":0},{"$f":"+[1]Tabulka!AZ48","v":{"v":0,"d":"0.00"}},{"$f":"+[1]Tabulka!BA48","v":3},{"$f":"+[1]Tabulka!BB48","v":{"v":4.101020071683792,"d":"4.10"}},{"$f":"+[1]Tabulka!BC48","v":0},{"$f":"+[1]Tabulka!BD48","v":{"v":0,"d":"0.00"}},{"$f":"+[1]Tabulka!BE48","v":0},{"$f":"+[1]Tabulka!BF48","v":{"v":0,"d":"0.00"}},{"$f":"+[1]Tabulka!BG48","v":0},{"$f":"+[1]Tabulka!BH48","v":{"v":0,"d":"0.00"}},{"$f":"+[1]Tabulka!BI48","v":0},{"$f":"+[1]Tabulka!BJ48","v":{"v":0,"d":"0.00"}},{"$f":"+[1]Tabulka!AP48","v":{"v":0,"d":"0.00"}},{"$f":"+[1]Tabulka!AQ48","v":{"v":0,"d":"0.00"}},{"$f":"+[1]Tabulka!BM48","v":{"v":6.904596059212809,"d":"6.90"}},{"$f":"+[1]Tabulka!BN48","v":2},{"$f":"+[1]Tabulka!BO48","v":{"v":6.904596059212809,"d":"6.90"}}]
[null,{"$f":"[1]Tabulka!C49","v":"MARTINKO"},{"$f":"[1]Tabulka!D49","v":"Tomáš"},{"$f":"[1]Tabulka!E49","v":"2002-07-07"},{"$f":"[1]Tabulka!F49","v":"Ostrava- Mittal TJ"},{"$f":"[1]Tabulka!G49","v":"OV"},{"$f":"[1]Tabulka!H49","v":100},{"$f":"+[1]Tabulka!AU49","v":13},{"$f":"+[1]Tabulka!AV49","v":{"v":2.1756679932838794,"d":"2.18"}},{"$f":"+[1]Tabulka!AW49","v":0},{"$f":"+[1]Tabulka!AX49","v":{"v":0,"d":"0.00"}},{"$f":"+[1]Tabulka!AY49","v":15},{"$f":"+[1]Tabulka!AZ49","v":{"v":1.91660566894571,"d":"1.92"}},{"$f":"+[1]Tabulka!BA49","v":0},{"$f":"+[1]Tabulka!BB49","v":{"v":0,"d":"0.00"}},{"$f":"+[1]Tabulka!BC49","v":9},{"$f":"+[1]Tabulka!BD49","v":{"v":2.803575987529016,"d":"2.80"}},{"$f":"+[1]Tabulka!BE49","v":17},{"$f":"+[1]Tabulka!BF49","v":{"v":1.6883905547970857,"d":"1.69"}},{"$f":"+[1]Tabulka!BG49","v":0},{"$f":"+[1]Tabulka!BH49","v":{"v":0,"d":"0.00"}},{"$f":"+[1]Tabulka!BI49","v":0},{"$f":"+[1]Tabulka!BJ49","v":{"v":0,"d":"0.00"}},{"$f":"+[1]Tabulka!AP49","v":{"v":14.269901691252795,"d":"14.27"}},{"$f":"+[1]Tabulka!AQ49","v":{"v":3,"d":"3.00"}},{"$f":"+[1]Tabulka!BM49","v":{"v":8.584240204555691,"d":"8.58"}},{"$f":"+[1]Tabulka!BN49","v":4},{"$f":"+[1]Tabulka!BO49","v":{"v":6.895849649758605,"d":"6.90"}}]
["27",{"$f":"[1]Tabulka!C50","v":"ŠABACKÝ"},{"$f":"[1]Tabulka!D50","v":"Tomáš"},{"$f":"[1]Tabulka!E50","v":"1995-01-01"},{"$f":"[1]Tabulka!F50","v":"Bohumín- TJ"},{"$f":"[1]Tabulka!G50","v":"KA"},{"$f":"[1]Tabulka!H50","v":0},{"$f":"+[1]Tabulka!AU50","v":19},{"$f":"+[1]Tabulka!AV50","v":{"v":1.4873495950244735,"d":"1.49"}},{"$f":"+[1]Tabulka!AW50","v":18},{"$f":"+[1]Tabulka!AX50","v":{"v":1.584685144727681,"d":"1.58"}},{"$f":"+[1]Tabulka!AY50","v":16},{"$f":"+[1]Tabulka!AZ50","v":{"v":1.7988826834228204,"d":"1.80"}},{"$f":"+[1]Tabulka!BA50","v":25},{"$f":"+[1]Tabulka!BB50","v":{"v":1.0167952208923348,"d":"1.02"}},{"$f":"+[1]Tabulka!BC50","v":0},{"$f":"+[1]Tabulka!BD50","v":{"v":0,"d":"0.00"}},{"$f":"+[1]Tabulka!BE50","v":26},{"$f":"+[1]Tabulka!BF50","v":{"v":0.9543409711693354,"d":"0.95"}},{"$f":"+[1]Tabulka!BG50","v":0},{"$f":"+[1]Tabulka!BH50","v":{"v":0,"d":"0.00"}},{"$f":"+[1]Tabulka!BI50","v":0},{"$f":"+[1]Tabulka!BJ50","v":{"v":0,"d":"0.00"}},{"$f":"+[1]Tabulka!AP50","v":{"v":0.12122408759949864,"d":"0.12"}},{"$f":"+[1]Tabulka!AQ50","v":{"v":2,"d":"2.00"}},{"$f":"+[1]Tabulka!BM50","v":{"v":6.842053615236645,"d":"6.84"}},{"$f":"+[1]Tabulka!BN50","v":5},{"$f":"+[1]Tabulka!BO50","v":{"v":6.842053615236645,"d":"6.84"}}]
[null,{"$f":"[1]Tabulka!C51","v":"VALOŠEK"},{"$f":"[1]Tabulka!D51","v":"Jakub"},{"$f":"[1]Tabulka!E51","v":"2000-06-18"},{"$f":"[1]Tabulka!F51","v":"Ostrava- Mittal TJ"},{"$f":"[1]Tabulka!G51","v":"OV"},{"$f":"[1]Tabulka!H51","v":100},{"$f":"+[1]Tabulka!AU51","v":0},{"$f":"+[1]Tabulka!AV51","v":{"v":0,"d":"0.00"}},{"$f":"+[1]Tabulka!AW51","v":12},{"$f":"+[1]Tabulka!AX51","v":{"v":2.3180486688200013,"d":"2.32"}},{"$f":"+[1]Tabulka!AY51","v":0},{"$f":"+[1]Tabulka!AZ51","v":{"v":0,"d":"0.00"}},{"$f":"+[1]Tabulka!BA51","v":9},{"$f":"+[1]Tabulka!BB51","v":{"v":2.803575987529016,"d":"2.80"}},{"$f":"+[1]Tabulka!BC51","v":17},{"$f":"+[1]Tabulka!BD51","v":{"v":1.6883905547970857,"d":"1.69"}},{"$f":"+[1]Tabulka!BE51","v":0},{"$f":"+[1]Tabulka!BF51","v":{"v":0,"d":"0.00"}},{"$f":"+[1]Tabulka!BG51","v":0},{"$f":"+[1]Tabulka!BH51","v":{"v":0,"d":"0.00"}},{"$f":"+[1]Tabulka!BI51","v":0},{"$f":"+[1]Tabulka!BJ51","v":{"v":0,"d":"0.00"}},{"$f":"+[1]Tabulka!AP51","v":{"v":1.118279096038318,"d":"1.12"}},{"$f":"+[1]Tabulka!AQ51","v":{"v":3,"d":"3.00"}},{"$f":"+[1]Tabulka!BM51","v":{"v":6.810015211146102,"d":"6.81"}},{"$f":"+[1]Tabulka!BN51","v":3},{"$f":"+[1]Tabulka!BO51","v":{"v":6.810015211146102,"d":"6.81"}}]
["28",{"$f":"[1]Tabulka!C52","v":"GOLASOWSKI"},{"$f":"[1]Tabulka!D52","v":"Lukáš"},{"$f":"[1]Tabulka!E52","v":"1998-10-15"},{"$f":"[1]Tabulka!F52","v":"Karviná- KLUBsten KST"},{"$f":"[1]Tabulka!G52","v":"KA"},{"$f":"[1]Tabulka!H52","v":100},{"$f":"+[1]Tabulka!AU52","v":5},{"$f":"+[1]Tabulka!AV52","v":{"v":3.6127011759664778,"d":"3.61"}},{"$f":"+[1]Tabulka!AW52","v":0},{"$f":"+[1]Tabulka!AX52","v":{"v":0,"d":"0.00"}},{"$f":"+[1]Tabulka!AY52","v":0},{"$f":"+[1]Tabulka!AZ52","v":{"v":0,"d":"0.00"}},{"$f":"+[1]Tabulka!BA52","v":19},{"$f":"+[1]Tabulka!BB52","v":{"v":1.4873495950244735,"d":"1.49"}},{"$f":"+[1]Tabulka!BC52","v":0},{"$f":"+[1]Tabulka!BD52","v":{"v":0,"d":"0.00"}},{"$f":"+[1]Tabulka!BE52","v":0},{"$f":"+[1]Tabulka!BF52","v":{"v":0,"d":"0.00"}},{"$f":"+[1]Tabulka!BG52","v":17},{"$f":"+[1]Tabulka!BH52","v":{"v":1.6883905547970857,"d":"1.69"}},{"$f":"+[1]Tabulka!BI52","v":0},{"$f":"+[1]Tabulka!BJ52","v":{"v":0,"d":"0.00"}},{"$f":"+[1]Tabulka!AP52","v":{"v":0.2687727003836233,"d":"0.27"}},{"$f":"+[1]Tabulka!AQ52","v":{"v":1,"d":"1.00"}},{"$f":"+[1]Tabulka!BM52","v":{"v":6.788441325788037,"d":"6.79"}},{"$f":"+[1]Tabulka!BN52","v":3},{"$f":"+[1]Tabulka!BO52","v":{"v":6.788441325788037,"d":"6.79"}}]
["28",{"$f":"[1]Tabulka!C53","v":"TROJEK"},{"$f":"[1]Tabulka!D53","v":"Jan"},{"$f":"[1]Tabulka!E53","v":"1997-01-09"},{"$f":"[1]Tabulka!F53","v":"Darkovice- KST"},{"$f":"[1]Tabulka!G53","v":"OP"},{"$f":"[1]Tabulka!H53","v":100},{"$f":"+[1]Tabulka!AU53","v":25},{"$f":"+[1]Tabulka!AV53","v":{"v":1.0167952208923348,"d":"1.02"}},{"$f":"+[1]Tabulka!AW53","v":7},{"$f":"+[1]Tabulka!AX53","v":{"v":3.1825276537773326,"d":"3.18"}},{"$f":"+[1]Tabulka!AY53","v":0},{"$f":"+[1]Tabulka!AZ53","v":{"v":0,"d":"0.00"}},{"$f":"+[1]Tabulka!BA53","v":17},{"$f":"+[1]Tabulka!BB53","v":{"v":1.6883905547970857,"d":"1.69"}},{"$f":"+[1]Tabulka!BC53","v":17},{"$f":"+[1]Tabulka!BD53","v":{"v":1.6883905547970857,"d":"1.69"}},{"$f":"+[1]Tabulka!BE53","v":0},{"$f":"+[1]Tabulka!BF53","v":{"v":0,"d":"0.00"}},{"$f":"+[1]Tabulka!BG53","v":0},{"$f":"+[1]Tabulka!BH53","v":{"v":0,"d":"0.00"}},{"$f":"+[1]Tabulka!BI53","v":0},{"$f":"+[1]Tabulka!BJ53","v":{"v":0,"d":"0.00"}},{"$f":"+[1]Tabulka!AP53","v":{"v":0,"d":"0.00"}},{"$f":"+[1]Tabulka!AQ53","v":{"v":0,"d":"0.00"}},{"$f":"+[1]Tabulka!BM53","v":{"v":7.576103984263838,"d":"7.58"}},{"$f":"+[1]Tabulka!BN53","v":4},{"$f":"+[1]Tabulka!BO53","v":{"v":6.5593087633715035,"d":"6.56"}}]
["29",{"$f":"[1]Tabulka!C54","v":"HAMALA"},{"$f":"[1]Tabulka!D54","v":"Michal"},{"$f":"[1]Tabulka!E54","v":"1996-01-01"},{"$f":"[1]Tabulka!F54","v":"Těrlicko- DDŠ"},{"$f":"[1]Tabulka!G54","v":"KA"},{"$f":"[1]Tabulka!H54","v":0},{"$f":"+[1]Tabulka!AU54","v":0},{"$f":"+[1]Tabulka!AV54","v":{"v":0,"d":"0.00"}},{"$f":"+[1]Tabulka!AW54","v":21},{"$f":"+[1]Tabulka!AX54","v":{"v":1.3102470939168058,"d":"1.31"}},{"$f":"+[1]Tabulka!AY54","v":18},{"$f":"+[1]Tabulka!AZ54","v":{"v":1.584685144727681,"d":"1.58"}},{"$f":"+[1]Tabulka!BA54","v":15},{"$f":"+[1]Tabulka!BB54","v":{"v":1.91660566894571,"d":"1.92"}},{"$f":"+[1]Tabulka!BC54","v":18},{"$f":"+[1]Tabulka!BD54","v":{"v":1.584685144727681,"d":"1.58"}},{"$f":"+[1]Tabulka!BE54","v":0},{"$f":"+[1]Tabulka!BF54","v":{"v":0,"d":"0.00"}},{"$f":"+[1]Tabulka!BG54","v":0},{"$f":"+[1]Tabulka!BH54","v":{"v":0,"d":"0.00"}},{"$f":"+[1]Tabulka!BI54","v":0},{"$f":"+[1]Tabulka!BJ54","v":{"v":0,"d":"0.00"}},{"$f":"+[1]Tabulka!AP54","v":{"v":0,"d":"0.00"}},{"$f":"+[1]Tabulka!AQ54","v":{"v":0,"d":"0.00"}},{"$f":"+[1]Tabulka!BM54","v":{"v":6.396223052317878,"d":"6.40"}},{"$f":"+[1]Tabulka!BN54","v":4},{"$f":"+[1]Tabulka!BO54","v":{"v":6.396223052317878,"d":"6.40"}}]
[null,{"$f":"[1]Tabulka!C55","v":"SKALICKÝ"},{"$f":"[1]Tabulka!D55","v":"Jiří"},{"$f":"[1]Tabulka!E55","v":"1994-12-24"},{"$f":"[1]Tabulka!F55","v":"Vratimov- MG Odra Gas TTC"},{"$f":"[1]Tabulka!G55","v":"OV"},{"$f":"[1]Tabulka!H55","v":100},{"$f":"+[1]Tabulka!AU55","v":7},{"$f":"+[1]Tabulka!AV55","v":{"v":3.1825276537773326,"d":"3.18"}},{"$f":"+[1]Tabulka!AW55","v":0},{"$f":"+[1]Tabulka!AX55","v":{"v":0,"d":"0.00"}},{"$f":"+[1]Tabulka!AY55","v":7},{"$f":"+[1]Tabulka!AZ55","v":{"v":3.1825276537773326,"d":"3.18"}},{"$f":"+[1]Tabulka!BA55","v":0},{"$f":"+[1]Tabulka!BB55","v":{"v":0,"d":"0.00"}},{"$f":"+[1]Tabulka!BC55","v":0},{"$f":"+[1]Tabulka!BD55","v":{"v":0,"d":"0.00"}},{"$f":"+[1]Tabulka!BE55","v":0},{"$f":"+[1]Tabulka!BF55","v":{"v":0,"d":"0.00"}},{"$f":"+[1]Tabulka!BG55","v":0},{"$f":"+[1]Tabulka!BH55","v":{"v":0,"d":"0.00"}},{"$f":"+[1]Tabulka!BI55","v":0},{"$f":"+[1]Tabulka!BJ55","v":{"v":0,"d":"0.00"}},{"$f":"+[1]Tabulka!AP55","v":{"v":16.551235695828748,"d":"16.55"}},{"$f":"+[1]Tabulka!AQ55","v":{"v":1,"d":"1.00"}},{"$f":"+[1]Tabulka!BM55","v":{"v":6.365055307554665,"d":"6.37"}},{"$f":"+[1]Tabulka!BN55","v":2},{"$f":"+[1]Tabulka!BO55","v":{"v":6.365055307554665,"d":"6.37"}}]
["28",{"$f":"[1]Tabulka!C56","v":"PLACHTA"},{"$f":"[1]Tabulka!D56","v":"Jakub"},{"$f":"[1]Tabulka!E56","v":"2000-07-30"},{"$f":"[1]Tabulka!F56","v":"Ostrava- Mittal TJ"},{"$f":"[1]Tabulka!G56","v":"OV"},{"$f":"[1]Tabulka!H56","v":100},{"$f":"+[1]Tabulka!AU56","v":17},{"$f":"+[1]Tabulka!AV56","v":{"v":1.6883905547970857,"d":"1.69"}},{"$f":"+[1]Tabulka!AW56","v":0},{"$f":"+[1]Tabulka!AX56","v":{"v":0,"d":"0.00"}},{"$f":"+[1]Tabulka!AY56","v":0},{"$f":"+[1]Tabulka!AZ56","v":{"v":0,"d":"0.00"}},{"$f":"+[1]Tabulka!BA56","v":17},{"$f":"+[1]Tabulka!BB56","v":{"v":1.6883905547970857,"d":"1.69"}},{"$f":"+[1]Tabulka!BC56","v":9},{"$f":"+[1]Tabulka!BD56","v":{"v":2.803575987529016,"d":"2.80"}},{"$f":"+[1]Tabulka!BE56","v":0},{"$f":"+[1]Tabulka!BF56","v":{"v":0,"d":"0.00"}},{"$f":"+[1]Tabulka!BG56","v":0},{"$f":"+[1]Tabulka!BH56","v":{"v":0,"d":"0.00"}},{"$f":"+[1]Tabulka!BI56","v":0},{"$f":"+[1]Tabulka!BJ56","v":{"v":0,"d":"0.00"}},{"$f":"+[1]Tabulka!AP56","v":{"v":32.07106611751402,"d":"32.07"}},{"$f":"+[1]Tabulka!AQ56","v":{"v":4,"d":"4.00"}},{"$f":"+[1]Tabulka!BM56","v":{"v":6.180357097123187,"d":"6.18"}},{"$f":"+[1]Tabulka!BN56","v":3},{"$f":"+[1]Tabulka!BO56","v":{"v":6.180357097123188,"d":"6.18"}}]
["29",{"$f":"[1]Tabulka!C57","v":"ŠTĚPÁNOVÁ"},{"$f":"[1]Tabulka!D57","v":"Gabriela"},{"$f":"[1]Tabulka!E57","v":"2001-03-31"},{"$f":"[1]Tabulka!F57","v":"Děhylov- Sokol TJ"},{"$f":"[1]Tabulka!G57","v":"OP"},{"$f":"[1]Tabulka!H57","v":100},{"$f":"+[1]Tabulka!AU57","v":17},{"$f":"+[1]Tabulka!AV57","v":{"v":1.6883905547970857,"d":"1.69"}},{"$f":"+[1]Tabulka!AW57","v":17},{"$f":"+[1]Tabulka!AX57","v":{"v":1.6883905547970857,"d":"1.69"}},{"$f":"+[1]Tabulka!AY57","v":0},{"$f":"+[1]Tabulka!AZ57","v":{"v":0,"d":"0.00"}},{"$f":"+[1]Tabulka!BA57","v":9},{"$f":"+[1]Tabulka!BB57","v":{"v":2.803575987529016,"d":"2.80"}},{"$f":"+[1]Tabulka!BC57","v":0},{"$f":"+[1]Tabulka!BD57","v":{"v":0,"d":"0.00"}},{"$f":"+[1]Tabulka!BE57","v":0},{"$f":"+[1]Tabulka!BF57","v":{"v":0,"d":"0.00"}},{"$f":"+[1]Tabulka!BG57","v":0},{"$f":"+[1]Tabulka!BH57","v":{"v":0,"d":"0.00"}},{"$f":"+[1]Tabulka!BI57","v":0},{"$f":"+[1]Tabulka!BJ57","v":{"v":0,"d":"0.00"}},{"$f":"+[1]Tabulka!AP57","v":{"v":5.634280056495445,"d":"5.63"}},{"$f":"+[1]Tabulka!AQ57","v":{"v":3,"d":"3.00"}},{"$f":"+[1]Tabulka!BM57","v":{"v":6.180357097123187,"d":"6.18"}},{"$f":"+[1]Tabulka!BN57","v":3},{"$f":"+[1]Tabulka!BO57","v":{"v":6.180357097123188,"d":"6.18"}}]
["30",{"$f":"[1]Tabulka!C58","v":"KUROVSKÝ"},{"$f":"[1]Tabulka!D58","v":"Filip"},{"$f":"[1]Tabulka!E58","v":"2001-05-29"},{"$f":"[1]Tabulka!F58","v":"Karviná- KLUBsten KST"},{"$f":"[1]Tabulka!G58","v":"KA"},{"$f":"[1]Tabulka!H58","v":100},{"$f":"+[1]Tabulka!AU58","v":0},{"$f":"+[1]Tabulka!AV58","v":{"v":0,"d":"0.00"}},{"$f":"+[1]Tabulka!AW58","v":13},{"$f":"+[1]Tabulka!AX58","v":{"v":2.1756679932838794,"d":"2.18"}},{"$f":"+[1]Tabulka!AY58","v":0},{"$f":"+[1]Tabulka!AZ58","v":{"v":0,"d":"0.00"}},{"$f":"+[1]Tabulka!BA58","v":29},{"$f":"+[1]Tabulka!BB58","v":{"v":0.7890668302410581,"d":"0.79"}},{"$f":"+[1]Tabulka!BC58","v":0},{"$f":"+[1]Tabulka!BD58","v":{"v":0,"d":"0.00"}},{"$f":"+[1]Tabulka!BE58","v":27},{"$f":"+[1]Tabulka!BF58","v":{"v":0.8957228265226755,"d":"0.90"}},{"$f":"+[1]Tabulka!BG58","v":23},{"$f":"+[1]Tabulka!BH58","v":{"v":1.1542326382851416,"d":"1.15"}},{"$f":"+[1]Tabulka!BI58","v":24},{"$f":"+[1]Tabulka!BJ58","v":{"v":1.083336619156891,"d":"1.08"}},{"$f":"+[1]Tabulka!AP58","v":{"v":0.2795762615313915,"d":"0.28"}},{"$f":"+[1]Tabulka!AQ58","v":{"v":2,"d":"2.00"}},{"$f":"+[1]Tabulka!BM58","v":{"v":6.098026907489646,"d":"6.10"}},{"$f":"+[1]Tabulka!BN58","v":5},{"$f":"+[1]Tabulka!BO58","v":{"v":6.098026907489645,"d":"6.10"}}]
["31",{"$f":"[1]Tabulka!C59","v":"NĚMEC"},{"$f":"[1]Tabulka!D59","v":"Tomáš"},{"$f":"[1]Tabulka!E59","v":"2000-03-03"},{"$f":"[1]Tabulka!F59","v":"Orlová- Slávie SK"},{"$f":"[1]Tabulka!G59","v":"KA"},{"$f":"[1]Tabulka!H59","v":100},{"$f":"+[1]Tabulka!AU59","v":26},{"$f":"+[1]Tabulka!AV59","v":{"v":0.9543409711693354,"d":"0.95"}},{"$f":"+[1]Tabulka!AW59","v":16},{"$f":"+[1]Tabulka!AX59","v":{"v":1.7988826834228204,"d":"1.80"}},{"$f":"+[1]Tabulka!AY59","v":25},{"$f":"+[1]Tabulka!AZ59","v":{"v":1.0167952208923348,"d":"1.02"}},{"$f":"+[1]Tabulka!BA59","v":24},{"$f":"+[1]Tabulka!BB59","v":{"v":1.083336619156891,"d":"1.08"}},{"$f":"+[1]Tabulka!BC59","v":23},{"$f":"+[1]Tabulka!BD59","v":{"v":1.1542326382851416,"d":"1.15"}},{"$f":"+[1]Tabulka!BE59","v":25},{"$f":"+[1]Tabulka!BF59","v":{"v":1.0167952208923348,"d":"1.02"}},{"$f":"+[1]Tabulka!BG59","v":32},{"$f":"+[1]Tabulka!BH59","v":{"v":0.6524151025642111,"d":"0.65"}},{"$f":"+[1]Tabulka!BI59","v":0},{"$f":"+[1]Tabulka!BJ59","v":{"v":0,"d":"0.00"}},{"$f":"+[1]Tabulka!AP59","v":{"v":0,"d":"0.00"}},{"$f":"+[1]Tabulka!AQ59","v":{"v":0,"d":"0.00"}},{"$f":"+[1]Tabulka!BM59","v":{"v":7.676798456383069,"d":"7.68"}},{"$f":"+[1]Tabulka!BN59","v":7},{"$f":"+[1]Tabulka!BO59","v":{"v":6.070042382649523,"d":"6.07"}}]
["32",{"$f":"[1]Tabulka!C60","v":"PAKIZER"},{"$f":"[1]Tabulka!D60","v":"David"},{"$f":"[1]Tabulka!E60","v":"1996-01-01"},{"$f":"[1]Tabulka!F60","v":"Havířov- CSVČ sv. Jana Boska"},{"$f":"[1]Tabulka!G60","v":"KA"},{"$f":"[1]Tabulka!H60","v":0},{"$f":"+[1]Tabulka!AU60","v":17},{"$f":"+[1]Tabulka!AV60","v":{"v":1.6883905547970857,"d":"1.69"}},{"$f":"+[1]Tabulka!AW60","v":0},{"$f":"+[1]Tabulka!AX60","v":{"v":0,"d":"0.00"}},{"$f":"+[1]Tabulka!AY60","v":0},{"$f":"+[1]Tabulka!AZ60","v":{"v":0,"d":"0.00"}},{"$f":"+[1]Tabulka!BA60","v":34},{"$f":"+[1]Tabulka!BB60","v":{"v":0.5747303761145184,"d":"0.57"}},{"$f":"+[1]Tabulka!BC60","v":17},{"$f":"+[1]Tabulka!BD60","v":{"v":1.6883905547970857,"d":"1.69"}},{"$f":"+[1]Tabulka!BE60","v":0},{"$f":"+[1]Tabulka!BF60","v":{"v":0,"d":"0.00"}},{"$f":"+[1]Tabulka!BG60","v":34},{"$f":"+[1]Tabulka!BH60","v":{"v":0.5747303761145184,"d":"0.57"}},{"$f":"+[1]Tabulka!BI60","v":20},{"$f":"+[1]Tabulka!BJ60","v":{"v":1.3959926520290693,"d":"1.40"}},{"$f":"+[1]Tabulka!AP60","v":{"v":0,"d":"0.00"}},{"$f":"+[1]Tabulka!AQ60","v":{"v":0,"d":"0.00"}},{"$f":"+[1]Tabulka!BM60","v":{"v":5.922234513852278,"d":"5.92"}},{"$f":"+[1]Tabulka!BN60","v":5},{"$f":"+[1]Tabulka!BO60","v":{"v":5.922234513852278,"d":"5.92"}}]
[null,{"$f":"[1]Tabulka!C61","v":"VYLEŽICH"},{"$f":"[1]Tabulka!D61","v":"Zdeněk"},{"$f":"[1]Tabulka!E61","v":"1998-03-25"},{"$f":"[1]Tabulka!F61","v":"Hradec nad Moravicí- FIT SPORT KLUB "},{"$f":"[1]Tabulka!G61","v":"OP"},{"$f":"[1]Tabulka!H61","v":100},{"$f":"+[1]Tabulka!AU61","v":0},{"$f":"+[1]Tabulka!AV61","v":{"v":0,"d":"0.00"}},{"$f":"+[1]Tabulka!AW61","v":21},{"$f":"+[1]Tabulka!AX61","v":{"v":1.3102470939168058,"d":"1.31"}},{"$f":"+[1]Tabulka!AY61","v":17},{"$f":"+[1]Tabulka!AZ61","v":{"v":1.6883905547970857,"d":"1.69"}},{"$f":"+[1]Tabulka!BA61","v":0},{"$f":"+[1]Tabulka!BB61","v":{"v":0,"d":"0.00"}},{"$f":"+[1]Tabulka!BC61","v":9},{"$f":"+[1]Tabulka!BD61","v":{"v":2.803575987529016,"d":"2.80"}},{"$f":"+[1]Tabulka!BE61","v":33},{"$f":"+[1]Tabulka!BF61","v":{"v":0.6123420427175658,"d":"0.61"}},{"$f":"+[1]Tabulka!BG61","v":0},{"$f":"+[1]Tabulka!BH61","v":{"v":0,"d":"0.00"}},{"$f":"+[1]Tabulka!BI61","v":0},{"$f":"+[1]Tabulka!BJ61","v":{"v":0,"d":"0.00"}},{"$f":"+[1]Tabulka!AP61","v":{"v":0,"d":"0.00"}},{"$f":"+[1]Tabulka!AQ61","v":{"v":0,"d":"0.00"}},{"$f":"+[1]Tabulka!BM61","v":{"v":6.414555678960473,"d":"6.41"}},{"$f":"+[1]Tabulka!BN61","v":4},{"$f":"+[1]Tabulka!BO61","v":{"v":5.802213636242907,"d":"5.80"}}]
["33",{"$f":"[1]Tabulka!C62","v":"VINCEK"},{"$f":"[1]Tabulka!D62","v":"Martin"},{"$f":"[1]Tabulka!E62","v":"2000-05-02"},{"$f":"[1]Tabulka!F62","v":"Ostrava- Mittal TJ"},{"$f":"[1]Tabulka!G62","v":"OV"},{"$f":"[1]Tabulka!H62","v":100},{"$f":"+[1]Tabulka!AU62","v":0},{"$f":"+[1]Tabulka!AV62","v":{"v":0,"d":"0.00"}},{"$f":"+[1]Tabulka!AW62","v":6},{"$f":"+[1]Tabulka!AX62","v":{"v":3.3907995218454317,"d":"3.39"}},{"$f":"+[1]Tabulka!AY62","v":12},{"$f":"+[1]Tabulka!AZ62","v":{"v":2.3180486688200013,"d":"2.32"}},{"$f":"+[1]Tabulka!BA62","v":0},{"$f":"+[1]Tabulka!BB62","v":{"v":0,"d":"0.00"}},{"$f":"+[1]Tabulka!BC62","v":0},{"$f":"+[1]Tabulka!BD62","v":{"v":0,"d":"0.00"}},{"$f":"+[1]Tabulka!BE62","v":0},{"$f":"+[1]Tabulka!BF62","v":{"v":0,"d":"0.00"}},{"$f":"+[1]Tabulka!BG62","v":0},{"$f":"+[1]Tabulka!BH62","v":{"v":0,"d":"0.00"}},{"$f":"+[1]Tabulka!BI62","v":0},{"$f":"+[1]Tabulka!BJ62","v":{"v":0,"d":"0.00"}},{"$f":"+[1]Tabulka!AP62","v":{"v":13.797959111193578,"d":"13.80"}},{"$f":"+[1]Tabulka!AQ62","v":{"v":3,"d":"3.00"}},{"$f":"+[1]Tabulka!BM62","v":{"v":5.708848190665433,"d":"5.71"}},{"$f":"+[1]Tabulka!BN62","v":2},{"$f":"+[1]Tabulka!BO62","v":{"v":5.708848190665433,"d":"5.71"}}]
[null,{"$f":"[1]Tabulka!C63","v":"SCHNEIDER"},{"$f":"[1]Tabulka!D63","v":"Ondřej"},{"$f":"[1]Tabulka!E63","v":"1997-01-23"},{"$f":"[1]Tabulka!F63","v":"Hrabůvka- Sokol TJ"},{"$f":"[1]Tabulka!G63","v":"OV"},{"$f":"[1]Tabulka!H63","v":100},{"$f":"+[1]Tabulka!AU63","v":0},{"$f":"+[1]Tabulka!AV63","v":{"v":0,"d":"0.00"}},{"$f":"+[1]Tabulka!AW63","v":0},{"$f":"+[1]Tabulka!AX63","v":{"v":0,"d":"0.00"}},{"$f":"+[1]Tabulka!AY63","v":0},{"$f":"+[1]Tabulka!AZ63","v":{"v":0,"d":"0.00"}},{"$f":"+[1]Tabulka!BA63","v":0},{"$f":"+[1]Tabulka!BB63","v":{"v":0,"d":"0.00"}},{"$f":"+[1]Tabulka!BC63","v":9},{"$f":"+[1]Tabulka!BD63","v":{"v":2.803575987529016,"d":"2.80"}},{"$f":"+[1]Tabulka!BE63","v":9},{"$f":"+[1]Tabulka!BF63","v":{"v":2.803575987529016,"d":"2.80"}},{"$f":"+[1]Tabulka!BG63","v":0},{"$f":"+[1]Tabulka!BH63","v":{"v":0,"d":"0.00"}},{"$f":"+[1]Tabulka!BI63","v":0},{"$f":"+[1]Tabulka!BJ63","v":{"v":0,"d":"0.00"}},{"$f":"+[1]Tabulka!AP63","v":{"v":20.34881936502172,"d":"20.35"}},{"$f":"+[1]Tabulka!AQ63","v":{"v":3,"d":"3.00"}},{"$f":"+[1]Tabulka!BM63","v":{"v":5.607151975058032,"d":"5.61"}},{"$f":"+[1]Tabulka!BN63","v":2},{"$f":"+[1]Tabulka!BO63","v":{"v":5.607151975058032,"d":"5.61"}}]
[null,{"$f":"[1]Tabulka!C64","v":"TOMAŠKOVIČ"},{"$f":"[1]Tabulka!D64","v":"Vojtěch"},{"$f":"[1]Tabulka!E64","v":"1997-01-01"},{"$f":"[1]Tabulka!F64","v":"Ostrava- Svinov"},{"$f":"[1]Tabulka!G64","v":"OV"},{"$f":"[1]Tabulka!H64","v":0},{"$f":"+[1]Tabulka!AU64","v":0},{"$f":"+[1]Tabulka!AV64","v":{"v":0,"d":"0.00"}},{"$f":"+[1]Tabulka!AW64","v":13},{"$f":"+[1]Tabulka!AX64","v":{"v":2.1756679932838794,"d":"2.18"}},{"$f":"+[1]Tabulka!AY64","v":17},{"$f":"+[1]Tabulka!AZ64","v":{"v":1.6883905547970857,"d":"1.69"}},{"$f":"+[1]Tabulka!BA64","v":0},{"$f":"+[1]Tabulka!BB64","v":{"v":0,"d":"0.00"}},{"$f":"+[1]Tabulka!BC64","v":17},{"$f":"+[1]Tabulka!BD64","v":{"v":1.6883905547970857,"d":"1.69"}},{"$f":"+[1]Tabulka!BE64","v":17},{"$f":"+[1]Tabulka!BF64","v":{"v":1.6883905547970857,"d":"1.69"}},{"$f":"+[1]Tabulka!BG64","v":0},{"$f":"+[1]Tabulka!BH64","v":{"v":0,"d":"0.00"}},{"$f":"+[1]Tabulka!BI64","v":0},{"$f":"+[1]Tabulka!BJ64","v":{"v":0,"d":"0.00"}},{"$f":"+[1]Tabulka!AP64","v":{"v":0,"d":"0.00"}},{"$f":"+[1]Tabulka!AQ64","v":{"v":0,"d":"0.00"}},{"$f":"+[1]Tabulka!BM64","v":{"v":7.240839657675136,"d":"7.24"}},{"$f":"+[1]Tabulka!BN64","v":4},{"$f":"+[1]Tabulka!BO64","v":{"v":5.55244910287805,"d":"5.55"}}]
["32",{"$f":"[1]Tabulka!C65","v":"BŘEZÍK"},{"$f":"[1]Tabulka!D65","v":"Tomáš"},{"$f":"[1]Tabulka!E65","v":"1996-01-01"},{"$f":"[1]Tabulka!F65","v":"Ostrava - Zábřeh- Domik"},{"$f":"[1]Tabulka!G65","v":"OV"},{"$f":"[1]Tabulka!H65","v":0},{"$f":"+[1]Tabulka!AU65","v":17},{"$f":"+[1]Tabulka!AV65","v":{"v":1.6883905547970857,"d":"1.69"}},{"$f":"+[1]Tabulka!AW65","v":4},{"$f":"+[1]Tabulka!AX65","v":{"v":3.8491245804252903,"d":"3.85"}},{"$f":"+[1]Tabulka!AY65","v":0},{"$f":"+[1]Tabulka!AZ65","v":{"v":0,"d":"0.00"}},{"$f":"+[1]Tabulka!BA65","v":0},{"$f":"+[1]Tabulka!BB65","v":{"v":0,"d":"0.00"}},{"$f":"+[1]Tabulka!BC65","v":0},{"$f":"+[1]Tabulka!BD65","v":{"v":0,"d":"0.00"}},{"$f":"+[1]Tabulka!BE65","v":0},{"$f":"+[1]Tabulka!BF65","v":{"v":0,"d":"0.00"}},{"$f":"+[1]Tabulka!BG65","v":0},{"$f":"+[1]Tabulka!BH65","v":{"v":0,"d":"0.00"}},{"$f":"+[1]Tabulka!BI65","v":0},{"$f":"+[1]Tabulka!BJ65","v":{"v":0,"d":"0.00"}},{"$f":"+[1]Tabulka!AP65","v":{"v":0,"d":"0.00"}},{"$f":"+[1]Tabulka!AQ65","v":{"v":0,"d":"0.00"}},{"$f":"+[1]Tabulka!BM65","v":{"v":5.537515135222376,"d":"5.54"}},{"$f":"+[1]Tabulka!BN65","v":2},{"$f":"+[1]Tabulka!BO65","v":{"v":5.537515135222376,"d":"5.54"}}]
["33",{"$f":"[1]Tabulka!C66","v":"POLLACH"},{"$f":"[1]Tabulka!D66","v":"Ondřej"},{"$f":"[1]Tabulka!E66","v":"1997-01-01"},{"$f":"[1]Tabulka!F66","v":"Vratimov- MG Odra Gas TTC"},{"$f":"[1]Tabulka!G66","v":"OV"},{"$f":"[1]Tabulka!H66","v":0},{"$f":"+[1]Tabulka!AU66","v":0},{"$f":"+[1]Tabulka!AV66","v":{"v":0,"d":"0.00"}},{"$f":"+[1]Tabulka!AW66","v":10},{"$f":"+[1]Tabulka!AX66","v":{"v":2.6313729408930584,"d":"2.63"}},{"$f":"+[1]Tabulka!AY66","v":0},{"$f":"+[1]Tabulka!AZ66","v":{"v":0,"d":"0.00"}},{"$f":"+[1]Tabulka!BA66","v":9},{"$f":"+[1]Tabulka!BB66","v":{"v":2.803575987529016,"d":"2.80"}},{"$f":"+[1]Tabulka!BC66","v":0},{"$f":"+[1]Tabulka!BD66","v":{"v":0,"d":"0.00"}},{"$f":"+[1]Tabulka!BE66","v":0},{"$f":"+[1]Tabulka!BF66","v":{"v":0,"d":"0.00"}},{"$f":"+[1]Tabulka!BG66","v":0},{"$f":"+[1]Tabulka!BH66","v":{"v":0,"d":"0.00"}},{"$f":"+[1]Tabulka!BI66","v":0},{"$f":"+[1]Tabulka!BJ66","v":{"v":0,"d":"0.00"}},{"$f":"+[1]Tabulka!AP66","v":{"v":0,"d":"0.00"}},{"$f":"+[1]Tabulka!AQ66","v":{"v":0,"d":"0.00"}},{"$f":"+[1]Tabulka!BM66","v":{"v":5.434948928422074,"d":"5.43"}},{"$f":"+[1]Tabulka!BN66","v":2},{"$f":"+[1]Tabulka!BO66","v":{"v":5.434948928422074,"d":"5.43"}}]
[null,{"$f":"[1]Tabulka!C67","v":"TEŠNAR"},{"$f":"[1]Tabulka!D67","v":"Oskar"},{"$f":"[1]Tabulka!E67","v":"2001-01-01"},{"$f":"[1]Tabulka!F67","v":"Děhylov- Sokol TJ"},{"$f":"[1]Tabulka!G67","v":"OP"},{"$f":"[1]Tabulka!H67","v":0},{"$f":"+[1]Tabulka!AU67","v":17},{"$f":"+[1]Tabulka!AV67","v":{"v":1.6883905547970857,"d":"1.69"}},{"$f":"+[1]Tabulka!AW67","v":14},{"$f":"+[1]Tabulka!AX67","v":{"v":2.0420327151325517,"d":"2.04"}},{"$f":"+[1]Tabulka!AY67","v":0},{"$f":"+[1]Tabulka!AZ67","v":{"v":0,"d":"0.00"}},{"$f":"+[1]Tabulka!BA67","v":0},{"$f":"+[1]Tabulka!BB67","v":{"v":0,"d":"0.00"}},{"$f":"+[1]Tabulka!BC67","v":17},{"$f":"+[1]Tabulka!BD67","v":{"v":1.6883905547970857,"d":"1.69"}},{"$f":"+[1]Tabulka!BE67","v":0},{"$f":"+[1]Tabulka!BF67","v":{"v":0,"d":"0.00"}},{"$f":"+[1]Tabulka!BG67","v":0},{"$f":"+[1]Tabulka!BH67","v":{"v":0,"d":"0.00"}},{"$f":"+[1]Tabulka!BI67","v":0},{"$f":"+[1]Tabulka!BJ67","v":{"v":0,"d":"0.00"}},{"$f":"+[1]Tabulka!AP67","v":{"v":0,"d":"0.00"}},{"$f":"+[1]Tabulka!AQ67","v":{"v":0,"d":"0.00"}},{"$f":"+[1]Tabulka!BM67","v":{"v":5.418813824726723,"d":"5.42"}},{"$f":"+[1]Tabulka!BN67","v":3},{"$f":"+[1]Tabulka!BO67","v":{"v":5.418813824726723,"d":"5.42"}}]
["33",{"$f":"[1]Tabulka!C68","v":"JANEČEK"},{"$f":"[1]Tabulka!D68","v":"Roman"},{"$f":"[1]Tabulka!E68","v":"1996-07-09"},{"$f":"[1]Tabulka!F68","v":"Hrabůvka- Sokol TJ"},{"$f":"[1]Tabulka!G68","v":"OV"},{"$f":"[1]Tabulka!H68","v":100},{"$f":"+[1]Tabulka!AU68","v":0},{"$f":"+[1]Tabulka!AV68","v":{"v":0,"d":"0.00"}},{"$f":"+[1]Tabulka!AW68","v":0},{"$f":"+[1]Tabulka!AX68","v":{"v":0,"d":"0.00"}},{"$f":"+[1]Tabulka!AY68","v":0},{"$f":"+[1]Tabulka!AZ68","v":{"v":0,"d":"0.00"}},{"$f":"+[1]Tabulka!BA68","v":0},{"$f":"+[1]Tabulka!BB68","v":{"v":0,"d":"0.00"}},{"$f":"+[1]Tabulka!BC68","v":5},{"$f":"+[1]Tabulka!BD68","v":{"v":3.6127011759664778,"d":"3.61"}},{"$f":"+[1]Tabulka!BE68","v":17},{"$f":"+[1]Tabulka!BF68","v":{"v":1.6883905547970857,"d":"1.69"}},{"$f":"+[1]Tabulka!BG68","v":0},{"$f":"+[1]Tabulka!BH68","v":{"v":0,"d":"0.00"}},{"$f":"+[1]Tabulka!BI68","v":0},{"$f":"+[1]Tabulka!BJ68","v":{"v":0,"d":"0.00"}},{"$f":"+[1]Tabulka!AP68","v":{"v":0,"d":"0.00"}},{"$f":"+[1]Tabulka!AQ68","v":{"v":0,"d":"0.00"}},{"$f":"+[1]Tabulka!BM68","v":{"v":5.301091730763563,"d":"5.30"}},{"$f":"+[1]Tabulka!BN68","v":2},{"$f":"+[1]Tabulka!BO68","v":{"v":5.301091730763563,"d":"5.30"}}]
["33",{"$f":"[1]Tabulka!C69","v":"ŠMAHAJ"},{"$f":"[1]Tabulka!D69","v":"Martin"},{"$f":"[1]Tabulka!E69","v":"2001-06-18"},{"$f":"[1]Tabulka!F69","v":"Karviná- KLUBsten KST"},{"$f":"[1]Tabulka!G69","v":"KA"},{"$f":"[1]Tabulka!H69","v":100},{"$f":"+[1]Tabulka!AU69","v":25},{"$f":"+[1]Tabulka!AV69","v":{"v":1.0167952208923348,"d":"1.02"}},{"$f":"+[1]Tabulka!AW69","v":24},{"$f":"+[1]Tabulka!AX69","v":{"v":1.083336619156891,"d":"1.08"}},{"$f":"+[1]Tabulka!AY69","v":21},{"$f":"+[1]Tabulka!AZ69","v":{"v":1.3102470939168058,"d":"1.31"}},{"$f":"+[1]Tabulka!BA69","v":0},{"$f":"+[1]Tabulka!BB69","v":{"v":0,"d":"0.00"}},{"$f":"+[1]Tabulka!BC69","v":24},{"$f":"+[1]Tabulka!BD69","v":{"v":1.083336619156891,"d":"1.08"}},{"$f":"+[1]Tabulka!BE69","v":31},{"$f":"+[1]Tabulka!BF69","v":{"v":0.695110634842026,"d":"0.70"}},{"$f":"+[1]Tabulka!BG69","v":35},{"$f":"+[1]Tabulka!BH69","v":{"v":0.5394289174769091,"d":"0.54"}},{"$f":"+[1]Tabulka!BI69","v":29},{"$f":"+[1]Tabulka!BJ69","v":{"v":0.7890668302410581,"d":"0.79"}},{"$f":"+[1]Tabulka!AP69","v":{"v":0.9029404293155081,"d":"0.90"}},{"$f":"+[1]Tabulka!AQ69","v":{"v":2,"d":"2.00"}},{"$f":"+[1]Tabulka!BM69","v":{"v":6.517321935682915,"d":"6.52"}},{"$f":"+[1]Tabulka!BN69","v":7},{"$f":"+[1]Tabulka!BO69","v":{"v":5.282782383363981,"d":"5.28"}}]
["34",{"$f":"[1]Tabulka!C70","v":"KUČERA"},{"$f":"[1]Tabulka!D70","v":"Martin"},{"$f":"[1]Tabulka!E70","v":"1997-09-23"},{"$f":"[1]Tabulka!F70","v":"Karviná- KLUBsten KST"},{"$f":"[1]Tabulka!G70","v":"KA"},{"$f":"[1]Tabulka!H70","v":100},{"$f":"+[1]Tabulka!AU70","v":0},{"$f":"+[1]Tabulka!AV70","v":{"v":0,"d":"0.00"}},{"$f":"+[1]Tabulka!AW70","v":0},{"$f":"+[1]Tabulka!AX70","v":{"v":0,"d":"0.00"}},{"$f":"+[1]Tabulka!AY70","v":0},{"$f":"+[1]Tabulka!AZ70","v":{"v":0,"d":"0.00"}},{"$f":"+[1]Tabulka!BA70","v":0},{"$f":"+[1]Tabulka!BB70","v":{"v":0,"d":"0.00"}},{"$f":"+[1]Tabulka!BC70","v":0},{"$f":"+[1]Tabulka!BD70","v":{"v":0,"d":"0.00"}},{"$f":"+[1]Tabulka!BE70","v":0},{"$f":"+[1]Tabulka!BF70","v":{"v":0,"d":"0.00"}},{"$f":"+[1]Tabulka!BG70","v":10},{"$f":"+[1]Tabulka!BH70","v":{"v":2.6313729408930584,"d":"2.63"}},{"$f":"+[1]Tabulka!BI70","v":11},{"$f":"+[1]Tabulka!BJ70","v":{"v":2.4697470604914433,"d":"2.47"}},{"$f":"+[1]Tabulka!AP70","v":{"v":0.03535309856597613,"d":"0.04"}},{"$f":"+[1]Tabulka!AQ70","v":{"v":1,"d":"1.00"}},{"$f":"+[1]Tabulka!BM70","v":{"v":5.101120001384501,"d":"5.10"}},{"$f":"+[1]Tabulka!BN70","v":2},{"$f":"+[1]Tabulka!BO70","v":{"v":5.101120001384501,"d":"5.10"}}]
[null,{"$f":"[1]Tabulka!C71","v":"LANG"},{"$f":"[1]Tabulka!D71","v":"Tomáš"},{"$f":"[1]Tabulka!E71","v":"1997-08-04"},{"$f":"[1]Tabulka!F71","v":"Svinov- SK"},{"$f":"[1]Tabulka!G71","v":"OV"},{"$f":"[1]Tabulka!H71","v":100},{"$f":"+[1]Tabulka!AU71","v":0},{"$f":"+[1]Tabulka!AV71","v":{"v":0,"d":"0.00"}},{"$f":"+[1]Tabulka!AW71","v":22},{"$f":"+[1]Tabulka!AX71","v":{"v":1.2297682545980093,"d":"1.23"}},{"$f":"+[1]Tabulka!AY71","v":17},{"$f":"+[1]Tabulka!AZ71","v":{"v":1.6883905547970857,"d":"1.69"}},{"$f":"+[1]Tabulka!BA71","v":0},{"$f":"+[1]Tabulka!BB71","v":{"v":0,"d":"0.00"}},{"$f":"+[1]Tabulka!BC71","v":17},{"$f":"+[1]Tabulka!BD71","v":{"v":1.6883905547970857,"d":"1.69"}},{"$f":"+[1]Tabulka!BE71","v":17},{"$f":"+[1]Tabulka!BF71","v":{"v":1.6883905547970857,"d":"1.69"}},{"$f":"+[1]Tabulka!BG71","v":0},{"$f":"+[1]Tabulka!BH71","v":{"v":0,"d":"0.00"}},{"$f":"+[1]Tabulka!BI71","v":0},{"$f":"+[1]Tabulka!BJ71","v":{"v":0,"d":"0.00"}},{"$f":"+[1]Tabulka!AP71","v":{"v":0,"d":"0.00"}},{"$f":"+[1]Tabulka!AQ71","v":{"v":0,"d":"0.00"}},{"$f":"+[1]Tabulka!BM71","v":{"v":6.294939918989266,"d":"6.29"}},{"$f":"+[1]Tabulka!BN71","v":4},{"$f":"+[1]Tabulka!BO71","v":{"v":5.065171664391257,"d":"5.07"}}]
[null,{"$f":"[1]Tabulka!C72","v":"ŠTEFEK"},{"$f":"[1]Tabulka!D72","v":"Aleš"},{"$f":"[1]Tabulka!E72","v":"1999-04-07"},{"$f":"[1]Tabulka!F72","v":"Frýdlant nad Ostravicí- SK"},{"$f":"[1]Tabulka!G72","v":"FM"},{"$f":"[1]Tabulka!H72","v":100},{"$f":"+[1]Tabulka!AU72","v":0},{"$f":"+[1]Tabulka!AV72","v":{"v":0,"d":"0.00"}},{"$f":"+[1]Tabulka!AW72","v":17},{"$f":"+[1]Tabulka!AX72","v":{"v":1.6883905547970857,"d":"1.69"}},{"$f":"+[1]Tabulka!AY72","v":0},{"$f":"+[1]Tabulka!AZ72","v":{"v":0,"d":"0.00"}},{"$f":"+[1]Tabulka!BA72","v":17},{"$f":"+[1]Tabulka!BB72","v":{"v":1.6883905547970857,"d":"1.69"}},{"$f":"+[1]Tabulka!BC72","v":0},{"$f":"+[1]Tabulka!BD72","v":{"v":0,"d":"0.00"}},{"$f":"+[1]Tabulka!BE72","v":17},{"$f":"+[1]Tabulka!BF72","v":{"v":1.6883905547970857,"d":"1.69"}},{"$f":"+[1]Tabulka!BG72","v":0},{"$f":"+[1]Tabulka!BH72","v":{"v":0,"d":"0.00"}},{"$f":"+[1]Tabulka!BI72","v":0},{"$f":"+[1]Tabulka!BJ72","v":{"v":0,"d":"0.00"}},{"$f":"+[1]Tabulka!AP72","v":{"v":0,"d":"0.00"}},{"$f":"+[1]Tabulka!AQ72","v":{"v":0,"d":"0.00"}},{"$f":"+[1]Tabulka!BM72","v":{"v":5.065171664391257,"d":"5.07"}},{"$f":"+[1]Tabulka!BN72","v":3},{"$f":"+[1]Tabulka!BO72","v":{"v":5.065171664391257,"d":"5.07"}}]
["35",{"$f":"[1]Tabulka!C73","v":"VELIČKA"},{"$f":"[1]Tabulka!D73","v":"Martin"},{"$f":"[1]Tabulka!E73","v":"1999-02-18"},{"$f":"[1]Tabulka!F73","v":"Frýdlant nad Ostravicí- SK"},{"$f":"[1]Tabulka!G73","v":"FM"},{"$f":"[1]Tabulka!H73","v":100},{"$f":"+[1]Tabulka!AU73","v":0},{"$f":"+[1]Tabulka!AV73","v":{"v":0,"d":"0.00"}},{"$f":"+[1]Tabulka!AW73","v":0},{"$f":"+[1]Tabulka!AX73","v":{"v":0,"d":"0.00"}},{"$f":"+[1]Tabulka!AY73","v":0},{"$f":"+[1]Tabulka!AZ73","v":{"v":0,"d":"0.00"}},{"$f":"+[1]Tabulka!BA73","v":17},{"$f":"+[1]Tabulka!BB73","v":{"v":1.6883905547970857,"d":"1.69"}},{"$f":"+[1]Tabulka!BC73","v":17},{"$f":"+[1]Tabulka!BD73","v":{"v":1.6883905547970857,"d":"1.69"}},{"$f":"+[1]Tabulka!BE73","v":17},{"$f":"+[1]Tabulka!BF73","v":{"v":1.6883905547970857,"d":"1.69"}},{"$f":"+[1]Tabulka!BG73","v":0},{"$f":"+[1]Tabulka!BH73","v":{"v":0,"d":"0.00"}},{"$f":"+[1]Tabulka!BI73","v":0},{"$f":"+[1]Tabulka!BJ73","v":{"v":0,"d":"0.00"}},{"$f":"+[1]Tabulka!AP73","v":{"v":0.5397769736134443,"d":"0.54"}},{"$f":"+[1]Tabulka!AQ73","v":{"v":1,"d":"1.00"}},{"$f":"+[1]Tabulka!BM73","v":{"v":5.065171664391257,"d":"5.07"}},{"$f":"+[1]Tabulka!BN73","v":3},{"$f":"+[1]Tabulka!BO73","v":{"v":5.065171664391257,"d":"5.07"}}]
[null,{"$f":"[1]Tabulka!C74","v":"SCHIKORA"},{"$f":"[1]Tabulka!D74","v":"Vojtěch"},{"$f":"[1]Tabulka!E74","v":"1998-07-24"},{"$f":"[1]Tabulka!F74","v":"Děhylov- Sokol TJ"},{"$f":"[1]Tabulka!G74","v":"OP"},{"$f":"[1]Tabulka!H74","v":100},{"$f":"+[1]Tabulka!AU74","v":43},{"$f":"+[1]Tabulka!AV74","v":{"v":0.32485892777785963,"d":"0.32"}},{"$f":"+[1]Tabulka!AW74","v":19},{"$f":"+[1]Tabulka!AX74","v":{"v":1.4873495950244735,"d":"1.49"}},{"$f":"+[1]Tabulka!AY74","v":0},{"$f":"+[1]Tabulka!AZ74","v":{"v":0,"d":"0.00"}},{"$f":"+[1]Tabulka!BA74","v":33},{"$f":"+[1]Tabulka!BB74","v":{"v":0.6123420427175658,"d":"0.61"}},{"$f":"+[1]Tabulka!BC74","v":17},{"$f":"+[1]Tabulka!BD74","v":{"v":1.6883905547970857,"d":"1.69"}},{"$f":"+[1]Tabulka!BE74","v":17},{"$f":"+[1]Tabulka!BF74","v":{"v":1.6883905547970857,"d":"1.69"}},{"$f":"+[1]Tabulka!BG74","v":0},{"$f":"+[1]Tabulka!BH74","v":{"v":0,"d":"0.00"}},{"$f":"+[1]Tabulka!BI74","v":0},{"$f":"+[1]Tabulka!BJ74","v":{"v":0,"d":"0.00"}},{"$f":"+[1]Tabulka!AP74","v":{"v":1.3955062664647329,"d":"1.40"}},{"$f":"+[1]Tabulka!AQ74","v":{"v":4,"d":"4.00"}},{"$f":"+[1]Tabulka!BM74","v":{"v":5.80133167511407,"d":"5.80"}},{"$f":"+[1]Tabulka!BN74","v":5},{"$f":"+[1]Tabulka!BO74","v":{"v":4.864130704618645,"d":"4.86"}}]
["35",{"$f":"[1]Tabulka!C75","v":"URBANIECOVÁ"},{"$f":"[1]Tabulka!D75","v":"Veronika"},{"$f":"[1]Tabulka!E75","v":"1998-11-19"},{"$f":"[1]Tabulka!F75","v":"Chotěbuz- Sokol TJ"},{"$f":"[1]Tabulka!G75","v":"KA"},{"$f":"[1]Tabulka!H75","v":100},{"$f":"+[1]Tabulka!AU75","v":29},{"$f":"+[1]Tabulka!AV75","v":{"v":0.7890668302410581,"d":"0.79"}},{"$f":"+[1]Tabulka!AW75","v":19},{"$f":"+[1]Tabulka!AX75","v":{"v":1.4873495950244735,"d":"1.49"}},{"$f":"+[1]Tabulka!AY75","v":0},{"$f":"+[1]Tabulka!AZ75","v":{"v":0,"d":"0.00"}},{"$f":"+[1]Tabulka!BA75","v":30},{"$f":"+[1]Tabulka!BB75","v":{"v":0.7406002601279904,"d":"0.74"}},{"$f":"+[1]Tabulka!BC75","v":25},{"$f":"+[1]Tabulka!BD75","v":{"v":1.0167952208923348,"d":"1.02"}},{"$f":"+[1]Tabulka!BE75","v":29},{"$f":"+[1]Tabulka!BF75","v":{"v":0.7890668302410581,"d":"0.79"}},{"$f":"+[1]Tabulka!BG75","v":30},{"$f":"+[1]Tabulka!BH75","v":{"v":0.7406002601279904,"d":"0.74"}},{"$f":"+[1]Tabulka!BI75","v":0},{"$f":"+[1]Tabulka!BJ75","v":{"v":0,"d":"0.00"}},{"$f":"+[1]Tabulka!AP75","v":{"v":0,"d":"0.00"}},{"$f":"+[1]Tabulka!AQ75","v":{"v":0,"d":"0.00"}},{"$f":"+[1]Tabulka!BM75","v":{"v":5.563478996654906,"d":"5.56"}},{"$f":"+[1]Tabulka!BN75","v":6},{"$f":"+[1]Tabulka!BO75","v":{"v":4.822878736526915,"d":"4.82"}}]
["36",{"$f":"[1]Tabulka!C76","v":"KUNZ"},{"$f":"[1]Tabulka!D76","v":"Marek"},{"$f":"[1]Tabulka!E76","v":"2001-04-08"},{"$f":"[1]Tabulka!F76","v":"Karviná- KLUBsten KST"},{"$f":"[1]Tabulka!G76","v":"KA"},{"$f":"[1]Tabulka!H76","v":100},{"$f":"+[1]Tabulka!AU76","v":0},{"$f":"+[1]Tabulka!AV76","v":{"v":0,"d":"0.00"}},{"$f":"+[1]Tabulka!AW76","v":0},{"$f":"+[1]Tabulka!AX76","v":{"v":0,"d":"0.00"}},{"$f":"+[1]Tabulka!AY76","v":19},{"$f":"+[1]Tabulka!AZ76","v":{"v":1.4873495950244735,"d":"1.49"}},{"$f":"+[1]Tabulka!BA76","v":33},{"$f":"+[1]Tabulka!BB76","v":{"v":0.6123420427175658,"d":"0.61"}},{"$f":"+[1]Tabulka!BC76","v":0},{"$f":"+[1]Tabulka!BD76","v":{"v":0,"d":"0.00"}},{"$f":"+[1]Tabulka!BE76","v":30},{"$f":"+[1]Tabulka!BF76","v":{"v":0.7406002601279904,"d":"0.74"}},{"$f":"+[1]Tabulka!BG76","v":37},{"$f":"+[1]Tabulka!BH76","v":{"v":0.4751977435991968,"d":"0.48"}},{"$f":"+[1]Tabulka!BI76","v":22},{"$f":"+[1]Tabulka!BJ76","v":{"v":1.2297682545980093,"d":"1.23"}},{"$f":"+[1]Tabulka!AP76","v":{"v":0.09747793477759878,"d":"0.10"}},{"$f":"+[1]Tabulka!AQ76","v":{"v":1,"d":"1.00"}},{"$f":"+[1]Tabulka!BM76","v":{"v":4.545257896067236,"d":"4.55"}},{"$f":"+[1]Tabulka!BN76","v":5},{"$f":"+[1]Tabulka!BO76","v":{"v":4.545257896067236,"d":"4.55"}}]
["37",{"$f":"[1]Tabulka!C77","v":"KRZYZOSZCZAK"},{"$f":"[1]Tabulka!D77","v":"Karel"},{"$f":"[1]Tabulka!E77","v":"1999-08-24"},{"$f":"[1]Tabulka!F77","v":"Dětmarovice- Sokol TJ"},{"$f":"[1]Tabulka!G77","v":"KA"},{"$f":"[1]Tabulka!H77","v":100},{"$f":"+[1]Tabulka!AU77","v":28},{"$f":"+[1]Tabulka!AV77","v":{"v":0.8407051632402461,"d":"0.84"}},{"$f":"+[1]Tabulka!AW77","v":23},{"$f":"+[1]Tabulka!AX77","v":{"v":1.1542326382851416,"d":"1.15"}},{"$f":"+[1]Tabulka!AY77","v":23},{"$f":"+[1]Tabulka!AZ77","v":{"v":1.1542326382851416,"d":"1.15"}},{"$f":"+[1]Tabulka!BA77","v":37},{"$f":"+[1]Tabulka!BB77","v":{"v":0.4751977435991968,"d":"0.48"}},{"$f":"+[1]Tabulka!BC77","v":27},{"$f":"+[1]Tabulka!BD77","v":{"v":0.8957228265226755,"d":"0.90"}},{"$f":"+[1]Tabulka!BE77","v":0},{"$f":"+[1]Tabulka!BF77","v":{"v":0,"d":"0.00"}},{"$f":"+[1]Tabulka!BG77","v":0},{"$f":"+[1]Tabulka!BH77","v":{"v":0,"d":"0.00"}},{"$f":"+[1]Tabulka!BI77","v":0},{"$f":"+[1]Tabulka!BJ77","v":{"v":0,"d":"0.00"}},{"$f":"+[1]Tabulka!AP77","v":{"v":0.0709997277423014,"d":"0.07"}},{"$f":"+[1]Tabulka!AQ77","v":{"v":1,"d":"1.00"}},{"$f":"+[1]Tabulka!BM77","v":{"v":4.520091009932401,"d":"4.52"}},{"$f":"+[1]Tabulka!BN77","v":5},{"$f":"+[1]Tabulka!BO77","v":{"v":4.520091009932401,"d":"4.52"}}]
["39",{"$f":"[1]Tabulka!C78","v":"BLAHUT"},{"$f":"[1]Tabulka!D78","v":"Vojtěch"},{"$f":"[1]Tabulka!E78","v":"1997-07-28"},{"$f":"[1]Tabulka!F78","v":"Frýdlant nad Ostravicí- SK"},{"$f":"[1]Tabulka!G78","v":"FM"},{"$f":"[1]Tabulka!H78","v":100},{"$f":"+[1]Tabulka!AU78","v":0},{"$f":"+[1]Tabulka!AV78","v":{"v":0,"d":"0.00"}},{"$f":"+[1]Tabulka!AW78","v":0},{"$f":"+[1]Tabulka!AX78","v":{"v":0,"d":"0.00"}},{"$f":"+[1]Tabulka!AY78","v":0},{"$f":"+[1]Tabulka!AZ78","v":{"v":0,"d":"0.00"}},{"$f":"+[1]Tabulka!BA78","v":17},{"$f":"+[1]Tabulka!BB78","v":{"v":1.6883905547970857,"d":"1.69"}},{"$f":"+[1]Tabulka!BC78","v":9},{"$f":"+[1]Tabulka!BD78","v":{"v":2.803575987529016,"d":"2.80"}},{"$f":"+[1]Tabulka!BE78","v":0},{"$f":"+[1]Tabulka!BF78","v":{"v":0,"d":"0.00"}},{"$f":"+[1]Tabulka!BG78","v":0},{"$f":"+[1]Tabulka!BH78","v":{"v":0,"d":"0.00"}},{"$f":"+[1]Tabulka!BI78","v":0},{"$f":"+[1]Tabulka!BJ78","v":{"v":0,"d":"0.00"}},{"$f":"+[1]Tabulka!AP78","v":{"v":13.19779983677551,"d":"13.20"}},{"$f":"+[1]Tabulka!AQ78","v":{"v":4,"d":"4.00"}},{"$f":"+[1]Tabulka!BM78","v":{"v":4.491966542326102,"d":"4.49"}},{"$f":"+[1]Tabulka!BN78","v":2},{"$f":"+[1]Tabulka!BO78","v":{"v":4.491966542326102,"d":"4.49"}}]
["38",{"$f":"[1]Tabulka!C79","v":"SIKORA"},{"$f":"[1]Tabulka!D79","v":"Jakub"},{"$f":"[1]Tabulka!E79","v":"2000-05-13"},{"$f":"[1]Tabulka!F79","v":"Orlová- Slávie SK"},{"$f":"[1]Tabulka!G79","v":"KA"},{"$f":"[1]Tabulka!H79","v":100},{"$f":"+[1]Tabulka!AU79","v":16},{"$f":"+[1]Tabulka!AV79","v":{"v":1.7988826834228204,"d":"1.80"}},{"$f":"+[1]Tabulka!AW79","v":0},{"$f":"+[1]Tabulka!AX79","v":{"v":0,"d":"0.00"}},{"$f":"+[1]Tabulka!AY79","v":0},{"$f":"+[1]Tabulka!AZ79","v":{"v":0,"d":"0.00"}},{"$f":"+[1]Tabulka!BA79","v":0},{"$f":"+[1]Tabulka!BB79","v":{"v":0,"d":"0.00"}},{"$f":"+[1]Tabulka!BC79","v":0},{"$f":"+[1]Tabulka!BD79","v":{"v":0,"d":"0.00"}},{"$f":"+[1]Tabulka!BE79","v":23},{"$f":"+[1]Tabulka!BF79","v":{"v":1.1542326382851416,"d":"1.15"}},{"$f":"+[1]Tabulka!BG79","v":31},{"$f":"+[1]Tabulka!BH79","v":{"v":0.695110634842026,"d":"0.70"}},{"$f":"+[1]Tabulka!BI79","v":31},{"$f":"+[1]Tabulka!BJ79","v":{"v":0.695110634842026,"d":"0.70"}},{"$f":"+[1]Tabulka!AP79","v":{"v":0,"d":"0.00"}},{"$f":"+[1]Tabulka!AQ79","v":{"v":0,"d":"0.00"}},{"$f":"+[1]Tabulka!BM79","v":{"v":4.3433365913920134,"d":"4.34"}},{"$f":"+[1]Tabulka!BN79","v":4},{"$f":"+[1]Tabulka!BO79","v":{"v":4.3433365913920134,"d":"4.34"}}]
["40",{"$f":"[1]Tabulka!C80","v":"KRZYKALA"},{"$f":"[1]Tabulka!D80","v":"David"},{"$f":"[1]Tabulka!E80","v":"1996-01-01"},{"$f":"[1]Tabulka!F80","v":"Hlučín- DDM"},{"$f":"[1]Tabulka!G80","v":"OP"},{"$f":"[1]Tabulka!H80","v":0},{"$f":"+[1]Tabulka!AU80","v":17},{"$f":"+[1]Tabulka!AV80","v":{"v":1.6883905547970857,"d":"1.69"}},{"$f":"+[1]Tabulka!AW80","v":27},{"$f":"+[1]Tabulka!AX80","v":{"v":0.8957228265226755,"d":"0.90"}},{"$f":"+[1]Tabulka!AY80","v":0},{"$f":"+[1]Tabulka!AZ80","v":{"v":0,"d":"0.00"}},{"$f":"+[1]Tabulka!BA80","v":17},{"$f":"+[1]Tabulka!BB80","v":{"v":1.6883905547970857,"d":"1.69"}},{"$f":"+[1]Tabulka!BC80","v":0},{"$f":"+[1]Tabulka!BD80","v":{"v":0,"d":"0.00"}},{"$f":"+[1]Tabulka!BE80","v":0},{"$f":"+[1]Tabulka!BF80","v":{"v":0,"d":"0.00"}},{"$f":"+[1]Tabulka!BG80","v":0},{"$f":"+[1]Tabulka!BH80","v":{"v":0,"d":"0.00"}},{"$f":"+[1]Tabulka!BI80","v":0},{"$f":"+[1]Tabulka!BJ80","v":{"v":0,"d":"0.00"}},{"$f":"+[1]Tabulka!AP80","v":{"v":0,"d":"0.00"}},{"$f":"+[1]Tabulka!AQ80","v":{"v":0,"d":"0.00"}},{"$f":"+[1]Tabulka!BM80","v":{"v":4.272503936116847,"d":"4.27"}},{"$f":"+[1]Tabulka!BN80","v":3},{"$f":"+[1]Tabulka!BO80","v":{"v":4.272503936116847,"d":"4.27"}}]
["41",{"$f":"[1]Tabulka!C81","v":"HANKEOVÁ"},{"$f":"[1]Tabulka!D81","v":"Karla"},{"$f":"[1]Tabulka!E81","v":"1993-04-14"},{"$f":"[1]Tabulka!F81","v":"Nová Bělá- Sokol TJ"},{"$f":"[1]Tabulka!G81","v":"OV"},{"$f":"[1]Tabulka!H81","v":200},{"$f":"+[1]Tabulka!AU81","v":0},{"$f":"+[1]Tabulka!AV81","v":{"v":0,"d":"0.00"}},{"$f":"+[1]Tabulka!AW81","v":0},{"$f":"+[1]Tabulka!AX81","v":{"v":0,"d":"0.00"}},{"$f":"+[1]Tabulka!AY81","v":0},{"$f":"+[1]Tabulka!AZ81","v":{"v":0,"d":"0.00"}},{"$f":"+[1]Tabulka!BA81","v":17},{"$f":"+[1]Tabulka!BB81","v":{"v":1.6883905547970857,"d":"1.69"}},{"$f":"+[1]Tabulka!BC81","v":17},{"$f":"+[1]Tabulka!BD81","v":{"v":1.6883905547970857,"d":"1.69"}},{"$f":"+[1]Tabulka!BE81","v":33},{"$f":"+[1]Tabulka!BF81","v":{"v":0.6123420427175658,"d":"0.61"}},{"$f":"+[1]Tabulka!BG81","v":0},{"$f":"+[1]Tabulka!BH81","v":{"v":0,"d":"0.00"}},{"$f":"+[1]Tabulka!BI81","v":0},{"$f":"+[1]Tabulka!BJ81","v":{"v":0,"d":"0.00"}},{"$f":"+[1]Tabulka!AP81","v":{"v":0,"d":"0.00"}},{"$f":"+[1]Tabulka!AQ81","v":{"v":0,"d":"0.00"}},{"$f":"+[1]Tabulka!BM81","v":{"v":3.989123152311737,"d":"3.99"}},{"$f":"+[1]Tabulka!BN81","v":3},{"$f":"+[1]Tabulka!BO81","v":{"v":3.989123152311737,"d":"3.99"}}]
["40",{"$f":"[1]Tabulka!C82","v":"PIVOŇ"},{"$f":"[1]Tabulka!D82","v":"Patrik"},{"$f":"[1]Tabulka!E82","v":"1998-03-20"},{"$f":"[1]Tabulka!F82","v":"Kravaře- SK TJ"},{"$f":"[1]Tabulka!G82","v":"OP"},{"$f":"[1]Tabulka!H82","v":100},{"$f":"+[1]Tabulka!AU82","v":33},{"$f":"+[1]Tabulka!AV82","v":{"v":0.6123420427175658,"d":"0.61"}},{"$f":"+[1]Tabulka!AW82","v":0},{"$f":"+[1]Tabulka!AX82","v":{"v":0,"d":"0.00"}},{"$f":"+[1]Tabulka!AY82","v":17},{"$f":"+[1]Tabulka!AZ82","v":{"v":1.6883905547970857,"d":"1.69"}},{"$f":"+[1]Tabulka!BA82","v":17},{"$f":"+[1]Tabulka!BB82","v":{"v":1.6883905547970857,"d":"1.69"}},{"$f":"+[1]Tabulka!BC82","v":0},{"$f":"+[1]Tabulka!BD82","v":{"v":0,"d":"0.00"}},{"$f":"+[1]Tabulka!BE82","v":0},{"$f":"+[1]Tabulka!BF82","v":{"v":0,"d":"0.00"}},{"$f":"+[1]Tabulka!BG82","v":0},{"$f":"+[1]Tabulka!BH82","v":{"v":0,"d":"0.00"}},{"$f":"+[1]Tabulka!BI82","v":0},{"$f":"+[1]Tabulka!BJ82","v":{"v":0,"d":"0.00"}},{"$f":"+[1]Tabulka!AP82","v":{"v":0,"d":"0.00"}},{"$f":"+[1]Tabulka!AQ82","v":{"v":0,"d":"0.00"}},{"$f":"+[1]Tabulka!BM82","v":{"v":3.989123152311737,"d":"3.99"}},{"$f":"+[1]Tabulka!BN82","v":3},{"$f":"+[1]Tabulka!BO82","v":{"v":3.989123152311737,"d":"3.99"}}]
["42",{"$f":"[1]Tabulka!C83","v":"SYNKOVÁ"},{"$f":"[1]Tabulka!D83","v":"Markéta"},{"$f":"[1]Tabulka!E83","v":"2001-07-30"},{"$f":"[1]Tabulka!F83","v":"Děhylov- Sokol TJ"},{"$f":"[1]Tabulka!G83","v":"OP"},{"$f":"[1]Tabulka!H83","v":100},{"$f":"+[1]Tabulka!AU83","v":33},{"$f":"+[1]Tabulka!AV83","v":{"v":0.6123420427175658,"d":"0.61"}},{"$f":"+[1]Tabulka!AW83","v":0},{"$f":"+[1]Tabulka!AX83","v":{"v":0,"d":"0.00"}},{"$f":"+[1]Tabulka!AY83","v":0},{"$f":"+[1]Tabulka!AZ83","v":{"v":0,"d":"0.00"}},{"$f":"+[1]Tabulka!BA83","v":0},{"$f":"+[1]Tabulka!BB83","v":{"v":0,"d":"0.00"}},{"$f":"+[1]Tabulka!BC83","v":17},{"$f":"+[1]Tabulka!BD83","v":{"v":1.6883905547970857,"d":"1.69"}},{"$f":"+[1]Tabulka!BE83","v":17},{"$f":"+[1]Tabulka!BF83","v":{"v":1.6883905547970857,"d":"1.69"}},{"$f":"+[1]Tabulka!BG83","v":0},{"$f":"+[1]Tabulka!BH83","v":{"v":0,"d":"0.00"}},{"$f":"+[1]Tabulka!BI83","v":0},{"$f":"+[1]Tabulka!BJ83","v":{"v":0,"d":"0.00"}},{"$f":"+[1]Tabulka!AP83","v":{"v":2.2894886325986143,"d":"2.29"}},{"$f":"+[1]Tabulka!AQ83","v":{"v":3,"d":"3.00"}},{"$f":"+[1]Tabulka!BM83","v":{"v":3.989123152311737,"d":"3.99"}},{"$f":"+[1]Tabulka!BN83","v":3},{"$f":"+[1]Tabulka!BO83","v":{"v":3.989123152311737,"d":"3.99"}}]
["39",{"$f":"[1]Tabulka!C84","v":"KANIA"},{"$f":"[1]Tabulka!D84","v":"Vojtěch"},{"$f":"[1]Tabulka!E84","v":"2000-03-22"},{"$f":"[1]Tabulka!F84","v":"Orlová- Siko TTC"},{"$f":"[1]Tabulka!G84","v":"KA"},{"$f":"[1]Tabulka!H84","v":100},{"$f":"+[1]Tabulka!AU84","v":27},{"$f":"+[1]Tabulka!AV84","v":{"v":0.8957228265226755,"d":"0.90"}},{"$f":"+[1]Tabulka!AW84","v":25},{"$f":"+[1]Tabulka!AX84","v":{"v":1.0167952208923348,"d":"1.02"}},{"$f":"+[1]Tabulka!AY84","v":28},{"$f":"+[1]Tabulka!AZ84","v":{"v":0.8407051632402461,"d":"0.84"}},{"$f":"+[1]Tabulka!BA84","v":39},{"$f":"+[1]Tabulka!BB84","v":{"v":0.4186147390428583,"d":"0.42"}},{"$f":"+[1]Tabulka!BC84","v":29},{"$f":"+[1]Tabulka!BD84","v":{"v":0.7890668302410581,"d":"0.79"}},{"$f":"+[1]Tabulka!BE84","v":0},{"$f":"+[1]Tabulka!BF84","v":{"v":0,"d":"0.00"}},{"$f":"+[1]Tabulka!BG84","v":0},{"$f":"+[1]Tabulka!BH84","v":{"v":0,"d":"0.00"}},{"$f":"+[1]Tabulka!BI84","v":0},{"$f":"+[1]Tabulka!BJ84","v":{"v":0,"d":"0.00"}},{"$f":"+[1]Tabulka!AP84","v":{"v":0,"d":"0.00"}},{"$f":"+[1]Tabulka!AQ84","v":{"v":0,"d":"0.00"}},{"$f":"+[1]Tabulka!BM84","v":{"v":3.960904779939173,"d":"3.96"}},{"$f":"+[1]Tabulka!BN84","v":5},{"$f":"+[1]Tabulka!BO84","v":{"v":3.960904779939173,"d":"3.96"}}]
["40",{"$f":"[1]Tabulka!C85","v":"ČECHOVÁ"},{"$f":"[1]Tabulka!D85","v":"Kateřina"},{"$f":"[1]Tabulka!E85","v":"1999-03-29"},{"$f":"[1]Tabulka!F85","v":"Frýdlant nad Ostravicí- SK"},{"$f":"[1]Tabulka!G85","v":"FM"},{"$f":"[1]Tabulka!H85","v":100},{"$f":"+[1]Tabulka!AU85","v":13},{"$f":"+[1]Tabulka!AV85","v":{"v":2.1756679932838794,"d":"2.18"}},{"$f":"+[1]Tabulka!AW85","v":0},{"$f":"+[1]Tabulka!AX85","v":{"v":0,"d":"0.00"}},{"$f":"+[1]Tabulka!AY85","v":17},{"$f":"+[1]Tabulka!AZ85","v":{"v":1.6883905547970857,"d":"1.69"}},{"$f":"+[1]Tabulka!BA85","v":0},{"$f":"+[1]Tabulka!BB85","v":{"v":0,"d":"0.00"}},{"$f":"+[1]Tabulka!BC85","v":0},{"$f":"+[1]Tabulka!BD85","v":{"v":0,"d":"0.00"}},{"$f":"+[1]Tabulka!BE85","v":0},{"$f":"+[1]Tabulka!BF85","v":{"v":0,"d":"0.00"}},{"$f":"+[1]Tabulka!BG85","v":0},{"$f":"+[1]Tabulka!BH85","v":{"v":0,"d":"0.00"}},{"$f":"+[1]Tabulka!BI85","v":0},{"$f":"+[1]Tabulka!BJ85","v":{"v":0,"d":"0.00"}},{"$f":"+[1]Tabulka!AP85","v":{"v":45.56996085874425,"d":"45.57"}},{"$f":"+[1]Tabulka!AQ85","v":{"v":4,"d":"4.00"}},{"$f":"+[1]Tabulka!BM85","v":{"v":3.864058548080965,"d":"3.86"}},{"$f":"+[1]Tabulka!BN85","v":2},{"$f":"+[1]Tabulka!BO85","v":{"v":3.864058548080965,"d":"3.86"}}]
["41",{"$f":"[1]Tabulka!C86","v":"CHLAD"},{"$f":"[1]Tabulka!D86","v":"Petr"},{"$f":"[1]Tabulka!E86","v":"1996-04-20"},{"$f":"[1]Tabulka!F86","v":"Hrabůvka- Sokol TJ"},{"$f":"[1]Tabulka!G86","v":"OV"},{"$f":"[1]Tabulka!H86","v":100},{"$f":"+[1]Tabulka!AU86","v":0},{"$f":"+[1]Tabulka!AV86","v":{"v":0,"d":"0.00"}},{"$f":"+[1]Tabulka!AW86","v":0},{"$f":"+[1]Tabulka!AX86","v":{"v":0,"d":"0.00"}},{"$f":"+[1]Tabulka!AY86","v":0},{"$f":"+[1]Tabulka!AZ86","v":{"v":0,"d":"0.00"}},{"$f":"+[1]Tabulka!BA86","v":0},{"$f":"+[1]Tabulka!BB86","v":{"v":0,"d":"0.00"}},{"$f":"+[1]Tabulka!BC86","v":0},{"$f":"+[1]Tabulka!BD86","v":{"v":0,"d":"0.00"}},{"$f":"+[1]Tabulka!BE86","v":4},{"$f":"+[1]Tabulka!BF86","v":{"v":3.8491245804252903,"d":"3.85"}},{"$f":"+[1]Tabulka!BG86","v":0},{"$f":"+[1]Tabulka!BH86","v":{"v":0,"d":"0.00"}},{"$f":"+[1]Tabulka!BI86","v":0},{"$f":"+[1]Tabulka!BJ86","v":{"v":0,"d":"0.00"}},{"$f":"+[1]Tabulka!AP86","v":{"v":52.35174303507786,"d":"52.35"}},{"$f":"+[1]Tabulka!AQ86","v":{"v":4,"d":"4.00"}},{"$f":"+[1]Tabulka!BM86","v":{"v":3.8491245804252903,"d":"3.85"}},{"$f":"+[1]Tabulka!BN86","v":1},{"$f":"+[1]Tabulka!BO86","v":{"v":3.8491245804252903,"d":"3.85"}}]
["40",{"$f":"[1]Tabulka!C87","v":"NOHEL"},{"$f":"[1]Tabulka!D87","v":"Václav"},{"$f":"[1]Tabulka!E87","v":"1992-01-01"},{"$f":"[1]Tabulka!F87","v":"Orlová- Slávie SK"},{"$f":"[1]Tabulka!G87","v":"KA"},{"$f":"[1]Tabulka!H87","v":0},{"$f":"+[1]Tabulka!AU87","v":0},{"$f":"+[1]Tabulka!AV87","v":{"v":0,"d":"0.00"}},{"$f":"+[1]Tabulka!AW87","v":0},{"$f":"+[1]Tabulka!AX87","v":{"v":0,"d":"0.00"}},{"$f":"+[1]Tabulka!AY87","v":0},{"$f":"+[1]Tabulka!AZ87","v":{"v":0,"d":"0.00"}},{"$f":"+[1]Tabulka!BA87","v":0},{"$f":"+[1]Tabulka!BB87","v":{"v":0,"d":"0.00"}},{"$f":"+[1]Tabulka!BC87","v":0},{"$f":"+[1]Tabulka!BD87","v":{"v":0,"d":"0.00"}},{"$f":"+[1]Tabulka!BE87","v":14},{"$f":"+[1]Tabulka!BF87","v":{"v":2.0420327151325517,"d":"2.04"}},{"$f":"+[1]Tabulka!BG87","v":0},{"$f":"+[1]Tabulka!BH87","v":{"v":0,"d":"0.00"}},{"$f":"+[1]Tabulka!BI87","v":16},{"$f":"+[1]Tabulka!BJ87","v":{"v":1.7988826834228204,"d":"1.80"}},{"$f":"+[1]Tabulka!AP87","v":{"v":0.05870389285388358,"d":"0.06"}},{"$f":"+[1]Tabulka!AQ87","v":{"v":1,"d":"1.00"}},{"$f":"+[1]Tabulka!BM87","v":{"v":3.840915398555372,"d":"3.84"}},{"$f":"+[1]Tabulka!BN87","v":2},{"$f":"+[1]Tabulka!BO87","v":{"v":3.840915398555372,"d":"3.84"}}]
["41",{"$f":"[1]Tabulka!C88","v":"FABIAN"},{"$f":"[1]Tabulka!D88","v":"Michal"},{"$f":"[1]Tabulka!E88","v":"2000-02-04"},{"$f":"[1]Tabulka!F88","v":"Orlová- Siko TTC"},{"$f":"[1]Tabulka!G88","v":"KA"},{"$f":"[1]Tabulka!H88","v":100},{"$f":"+[1]Tabulka!AU88","v":30},{"$f":"+[1]Tabulka!AV88","v":{"v":0.7406002601279904,"d":"0.74"}},{"$f":"+[1]Tabulka!AW88","v":29},{"$f":"+[1]Tabulka!AX88","v":{"v":0.7890668302410581,"d":"0.79"}},{"$f":"+[1]Tabulka!AY88","v":26},{"$f":"+[1]Tabulka!AZ88","v":{"v":0.9543409711693354,"d":"0.95"}},{"$f":"+[1]Tabulka!BA88","v":42},{"$f":"+[1]Tabulka!BB88","v":{"v":0.3461184369188376,"d":"0.35"}},{"$f":"+[1]Tabulka!BC88","v":28},{"$f":"+[1]Tabulka!BD88","v":{"v":0.8407051632402461,"d":"0.84"}},{"$f":"+[1]Tabulka!BE88","v":0},{"$f":"+[1]Tabulka!BF88","v":{"v":0,"d":"0.00"}},{"$f":"+[1]Tabulka!BG88","v":0},{"$f":"+[1]Tabulka!BH88","v":{"v":0,"d":"0.00"}},{"$f":"+[1]Tabulka!BI88","v":0},{"$f":"+[1]Tabulka!BJ88","v":{"v":0,"d":"0.00"}},{"$f":"+[1]Tabulka!AP88","v":{"v":0,"d":"0.00"}},{"$f":"+[1]Tabulka!AQ88","v":{"v":0,"d":"0.00"}},{"$f":"+[1]Tabulka!BM88","v":{"v":3.6708316616974677,"d":"3.67"}},{"$f":"+[1]Tabulka!BN88","v":5},{"$f":"+[1]Tabulka!BO88","v":{"v":3.6708316616974677,"d":"3.67"}}]
["43",{"$f":"[1]Tabulka!C89","v":"BÍLÝ"},{"$f":"[1]Tabulka!D89","v":"Michal"},{"$f":"[1]Tabulka!E89","v":"1996-05-06"},{"$f":"[1]Tabulka!F89","v":"Ostrava- Don Bosco SSVČ"},{"$f":"[1]Tabulka!G89","v":"OV"},{"$f":"[1]Tabulka!H89","v":100},{"$f":"+[1]Tabulka!AU89","v":0},{"$f":"+[1]Tabulka!AV89","v":{"v":0,"d":"0.00"}},{"$f":"+[1]Tabulka!AW89","v":0},{"$f":"+[1]Tabulka!AX89","v":{"v":0,"d":"0.00"}},{"$f":"+[1]Tabulka!AY89","v":0},{"$f":"+[1]Tabulka!AZ89","v":{"v":0,"d":"0.00"}},{"$f":"+[1]Tabulka!BA89","v":5},{"$f":"+[1]Tabulka!BB89","v":{"v":3.6127011759664778,"d":"3.61"}},{"$f":"+[1]Tabulka!BC89","v":0},{"$f":"+[1]Tabulka!BD89","v":{"v":0,"d":"0.00"}},{"$f":"+[1]Tabulka!BE89","v":0},{"$f":"+[1]Tabulka!BF89","v":{"v":0,"d":"0.00"}},{"$f":"+[1]Tabulka!BG89","v":0},{"$f":"+[1]Tabulka!BH89","v":{"v":0,"d":"0.00"}},{"$f":"+[1]Tabulka!BI89","v":0},{"$f":"+[1]Tabulka!BJ89","v":{"v":0,"d":"0.00"}},{"$f":"+[1]Tabulka!AP89","v":{"v":0,"d":"0.00"}},{"$f":"+[1]Tabulka!AQ89","v":{"v":0,"d":"0.00"}},{"$f":"+[1]Tabulka!BM89","v":{"v":3.6127011759664778,"d":"3.61"}},{"$f":"+[1]Tabulka!BN89","v":1},{"$f":"+[1]Tabulka!BO89","v":{"v":3.6127011759664778,"d":"3.61"}}]
[null,{"$f":"[1]Tabulka!C90","v":"JEŽ"},{"$f":"[1]Tabulka!D90","v":"Dominik"},{"$f":"[1]Tabulka!E90","v":"1997-12-26"},{"$f":"[1]Tabulka!F90","v":"Nový Jičín- TJ"},{"$f":"[1]Tabulka!G90","v":"NJ"},{"$f":"[1]Tabulka!H90","v":100},{"$f":"+[1]Tabulka!AU90","v":0},{"$f":"+[1]Tabulka!AV90","v":{"v":0,"d":"0.00"}},{"$f":"+[1]Tabulka!AW90","v":0},{"$f":"+[1]Tabulka!AX90","v":{"v":0,"d":"0.00"}},{"$f":"+[1]Tabulka!AY90","v":0},{"$f":"+[1]Tabulka!AZ90","v":{"v":0,"d":"0.00"}},{"$f":"+[1]Tabulka!BA90","v":0},{"$f":"+[1]Tabulka!BB90","v":{"v":0,"d":"0.00"}},{"$f":"+[1]Tabulka!BC90","v":5},{"$f":"+[1]Tabulka!BD90","v":{"v":3.6127011759664778,"d":"3.61"}},{"$f":"+[1]Tabulka!BE90","v":0},{"$f":"+[1]Tabulka!BF90","v":{"v":0,"d":"0.00"}},{"$f":"+[1]Tabulka!BG90","v":0},{"$f":"+[1]Tabulka!BH90","v":{"v":0,"d":"0.00"}},{"$f":"+[1]Tabulka!BI90","v":0},{"$f":"+[1]Tabulka!BJ90","v":{"v":0,"d":"0.00"}},{"$f":"+[1]Tabulka!AP90","v":{"v":16.766482436167124,"d":"16.77"}},{"$f":"+[1]Tabulka!AQ90","v":{"v":4,"d":"4.00"}},{"$f":"+[1]Tabulka!BM90","v":{"v":3.6127011759664778,"d":"3.61"}},{"$f":"+[1]Tabulka!BN90","v":1},{"$f":"+[1]Tabulka!BO90","v":{"v":3.6127011759664778,"d":"3.61"}}]
[null,{"$f":"[1]Tabulka!C91","v":"KROŠČEN"},{"$f":"[1]Tabulka!D91","v":"Lukáš"},{"$f":"[1]Tabulka!E91","v":"1995-11-17"},{"$f":"[1]Tabulka!F91","v":"Ostrava- Don Bosco SSVČ"},{"$f":"[1]Tabulka!G91","v":"OV"},{"$f":"[1]Tabulka!H91","v":100},{"$f":"+[1]Tabulka!AU91","v":5},{"$f":"+[1]Tabulka!AV91","v":{"v":3.6127011759664778,"d":"3.61"}},{"$f":"+[1]Tabulka!AW91","v":0},{"$f":"+[1]Tabulka!AX91","v":{"v":0,"d":"0.00"}},{"$f":"+[1]Tabulka!AY91","v":0},{"$f":"+[1]Tabulka!AZ91","v":{"v":0,"d":"0.00"}},{"$f":"+[1]Tabulka!BA91","v":0},{"$f":"+[1]Tabulka!BB91","v":{"v":0,"d":"0.00"}},{"$f":"+[1]Tabulka!BC91","v":0},{"$f":"+[1]Tabulka!BD91","v":{"v":0,"d":"0.00"}},{"$f":"+[1]Tabulka!BE91","v":0},{"$f":"+[1]Tabulka!BF91","v":{"v":0,"d":"0.00"}},{"$f":"+[1]Tabulka!BG91","v":0},{"$f":"+[1]Tabulka!BH91","v":{"v":0,"d":"0.00"}},{"$f":"+[1]Tabulka!BI91","v":0},{"$f":"+[1]Tabulka!BJ91","v":{"v":0,"d":"0.00"}},{"$f":"+[1]Tabulka!AP91","v":{"v":0,"d":"0.00"}},{"$f":"+[1]Tabulka!AQ91","v":{"v":0,"d":"0.00"}},{"$f":"+[1]Tabulka!BM91","v":{"v":3.6127011759664778,"d":"3.61"}},{"$f":"+[1]Tabulka!BN91","v":1},{"$f":"+[1]Tabulka!BO91","v":{"v":3.6127011759664778,"d":"3.61"}}]
[null,{"$f":"[1]Tabulka!C92","v":"MAZŮCH"},{"$f":"[1]Tabulka!D92","v":"Filip"},{"$f":"[1]Tabulka!E92","v":"2000-01-01"},{"$f":"[1]Tabulka!F92","v":"Ostrava - Zábřeh- Domik"},{"$f":"[1]Tabulka!G92","v":"OV"},{"$f":"[1]Tabulka!H92","v":0},{"$f":"+[1]Tabulka!AU92","v":33},{"$f":"+[1]Tabulka!AV92","v":{"v":0.6123420427175658,"d":"0.61"}},{"$f":"+[1]Tabulka!AW92","v":21},{"$f":"+[1]Tabulka!AX92","v":{"v":1.3102470939168058,"d":"1.31"}},{"$f":"+[1]Tabulka!AY92","v":0},{"$f":"+[1]Tabulka!AZ92","v":{"v":0,"d":"0.00"}},{"$f":"+[1]Tabulka!BA92","v":0},{"$f":"+[1]Tabulka!BB92","v":{"v":0,"d":"0.00"}},{"$f":"+[1]Tabulka!BC92","v":0},{"$f":"+[1]Tabulka!BD92","v":{"v":0,"d":"0.00"}},{"$f":"+[1]Tabulka!BE92","v":17},{"$f":"+[1]Tabulka!BF92","v":{"v":1.6883905547970857,"d":"1.69"}},{"$f":"+[1]Tabulka!BG92","v":0},{"$f":"+[1]Tabulka!BH92","v":{"v":0,"d":"0.00"}},{"$f":"+[1]Tabulka!BI92","v":0},{"$f":"+[1]Tabulka!BJ92","v":{"v":0,"d":"0.00"}},{"$f":"+[1]Tabulka!AP92","v":{"v":0,"d":"0.00"}},{"$f":"+[1]Tabulka!AQ92","v":{"v":0,"d":"0.00"}},{"$f":"+[1]Tabulka!BM92","v":{"v":3.6109796914314574,"d":"3.61"}},{"$f":"+[1]Tabulka!BN92","v":3},{"$f":"+[1]Tabulka!BO92","v":{"v":3.6109796914314574,"d":"3.61"}}]
[null,{"$f":"[1]Tabulka!C93","v":"ŠIMERA"},{"$f":"[1]Tabulka!D93","v":"Jiří"},{"$f":"[1]Tabulka!E93","v":"1999-09-09"},{"$f":"[1]Tabulka!F93","v":"Hradec nad Moravicí- FIT SPORT KLUB "},{"$f":"[1]Tabulka!G93","v":"OP"},{"$f":"[1]Tabulka!H93","v":100},{"$f":"+[1]Tabulka!AU93","v":25},{"$f":"+[1]Tabulka!AV93","v":{"v":1.0167952208923348,"d":"1.02"}},{"$f":"+[1]Tabulka!AW93","v":27},{"$f":"+[1]Tabulka!AX93","v":{"v":0.8957228265226755,"d":"0.90"}},{"$f":"+[1]Tabulka!AY93","v":17},{"$f":"+[1]Tabulka!AZ93","v":{"v":1.6883905547970857,"d":"1.69"}},{"$f":"+[1]Tabulka!BA93","v":0},{"$f":"+[1]Tabulka!BB93","v":{"v":0,"d":"0.00"}},{"$f":"+[1]Tabulka!BC93","v":33},{"$f":"+[1]Tabulka!BD93","v":{"v":0.6123420427175658,"d":"0.61"}},{"$f":"+[1]Tabulka!BE93","v":0},{"$f":"+[1]Tabulka!BF93","v":{"v":0,"d":"0.00"}},{"$f":"+[1]Tabulka!BG93","v":0},{"$f":"+[1]Tabulka!BH93","v":{"v":0,"d":"0.00"}},{"$f":"+[1]Tabulka!BI93","v":0},{"$f":"+[1]Tabulka!BJ93","v":{"v":0,"d":"0.00"}},{"$f":"+[1]Tabulka!AP93","v":{"v":0,"d":"0.00"}},{"$f":"+[1]Tabulka!AQ93","v":{"v":0,"d":"0.00"}},{"$f":"+[1]Tabulka!BM93","v":{"v":4.213250644929661,"d":"4.21"}},{"$f":"+[1]Tabulka!BN93","v":4},{"$f":"+[1]Tabulka!BO93","v":{"v":3.6009086022120957,"d":"3.60"}}]
[null,{"$f":"[1]Tabulka!C94","v":"ADAMČÍK"},{"$f":"[1]Tabulka!D94","v":"Vojtěch"},{"$f":"[1]Tabulka!E94","v":"1996-09-19"},{"$f":"[1]Tabulka!F94","v":"Frýdek-Místek- Slezan TJ"},{"$f":"[1]Tabulka!G94","v":"FM"},{"$f":"[1]Tabulka!H94","v":100},{"$f":"+[1]Tabulka!AU94","v":0},{"$f":"+[1]Tabulka!AV94","v":{"v":0,"d":"0.00"}},{"$f":"+[1]Tabulka!AW94","v":0},{"$f":"+[1]Tabulka!AX94","v":{"v":0,"d":"0.00"}},{"$f":"+[1]Tabulka!AY94","v":29},{"$f":"+[1]Tabulka!AZ94","v":{"v":0.7890668302410581,"d":"0.79"}},{"$f":"+[1]Tabulka!BA94","v":0},{"$f":"+[1]Tabulka!BB94","v":{"v":0,"d":"0.00"}},{"$f":"+[1]Tabulka!BC94","v":0},{"$f":"+[1]Tabulka!BD94","v":{"v":0,"d":"0.00"}},{"$f":"+[1]Tabulka!BE94","v":9},{"$f":"+[1]Tabulka!BF94","v":{"v":2.803575987529016,"d":"2.80"}},{"$f":"+[1]Tabulka!BG94","v":0},{"$f":"+[1]Tabulka!BH94","v":{"v":0,"d":"0.00"}},{"$f":"+[1]Tabulka!BI94","v":0},{"$f":"+[1]Tabulka!BJ94","v":{"v":0,"d":"0.00"}},{"$f":"+[1]Tabulka!AP94","v":{"v":0.5851439881564726,"d":"0.59"}},{"$f":"+[1]Tabulka!AQ94","v":{"v":3,"d":"3.00"}},{"$f":"+[1]Tabulka!BM94","v":{"v":3.592642817770074,"d":"3.59"}},{"$f":"+[1]Tabulka!BN94","v":2},{"$f":"+[1]Tabulka!BO94","v":{"v":3.592642817770074,"d":"3.59"}}]
["42",{"$f":"[1]Tabulka!C95","v":"MARTYNEK"},{"$f":"[1]Tabulka!D95","v":"Aleš"},{"$f":"[1]Tabulka!E95","v":"1999-04-30"},{"$f":"[1]Tabulka!F95","v":"Karviná- KLUBsten KST"},{"$f":"[1]Tabulka!G95","v":"KA"},{"$f":"[1]Tabulka!H95","v":100},{"$f":"+[1]Tabulka!AU95","v":24},{"$f":"+[1]Tabulka!AV95","v":{"v":1.083336619156891,"d":"1.08"}},{"$f":"+[1]Tabulka!AW95","v":0},{"$f":"+[1]Tabulka!AX95","v":{"v":0,"d":"0.00"}},{"$f":"+[1]Tabulka!AY95","v":20},{"$f":"+[1]Tabulka!AZ95","v":{"v":1.3959926520290693,"d":"1.40"}},{"$f":"+[1]Tabulka!BA95","v":0},{"$f":"+[1]Tabulka!BB95","v":{"v":0,"d":"0.00"}},{"$f":"+[1]Tabulka!BC95","v":0},{"$f":"+[1]Tabulka!BD95","v":{"v":0,"d":"0.00"}},{"$f":"+[1]Tabulka!BE95","v":34},{"$f":"+[1]Tabulka!BF95","v":{"v":0.5747303761145184,"d":"0.57"}},{"$f":"+[1]Tabulka!BG95","v":43},{"$f":"+[1]Tabulka!BH95","v":{"v":0.32485892777785963,"d":"0.32"}},{"$f":"+[1]Tabulka!BI95","v":0},{"$f":"+[1]Tabulka!BJ95","v":{"v":0,"d":"0.00"}},{"$f":"+[1]Tabulka!AP95","v":{"v":0.8377696843076945,"d":"0.84"}},{"$f":"+[1]Tabulka!AQ95","v":{"v":2,"d":"2.00"}},{"$f":"+[1]Tabulka!BM95","v":{"v":3.3789185750783384,"d":"3.38"}},{"$f":"+[1]Tabulka!BN95","v":4},{"$f":"+[1]Tabulka!BO95","v":{"v":3.3789185750783384,"d":"3.38"}}]
["43",{"$f":"[1]Tabulka!C96","v":"PIESZKA"},{"$f":"[1]Tabulka!D96","v":"Lukáš"},{"$f":"[1]Tabulka!E96","v":"2000-01-01"},{"$f":"[1]Tabulka!F96","v":"Chotěbuz- Sokol TJ"},{"$f":"[1]Tabulka!G96","v":"KA"},{"$f":"[1]Tabulka!H96","v":0},{"$f":"+[1]Tabulka!AU96","v":0},{"$f":"+[1]Tabulka!AV96","v":{"v":0,"d":"0.00"}},{"$f":"+[1]Tabulka!AW96","v":25},{"$f":"+[1]Tabulka!AX96","v":{"v":1.0167952208923348,"d":"1.02"}},{"$f":"+[1]Tabulka!AY96","v":0},{"$f":"+[1]Tabulka!AZ96","v":{"v":0,"d":"0.00"}},{"$f":"+[1]Tabulka!BA96","v":36},{"$f":"+[1]Tabulka!BB96","v":{"v":0.5062957677259255,"d":"0.51"}},{"$f":"+[1]Tabulka!BC96","v":20},{"$f":"+[1]Tabulka!BD96","v":{"v":1.3959926520290693,"d":"1.40"}},{"$f":"+[1]Tabulka!BE96","v":0},{"$f":"+[1]Tabulka!BF96","v":{"v":0,"d":"0.00"}},{"$f":"+[1]Tabulka!BG96","v":40},{"$f":"+[1]Tabulka!BH96","v":{"v":0.3929023154272488,"d":"0.39"}},{"$f":"+[1]Tabulka!BI96","v":0},{"$f":"+[1]Tabulka!BJ96","v":{"v":0,"d":"0.00"}},{"$f":"+[1]Tabulka!AP96","v":{"v":0,"d":"0.00"}},{"$f":"+[1]Tabulka!AQ96","v":{"v":0,"d":"0.00"}},{"$f":"+[1]Tabulka!BM96","v":{"v":3.311985956074578,"d":"3.31"}},{"$f":"+[1]Tabulka!BN96","v":4},{"$f":"+[1]Tabulka!BO96","v":{"v":3.311985956074578,"d":"3.31"}}]
["44",{"$f":"[1]Tabulka!C97","v":"ŠČUKA"},{"$f":"[1]Tabulka!D97","v":"Ladislav"},{"$f":"[1]Tabulka!E97","v":"1999-01-01"},{"$f":"[1]Tabulka!F97","v":"Těrlicko- DDŠ"},{"$f":"[1]Tabulka!G97","v":"KA"},{"$f":"[1]Tabulka!H97","v":0},{"$f":"+[1]Tabulka!AU97","v":0},{"$f":"+[1]Tabulka!AV97","v":{"v":0,"d":"0.00"}},{"$f":"+[1]Tabulka!AW97","v":0},{"$f":"+[1]Tabulka!AX97","v":{"v":0,"d":"0.00"}},{"$f":"+[1]Tabulka!AY97","v":33},{"$f":"+[1]Tabulka!AZ97","v":{"v":0.6123420427175658,"d":"0.61"}},{"$f":"+[1]Tabulka!BA97","v":23},{"$f":"+[1]Tabulka!BB97","v":{"v":1.1542326382851416,"d":"1.15"}},{"$f":"+[1]Tabulka!BC97","v":19},{"$f":"+[1]Tabulka!BD97","v":{"v":1.4873495950244735,"d":"1.49"}},{"$f":"+[1]Tabulka!BE97","v":0},{"$f":"+[1]Tabulka!BF97","v":{"v":0,"d":"0.00"}},{"$f":"+[1]Tabulka!BG97","v":0},{"$f":"+[1]Tabulka!BH97","v":{"v":0,"d":"0.00"}},{"$f":"+[1]Tabulka!BI97","v":0},{"$f":"+[1]Tabulka!BJ97","v":{"v":0,"d":"0.00"}},{"$f":"+[1]Tabulka!AP97","v":{"v":0,"d":"0.00"}},{"$f":"+[1]Tabulka!AQ97","v":{"v":0,"d":"0.00"}},{"$f":"+[1]Tabulka!BM97","v":{"v":3.253924276027181,"d":"3.25"}},{"$f":"+[1]Tabulka!BN97","v":3},{"$f":"+[1]Tabulka!BO97","v":{"v":3.2539242760271807,"d":"3.25"}}]
["45",{"$f":"[1]Tabulka!C98","v":"MORYS"},{"$f":"[1]Tabulka!D98","v":"David"},{"$f":"[1]Tabulka!E98","v":"1997-07-17"},{"$f":"[1]Tabulka!F98","v":"Hlučín- DDM"},{"$f":"[1]Tabulka!G98","v":"OP"},{"$f":"[1]Tabulka!H98","v":100},{"$f":"+[1]Tabulka!AU98","v":33},{"$f":"+[1]Tabulka!AV98","v":{"v":0.6123420427175658,"d":"0.61"}},{"$f":"+[1]Tabulka!AW98","v":27},{"$f":"+[1]Tabulka!AX98","v":{"v":0.8957228265226755,"d":"0.90"}},{"$f":"+[1]Tabulka!AY98","v":17},{"$f":"+[1]Tabulka!AZ98","v":{"v":1.6883905547970857,"d":"1.69"}},{"$f":"+[1]Tabulka!BA98","v":33},{"$f":"+[1]Tabulka!BB98","v":{"v":0.6123420427175658,"d":"0.61"}},{"$f":"+[1]Tabulka!BC98","v":33},{"$f":"+[1]Tabulka!BD98","v":{"v":0.6123420427175658,"d":"0.61"}},{"$f":"+[1]Tabulka!BE98","v":0},{"$f":"+[1]Tabulka!BF98","v":{"v":0,"d":"0.00"}},{"$f":"+[1]Tabulka!BG98","v":0},{"$f":"+[1]Tabulka!BH98","v":{"v":0,"d":"0.00"}},{"$f":"+[1]Tabulka!BI98","v":0},{"$f":"+[1]Tabulka!BJ98","v":{"v":0,"d":"0.00"}},{"$f":"+[1]Tabulka!AP98","v":{"v":0,"d":"0.00"}},{"$f":"+[1]Tabulka!AQ98","v":{"v":0,"d":"0.00"}},{"$f":"+[1]Tabulka!BM98","v":{"v":4.421139509472458,"d":"4.42"}},{"$f":"+[1]Tabulka!BN98","v":5},{"$f":"+[1]Tabulka!BO98","v":{"v":3.196455424037327,"d":"3.20"}}]
["44",{"$f":"[1]Tabulka!C99","v":"STOŠKOVÁ"},{"$f":"[1]Tabulka!D99","v":"Zuzana"},{"$f":"[1]Tabulka!E99","v":"1999-03-16"},{"$f":"[1]Tabulka!F99","v":"Hradec nad Moravicí- FIT SPORT KLUB "},{"$f":"[1]Tabulka!G99","v":"OP"},{"$f":"[1]Tabulka!H99","v":100},{"$f":"+[1]Tabulka!AU99","v":43},{"$f":"+[1]Tabulka!AV99","v":{"v":0.32485892777785963,"d":"0.32"}},{"$f":"+[1]Tabulka!AW99","v":27},{"$f":"+[1]Tabulka!AX99","v":{"v":0.8957228265226755,"d":"0.90"}},{"$f":"+[1]Tabulka!AY99","v":37},{"$f":"+[1]Tabulka!AZ99","v":{"v":0.4751977435991968,"d":"0.48"}},{"$f":"+[1]Tabulka!BA99","v":0},{"$f":"+[1]Tabulka!BB99","v":{"v":0,"d":"0.00"}},{"$f":"+[1]Tabulka!BC99","v":33},{"$f":"+[1]Tabulka!BD99","v":{"v":0.6123420427175658,"d":"0.61"}},{"$f":"+[1]Tabulka!BE99","v":17},{"$f":"+[1]Tabulka!BF99","v":{"v":1.6883905547970857,"d":"1.69"}},{"$f":"+[1]Tabulka!BG99","v":0},{"$f":"+[1]Tabulka!BH99","v":{"v":0,"d":"0.00"}},{"$f":"+[1]Tabulka!BI99","v":0},{"$f":"+[1]Tabulka!BJ99","v":{"v":0,"d":"0.00"}},{"$f":"+[1]Tabulka!AP99","v":{"v":0,"d":"0.00"}},{"$f":"+[1]Tabulka!AQ99","v":{"v":0,"d":"0.00"}},{"$f":"+[1]Tabulka!BM99","v":{"v":3.996512095414383,"d":"4.00"}},{"$f":"+[1]Tabulka!BN99","v":5},{"$f":"+[1]Tabulka!BO99","v":{"v":3.196455424037327,"d":"3.20"}}]
[null,{"$f":"[1]Tabulka!C100","v":"KROULÍK"},{"$f":"[1]Tabulka!D100","v":"Vojtěch"},{"$f":"[1]Tabulka!E100","v":"1997-01-01"},{"$f":"[1]Tabulka!F100","v":"Markvartovice"},{"$f":"[1]Tabulka!G100","v":"OP"},{"$f":"[1]Tabulka!H100","v":0},{"$f":"+[1]Tabulka!AU100","v":43},{"$f":"+[1]Tabulka!AV100","v":{"v":0.32485892777785963,"d":"0.32"}},{"$f":"+[1]Tabulka!AW100","v":27},{"$f":"+[1]Tabulka!AX100","v":{"v":0.8957228265226755,"d":"0.90"}},{"$f":"+[1]Tabulka!AY100","v":0},{"$f":"+[1]Tabulka!AZ100","v":{"v":0,"d":"0.00"}},{"$f":"+[1]Tabulka!BA100","v":33},{"$f":"+[1]Tabulka!BB100","v":{"v":0.6123420427175658,"d":"0.61"}},{"$f":"+[1]Tabulka!BC100","v":17},{"$f":"+[1]Tabulka!BD100","v":{"v":1.6883905547970857,"d":"1.69"}},{"$f":"+[1]Tabulka!BE100","v":0},{"$f":"+[1]Tabulka!BF100","v":{"v":0,"d":"0.00"}},{"$f":"+[1]Tabulka!BG100","v":0},{"$f":"+[1]Tabulka!BH100","v":{"v":0,"d":"0.00"}},{"$f":"+[1]Tabulka!BI100","v":0},{"$f":"+[1]Tabulka!BJ100","v":{"v":0,"d":"0.00"}},{"$f":"+[1]Tabulka!AP100","v":{"v":0,"d":"0.00"}},{"$f":"+[1]Tabulka!AQ100","v":{"v":0,"d":"0.00"}},{"$f":"+[1]Tabulka!BM100","v":{"v":3.5213143518151866,"d":"3.52"}},{"$f":"+[1]Tabulka!BN100","v":4},{"$f":"+[1]Tabulka!BO100","v":{"v":3.196455424037327,"d":"3.20"}}]
["45",{"$f":"[1]Tabulka!C101","v":"MAZUR"},{"$f":"[1]Tabulka!D101","v":"Jan"},{"$f":"[1]Tabulka!E101","v":"1997-01-01"},{"$f":"[1]Tabulka!F101","v":"Hradec nad Moravicí- FIT SPORT KLUB "},{"$f":"[1]Tabulka!G101","v":"OP"},{"$f":"[1]Tabulka!H101","v":0},{"$f":"+[1]Tabulka!AU101","v":25},{"$f":"+[1]Tabulka!AV101","v":{"v":1.0167952208923348,"d":"1.02"}},{"$f":"+[1]Tabulka!AW101","v":21},{"$f":"+[1]Tabulka!AX101","v":{"v":1.3102470939168058,"d":"1.31"}},{"$f":"+[1]Tabulka!AY101","v":32},{"$f":"+[1]Tabulka!AZ101","v":{"v":0.6524151025642111,"d":"0.65"}},{"$f":"+[1]Tabulka!BA101","v":0},{"$f":"+[1]Tabulka!BB101","v":{"v":0,"d":"0.00"}},{"$f":"+[1]Tabulka!BC101","v":33},{"$f":"+[1]Tabulka!BD101","v":{"v":0.6123420427175658,"d":"0.61"}},{"$f":"+[1]Tabulka!BE101","v":33},{"$f":"+[1]Tabulka!BF101","v":{"v":0.6123420427175658,"d":"0.61"}},{"$f":"+[1]Tabulka!BG101","v":0},{"$f":"+[1]Tabulka!BH101","v":{"v":0,"d":"0.00"}},{"$f":"+[1]Tabulka!BI101","v":0},{"$f":"+[1]Tabulka!BJ101","v":{"v":0,"d":"0.00"}},{"$f":"+[1]Tabulka!AP101","v":{"v":0,"d":"0.00"}},{"$f":"+[1]Tabulka!AQ101","v":{"v":0,"d":"0.00"}},{"$f":"+[1]Tabulka!BM101","v":{"v":4.204141502808484,"d":"4.20"}},{"$f":"+[1]Tabulka!BN101","v":5},{"$f":"+[1]Tabulka!BO101","v":{"v":2.979457417373352,"d":"2.98"}}]
[null,{"$f":"[1]Tabulka!C102","v":"ŽELAZKO"},{"$f":"[1]Tabulka!D102","v":"Filip"},{"$f":"[1]Tabulka!E102","v":"2000-07-15"},{"$f":"[1]Tabulka!F102","v":"Ostrava- Mittal TJ"},{"$f":"[1]Tabulka!G102","v":"OV"},{"$f":"[1]Tabulka!H102","v":100},{"$f":"+[1]Tabulka!AU102","v":33},{"$f":"+[1]Tabulka!AV102","v":{"v":0.6123420427175658,"d":"0.61"}},{"$f":"+[1]Tabulka!AW102","v":0},{"$f":"+[1]Tabulka!AX102","v":{"v":0,"d":"0.00"}},{"$f":"+[1]Tabulka!AY102","v":32},{"$f":"+[1]Tabulka!AZ102","v":{"v":0.6524151025642111,"d":"0.65"}},{"$f":"+[1]Tabulka!BA102","v":0},{"$f":"+[1]Tabulka!BB102","v":{"v":0,"d":"0.00"}},{"$f":"+[1]Tabulka!BC102","v":0},{"$f":"+[1]Tabulka!BD102","v":{"v":0,"d":"0.00"}},{"$f":"+[1]Tabulka!BE102","v":17},{"$f":"+[1]Tabulka!BF102","v":{"v":1.6883905547970857,"d":"1.69"}},{"$f":"+[1]Tabulka!BG102","v":0},{"$f":"+[1]Tabulka!BH102","v":{"v":0,"d":"0.00"}},{"$f":"+[1]Tabulka!BI102","v":0},{"$f":"+[1]Tabulka!BJ102","v":{"v":0,"d":"0.00"}},{"$f":"+[1]Tabulka!AP102","v":{"v":0.06663873682144401,"d":"0.07"}},{"$f":"+[1]Tabulka!AQ102","v":{"v":1,"d":"1.00"}},{"$f":"+[1]Tabulka!BM102","v":{"v":2.9531477000788624,"d":"2.95"}},{"$f":"+[1]Tabulka!BN102","v":3},{"$f":"+[1]Tabulka!BO102","v":{"v":2.9531477000788624,"d":"2.95"}}]
["45",{"$f":"[1]Tabulka!C103","v":"STAROSTKA"},{"$f":"[1]Tabulka!D103","v":"Vojtěch"},{"$f":"[1]Tabulka!E103","v":"1998-01-01"},{"$f":"[1]Tabulka!F103","v":"Orlová- Slávie SK"},{"$f":"[1]Tabulka!G103","v":"KA"},{"$f":"[1]Tabulka!H103","v":0},{"$f":"+[1]Tabulka!AU103","v":35},{"$f":"+[1]Tabulka!AV103","v":{"v":0.5394289174769091,"d":"0.54"}},{"$f":"+[1]Tabulka!AW103","v":30},{"$f":"+[1]Tabulka!AX103","v":{"v":0.7406002601279904,"d":"0.74"}},{"$f":"+[1]Tabulka!AY103","v":30},{"$f":"+[1]Tabulka!AZ103","v":{"v":0.7406002601279904,"d":"0.74"}},{"$f":"+[1]Tabulka!BA103","v":45},{"$f":"+[1]Tabulka!BB103","v":{"v":0.2861771485854786,"d":"0.29"}},{"$f":"+[1]Tabulka!BC103","v":33},{"$f":"+[1]Tabulka!BD103","v":{"v":0.6123420427175658,"d":"0.61"}},{"$f":"+[1]Tabulka!BE103","v":0},{"$f":"+[1]Tabulka!BF103","v":{"v":0,"d":"0.00"}},{"$f":"+[1]Tabulka!BG103","v":0},{"$f":"+[1]Tabulka!BH103","v":{"v":0,"d":"0.00"}},{"$f":"+[1]Tabulka!BI103","v":0},{"$f":"+[1]Tabulka!BJ103","v":{"v":0,"d":"0.00"}},{"$f":"+[1]Tabulka!AP103","v":{"v":1.5857076323460282,"d":"1.59"}},{"$f":"+[1]Tabulka!AQ103","v":{"v":1,"d":"1.00"}},{"$f":"+[1]Tabulka!BM103","v":{"v":2.9191486290359343,"d":"2.92"}},{"$f":"+[1]Tabulka!BN103","v":5},{"$f":"+[1]Tabulka!BO103","v":{"v":2.9191486290359343,"d":"2.92"}}]
["45",{"$f":"[1]Tabulka!C104","v":"STOŠEK"},{"$f":"[1]Tabulka!D104","v":"Daniel"},{"$f":"[1]Tabulka!E104","v":"1997-12-07"},{"$f":"[1]Tabulka!F104","v":"Hradec nad Moravicí- FIT SPORT KLUB "},{"$f":"[1]Tabulka!G104","v":"OP"},{"$f":"[1]Tabulka!H104","v":100},{"$f":"+[1]Tabulka!AU104","v":0},{"$f":"+[1]Tabulka!AV104","v":{"v":0,"d":"0.00"}},{"$f":"+[1]Tabulka!AW104","v":0},{"$f":"+[1]Tabulka!AX104","v":{"v":0,"d":"0.00"}},{"$f":"+[1]Tabulka!AY104","v":17},{"$f":"+[1]Tabulka!AZ104","v":{"v":1.6883905547970857,"d":"1.69"}},{"$f":"+[1]Tabulka!BA104","v":0},{"$f":"+[1]Tabulka!BB104","v":{"v":0,"d":"0.00"}},{"$f":"+[1]Tabulka!BC104","v":33},{"$f":"+[1]Tabulka!BD104","v":{"v":0.6123420427175658,"d":"0.61"}},{"$f":"+[1]Tabulka!BE104","v":33},{"$f":"+[1]Tabulka!BF104","v":{"v":0.6123420427175658,"d":"0.61"}},{"$f":"+[1]Tabulka!BG104","v":0},{"$f":"+[1]Tabulka!BH104","v":{"v":0,"d":"0.00"}},{"$f":"+[1]Tabulka!BI104","v":0},{"$f":"+[1]Tabulka!BJ104","v":{"v":0,"d":"0.00"}},{"$f":"+[1]Tabulka!AP104","v":{"v":0,"d":"0.00"}},{"$f":"+[1]Tabulka!AQ104","v":{"v":0,"d":"0.00"}},{"$f":"+[1]Tabulka!BM104","v":{"v":2.9130746402322174,"d":"2.91"}},{"$f":"+[1]Tabulka!BN104","v":3},{"$f":"+[1]Tabulka!BO104","v":{"v":2.9130746402322174,"d":"2.91"}}]
[null,{"$f":"[1]Tabulka!C105","v":"MORYS"},{"$f":"[1]Tabulka!D105","v":"Patrik"},{"$f":"[1]Tabulka!E105","v":"1999-01-01"},{"$f":"[1]Tabulka!F105","v":"Ostrava- Domik"},{"$f":"[1]Tabulka!G105","v":"OV"},{"$f":"[1]Tabulka!H105","v":0},{"$f":"+[1]Tabulka!AU105","v":43},{"$f":"+[1]Tabulka!AV105","v":{"v":0.32485892777785963,"d":"0.32"}},{"$f":"+[1]Tabulka!AW105","v":27},{"$f":"+[1]Tabulka!AX105","v":{"v":0.8957228265226755,"d":"0.90"}},{"$f":"+[1]Tabulka!AY105","v":0},{"$f":"+[1]Tabulka!AZ105","v":{"v":0,"d":"0.00"}},{"$f":"+[1]Tabulka!BA105","v":0},{"$f":"+[1]Tabulka!BB105","v":{"v":0,"d":"0.00"}},{"$f":"+[1]Tabulka!BC105","v":0},{"$f":"+[1]Tabulka!BD105","v":{"v":0,"d":"0.00"}},{"$f":"+[1]Tabulka!BE105","v":17},{"$f":"+[1]Tabulka!BF105","v":{"v":1.6883905547970857,"d":"1.69"}},{"$f":"+[1]Tabulka!BG105","v":0},{"$f":"+[1]Tabulka!BH105","v":{"v":0,"d":"0.00"}},{"$f":"+[1]Tabulka!BI105","v":0},{"$f":"+[1]Tabulka!BJ105","v":{"v":0,"d":"0.00"}},{"$f":"+[1]Tabulka!AP105","v":{"v":0,"d":"0.00"}},{"$f":"+[1]Tabulka!AQ105","v":{"v":0,"d":"0.00"}},{"$f":"+[1]Tabulka!BM105","v":{"v":2.9089723090976207,"d":"2.91"}},{"$f":"+[1]Tabulka!BN105","v":3},{"$f":"+[1]Tabulka!BO105","v":{"v":2.9089723090976207,"d":"2.91"}}]
["46",{"$f":"[1]Tabulka!C106","v":"NOVÁK"},{"$f":"[1]Tabulka!D106","v":"Adam"},{"$f":"[1]Tabulka!E106","v":"2001-07-22"},{"$f":"[1]Tabulka!F106","v":"Karviná- KLUBsten KST"},{"$f":"[1]Tabulka!G106","v":"KA"},{"$f":"[1]Tabulka!H106","v":100},{"$f":"+[1]Tabulka!AU106","v":0},{"$f":"+[1]Tabulka!AV106","v":{"v":0,"d":"0.00"}},{"$f":"+[1]Tabulka!AW106","v":34},{"$f":"+[1]Tabulka!AX106","v":{"v":0.5747303761145184,"d":"0.57"}},{"$f":"+[1]Tabulka!AY106","v":24},{"$f":"+[1]Tabulka!AZ106","v":{"v":1.083336619156891,"d":"1.08"}},{"$f":"+[1]Tabulka!BA106","v":0},{"$f":"+[1]Tabulka!BB106","v":{"v":0,"d":"0.00"}},{"$f":"+[1]Tabulka!BC106","v":22},{"$f":"+[1]Tabulka!BD106","v":{"v":1.2297682545980093,"d":"1.23"}},{"$f":"+[1]Tabulka!BE106","v":0},{"$f":"+[1]Tabulka!BF106","v":{"v":0,"d":"0.00"}},{"$f":"+[1]Tabulka!BG106","v":0},{"$f":"+[1]Tabulka!BH106","v":{"v":0,"d":"0.00"}},{"$f":"+[1]Tabulka!BI106","v":0},{"$f":"+[1]Tabulka!BJ106","v":{"v":0,"d":"0.00"}},{"$f":"+[1]Tabulka!AP106","v":{"v":0.06663873682144401,"d":"0.07"}},{"$f":"+[1]Tabulka!AQ106","v":{"v":1,"d":"1.00"}},{"$f":"+[1]Tabulka!BM106","v":{"v":2.8878352498694184,"d":"2.89"}},{"$f":"+[1]Tabulka!BN106","v":3},{"$f":"+[1]Tabulka!BO106","v":{"v":2.8878352498694184,"d":"2.89"}}]
["47",{"$f":"[1]Tabulka!C107","v":"ČONKA"},{"$f":"[1]Tabulka!D107","v":"František"},{"$f":"[1]Tabulka!E107","v":"1996-01-01"},{"$f":"[1]Tabulka!F107","v":"Ostrava- Don Bosco SSVČ"},{"$f":"[1]Tabulka!G107","v":"OV"},{"$f":"[1]Tabulka!H107","v":0},{"$f":"+[1]Tabulka!AU107","v":9},{"$f":"+[1]Tabulka!AV107","v":{"v":2.803575987529016,"d":"2.80"}},{"$f":"+[1]Tabulka!AW107","v":0},{"$f":"+[1]Tabulka!AX107","v":{"v":0,"d":"0.00"}},{"$f":"+[1]Tabulka!AY107","v":0},{"$f":"+[1]Tabulka!AZ107","v":{"v":0,"d":"0.00"}},{"$f":"+[1]Tabulka!BA107","v":0},{"$f":"+[1]Tabulka!BB107","v":{"v":0,"d":"0.00"}},{"$f":"+[1]Tabulka!BC107","v":0},{"$f":"+[1]Tabulka!BD107","v":{"v":0,"d":"0.00"}},{"$f":"+[1]Tabulka!BE107","v":0},{"$f":"+[1]Tabulka!BF107","v":{"v":0,"d":"0.00"}},{"$f":"+[1]Tabulka!BG107","v":0},{"$f":"+[1]Tabulka!BH107","v":{"v":0,"d":"0.00"}},{"$f":"+[1]Tabulka!BI107","v":0},{"$f":"+[1]Tabulka!BJ107","v":{"v":0,"d":"0.00"}},{"$f":"+[1]Tabulka!AP107","v":{"v":0,"d":"0.00"}},{"$f":"+[1]Tabulka!AQ107","v":{"v":0,"d":"0.00"}},{"$f":"+[1]Tabulka!BM107","v":{"v":2.803575987529016,"d":"2.80"}},{"$f":"+[1]Tabulka!BN107","v":1},{"$f":"+[1]Tabulka!BO107","v":{"v":2.803575987529016,"d":"2.80"}}]
[null,{"$f":"[1]Tabulka!C108","v":"DAŇOVÁ"},{"$f":"[1]Tabulka!D108","v":"Andrea"},{"$f":"[1]Tabulka!E108","v":"1997-03-28"},{"$f":"[1]Tabulka!F108","v":"Frýdlant nad Ostravicí- SK"},{"$f":"[1]Tabulka!G108","v":"FM"},{"$f":"[1]Tabulka!H108","v":100},{"$f":"+[1]Tabulka!AU108","v":0},{"$f":"+[1]Tabulka!AV108","v":{"v":0,"d":"0.00"}},{"$f":"+[1]Tabulka!AW108","v":0},{"$f":"+[1]Tabulka!AX108","v":{"v":0,"d":"0.00"}},{"$f":"+[1]Tabulka!AY108","v":0},{"$f":"+[1]Tabulka!AZ108","v":{"v":0,"d":"0.00"}},{"$f":"+[1]Tabulka!BA108","v":0},{"$f":"+[1]Tabulka!BB108","v":{"v":0,"d":"0.00"}},{"$f":"+[1]Tabulka!BC108","v":0},{"$f":"+[1]Tabulka!BD108","v":{"v":0,"d":"0.00"}},{"$f":"+[1]Tabulka!BE108","v":9},{"$f":"+[1]Tabulka!BF108","v":{"v":2.803575987529016,"d":"2.80"}},{"$f":"+[1]Tabulka!BG108","v":0},{"$f":"+[1]Tabulka!BH108","v":{"v":0,"d":"0.00"}},{"$f":"+[1]Tabulka!BI108","v":0},{"$f":"+[1]Tabulka!BJ108","v":{"v":0,"d":"0.00"}},{"$f":"+[1]Tabulka!AP108","v":{"v":3.613877181435401,"d":"3.61"}},{"$f":"+[1]Tabulka!AQ108","v":{"v":3,"d":"3.00"}},{"$f":"+[1]Tabulka!BM108","v":{"v":2.803575987529016,"d":"2.80"}},{"$f":"+[1]Tabulka!BN108","v":1},{"$f":"+[1]Tabulka!BO108","v":{"v":2.803575987529016,"d":"2.80"}}]
[null,{"$f":"[1]Tabulka!C109","v":"DAŇOVÁ"},{"$f":"[1]Tabulka!D109","v":"Barbora"},{"$f":"[1]Tabulka!E109","v":"1999-05-19"},{"$f":"[1]Tabulka!F109","v":"Frýdlant nad Ostravicí- SK"},{"$f":"[1]Tabulka!G109","v":"FM"},{"$f":"[1]Tabulka!H109","v":100},{"$f":"+[1]Tabulka!AU109","v":0},{"$f":"+[1]Tabulka!AV109","v":{"v":0,"d":"0.00"}},{"$f":"+[1]Tabulka!AW109","v":0},{"$f":"+[1]Tabulka!AX109","v":{"v":0,"d":"0.00"}},{"$f":"+[1]Tabulka!AY109","v":0},{"$f":"+[1]Tabulka!AZ109","v":{"v":0,"d":"0.00"}},{"$f":"+[1]Tabulka!BA109","v":0},{"$f":"+[1]Tabulka!BB109","v":{"v":0,"d":"0.00"}},{"$f":"+[1]Tabulka!BC109","v":0},{"$f":"+[1]Tabulka!BD109","v":{"v":0,"d":"0.00"}},{"$f":"+[1]Tabulka!BE109","v":9},{"$f":"+[1]Tabulka!BF109","v":{"v":2.803575987529016,"d":"2.80"}},{"$f":"+[1]Tabulka!BG109","v":0},{"$f":"+[1]Tabulka!BH109","v":{"v":0,"d":"0.00"}},{"$f":"+[1]Tabulka!BI109","v":0},{"$f":"+[1]Tabulka!BJ109","v":{"v":0,"d":"0.00"}},{"$f":"+[1]Tabulka!AP109","v":{"v":3.4825386020467652,"d":"3.48"}},{"$f":"+[1]Tabulka!AQ109","v":{"v":3,"d":"3.00"}},{"$f":"+[1]Tabulka!BM109","v":{"v":2.803575987529016,"d":"2.80"}},{"$f":"+[1]Tabulka!BN109","v":1},{"$f":"+[1]Tabulka!BO109","v":{"v":2.803575987529016,"d":"2.80"}}]
["46",{"$f":"[1]Tabulka!C110","v":"HORVÁTH"},{"$f":"[1]Tabulka!D110","v":"Josef"},{"$f":"[1]Tabulka!E110","v":"1995-11-17"},{"$f":"[1]Tabulka!F110","v":"Ostrava- Don Bosco SSVČ"},{"$f":"[1]Tabulka!G110","v":"OV"},{"$f":"[1]Tabulka!H110","v":100},{"$f":"+[1]Tabulka!AU110","v":9},{"$f":"+[1]Tabulka!AV110","v":{"v":2.803575987529016,"d":"2.80"}},{"$f":"+[1]Tabulka!AW110","v":0},{"$f":"+[1]Tabulka!AX110","v":{"v":0,"d":"0.00"}},{"$f":"+[1]Tabulka!AY110","v":0},{"$f":"+[1]Tabulka!AZ110","v":{"v":0,"d":"0.00"}},{"$f":"+[1]Tabulka!BA110","v":0},{"$f":"+[1]Tabulka!BB110","v":{"v":0,"d":"0.00"}},{"$f":"+[1]Tabulka!BC110","v":0},{"$f":"+[1]Tabulka!BD110","v":{"v":0,"d":"0.00"}},{"$f":"+[1]Tabulka!BE110","v":0},{"$f":"+[1]Tabulka!BF110","v":{"v":0,"d":"0.00"}},{"$f":"+[1]Tabulka!BG110","v":0},{"$f":"+[1]Tabulka!BH110","v":{"v":0,"d":"0.00"}},{"$f":"+[1]Tabulka!BI110","v":0},{"$f":"+[1]Tabulka!BJ110","v":{"v":0,"d":"0.00"}},{"$f":"+[1]Tabulka!AP110","v":{"v":0,"d":"0.00"}},{"$f":"+[1]Tabulka!AQ110","v":{"v":0,"d":"0.00"}},{"$f":"+[1]Tabulka!BM110","v":{"v":2.803575987529016,"d":"2.80"}},{"$f":"+[1]Tabulka!BN110","v":1},{"$f":"+[1]Tabulka!BO110","v":{"v":2.803575987529016,"d":"2.80"}}]
["46",{"$f":"[1]Tabulka!C111","v":"PETROVOVÁ"},{"$f":"[1]Tabulka!D111","v":"Nikita"},{"$f":"[1]Tabulka!E111","v":"1999-09-26"},{"$f":"[1]Tabulka!F111","v":"Frýdlant nad Ostravicí- SK"},{"$f":"[1]Tabulka!G111","v":"FM"},{"$f":"[1]Tabulka!H111","v":100},{"$f":"+[1]Tabulka!AU111","v":0},{"$f":"+[1]Tabulka!AV111","v":{"v":0,"d":"0.00"}},{"$f":"+[1]Tabulka!AW111","v":0},{"$f":"+[1]Tabulka!AX111","v":{"v":0,"d":"0.00"}},{"$f":"+[1]Tabulka!AY111","v":0},{"$f":"+[1]Tabulka!AZ111","v":{"v":0,"d":"0.00"}},{"$f":"+[1]Tabulka!BA111","v":0},{"$f":"+[1]Tabulka!BB111","v":{"v":0,"d":"0.00"}},{"$f":"+[1]Tabulka!BC111","v":0},{"$f":"+[1]Tabulka!BD111","v":{"v":0,"d":"0.00"}},{"$f":"+[1]Tabulka!BE111","v":9},{"$f":"+[1]Tabulka!BF111","v":{"v":2.803575987529016,"d":"2.80"}},{"$f":"+[1]Tabulka!BG111","v":0},{"$f":"+[1]Tabulka!BH111","v":{"v":0,"d":"0.00"}},{"$f":"+[1]Tabulka!BI111","v":0},{"$f":"+[1]Tabulka!BJ111","v":{"v":0,"d":"0.00"}},{"$f":"+[1]Tabulka!AP111","v":{"v":4.103666176028142,"d":"4.10"}},{"$f":"+[1]Tabulka!AQ111","v":{"v":1,"d":"1.00"}},{"$f":"+[1]Tabulka!BM111","v":{"v":2.803575987529016,"d":"2.80"}},{"$f":"+[1]Tabulka!BN111","v":1},{"$f":"+[1]Tabulka!BO111","v":{"v":2.803575987529016,"d":"2.80"}}]
["47",{"$f":"[1]Tabulka!C112","v":"REVAJ"},{"$f":"[1]Tabulka!D112","v":"Jakub"},{"$f":"[1]Tabulka!E112","v":"1996-07-06"},{"$f":"[1]Tabulka!F112","v":"Český Těšín- SKST"},{"$f":"[1]Tabulka!G112","v":"KA"},{"$f":"[1]Tabulka!H112","v":100},{"$f":"+[1]Tabulka!AU112","v":0},{"$f":"+[1]Tabulka!AV112","v":{"v":0,"d":"0.00"}},{"$f":"+[1]Tabulka!AW112","v":0},{"$f":"+[1]Tabulka!AX112","v":{"v":0,"d":"0.00"}},{"$f":"+[1]Tabulka!AY112","v":0},{"$f":"+[1]Tabulka!AZ112","v":{"v":0,"d":"0.00"}},{"$f":"+[1]Tabulka!BA112","v":0},{"$f":"+[1]Tabulka!BB112","v":{"v":0,"d":"0.00"}},{"$f":"+[1]Tabulka!BC112","v":0},{"$f":"+[1]Tabulka!BD112","v":{"v":0,"d":"0.00"}},{"$f":"+[1]Tabulka!BE112","v":20},{"$f":"+[1]Tabulka!BF112","v":{"v":1.3959926520290693,"d":"1.40"}},{"$f":"+[1]Tabulka!BG112","v":20},{"$f":"+[1]Tabulka!BH112","v":{"v":1.3959926520290693,"d":"1.40"}},{"$f":"+[1]Tabulka!BI112","v":0},{"$f":"+[1]Tabulka!BJ112","v":{"v":0,"d":"0.00"}},{"$f":"+[1]Tabulka!AP112","v":{"v":0,"d":"0.00"}},{"$f":"+[1]Tabulka!AQ112","v":{"v":0,"d":"0.00"}},{"$f":"+[1]Tabulka!BM112","v":{"v":2.7919853040581386,"d":"2.79"}},{"$f":"+[1]Tabulka!BN112","v":2},{"$f":"+[1]Tabulka!BO112","v":{"v":2.7919853040581386,"d":"2.79"}}]
["48",{"$f":"[1]Tabulka!C113","v":"LOPOČ"},{"$f":"[1]Tabulka!D113","v":"Lukáš"},{"$f":"[1]Tabulka!E113","v":"2000-08-15"},{"$f":"[1]Tabulka!F113","v":"Kravaře- SK TJ"},{"$f":"[1]Tabulka!G113","v":"OP"},{"$f":"[1]Tabulka!H113","v":100},{"$f":"+[1]Tabulka!AU113","v":25},{"$f":"+[1]Tabulka!AV113","v":{"v":1.0167952208923348,"d":"1.02"}},{"$f":"+[1]Tabulka!AW113","v":0},{"$f":"+[1]Tabulka!AX113","v":{"v":0,"d":"0.00"}},{"$f":"+[1]Tabulka!AY113","v":0},{"$f":"+[1]Tabulka!AZ113","v":{"v":0,"d":"0.00"}},{"$f":"+[1]Tabulka!BA113","v":17},{"$f":"+[1]Tabulka!BB113","v":{"v":1.6883905547970857,"d":"1.69"}},{"$f":"+[1]Tabulka!BC113","v":0},{"$f":"+[1]Tabulka!BD113","v":{"v":0,"d":"0.00"}},{"$f":"+[1]Tabulka!BE113","v":0},{"$f":"+[1]Tabulka!BF113","v":{"v":0,"d":"0.00"}},{"$f":"+[1]Tabulka!BG113","v":0},{"$f":"+[1]Tabulka!BH113","v":{"v":0,"d":"0.00"}},{"$f":"+[1]Tabulka!BI113","v":0},{"$f":"+[1]Tabulka!BJ113","v":{"v":0,"d":"0.00"}},{"$f":"+[1]Tabulka!AP113","v":{"v":0,"d":"0.00"}},{"$f":"+[1]Tabulka!AQ113","v":{"v":0,"d":"0.00"}},{"$f":"+[1]Tabulka!BM113","v":{"v":2.7051857756894204,"d":"2.71"}},{"$f":"+[1]Tabulka!BN113","v":2},{"$f":"+[1]Tabulka!BO113","v":{"v":2.7051857756894204,"d":"2.71"}}]
["47",{"$f":"[1]Tabulka!C114","v":"KAŇA"},{"$f":"[1]Tabulka!D114","v":"Jan"},{"$f":"[1]Tabulka!E114","v":"1999-01-01"},{"$f":"[1]Tabulka!F114","v":"Ludgeřovice"},{"$f":"[1]Tabulka!G114","v":"OP"},{"$f":"[1]Tabulka!H114","v":0},{"$f":"+[1]Tabulka!AU114","v":0},{"$f":"+[1]Tabulka!AV114","v":{"v":0,"d":"0.00"}},{"$f":"+[1]Tabulka!AW114","v":27},{"$f":"+[1]Tabulka!AX114","v":{"v":0.8957228265226755,"d":"0.90"}},{"$f":"+[1]Tabulka!AY114","v":0},{"$f":"+[1]Tabulka!AZ114","v":{"v":0,"d":"0.00"}},{"$f":"+[1]Tabulka!BA114","v":17},{"$f":"+[1]Tabulka!BB114","v":{"v":1.6883905547970857,"d":"1.69"}},{"$f":"+[1]Tabulka!BC114","v":0},{"$f":"+[1]Tabulka!BD114","v":{"v":0,"d":"0.00"}},{"$f":"+[1]Tabulka!BE114","v":0},{"$f":"+[1]Tabulka!BF114","v":{"v":0,"d":"0.00"}},{"$f":"+[1]Tabulka!BG114","v":0},{"$f":"+[1]Tabulka!BH114","v":{"v":0,"d":"0.00"}},{"$f":"+[1]Tabulka!BI114","v":0},{"$f":"+[1]Tabulka!BJ114","v":{"v":0,"d":"0.00"}},{"$f":"+[1]Tabulka!AP114","v":{"v":0,"d":"0.00"}},{"$f":"+[1]Tabulka!AQ114","v":{"v":0,"d":"0.00"}},{"$f":"+[1]Tabulka!BM114","v":{"v":2.584113381319761,"d":"2.58"}},{"$f":"+[1]Tabulka!BN114","v":2},{"$f":"+[1]Tabulka!BO114","v":{"v":2.584113381319761,"d":"2.58"}}]
["48",{"$f":"[1]Tabulka!C115","v":"GOLASOWSKI"},{"$f":"[1]Tabulka!D115","v":"Martin"},{"$f":"[1]Tabulka!E115","v":"1998-10-15"},{"$f":"[1]Tabulka!F115","v":"Karviná- KLUBsten KST"},{"$f":"[1]Tabulka!G115","v":"KA"},{"$f":"[1]Tabulka!H115","v":100},{"$f":"+[1]Tabulka!AU115","v":0},{"$f":"+[1]Tabulka!AV115","v":{"v":0,"d":"0.00"}},{"$f":"+[1]Tabulka!AW115","v":0},{"$f":"+[1]Tabulka!AX115","v":{"v":0,"d":"0.00"}},{"$f":"+[1]Tabulka!AY115","v":0},{"$f":"+[1]Tabulka!AZ115","v":{"v":0,"d":"0.00"}},{"$f":"+[1]Tabulka!BA115","v":22},{"$f":"+[1]Tabulka!BB115","v":{"v":1.2297682545980093,"d":"1.23"}},{"$f":"+[1]Tabulka!BC115","v":0},{"$f":"+[1]Tabulka!BD115","v":{"v":0,"d":"0.00"}},{"$f":"+[1]Tabulka!BE115","v":0},{"$f":"+[1]Tabulka!BF115","v":{"v":0,"d":"0.00"}},{"$f":"+[1]Tabulka!BG115","v":21},{"$f":"+[1]Tabulka!BH115","v":{"v":1.3102470939168058,"d":"1.31"}},{"$f":"+[1]Tabulka!BI115","v":0},{"$f":"+[1]Tabulka!BJ115","v":{"v":0,"d":"0.00"}},{"$f":"+[1]Tabulka!AP115","v":{"v":0.12561052426197886,"d":"0.13"}},{"$f":"+[1]Tabulka!AQ115","v":{"v":1,"d":"1.00"}},{"$f":"+[1]Tabulka!BM115","v":{"v":2.540015348514815,"d":"2.54"}},{"$f":"+[1]Tabulka!BN115","v":2},{"$f":"+[1]Tabulka!BO115","v":{"v":2.540015348514815,"d":"2.54"}}]
["49",{"$f":"[1]Tabulka!C116","v":"SELVEKOVÁ"},{"$f":"[1]Tabulka!D116","v":"Eliška"},{"$f":"[1]Tabulka!E116","v":"1999-02-15"},{"$f":"[1]Tabulka!F116","v":"Hradec nad Moravicí- FIT SPORT KLUB "},{"$f":"[1]Tabulka!G116","v":"OP"},{"$f":"[1]Tabulka!H116","v":100},{"$f":"+[1]Tabulka!AU116","v":43},{"$f":"+[1]Tabulka!AV116","v":{"v":0.32485892777785963,"d":"0.32"}},{"$f":"+[1]Tabulka!AW116","v":19},{"$f":"+[1]Tabulka!AX116","v":{"v":1.4873495950244735,"d":"1.49"}},{"$f":"+[1]Tabulka!AY116","v":33},{"$f":"+[1]Tabulka!AZ116","v":{"v":0.6123420427175658,"d":"0.61"}},{"$f":"+[1]Tabulka!BA116","v":0},{"$f":"+[1]Tabulka!BB116","v":{"v":0,"d":"0.00"}},{"$f":"+[1]Tabulka!BC116","v":0},{"$f":"+[1]Tabulka!BD116","v":{"v":0,"d":"0.00"}},{"$f":"+[1]Tabulka!BE116","v":0},{"$f":"+[1]Tabulka!BF116","v":{"v":0,"d":"0.00"}},{"$f":"+[1]Tabulka!BG116","v":0},{"$f":"+[1]Tabulka!BH116","v":{"v":0,"d":"0.00"}},{"$f":"+[1]Tabulka!BI116","v":0},{"$f":"+[1]Tabulka!BJ116","v":{"v":0,"d":"0.00"}},{"$f":"+[1]Tabulka!AP116","v":{"v":0,"d":"0.00"}},{"$f":"+[1]Tabulka!AQ116","v":{"v":0,"d":"0.00"}},{"$f":"+[1]Tabulka!BM116","v":{"v":2.424550565519899,"d":"2.42"}},{"$f":"+[1]Tabulka!BN116","v":3},{"$f":"+[1]Tabulka!BO116","v":{"v":2.424550565519899,"d":"2.42"}}]
["49",{"$f":"[1]Tabulka!C117","v":"KUBATKO"},{"$f":"[1]Tabulka!D117","v":"Martin"},{"$f":"[1]Tabulka!E117","v":"1994-02-03"},{"$f":"[1]Tabulka!F117","v":"Dětmarovice- Sokol TJ"},{"$f":"[1]Tabulka!G117","v":"KA"},{"$f":"[1]Tabulka!H117","v":100},{"$f":"+[1]Tabulka!AU117","v":0},{"$f":"+[1]Tabulka!AV117","v":{"v":0,"d":"0.00"}},{"$f":"+[1]Tabulka!AW117","v":0},{"$f":"+[1]Tabulka!AX117","v":{"v":0,"d":"0.00"}},{"$f":"+[1]Tabulka!AY117","v":0},{"$f":"+[1]Tabulka!AZ117","v":{"v":0,"d":"0.00"}},{"$f":"+[1]Tabulka!BA117","v":0},{"$f":"+[1]Tabulka!BB117","v":{"v":0,"d":"0.00"}},{"$f":"+[1]Tabulka!BC117","v":0},{"$f":"+[1]Tabulka!BD117","v":{"v":0,"d":"0.00"}},{"$f":"+[1]Tabulka!BE117","v":12},{"$f":"+[1]Tabulka!BF117","v":{"v":2.3180486688200013,"d":"2.32"}},{"$f":"+[1]Tabulka!BG117","v":0},{"$f":"+[1]Tabulka!BH117","v":{"v":0,"d":"0.00"}},{"$f":"+[1]Tabulka!BI117","v":0},{"$f":"+[1]Tabulka!BJ117","v":{"v":0,"d":"0.00"}},{"$f":"+[1]Tabulka!AP117","v":{"v":0,"d":"0.00"}},{"$f":"+[1]Tabulka!AQ117","v":{"v":0,"d":"0.00"}},{"$f":"+[1]Tabulka!BM117","v":{"v":2.3180486688200013,"d":"2.32"}},{"$f":"+[1]Tabulka!BN117","v":1},{"$f":"+[1]Tabulka!BO117","v":{"v":2.3180486688200013,"d":"2.32"}}]
[null,{"$f":"[1]Tabulka!C118","v":"KOMÍNEK"},{"$f":"[1]Tabulka!D118","v":"Daniel"},{"$f":"[1]Tabulka!E118","v":"1998-11-18"},{"$f":"[1]Tabulka!F118","v":"Frýdek-Místek- Slezan TJ"},{"$f":"[1]Tabulka!G118","v":"FM"},{"$f":"[1]Tabulka!H118","v":100},{"$f":"+[1]Tabulka!AU118","v":0},{"$f":"+[1]Tabulka!AV118","v":{"v":0,"d":"0.00"}},{"$f":"+[1]Tabulka!AW118","v":0},{"$f":"+[1]Tabulka!AX118","v":{"v":0,"d":"0.00"}},{"$f":"+[1]Tabulka!AY118","v":0},{"$f":"+[1]Tabulka!AZ118","v":{"v":0,"d":"0.00"}},{"$f":"+[1]Tabulka!BA118","v":0},{"$f":"+[1]Tabulka!BB118","v":{"v":0,"d":"0.00"}},{"$f":"+[1]Tabulka!BC118","v":33},{"$f":"+[1]Tabulka!BD118","v":{"v":0.6123420427175658,"d":"0.61"}},{"$f":"+[1]Tabulka!BE118","v":17},{"$f":"+[1]Tabulka!BF118","v":{"v":1.6883905547970857,"d":"1.69"}},{"$f":"+[1]Tabulka!BG118","v":0},{"$f":"+[1]Tabulka!BH118","v":{"v":0,"d":"0.00"}},{"$f":"+[1]Tabulka!BI118","v":0},{"$f":"+[1]Tabulka!BJ118","v":{"v":0,"d":"0.00"}},{"$f":"+[1]Tabulka!AP118","v":{"v":0.4039375407698412,"d":"0.40"}},{"$f":"+[1]Tabulka!AQ118","v":{"v":3,"d":"3.00"}},{"$f":"+[1]Tabulka!BM118","v":{"v":2.3007325975146515,"d":"2.30"}},{"$f":"+[1]Tabulka!BN118","v":2},{"$f":"+[1]Tabulka!BO118","v":{"v":2.3007325975146515,"d":"2.30"}}]
[null,{"$f":"[1]Tabulka!C119","v":"PALICA"},{"$f":"[1]Tabulka!D119","v":"Jiří"},{"$f":"[1]Tabulka!E119","v":"1999-06-17"},{"$f":"[1]Tabulka!F119","v":"Frýdek-Místek- Slezan TJ"},{"$f":"[1]Tabulka!G119","v":"FM"},{"$f":"[1]Tabulka!H119","v":100},{"$f":"+[1]Tabulka!AU119","v":0},{"$f":"+[1]Tabulka!AV119","v":{"v":0,"d":"0.00"}},{"$f":"+[1]Tabulka!AW119","v":0},{"$f":"+[1]Tabulka!AX119","v":{"v":0,"d":"0.00"}},{"$f":"+[1]Tabulka!AY119","v":0},{"$f":"+[1]Tabulka!AZ119","v":{"v":0,"d":"0.00"}},{"$f":"+[1]Tabulka!BA119","v":0},{"$f":"+[1]Tabulka!BB119","v":{"v":0,"d":"0.00"}},{"$f":"+[1]Tabulka!BC119","v":33},{"$f":"+[1]Tabulka!BD119","v":{"v":0.6123420427175658,"d":"0.61"}},{"$f":"+[1]Tabulka!BE119","v":17},{"$f":"+[1]Tabulka!BF119","v":{"v":1.6883905547970857,"d":"1.69"}},{"$f":"+[1]Tabulka!BG119","v":0},{"$f":"+[1]Tabulka!BH119","v":{"v":0,"d":"0.00"}},{"$f":"+[1]Tabulka!BI119","v":0},{"$f":"+[1]Tabulka!BJ119","v":{"v":0,"d":"0.00"}},{"$f":"+[1]Tabulka!AP119","v":{"v":0.09515144171819465,"d":"0.10"}},{"$f":"+[1]Tabulka!AQ119","v":{"v":2,"d":"2.00"}},{"$f":"+[1]Tabulka!BM119","v":{"v":2.3007325975146515,"d":"2.30"}},{"$f":"+[1]Tabulka!BN119","v":2},{"$f":"+[1]Tabulka!BO119","v":{"v":2.3007325975146515,"d":"2.30"}}]
["48",{"$f":"[1]Tabulka!C120","v":"VELKÝ"},{"$f":"[1]Tabulka!D120","v":"Dalibor"},{"$f":"[1]Tabulka!E120","v":"1998-10-30"},{"$f":"[1]Tabulka!F120","v":"Vřesina- DTJ LT"},{"$f":"[1]Tabulka!G120","v":"OV"},{"$f":"[1]Tabulka!H120","v":100},{"$f":"+[1]Tabulka!AU120","v":0},{"$f":"+[1]Tabulka!AV120","v":{"v":0,"d":"0.00"}},{"$f":"+[1]Tabulka!AW120","v":0},{"$f":"+[1]Tabulka!AX120","v":{"v":0,"d":"0.00"}},{"$f":"+[1]Tabulka!AY120","v":0},{"$f":"+[1]Tabulka!AZ120","v":{"v":0,"d":"0.00"}},{"$f":"+[1]Tabulka!BA120","v":33},{"$f":"+[1]Tabulka!BB120","v":{"v":0.6123420427175658,"d":"0.61"}},{"$f":"+[1]Tabulka!BC120","v":17},{"$f":"+[1]Tabulka!BD120","v":{"v":1.6883905547970857,"d":"1.69"}},{"$f":"+[1]Tabulka!BE120","v":0},{"$f":"+[1]Tabulka!BF120","v":{"v":0,"d":"0.00"}},{"$f":"+[1]Tabulka!BG120","v":0},{"$f":"+[1]Tabulka!BH120","v":{"v":0,"d":"0.00"}},{"$f":"+[1]Tabulka!BI120","v":0},{"$f":"+[1]Tabulka!BJ120","v":{"v":0,"d":"0.00"}},{"$f":"+[1]Tabulka!AP120","v":{"v":0,"d":"0.00"}},{"$f":"+[1]Tabulka!AQ120","v":{"v":0,"d":"0.00"}},{"$f":"+[1]Tabulka!BM120","v":{"v":2.3007325975146515,"d":"2.30"}},{"$f":"+[1]Tabulka!BN120","v":2},{"$f":"+[1]Tabulka!BO120","v":{"v":2.3007325975146515,"d":"2.30"}}]
[null,{"$f":"[1]Tabulka!C121","v":"VANĚK"},{"$f":"[1]Tabulka!D121","v":"Jan"},{"$f":"[1]Tabulka!E121","v":"1997-01-01"},{"$f":"[1]Tabulka!F121","v":"Vratimov- MG Odra Gas TTC"},{"$f":"[1]Tabulka!G121","v":"OV"},{"$f":"[1]Tabulka!H121","v":0},{"$f":"+[1]Tabulka!AU121","v":33},{"$f":"+[1]Tabulka!AV121","v":{"v":0.6123420427175658,"d":"0.61"}},{"$f":"+[1]Tabulka!AW121","v":25},{"$f":"+[1]Tabulka!AX121","v":{"v":1.0167952208923348,"d":"1.02"}},{"$f":"+[1]Tabulka!AY121","v":37},{"$f":"+[1]Tabulka!AZ121","v":{"v":0.4751977435991968,"d":"0.48"}},{"$f":"+[1]Tabulka!BA121","v":0},{"$f":"+[1]Tabulka!BB121","v":{"v":0,"d":"0.00"}},{"$f":"+[1]Tabulka!BC121","v":0},{"$f":"+[1]Tabulka!BD121","v":{"v":0,"d":"0.00"}},{"$f":"+[1]Tabulka!BE121","v":33},{"$f":"+[1]Tabulka!BF121","v":{"v":0.6123420427175658,"d":"0.61"}},{"$f":"+[1]Tabulka!BG121","v":0},{"$f":"+[1]Tabulka!BH121","v":{"v":0,"d":"0.00"}},{"$f":"+[1]Tabulka!BI121","v":0},{"$f":"+[1]Tabulka!BJ121","v":{"v":0,"d":"0.00"}},{"$f":"+[1]Tabulka!AP121","v":{"v":0,"d":"0.00"}},{"$f":"+[1]Tabulka!AQ121","v":{"v":0,"d":"0.00"}},{"$f":"+[1]Tabulka!BM121","v":{"v":2.7166770499266635,"d":"2.72"}},{"$f":"+[1]Tabulka!BN121","v":4},{"$f":"+[1]Tabulka!BO121","v":{"v":2.2414793063274665,"d":"2.24"}}]
["50",{"$f":"[1]Tabulka!C122","v":"SIKORA"},{"$f":"[1]Tabulka!D122","v":"Robert"},{"$f":"[1]Tabulka!E122","v":"2000-01-01"},{"$f":"[1]Tabulka!F122","v":"Orlová- Siko TTC"},{"$f":"[1]Tabulka!G122","v":"KA"},{"$f":"[1]Tabulka!H122","v":0},{"$f":"+[1]Tabulka!AU122","v":0},{"$f":"+[1]Tabulka!AV122","v":{"v":0,"d":"0.00"}},{"$f":"+[1]Tabulka!AW122","v":0},{"$f":"+[1]Tabulka!AX122","v":{"v":0,"d":"0.00"}},{"$f":"+[1]Tabulka!AY122","v":36},{"$f":"+[1]Tabulka!AZ122","v":{"v":0.5062957677259255,"d":"0.51"}},{"$f":"+[1]Tabulka!BA122","v":41},{"$f":"+[1]Tabulka!BB122","v":{"v":0.36876921682465774,"d":"0.37"}},{"$f":"+[1]Tabulka!BC122","v":21},{"$f":"+[1]Tabulka!BD122","v":{"v":1.3102470939168058,"d":"1.31"}},{"$f":"+[1]Tabulka!BE122","v":0},{"$f":"+[1]Tabulka!BF122","v":{"v":0,"d":"0.00"}},{"$f":"+[1]Tabulka!BG122","v":0},{"$f":"+[1]Tabulka!BH122","v":{"v":0,"d":"0.00"}},{"$f":"+[1]Tabulka!BI122","v":0},{"$f":"+[1]Tabulka!BJ122","v":{"v":0,"d":"0.00"}},{"$f":"+[1]Tabulka!AP122","v":{"v":0,"d":"0.00"}},{"$f":"+[1]Tabulka!AQ122","v":{"v":0,"d":"0.00"}},{"$f":"+[1]Tabulka!BM122","v":{"v":2.185312078467389,"d":"2.19"}},{"$f":"+[1]Tabulka!BN122","v":3},{"$f":"+[1]Tabulka!BO122","v":{"v":2.185312078467389,"d":"2.19"}}]
["50",{"$f":"[1]Tabulka!C123","v":"KRUŠBERSKÝ"},{"$f":"[1]Tabulka!D123","v":"Jakub"},{"$f":"[1]Tabulka!E123","v":"1997-04-14"},{"$f":"[1]Tabulka!F123","v":"Kravaře- SK TJ"},{"$f":"[1]Tabulka!G123","v":"OP"},{"$f":"[1]Tabulka!H123","v":100},{"$f":"+[1]Tabulka!AU123","v":13},{"$f":"+[1]Tabulka!AV123","v":{"v":2.1756679932838794,"d":"2.18"}},{"$f":"+[1]Tabulka!AW123","v":0},{"$f":"+[1]Tabulka!AX123","v":{"v":0,"d":"0.00"}},{"$f":"+[1]Tabulka!AY123","v":0},{"$f":"+[1]Tabulka!AZ123","v":{"v":0,"d":"0.00"}},{"$f":"+[1]Tabulka!BA123","v":0},{"$f":"+[1]Tabulka!BB123","v":{"v":0,"d":"0.00"}},{"$f":"+[1]Tabulka!BC123","v":0},{"$f":"+[1]Tabulka!BD123","v":{"v":0,"d":"0.00"}},{"$f":"+[1]Tabulka!BE123","v":0},{"$f":"+[1]Tabulka!BF123","v":{"v":0,"d":"0.00"}},{"$f":"+[1]Tabulka!BG123","v":0},{"$f":"+[1]Tabulka!BH123","v":{"v":0,"d":"0.00"}},{"$f":"+[1]Tabulka!BI123","v":0},{"$f":"+[1]Tabulka!BJ123","v":{"v":0,"d":"0.00"}},{"$f":"+[1]Tabulka!AP123","v":{"v":0,"d":"0.00"}},{"$f":"+[1]Tabulka!AQ123","v":{"v":0,"d":"0.00"}},{"$f":"+[1]Tabulka!BM123","v":{"v":2.1756679932838794,"d":"2.18"}},{"$f":"+[1]Tabulka!BN123","v":1},{"$f":"+[1]Tabulka!BO123","v":{"v":2.1756679932838794,"d":"2.18"}}]
["49",{"$f":"[1]Tabulka!C124","v":"PALETOVÁ"},{"$f":"[1]Tabulka!D124","v":"Barbora"},{"$f":"[1]Tabulka!E124","v":"2001-07-14"},{"$f":"[1]Tabulka!F124","v":"Děhylov- Sokol TJ"},{"$f":"[1]Tabulka!G124","v":"OP"},{"$f":"[1]Tabulka!H124","v":100},{"$f":"+[1]Tabulka!AU124","v":43},{"$f":"+[1]Tabulka!AV124","v":{"v":0.32485892777785963,"d":"0.32"}},{"$f":"+[1]Tabulka!AW124","v":27},{"$f":"+[1]Tabulka!AX124","v":{"v":0.8957228265226755,"d":"0.90"}},{"$f":"+[1]Tabulka!AY124","v":0},{"$f":"+[1]Tabulka!AZ124","v":{"v":0,"d":"0.00"}},{"$f":"+[1]Tabulka!BA124","v":33},{"$f":"+[1]Tabulka!BB124","v":{"v":0.6123420427175658,"d":"0.61"}},{"$f":"+[1]Tabulka!BC124","v":33},{"$f":"+[1]Tabulka!BD124","v":{"v":0.6123420427175658,"d":"0.61"}},{"$f":"+[1]Tabulka!BE124","v":33},{"$f":"+[1]Tabulka!BF124","v":{"v":0.6123420427175658,"d":"0.61"}},{"$f":"+[1]Tabulka!BG124","v":0},{"$f":"+[1]Tabulka!BH124","v":{"v":0,"d":"0.00"}},{"$f":"+[1]Tabulka!BI124","v":0},{"$f":"+[1]Tabulka!BJ124","v":{"v":0,"d":"0.00"}},{"$f":"+[1]Tabulka!AP124","v":{"v":0.9703646675999944,"d":"0.97"}},{"$f":"+[1]Tabulka!AQ124","v":{"v":3,"d":"3.00"}},{"$f":"+[1]Tabulka!BM124","v":{"v":3.0576078824532327,"d":"3.06"}},{"$f":"+[1]Tabulka!BN124","v":5},{"$f":"+[1]Tabulka!BO124","v":{"v":2.120406911957807,"d":"2.12"}}]
["50",{"$f":"[1]Tabulka!C125","v":"ŠYLER"},{"$f":"[1]Tabulka!D125","v":"Jakub"},{"$f":"[1]Tabulka!E125","v":"1997-06-23"},{"$f":"[1]Tabulka!F125","v":"Hradec nad Moravicí- FIT SPORT KLUB "},{"$f":"[1]Tabulka!G125","v":"OP"},{"$f":"[1]Tabulka!H125","v":100},{"$f":"+[1]Tabulka!AU125","v":0},{"$f":"+[1]Tabulka!AV125","v":{"v":0,"d":"0.00"}},{"$f":"+[1]Tabulka!AW125","v":27},{"$f":"+[1]Tabulka!AX125","v":{"v":0.8957228265226755,"d":"0.90"}},{"$f":"+[1]Tabulka!AY125","v":0},{"$f":"+[1]Tabulka!AZ125","v":{"v":0,"d":"0.00"}},{"$f":"+[1]Tabulka!BA125","v":0},{"$f":"+[1]Tabulka!BB125","v":{"v":0,"d":"0.00"}},{"$f":"+[1]Tabulka!BC125","v":33},{"$f":"+[1]Tabulka!BD125","v":{"v":0.6123420427175658,"d":"0.61"}},{"$f":"+[1]Tabulka!BE125","v":33},{"$f":"+[1]Tabulka!BF125","v":{"v":0.6123420427175658,"d":"0.61"}},{"$f":"+[1]Tabulka!BG125","v":0},{"$f":"+[1]Tabulka!BH125","v":{"v":0,"d":"0.00"}},{"$f":"+[1]Tabulka!BI125","v":0},{"$f":"+[1]Tabulka!BJ125","v":{"v":0,"d":"0.00"}},{"$f":"+[1]Tabulka!AP125","v":{"v":0,"d":"0.00"}},{"$f":"+[1]Tabulka!AQ125","v":{"v":0,"d":"0.00"}},{"$f":"+[1]Tabulka!BM125","v":{"v":2.120406911957807,"d":"2.12"}},{"$f":"+[1]Tabulka!BN125","v":3},{"$f":"+[1]Tabulka!BO125","v":{"v":2.120406911957807,"d":"2.12"}}]
["51",{"$f":"[1]Tabulka!C126","v":"KUZNÍK"},{"$f":"[1]Tabulka!D126","v":"Pavel"},{"$f":"[1]Tabulka!E126","v":"1999-04-21"},{"$f":"[1]Tabulka!F126","v":"Hradec nad Moravicí- FIT SPORT KLUB "},{"$f":"[1]Tabulka!G126","v":"OP"},{"$f":"[1]Tabulka!H126","v":100},{"$f":"+[1]Tabulka!AU126","v":43},{"$f":"+[1]Tabulka!AV126","v":{"v":0.32485892777785963,"d":"0.32"}},{"$f":"+[1]Tabulka!AW126","v":21},{"$f":"+[1]Tabulka!AX126","v":{"v":1.3102470939168058,"d":"1.31"}},{"$f":"+[1]Tabulka!AY126","v":37},{"$f":"+[1]Tabulka!AZ126","v":{"v":0.4751977435991968,"d":"0.48"}},{"$f":"+[1]Tabulka!BA126","v":0},{"$f":"+[1]Tabulka!BB126","v":{"v":0,"d":"0.00"}},{"$f":"+[1]Tabulka!BC126","v":0},{"$f":"+[1]Tabulka!BD126","v":{"v":0,"d":"0.00"}},{"$f":"+[1]Tabulka!BE126","v":0},{"$f":"+[1]Tabulka!BF126","v":{"v":0,"d":"0.00"}},{"$f":"+[1]Tabulka!BG126","v":0},{"$f":"+[1]Tabulka!BH126","v":{"v":0,"d":"0.00"}},{"$f":"+[1]Tabulka!BI126","v":0},{"$f":"+[1]Tabulka!BJ126","v":{"v":0,"d":"0.00"}},{"$f":"+[1]Tabulka!AP126","v":{"v":0,"d":"0.00"}},{"$f":"+[1]Tabulka!AQ126","v":{"v":0,"d":"0.00"}},{"$f":"+[1]Tabulka!BM126","v":{"v":2.1103037652938625,"d":"2.11"}},{"$f":"+[1]Tabulka!BN126","v":3},{"$f":"+[1]Tabulka!BO126","v":{"v":2.110303765293862,"d":"2.11"}}]
["51",{"$f":"[1]Tabulka!C127","v":"LUKOSZ"},{"$f":"[1]Tabulka!D127","v":"Richard"},{"$f":"[1]Tabulka!E127","v":"2002-08-28"},{"$f":"[1]Tabulka!F127","v":"Orlová- Siko TTC"},{"$f":"[1]Tabulka!G127","v":"KA"},{"$f":"[1]Tabulka!H127","v":100},{"$f":"+[1]Tabulka!AU127","v":31},{"$f":"+[1]Tabulka!AV127","v":{"v":0.695110634842026,"d":"0.70"}},{"$f":"+[1]Tabulka!AW127","v":32},{"$f":"+[1]Tabulka!AX127","v":{"v":0.6524151025642111,"d":"0.65"}},{"$f":"+[1]Tabulka!AY127","v":31},{"$f":"+[1]Tabulka!AZ127","v":{"v":0.695110634842026,"d":"0.70"}},{"$f":"+[1]Tabulka!BA127","v":0},{"$f":"+[1]Tabulka!BB127","v":{"v":0,"d":"0.00"}},{"$f":"+[1]Tabulka!BC127","v":0},{"$f":"+[1]Tabulka!BD127","v":{"v":0,"d":"0.00"}},{"$f":"+[1]Tabulka!BE127","v":0},{"$f":"+[1]Tabulka!BF127","v":{"v":0,"d":"0.00"}},{"$f":"+[1]Tabulka!BG127","v":0},{"$f":"+[1]Tabulka!BH127","v":{"v":0,"d":"0.00"}},{"$f":"+[1]Tabulka!BI127","v":0},{"$f":"+[1]Tabulka!BJ127","v":{"v":0,"d":"0.00"}},{"$f":"+[1]Tabulka!AP127","v":{"v":0,"d":"0.00"}},{"$f":"+[1]Tabulka!AQ127","v":{"v":0,"d":"0.00"}},{"$f":"+[1]Tabulka!BM127","v":{"v":2.042636372248263,"d":"2.04"}},{"$f":"+[1]Tabulka!BN127","v":3},{"$f":"+[1]Tabulka!BO127","v":{"v":2.042636372248263,"d":"2.04"}}]
["52",{"$f":"[1]Tabulka!C128","v":"SLEPČÍK"},{"$f":"[1]Tabulka!D128","v":"erik"},{"$f":"[1]Tabulka!E128","v":"1996-01-01"},{"$f":"[1]Tabulka!F128","v":"Těrlicko- DDŠ"},{"$f":"[1]Tabulka!G128","v":"KA"},{"$f":"[1]Tabulka!H128","v":0},{"$f":"+[1]Tabulka!AU128","v":0},{"$f":"+[1]Tabulka!AV128","v":{"v":0,"d":"0.00"}},{"$f":"+[1]Tabulka!AW128","v":33},{"$f":"+[1]Tabulka!AX128","v":{"v":0.6123420427175658,"d":"0.61"}},{"$f":"+[1]Tabulka!AY128","v":29},{"$f":"+[1]Tabulka!AZ128","v":{"v":0.7890668302410581,"d":"0.79"}},{"$f":"+[1]Tabulka!BA128","v":0},{"$f":"+[1]Tabulka!BB128","v":{"v":0,"d":"0.00"}},{"$f":"+[1]Tabulka!BC128","v":34},{"$f":"+[1]Tabulka!BD128","v":{"v":0.5747303761145184,"d":"0.57"}},{"$f":"+[1]Tabulka!BE128","v":0},{"$f":"+[1]Tabulka!BF128","v":{"v":0,"d":"0.00"}},{"$f":"+[1]Tabulka!BG128","v":0},{"$f":"+[1]Tabulka!BH128","v":{"v":0,"d":"0.00"}},{"$f":"+[1]Tabulka!BI128","v":0},{"$f":"+[1]Tabulka!BJ128","v":{"v":0,"d":"0.00"}},{"$f":"+[1]Tabulka!AP128","v":{"v":0,"d":"0.00"}},{"$f":"+[1]Tabulka!AQ128","v":{"v":0,"d":"0.00"}},{"$f":"+[1]Tabulka!BM128","v":{"v":1.9761392490731422,"d":"1.98"}},{"$f":"+[1]Tabulka!BN128","v":3},{"$f":"+[1]Tabulka!BO128","v":{"v":1.9761392490731422,"d":"1.98"}}]
["53",{"$f":"[1]Tabulka!C129","v":"PINDUR"},{"$f":"[1]Tabulka!D129","v":"Jakub"},{"$f":"[1]Tabulka!E129","v":"2000-09-17"},{"$f":"[1]Tabulka!F129","v":"Havířov- Baník SKST"},{"$f":"[1]Tabulka!G129","v":"KA"},{"$f":"[1]Tabulka!H129","v":100},{"$f":"+[1]Tabulka!AU129","v":34},{"$f":"+[1]Tabulka!AV129","v":{"v":0.5747303761145184,"d":"0.57"}},{"$f":"+[1]Tabulka!AW129","v":20},{"$f":"+[1]Tabulka!AX129","v":{"v":1.3959926520290693,"d":"1.40"}},{"$f":"+[1]Tabulka!AY129","v":0},{"$f":"+[1]Tabulka!AZ129","v":{"v":0,"d":"0.00"}},{"$f":"+[1]Tabulka!BA129","v":0},{"$f":"+[1]Tabulka!BB129","v":{"v":0,"d":"0.00"}},{"$f":"+[1]Tabulka!BC129","v":0},{"$f":"+[1]Tabulka!BD129","v":{"v":0,"d":"0.00"}},{"$f":"+[1]Tabulka!BE129","v":0},{"$f":"+[1]Tabulka!BF129","v":{"v":0,"d":"0.00"}},{"$f":"+[1]Tabulka!BG129","v":0},{"$f":"+[1]Tabulka!BH129","v":{"v":0,"d":"0.00"}},{"$f":"+[1]Tabulka!BI129","v":0},{"$f":"+[1]Tabulka!BJ129","v":{"v":0,"d":"0.00"}},{"$f":"+[1]Tabulka!AP129","v":{"v":0.3117148763508186,"d":"0.31"}},{"$f":"+[1]Tabulka!AQ129","v":{"v":3,"d":"3.00"}},{"$f":"+[1]Tabulka!BM129","v":{"v":1.9707230281435877,"d":"1.97"}},{"$f":"+[1]Tabulka!BN129","v":2},{"$f":"+[1]Tabulka!BO129","v":{"v":1.9707230281435877,"d":"1.97"}}]
["54",{"$f":"[1]Tabulka!C130","v":"ŠČUKA"},{"$f":"[1]Tabulka!D130","v":"Štefan"},{"$f":"[1]Tabulka!E130","v":"1996-01-01"},{"$f":"[1]Tabulka!F130","v":"Těrlicko- DDŠ"},{"$f":"[1]Tabulka!G130","v":"KA"},{"$f":"[1]Tabulka!H130","v":0},{"$f":"+[1]Tabulka!AU130","v":0},{"$f":"+[1]Tabulka!AV130","v":{"v":0,"d":"0.00"}},{"$f":"+[1]Tabulka!AW130","v":22},{"$f":"+[1]Tabulka!AX130","v":{"v":1.2297682545980093,"d":"1.23"}},{"$f":"+[1]Tabulka!AY130","v":0},{"$f":"+[1]Tabulka!AZ130","v":{"v":0,"d":"0.00"}},{"$f":"+[1]Tabulka!BA130","v":0},{"$f":"+[1]Tabulka!BB130","v":{"v":0,"d":"0.00"}},{"$f":"+[1]Tabulka!BC130","v":31},{"$f":"+[1]Tabulka!BD130","v":{"v":0.695110634842026,"d":"0.70"}},{"$f":"+[1]Tabulka!BE130","v":0},{"$f":"+[1]Tabulka!BF130","v":{"v":0,"d":"0.00"}},{"$f":"+[1]Tabulka!BG130","v":0},{"$f":"+[1]Tabulka!BH130","v":{"v":0,"d":"0.00"}},{"$f":"+[1]Tabulka!BI130","v":0},{"$f":"+[1]Tabulka!BJ130","v":{"v":0,"d":"0.00"}},{"$f":"+[1]Tabulka!AP130","v":{"v":0,"d":"0.00"}},{"$f":"+[1]Tabulka!AQ130","v":{"v":0,"d":"0.00"}},{"$f":"+[1]Tabulka!BM130","v":{"v":1.9248788894400353,"d":"1.92"}},{"$f":"+[1]Tabulka!BN130","v":2},{"$f":"+[1]Tabulka!BO130","v":{"v":1.9248788894400353,"d":"1.92"}}]
["55",{"$f":"[1]Tabulka!C131","v":"LASÁK"},{"$f":"[1]Tabulka!D131","v":"Patrik"},{"$f":"[1]Tabulka!E131","v":"1996-01-01"},{"$f":"[1]Tabulka!F131","v":"Ostrava- Domik"},{"$f":"[1]Tabulka!G131","v":"OV"},{"$f":"[1]Tabulka!H131","v":0},{"$f":"+[1]Tabulka!AU131","v":0},{"$f":"+[1]Tabulka!AV131","v":{"v":0,"d":"0.00"}},{"$f":"+[1]Tabulka!AW131","v":15},{"$f":"+[1]Tabulka!AX131","v":{"v":1.91660566894571,"d":"1.92"}},{"$f":"+[1]Tabulka!AY131","v":0},{"$f":"+[1]Tabulka!AZ131","v":{"v":0,"d":"0.00"}},{"$f":"+[1]Tabulka!BA131","v":0},{"$f":"+[1]Tabulka!BB131","v":{"v":0,"d":"0.00"}},{"$f":"+[1]Tabulka!BC131","v":0},{"$f":"+[1]Tabulka!BD131","v":{"v":0,"d":"0.00"}},{"$f":"+[1]Tabulka!BE131","v":0},{"$f":"+[1]Tabulka!BF131","v":{"v":0,"d":"0.00"}},{"$f":"+[1]Tabulka!BG131","v":0},{"$f":"+[1]Tabulka!BH131","v":{"v":0,"d":"0.00"}},{"$f":"+[1]Tabulka!BI131","v":0},{"$f":"+[1]Tabulka!BJ131","v":{"v":0,"d":"0.00"}},{"$f":"+[1]Tabulka!AP131","v":{"v":0,"d":"0.00"}},{"$f":"+[1]Tabulka!AQ131","v":{"v":0,"d":"0.00"}},{"$f":"+[1]Tabulka!BM131","v":{"v":1.91660566894571,"d":"1.92"}},{"$f":"+[1]Tabulka!BN131","v":1},{"$f":"+[1]Tabulka!BO131","v":{"v":1.91660566894571,"d":"1.92"}}]
["55",{"$f":"[1]Tabulka!C132","v":"RANOSZ"},{"$f":"[1]Tabulka!D132","v":"Daniel"},{"$f":"[1]Tabulka!E132","v":"1998-03-07"},{"$f":"[1]Tabulka!F132","v":"Chotěbuz- Sokol TJ"},{"$f":"[1]Tabulka!G132","v":"KA"},{"$f":"[1]Tabulka!H132","v":100},{"$f":"+[1]Tabulka!AU132","v":22},{"$f":"+[1]Tabulka!AV132","v":{"v":1.2297682545980093,"d":"1.23"}},{"$f":"+[1]Tabulka!AW132","v":0},{"$f":"+[1]Tabulka!AX132","v":{"v":0,"d":"0.00"}},{"$f":"+[1]Tabulka!AY132","v":0},{"$f":"+[1]Tabulka!AZ132","v":{"v":0,"d":"0.00"}},{"$f":"+[1]Tabulka!BA132","v":0},{"$f":"+[1]Tabulka!BB132","v":{"v":0,"d":"0.00"}},{"$f":"+[1]Tabulka!BC132","v":0},{"$f":"+[1]Tabulka!BD132","v":{"v":0,"d":"0.00"}},{"$f":"+[1]Tabulka!BE132","v":33},{"$f":"+[1]Tabulka!BF132","v":{"v":0.6123420427175658,"d":"0.61"}},{"$f":"+[1]Tabulka!BG132","v":0},{"$f":"+[1]Tabulka!BH132","v":{"v":0,"d":"0.00"}},{"$f":"+[1]Tabulka!BI132","v":0},{"$f":"+[1]Tabulka!BJ132","v":{"v":0,"d":"0.00"}},{"$f":"+[1]Tabulka!AP132","v":{"v":0,"d":"0.00"}},{"$f":"+[1]Tabulka!AQ132","v":{"v":0,"d":"0.00"}},{"$f":"+[1]Tabulka!BM132","v":{"v":1.8421102973155752,"d":"1.84"}},{"$f":"+[1]Tabulka!BN132","v":2},{"$f":"+[1]Tabulka!BO132","v":{"v":1.8421102973155752,"d":"1.84"}}]
["57",{"$f":"[1]Tabulka!C133","v":"ŠTĚPÁN"},{"$f":"[1]Tabulka!D133","v":"Dominik"},{"$f":"[1]Tabulka!E133","v":"2000-01-25"},{"$f":"[1]Tabulka!F133","v":"Hlučín- DDM"},{"$f":"[1]Tabulka!G133","v":"OP"},{"$f":"[1]Tabulka!H133","v":100},{"$f":"+[1]Tabulka!AU133","v":43},{"$f":"+[1]Tabulka!AV133","v":{"v":0.32485892777785963,"d":"0.32"}},{"$f":"+[1]Tabulka!AW133","v":0},{"$f":"+[1]Tabulka!AX133","v":{"v":0,"d":"0.00"}},{"$f":"+[1]Tabulka!AY133","v":0},{"$f":"+[1]Tabulka!AZ133","v":{"v":0,"d":"0.00"}},{"$f":"+[1]Tabulka!BA133","v":33},{"$f":"+[1]Tabulka!BB133","v":{"v":0.6123420427175658,"d":"0.61"}},{"$f":"+[1]Tabulka!BC133","v":33},{"$f":"+[1]Tabulka!BD133","v":{"v":0.6123420427175658,"d":"0.61"}},{"$f":"+[1]Tabulka!BE133","v":33},{"$f":"+[1]Tabulka!BF133","v":{"v":0.6123420427175658,"d":"0.61"}},{"$f":"+[1]Tabulka!BG133","v":0},{"$f":"+[1]Tabulka!BH133","v":{"v":0,"d":"0.00"}},{"$f":"+[1]Tabulka!BI133","v":0},{"$f":"+[1]Tabulka!BJ133","v":{"v":0,"d":"0.00"}},{"$f":"+[1]Tabulka!AP133","v":{"v":0,"d":"0.00"}},{"$f":"+[1]Tabulka!AQ133","v":{"v":0,"d":"0.00"}},{"$f":"+[1]Tabulka!BM133","v":{"v":2.161885055930557,"d":"2.16"}},{"$f":"+[1]Tabulka!BN133","v":4},{"$f":"+[1]Tabulka!BO133","v":{"v":1.8370261281526972,"d":"1.84"}}]
["57",{"$f":"[1]Tabulka!C134","v":"MIKESKA"},{"$f":"[1]Tabulka!D134","v":"Tadeáš"},{"$f":"[1]Tabulka!E134","v":"1999-10-02"},{"$f":"[1]Tabulka!F134","v":"Hlučín- DDM"},{"$f":"[1]Tabulka!G134","v":"OP"},{"$f":"[1]Tabulka!H134","v":100},{"$f":"+[1]Tabulka!AU134","v":0},{"$f":"+[1]Tabulka!AV134","v":{"v":0,"d":"0.00"}},{"$f":"+[1]Tabulka!AW134","v":0},{"$f":"+[1]Tabulka!AX134","v":{"v":0,"d":"0.00"}},{"$f":"+[1]Tabulka!AY134","v":0},{"$f":"+[1]Tabulka!AZ134","v":{"v":0,"d":"0.00"}},{"$f":"+[1]Tabulka!BA134","v":33},{"$f":"+[1]Tabulka!BB134","v":{"v":0.6123420427175658,"d":"0.61"}},{"$f":"+[1]Tabulka!BC134","v":33},{"$f":"+[1]Tabulka!BD134","v":{"v":0.6123420427175658,"d":"0.61"}},{"$f":"+[1]Tabulka!BE134","v":33},{"$f":"+[1]Tabulka!BF134","v":{"v":0.6123420427175658,"d":"0.61"}},{"$f":"+[1]Tabulka!BG134","v":0},{"$f":"+[1]Tabulka!BH134","v":{"v":0,"d":"0.00"}},{"$f":"+[1]Tabulka!BI134","v":0},{"$f":"+[1]Tabulka!BJ134","v":{"v":0,"d":"0.00"}},{"$f":"+[1]Tabulka!AP134","v":{"v":0,"d":"0.00"}},{"$f":"+[1]Tabulka!AQ134","v":{"v":0,"d":"0.00"}},{"$f":"+[1]Tabulka!BM134","v":{"v":1.8370261281526972,"d":"1.84"}},{"$f":"+[1]Tabulka!BN134","v":3},{"$f":"+[1]Tabulka!BO134","v":{"v":1.8370261281526972,"d":"1.84"}}]
[null,{"$f":"[1]Tabulka!C135","v":"KIRKOPULOS"},{"$f":"[1]Tabulka!D135","v":"Christos"},{"$f":"[1]Tabulka!E135","v":"1996-01-01"},{"$f":"[1]Tabulka!F135","v":"Vratimov- MG Odra Gas TTC"},{"$f":"[1]Tabulka!G135","v":"OV"},{"$f":"[1]Tabulka!H135","v":0},{"$f":"+[1]Tabulka!AU135","v":0},{"$f":"+[1]Tabulka!AV135","v":{"v":0,"d":"0.00"}},{"$f":"+[1]Tabulka!AW135","v":16},{"$f":"+[1]Tabulka!AX135","v":{"v":1.7988826834228204,"d":"1.80"}},{"$f":"+[1]Tabulka!AY135","v":0},{"$f":"+[1]Tabulka!AZ135","v":{"v":0,"d":"0.00"}},{"$f":"+[1]Tabulka!BA135","v":0},{"$f":"+[1]Tabulka!BB135","v":{"v":0,"d":"0.00"}},{"$f":"+[1]Tabulka!BC135","v":0},{"$f":"+[1]Tabulka!BD135","v":{"v":0,"d":"0.00"}},{"$f":"+[1]Tabulka!BE135","v":0},{"$f":"+[1]Tabulka!BF135","v":{"v":0,"d":"0.00"}},{"$f":"+[1]Tabulka!BG135","v":0},{"$f":"+[1]Tabulka!BH135","v":{"v":0,"d":"0.00"}},{"$f":"+[1]Tabulka!BI135","v":0},{"$f":"+[1]Tabulka!BJ135","v":{"v":0,"d":"0.00"}},{"$f":"+[1]Tabulka!AP135","v":{"v":0,"d":"0.00"}},{"$f":"+[1]Tabulka!AQ135","v":{"v":0,"d":"0.00"}},{"$f":"+[1]Tabulka!BM135","v":{"v":1.7988826834228204,"d":"1.80"}},{"$f":"+[1]Tabulka!BN135","v":1},{"$f":"+[1]Tabulka!BO135","v":{"v":1.7988826834228204,"d":"1.80"}}]
["56",{"$f":"[1]Tabulka!C136","v":"FLORKOVÁ"},{"$f":"[1]Tabulka!D136","v":"Adéla"},{"$f":"[1]Tabulka!E136","v":"2001-09-04"},{"$f":"[1]Tabulka!F136","v":"Orlová- Siko TTC"},{"$f":"[1]Tabulka!G136","v":"KA"},{"$f":"[1]Tabulka!H136","v":100},{"$f":"+[1]Tabulka!AU136","v":32},{"$f":"+[1]Tabulka!AV136","v":{"v":0.6524151025642111,"d":"0.65"}},{"$f":"+[1]Tabulka!AW136","v":31},{"$f":"+[1]Tabulka!AX136","v":{"v":0.695110634842026,"d":"0.70"}},{"$f":"+[1]Tabulka!AY136","v":0},{"$f":"+[1]Tabulka!AZ136","v":{"v":0,"d":"0.00"}},{"$f":"+[1]Tabulka!BA136","v":40},{"$f":"+[1]Tabulka!BB136","v":{"v":0.3929023154272488,"d":"0.39"}},{"$f":"+[1]Tabulka!BC136","v":0},{"$f":"+[1]Tabulka!BD136","v":{"v":0,"d":"0.00"}},{"$f":"+[1]Tabulka!BE136","v":0},{"$f":"+[1]Tabulka!BF136","v":{"v":0,"d":"0.00"}},{"$f":"+[1]Tabulka!BG136","v":0},{"$f":"+[1]Tabulka!BH136","v":{"v":0,"d":"0.00"}},{"$f":"+[1]Tabulka!BI136","v":0},{"$f":"+[1]Tabulka!BJ136","v":{"v":0,"d":"0.00"}},{"$f":"+[1]Tabulka!AP136","v":{"v":0,"d":"0.00"}},{"$f":"+[1]Tabulka!AQ136","v":{"v":0,"d":"0.00"}},{"$f":"+[1]Tabulka!BM136","v":{"v":1.740428052833486,"d":"1.74"}},{"$f":"+[1]Tabulka!BN136","v":3},{"$f":"+[1]Tabulka!BO136","v":{"v":1.740428052833486,"d":"1.74"}}]
["57",{"$f":"[1]Tabulka!C137","v":"WILCZEK"},{"$f":"[1]Tabulka!D137","v":"Jakub"},{"$f":"[1]Tabulka!E137","v":"2004-03-30"},{"$f":"[1]Tabulka!F137","v":"Karviná- KLUBsten KST"},{"$f":"[1]Tabulka!G137","v":"KA"},{"$f":"[1]Tabulka!H137","v":100},{"$f":"+[1]Tabulka!AU137","v":0},{"$f":"+[1]Tabulka!AV137","v":{"v":0,"d":"0.00"}},{"$f":"+[1]Tabulka!AW137","v":0},{"$f":"+[1]Tabulka!AX137","v":{"v":0,"d":"0.00"}},{"$f":"+[1]Tabulka!AY137","v":32},{"$f":"+[1]Tabulka!AZ137","v":{"v":0.6524151025642111,"d":"0.65"}},{"$f":"+[1]Tabulka!BA137","v":48},{"$f":"+[1]Tabulka!BB137","v":{"v":0.2366165787109441,"d":"0.24"}},{"$f":"+[1]Tabulka!BC137","v":0},{"$f":"+[1]Tabulka!BD137","v":{"v":0,"d":"0.00"}},{"$f":"+[1]Tabulka!BE137","v":0},{"$f":"+[1]Tabulka!BF137","v":{"v":0,"d":"0.00"}},{"$f":"+[1]Tabulka!BG137","v":46},{"$f":"+[1]Tabulka!BH137","v":{"v":0.26859939179086256,"d":"0.27"}},{"$f":"+[1]Tabulka!BI137","v":34},{"$f":"+[1]Tabulka!BJ137","v":{"v":0.5747303761145184,"d":"0.57"}},{"$f":"+[1]Tabulka!AP137","v":{"v":0.2954731438624335,"d":"0.30"}},{"$f":"+[1]Tabulka!AQ137","v":{"v":2,"d":"2.00"}},{"$f":"+[1]Tabulka!BM137","v":{"v":1.7323614491805361,"d":"1.73"}},{"$f":"+[1]Tabulka!BN137","v":4},{"$f":"+[1]Tabulka!BO137","v":{"v":1.7323614491805361,"d":"1.73"}}]
["59",{"$f":"[1]Tabulka!C138","v":"GALIA"},{"$f":"[1]Tabulka!D138","v":"Vojtěch"},{"$f":"[1]Tabulka!E138","v":"1997-01-01"},{"$f":"[1]Tabulka!F138","v":"Vratimov- MG Odra Gas TTC"},{"$f":"[1]Tabulka!G138","v":"OV"},{"$f":"[1]Tabulka!H138","v":0},{"$f":"+[1]Tabulka!AU138","v":0},{"$f":"+[1]Tabulka!AV138","v":{"v":0,"d":"0.00"}},{"$f":"+[1]Tabulka!AW138","v":0},{"$f":"+[1]Tabulka!AX138","v":{"v":0,"d":"0.00"}},{"$f":"+[1]Tabulka!AY138","v":37},{"$f":"+[1]Tabulka!AZ138","v":{"v":0.4751977435991968,"d":"0.48"}},{"$f":"+[1]Tabulka!BA138","v":33},{"$f":"+[1]Tabulka!BB138","v":{"v":0.6123420427175658,"d":"0.61"}},{"$f":"+[1]Tabulka!BC138","v":0},{"$f":"+[1]Tabulka!BD138","v":{"v":0,"d":"0.00"}},{"$f":"+[1]Tabulka!BE138","v":33},{"$f":"+[1]Tabulka!BF138","v":{"v":0.6123420427175658,"d":"0.61"}},{"$f":"+[1]Tabulka!BG138","v":0},{"$f":"+[1]Tabulka!BH138","v":{"v":0,"d":"0.00"}},{"$f":"+[1]Tabulka!BI138","v":0},{"$f":"+[1]Tabulka!BJ138","v":{"v":0,"d":"0.00"}},{"$f":"+[1]Tabulka!AP138","v":{"v":0,"d":"0.00"}},{"$f":"+[1]Tabulka!AQ138","v":{"v":0,"d":"0.00"}},{"$f":"+[1]Tabulka!BM138","v":{"v":1.6998818290343283,"d":"1.70"}},{"$f":"+[1]Tabulka!BN138","v":3},{"$f":"+[1]Tabulka!BO138","v":{"v":1.6998818290343283,"d":"1.70"}}]
["60",{"$f":"[1]Tabulka!C139","v":"ADAMEC"},{"$f":"[1]Tabulka!D139","v":"Martin"},{"$f":"[1]Tabulka!E139","v":"1996-11-10"},{"$f":"[1]Tabulka!F139","v":"Polanka- Sokol TJ"},{"$f":"[1]Tabulka!G139","v":"OV"},{"$f":"[1]Tabulka!H139","v":100},{"$f":"+[1]Tabulka!AU139","v":0},{"$f":"+[1]Tabulka!AV139","v":{"v":0,"d":"0.00"}},{"$f":"+[1]Tabulka!AW139","v":0},{"$f":"+[1]Tabulka!AX139","v":{"v":0,"d":"0.00"}},{"$f":"+[1]Tabulka!AY139","v":0},{"$f":"+[1]Tabulka!AZ139","v":{"v":0,"d":"0.00"}},{"$f":"+[1]Tabulka!BA139","v":17},{"$f":"+[1]Tabulka!BB139","v":{"v":1.6883905547970857,"d":"1.69"}},{"$f":"+[1]Tabulka!BC139","v":0},{"$f":"+[1]Tabulka!BD139","v":{"v":0,"d":"0.00"}},{"$f":"+[1]Tabulka!BE139","v":0},{"$f":"+[1]Tabulka!BF139","v":{"v":0,"d":"0.00"}},{"$f":"+[1]Tabulka!BG139","v":0},{"$f":"+[1]Tabulka!BH139","v":{"v":0,"d":"0.00"}},{"$f":"+[1]Tabulka!BI139","v":0},{"$f":"+[1]Tabulka!BJ139","v":{"v":0,"d":"0.00"}},{"$f":"+[1]Tabulka!AP139","v":{"v":0,"d":"0.00"}},{"$f":"+[1]Tabulka!AQ139","v":{"v":0,"d":"0.00"}},{"$f":"+[1]Tabulka!BM139","v":{"v":1.6883905547970857,"d":"1.69"}},{"$f":"+[1]Tabulka!BN139","v":1},{"$f":"+[1]Tabulka!BO139","v":{"v":1.6883905547970857,"d":"1.69"}}]
[null,{"$f":"[1]Tabulka!C140","v":"BĚLÍK"},{"$f":"[1]Tabulka!D140","v":"Šimon"},{"$f":"[1]Tabulka!E140","v":"2004-05-13"},{"$f":"[1]Tabulka!F140","v":"Ostrava- Mittal TJ"},{"$f":"[1]Tabulka!G140","v":"OV"},{"$f":"[1]Tabulka!H140","v":100},{"$f":"+[1]Tabulka!AU140","v":0},{"$f":"+[1]Tabulka!AV140","v":{"v":0,"d":"0.00"}},{"$f":"+[1]Tabulka!AW140","v":0},{"$f":"+[1]Tabulka!AX140","v":{"v":0,"d":"0.00"}},{"$f":"+[1]Tabulka!AY140","v":0},{"$f":"+[1]Tabulka!AZ140","v":{"v":0,"d":"0.00"}},{"$f":"+[1]Tabulka!BA140","v":0},{"$f":"+[1]Tabulka!BB140","v":{"v":0,"d":"0.00"}},{"$f":"+[1]Tabulka!BC140","v":17},{"$f":"+[1]Tabulka!BD140","v":{"v":1.6883905547970857,"d":"1.69"}},{"$f":"+[1]Tabulka!BE140","v":0},{"$f":"+[1]Tabulka!BF140","v":{"v":0,"d":"0.00"}},{"$f":"+[1]Tabulka!BG140","v":0},{"$f":"+[1]Tabulka!BH140","v":{"v":0,"d":"0.00"}},{"$f":"+[1]Tabulka!BI140","v":0},{"$f":"+[1]Tabulka!BJ140","v":{"v":0,"d":"0.00"}},{"$f":"+[1]Tabulka!AP140","v":{"v":1.3124798818596601,"d":"1.31"}},{"$f":"+[1]Tabulka!AQ140","v":{"v":4,"d":"4.00"}},{"$f":"+[1]Tabulka!BM140","v":{"v":1.6883905547970857,"d":"1.69"}},{"$f":"+[1]Tabulka!BN140","v":1},{"$f":"+[1]Tabulka!BO140","v":{"v":1.6883905547970857,"d":"1.69"}}]
[null,{"$f":"[1]Tabulka!C141","v":"ČUBOŃ"},{"$f":"[1]Tabulka!D141","v":"Aleš"},{"$f":"[1]Tabulka!E141","v":"1997-01-01"},{"$f":"[1]Tabulka!F141","v":"Vratimov- MG Odra Gas TTC"},{"$f":"[1]Tabulka!G141","v":"OV"},{"$f":"[1]Tabulka!H141","v":0},{"$f":"+[1]Tabulka!AU141","v":0},{"$f":"+[1]Tabulka!AV141","v":{"v":0,"d":"0.00"}},{"$f":"+[1]Tabulka!AW141","v":0},{"$f":"+[1]Tabulka!AX141","v":{"v":0,"d":"0.00"}},{"$f":"+[1]Tabulka!AY141","v":0},{"$f":"+[1]Tabulka!AZ141","v":{"v":0,"d":"0.00"}},{"$f":"+[1]Tabulka!BA141","v":17},{"$f":"+[1]Tabulka!BB141","v":{"v":1.6883905547970857,"d":"1.69"}},{"$f":"+[1]Tabulka!BC141","v":0},{"$f":"+[1]Tabulka!BD141","v":{"v":0,"d":"0.00"}},{"$f":"+[1]Tabulka!BE141","v":0},{"$f":"+[1]Tabulka!BF141","v":{"v":0,"d":"0.00"}},{"$f":"+[1]Tabulka!BG141","v":0},{"$f":"+[1]Tabulka!BH141","v":{"v":0,"d":"0.00"}},{"$f":"+[1]Tabulka!BI141","v":0},{"$f":"+[1]Tabulka!BJ141","v":{"v":0,"d":"0.00"}},{"$f":"+[1]Tabulka!AP141","v":{"v":0,"d":"0.00"}},{"$f":"+[1]Tabulka!AQ141","v":{"v":0,"d":"0.00"}},{"$f":"+[1]Tabulka!BM141","v":{"v":1.6883905547970857,"d":"1.69"}},{"$f":"+[1]Tabulka!BN141","v":1},{"$f":"+[1]Tabulka!BO141","v":{"v":1.6883905547970857,"d":"1.69"}}]
[null,{"$f":"[1]Tabulka!C142","v":"FALHAUER"},{"$f":"[1]Tabulka!D142","v":"Lukáš"},{"$f":"[1]Tabulka!E142","v":"1996-08-25"},{"$f":"[1]Tabulka!F142","v":"Svinov- SK"},{"$f":"[1]Tabulka!G142","v":"OV"},{"$f":"[1]Tabulka!H142","v":100},{"$f":"+[1]Tabulka!AU142","v":0},{"$f":"+[1]Tabulka!AV142","v":{"v":0,"d":"0.00"}},{"$f":"+[1]Tabulka!AW142","v":0},{"$f":"+[1]Tabulka!AX142","v":{"v":0,"d":"0.00"}},{"$f":"+[1]Tabulka!AY142","v":0},{"$f":"+[1]Tabulka!AZ142","v":{"v":0,"d":"0.00"}},{"$f":"+[1]Tabulka!BA142","v":0},{"$f":"+[1]Tabulka!BB142","v":{"v":0,"d":"0.00"}},{"$f":"+[1]Tabulka!BC142","v":0},{"$f":"+[1]Tabulka!BD142","v":{"v":0,"d":"0.00"}},{"$f":"+[1]Tabulka!BE142","v":17},{"$f":"+[1]Tabulka!BF142","v":{"v":1.6883905547970857,"d":"1.69"}},{"$f":"+[1]Tabulka!BG142","v":0},{"$f":"+[1]Tabulka!BH142","v":{"v":0,"d":"0.00"}},{"$f":"+[1]Tabulka!BI142","v":0},{"$f":"+[1]Tabulka!BJ142","v":{"v":0,"d":"0.00"}},{"$f":"+[1]Tabulka!AP142","v":{"v":0,"d":"0.00"}},{"$f":"+[1]Tabulka!AQ142","v":{"v":0,"d":"0.00"}},{"$f":"+[1]Tabulka!BM142","v":{"v":1.6883905547970857,"d":"1.69"}},{"$f":"+[1]Tabulka!BN142","v":1},{"$f":"+[1]Tabulka!BO142","v":{"v":1.6883905547970857,"d":"1.69"}}]
[null,{"$f":"[1]Tabulka!C143","v":"HEREC"},{"$f":"[1]Tabulka!D143","v":"Lukáš"},{"$f":"[1]Tabulka!E143","v":"2000-02-24"},{"$f":"[1]Tabulka!F143","v":"Malenovice- BSK"},{"$f":"[1]Tabulka!G143","v":"FM"},{"$f":"[1]Tabulka!H143","v":100},{"$f":"+[1]Tabulka!AU143","v":0},{"$f":"+[1]Tabulka!AV143","v":{"v":0,"d":"0.00"}},{"$f":"+[1]Tabulka!AW143","v":0},{"$f":"+[1]Tabulka!AX143","v":{"v":0,"d":"0.00"}},{"$f":"+[1]Tabulka!AY143","v":0},{"$f":"+[1]Tabulka!AZ143","v":{"v":0,"d":"0.00"}},{"$f":"+[1]Tabulka!BA143","v":17},{"$f":"+[1]Tabulka!BB143","v":{"v":1.6883905547970857,"d":"1.69"}},{"$f":"+[1]Tabulka!BC143","v":0},{"$f":"+[1]Tabulka!BD143","v":{"v":0,"d":"0.00"}},{"$f":"+[1]Tabulka!BE143","v":0},{"$f":"+[1]Tabulka!BF143","v":{"v":0,"d":"0.00"}},{"$f":"+[1]Tabulka!BG143","v":0},{"$f":"+[1]Tabulka!BH143","v":{"v":0,"d":"0.00"}},{"$f":"+[1]Tabulka!BI143","v":0},{"$f":"+[1]Tabulka!BJ143","v":{"v":0,"d":"0.00"}},{"$f":"+[1]Tabulka!AP143","v":{"v":7.094889726246536,"d":"7.09"}},{"$f":"+[1]Tabulka!AQ143","v":{"v":3,"d":"3.00"}},{"$f":"+[1]Tabulka!BM143","v":{"v":1.6883905547970857,"d":"1.69"}},{"$f":"+[1]Tabulka!BN143","v":1},{"$f":"+[1]Tabulka!BO143","v":{"v":1.6883905547970857,"d":"1.69"}}]
[null,{"$f":"[1]Tabulka!C144","v":"KAČMAŘÍK"},{"$f":"[1]Tabulka!D144","v":"Vít"},{"$f":"[1]Tabulka!E144","v":"1998-01-01"},{"$f":"[1]Tabulka!F144","v":"Darkovice- KST"},{"$f":"[1]Tabulka!G144","v":"OP"},{"$f":"[1]Tabulka!H144","v":0},{"$f":"+[1]Tabulka!AU144","v":0},{"$f":"+[1]Tabulka!AV144","v":{"v":0,"d":"0.00"}},{"$f":"+[1]Tabulka!AW144","v":0},{"$f":"+[1]Tabulka!AX144","v":{"v":0,"d":"0.00"}},{"$f":"+[1]Tabulka!AY144","v":17},{"$f":"+[1]Tabulka!AZ144","v":{"v":1.6883905547970857,"d":"1.69"}},{"$f":"+[1]Tabulka!BA144","v":0},{"$f":"+[1]Tabulka!BB144","v":{"v":0,"d":"0.00"}},{"$f":"+[1]Tabulka!BC144","v":0},{"$f":"+[1]Tabulka!BD144","v":{"v":0,"d":"0.00"}},{"$f":"+[1]Tabulka!BE144","v":0},{"$f":"+[1]Tabulka!BF144","v":{"v":0,"d":"0.00"}},{"$f":"+[1]Tabulka!BG144","v":0},{"$f":"+[1]Tabulka!BH144","v":{"v":0,"d":"0.00"}},{"$f":"+[1]Tabulka!BI144","v":0},{"$f":"+[1]Tabulka!BJ144","v":{"v":0,"d":"0.00"}},{"$f":"+[1]Tabulka!AP144","v":{"v":0,"d":"0.00"}},{"$f":"+[1]Tabulka!AQ144","v":{"v":0,"d":"0.00"}},{"$f":"+[1]Tabulka!BM144","v":{"v":1.6883905547970857,"d":"1.69"}},{"$f":"+[1]Tabulka!BN144","v":1},{"$f":"+[1]Tabulka!BO144","v":{"v":1.6883905547970857,"d":"1.69"}}]
[null,{"$f":"[1]Tabulka!C145","v":"KOVÁŘ"},{"$f":"[1]Tabulka!D145","v":"Dominik"},{"$f":"[1]Tabulka!E145","v":"1997-05-25"},{"$f":"[1]Tabulka!F145","v":"Darkovice- KST"},{"$f":"[1]Tabulka!G145","v":"OP"},{"$f":"[1]Tabulka!H145","v":100},{"$f":"+[1]Tabulka!AU145","v":0},{"$f":"+[1]Tabulka!AV145","v":{"v":0,"d":"0.00"}},{"$f":"+[1]Tabulka!AW145","v":0},{"$f":"+[1]Tabulka!AX145","v":{"v":0,"d":"0.00"}},{"$f":"+[1]Tabulka!AY145","v":0},{"$f":"+[1]Tabulka!AZ145","v":{"v":0,"d":"0.00"}},{"$f":"+[1]Tabulka!BA145","v":0},{"$f":"+[1]Tabulka!BB145","v":{"v":0,"d":"0.00"}},{"$f":"+[1]Tabulka!BC145","v":17},{"$f":"+[1]Tabulka!BD145","v":{"v":1.6883905547970857,"d":"1.69"}},{"$f":"+[1]Tabulka!BE145","v":0},{"$f":"+[1]Tabulka!BF145","v":{"v":0,"d":"0.00"}},{"$f":"+[1]Tabulka!BG145","v":0},{"$f":"+[1]Tabulka!BH145","v":{"v":0,"d":"0.00"}},{"$f":"+[1]Tabulka!BI145","v":0},{"$f":"+[1]Tabulka!BJ145","v":{"v":0,"d":"0.00"}},{"$f":"+[1]Tabulka!AP145","v":{"v":0,"d":"0.00"}},{"$f":"+[1]Tabulka!AQ145","v":{"v":0,"d":"0.00"}},{"$f":"+[1]Tabulka!BM145","v":{"v":1.6883905547970857,"d":"1.69"}},{"$f":"+[1]Tabulka!BN145","v":1},{"$f":"+[1]Tabulka!BO145","v":{"v":1.6883905547970857,"d":"1.69"}}]
["57",{"$f":"[1]Tabulka!C146","v":"LHOTSKÝ"},{"$f":"[1]Tabulka!D146","v":"Matěj"},{"$f":"[1]Tabulka!E146","v":"1998-01-01"},{"$f":"[1]Tabulka!F146","v":"Darkovice- KST"},{"$f":"[1]Tabulka!G146","v":"OP"},{"$f":"[1]Tabulka!H146","v":0},{"$f":"+[1]Tabulka!AU146","v":0},{"$f":"+[1]Tabulka!AV146","v":{"v":0,"d":"0.00"}},{"$f":"+[1]Tabulka!AW146","v":0},{"$f":"+[1]Tabulka!AX146","v":{"v":0,"d":"0.00"}},{"$f":"+[1]Tabulka!AY146","v":0},{"$f":"+[1]Tabulka!AZ146","v":{"v":0,"d":"0.00"}},{"$f":"+[1]Tabulka!BA146","v":0},{"$f":"+[1]Tabulka!BB146","v":{"v":0,"d":"0.00"}},{"$f":"+[1]Tabulka!BC146","v":17},{"$f":"+[1]Tabulka!BD146","v":{"v":1.6883905547970857,"d":"1.69"}},{"$f":"+[1]Tabulka!BE146","v":0},{"$f":"+[1]Tabulka!BF146","v":{"v":0,"d":"0.00"}},{"$f":"+[1]Tabulka!BG146","v":0},{"$f":"+[1]Tabulka!BH146","v":{"v":0,"d":"0.00"}},{"$f":"+[1]Tabulka!BI146","v":0},{"$f":"+[1]Tabulka!BJ146","v":{"v":0,"d":"0.00"}},{"$f":"+[1]Tabulka!AP146","v":{"v":0,"d":"0.00"}},{"$f":"+[1]Tabulka!AQ146","v":{"v":0,"d":"0.00"}},{"$f":"+[1]Tabulka!BM146","v":{"v":1.6883905547970857,"d":"1.69"}},{"$f":"+[1]Tabulka!BN146","v":1},{"$f":"+[1]Tabulka!BO146","v":{"v":1.6883905547970857,"d":"1.69"}}]
[null,{"$f":"[1]Tabulka!C147","v":"NOVÁK"},{"$f":"[1]Tabulka!D147","v":"Michal"},{"$f":"[1]Tabulka!E147","v":"2000-01-06"},{"$f":"[1]Tabulka!F147","v":"Ostrava- Mittal TJ"},{"$f":"[1]Tabulka!G147","v":"OV"},{"$f":"[1]Tabulka!H147","v":100},{"$f":"+[1]Tabulka!AU147","v":0},{"$f":"+[1]Tabulka!AV147","v":{"v":0,"d":"0.00"}},{"$f":"+[1]Tabulka!AW147","v":0},{"$f":"+[1]Tabulka!AX147","v":{"v":0,"d":"0.00"}},{"$f":"+[1]Tabulka!AY147","v":0},{"$f":"+[1]Tabulka!AZ147","v":{"v":0,"d":"0.00"}},{"$f":"+[1]Tabulka!BA147","v":17},{"$f":"+[1]Tabulka!BB147","v":{"v":1.6883905547970857,"d":"1.69"}},{"$f":"+[1]Tabulka!BC147","v":0},{"$f":"+[1]Tabulka!BD147","v":{"v":0,"d":"0.00"}},{"$f":"+[1]Tabulka!BE147","v":0},{"$f":"+[1]Tabulka!BF147","v":{"v":0,"d":"0.00"}},{"$f":"+[1]Tabulka!BG147","v":0},{"$f":"+[1]Tabulka!BH147","v":{"v":0,"d":"0.00"}},{"$f":"+[1]Tabulka!BI147","v":0},{"$f":"+[1]Tabulka!BJ147","v":{"v":0,"d":"0.00"}},{"$f":"+[1]Tabulka!AP147","v":{"v":0.10801280076301209,"d":"0.11"}},{"$f":"+[1]Tabulka!AQ147","v":{"v":2,"d":"2.00"}},{"$f":"+[1]Tabulka!BM147","v":{"v":1.6883905547970857,"d":"1.69"}},{"$f":"+[1]Tabulka!BN147","v":1},{"$f":"+[1]Tabulka!BO147","v":{"v":1.6883905547970857,"d":"1.69"}}]
[null,{"$f":"[1]Tabulka!C148","v":"SOCHACY"},{"$f":"[1]Tabulka!D148","v":"Václav"},{"$f":"[1]Tabulka!E148","v":"2000-06-17"},{"$f":"[1]Tabulka!F148","v":"Frýdek-Místek- Slezan TJ"},{"$f":"[1]Tabulka!G148","v":"FM"},{"$f":"[1]Tabulka!H148","v":100},{"$f":"+[1]Tabulka!AU148","v":0},{"$f":"+[1]Tabulka!AV148","v":{"v":0,"d":"0.00"}},{"$f":"+[1]Tabulka!AW148","v":0},{"$f":"+[1]Tabulka!AX148","v":{"v":0,"d":"0.00"}},{"$f":"+[1]Tabulka!AY148","v":0},{"$f":"+[1]Tabulka!AZ148","v":{"v":0,"d":"0.00"}},{"$f":"+[1]Tabulka!BA148","v":0},{"$f":"+[1]Tabulka!BB148","v":{"v":0,"d":"0.00"}},{"$f":"+[1]Tabulka!BC148","v":17},{"$f":"+[1]Tabulka!BD148","v":{"v":1.6883905547970857,"d":"1.69"}},{"$f":"+[1]Tabulka!BE148","v":0},{"$f":"+[1]Tabulka!BF148","v":{"v":0,"d":"0.00"}},{"$f":"+[1]Tabulka!BG148","v":0},{"$f":"+[1]Tabulka!BH148","v":{"v":0,"d":"0.00"}},{"$f":"+[1]Tabulka!BI148","v":0},{"$f":"+[1]Tabulka!BJ148","v":{"v":0,"d":"0.00"}},{"$f":"+[1]Tabulka!AP148","v":{"v":0,"d":"0.00"}},{"$f":"+[1]Tabulka!AQ148","v":{"v":0,"d":"0.00"}},{"$f":"+[1]Tabulka!BM148","v":{"v":1.6883905547970857,"d":"1.69"}},{"$f":"+[1]Tabulka!BN148","v":1},{"$f":"+[1]Tabulka!BO148","v":{"v":1.6883905547970857,"d":"1.69"}}]
["58",{"$f":"[1]Tabulka!C149","v":"URBÁNEK"},{"$f":"[1]Tabulka!D149","v":"Filip"},{"$f":"[1]Tabulka!E149","v":"2001-05-31"},{"$f":"[1]Tabulka!F149","v":"Havířov- Baník SKST"},{"$f":"[1]Tabulka!G149","v":"KA"},{"$f":"[1]Tabulka!H149","v":100},{"$f":"+[1]Tabulka!AU149","v":0},{"$f":"+[1]Tabulka!AV149","v":{"v":0,"d":"0.00"}},{"$f":"+[1]Tabulka!AW149","v":17},{"$f":"+[1]Tabulka!AX149","v":{"v":1.6883905547970857,"d":"1.69"}},{"$f":"+[1]Tabulka!AY149","v":0},{"$f":"+[1]Tabulka!AZ149","v":{"v":0,"d":"0.00"}},{"$f":"+[1]Tabulka!BA149","v":0},{"$f":"+[1]Tabulka!BB149","v":{"v":0,"d":"0.00"}},{"$f":"+[1]Tabulka!BC149","v":0},{"$f":"+[1]Tabulka!BD149","v":{"v":0,"d":"0.00"}},{"$f":"+[1]Tabulka!BE149","v":0},{"$f":"+[1]Tabulka!BF149","v":{"v":0,"d":"0.00"}},{"$f":"+[1]Tabulka!BG149","v":0},{"$f":"+[1]Tabulka!BH149","v":{"v":0,"d":"0.00"}},{"$f":"+[1]Tabulka!BI149","v":0},{"$f":"+[1]Tabulka!BJ149","v":{"v":0,"d":"0.00"}},{"$f":"+[1]Tabulka!AP149","v":{"v":0.38039372586137177,"d":"0.38"}},{"$f":"+[1]Tabulka!AQ149","v":{"v":3,"d":"3.00"}},{"$f":"+[1]Tabulka!BM149","v":{"v":1.6883905547970857,"d":"1.69"}},{"$f":"+[1]Tabulka!BN149","v":1},{"$f":"+[1]Tabulka!BO149","v":{"v":1.6883905547970857,"d":"1.69"}}]
[null,{"$f":"[1]Tabulka!C150","v":"VALOŠEK"},{"$f":"[1]Tabulka!D150","v":"Jan"},{"$f":"[1]Tabulka!E150","v":"1993-02-12"},{"$f":"[1]Tabulka!F150","v":"Ostrava- Mittal TJ"},{"$f":"[1]Tabulka!G150","v":"OV"},{"$f":"[1]Tabulka!H150","v":200},{"$f":"+[1]Tabulka!AU150","v":17},{"$f":"+[1]Tabulka!AV150","v":{"v":1.6883905547970857,"d":"1.69"}},{"$f":"+[1]Tabulka!AW150","v":0},{"$f":"+[1]Tabulka!AX150","v":{"v":0,"d":"0.00"}},{"$f":"+[1]Tabulka!AY150","v":0},{"$f":"+[1]Tabulka!AZ150","v":{"v":0,"d":"0.00"}},{"$f":"+[1]Tabulka!BA150","v":0},{"$f":"+[1]Tabulka!BB150","v":{"v":0,"d":"0.00"}},{"$f":"+[1]Tabulka!BC150","v":0},{"$f":"+[1]Tabulka!BD150","v":{"v":0,"d":"0.00"}},{"$f":"+[1]Tabulka!BE150","v":0},{"$f":"+[1]Tabulka!BF150","v":{"v":0,"d":"0.00"}},{"$f":"+[1]Tabulka!BG150","v":0},{"$f":"+[1]Tabulka!BH150","v":{"v":0,"d":"0.00"}},{"$f":"+[1]Tabulka!BI150","v":0},{"$f":"+[1]Tabulka!BJ150","v":{"v":0,"d":"0.00"}},{"$f":"+[1]Tabulka!AP150","v":{"v":0,"d":"0.00"}},{"$f":"+[1]Tabulka!AQ150","v":{"v":0,"d":"0.00"}},{"$f":"+[1]Tabulka!BM150","v":{"v":1.6883905547970857,"d":"1.69"}},{"$f":"+[1]Tabulka!BN150","v":1},{"$f":"+[1]Tabulka!BO150","v":{"v":1.6883905547970857,"d":"1.69"}}]
["61",{"$f":"[1]Tabulka!C151","v":"VELIČKA"},{"$f":"[1]Tabulka!D151","v":"Lukáš"},{"$f":"[1]Tabulka!E151","v":"1995-02-26"},{"$f":"[1]Tabulka!F151","v":"MSV Studénka- MSV TJ"},{"$f":"[1]Tabulka!G151","v":"NJ"},{"$f":"[1]Tabulka!H151","v":100},{"$f":"+[1]Tabulka!AU151","v":0},{"$f":"+[1]Tabulka!AV151","v":{"v":0,"d":"0.00"}},{"$f":"+[1]Tabulka!AW151","v":0},{"$f":"+[1]Tabulka!AX151","v":{"v":0,"d":"0.00"}},{"$f":"+[1]Tabulka!AY151","v":0},{"$f":"+[1]Tabulka!AZ151","v":{"v":0,"d":"0.00"}},{"$f":"+[1]Tabulka!BA151","v":0},{"$f":"+[1]Tabulka!BB151","v":{"v":0,"d":"0.00"}},{"$f":"+[1]Tabulka!BC151","v":0},{"$f":"+[1]Tabulka!BD151","v":{"v":0,"d":"0.00"}},{"$f":"+[1]Tabulka!BE151","v":17},{"$f":"+[1]Tabulka!BF151","v":{"v":1.6883905547970857,"d":"1.69"}},{"$f":"+[1]Tabulka!BG151","v":0},{"$f":"+[1]Tabulka!BH151","v":{"v":0,"d":"0.00"}},{"$f":"+[1]Tabulka!BI151","v":0},{"$f":"+[1]Tabulka!BJ151","v":{"v":0,"d":"0.00"}},{"$f":"+[1]Tabulka!AP151","v":{"v":2.2812667739591763,"d":"2.28"}},{"$f":"+[1]Tabulka!AQ151","v":{"v":2,"d":"2.00"}},{"$f":"+[1]Tabulka!BM151","v":{"v":1.6883905547970857,"d":"1.69"}},{"$f":"+[1]Tabulka!BN151","v":1},{"$f":"+[1]Tabulka!BO151","v":{"v":1.6883905547970857,"d":"1.69"}}]
["59",{"$f":"[1]Tabulka!C152","v":"LÝSEK"},{"$f":"[1]Tabulka!D152","v":"Tomáš"},{"$f":"[1]Tabulka!E152","v":"2001-01-01"},{"$f":"[1]Tabulka!F152","v":"Ostrava- Domik"},{"$f":"[1]Tabulka!G152","v":"OV"},{"$f":"[1]Tabulka!H152","v":0},{"$f":"+[1]Tabulka!AU152","v":25},{"$f":"+[1]Tabulka!AV152","v":{"v":1.0167952208923348,"d":"1.02"}},{"$f":"+[1]Tabulka!AW152","v":0},{"$f":"+[1]Tabulka!AX152","v":{"v":0,"d":"0.00"}},{"$f":"+[1]Tabulka!AY152","v":0},{"$f":"+[1]Tabulka!AZ152","v":{"v":0,"d":"0.00"}},{"$f":"+[1]Tabulka!BA152","v":0},{"$f":"+[1]Tabulka!BB152","v":{"v":0,"d":"0.00"}},{"$f":"+[1]Tabulka!BC152","v":0},{"$f":"+[1]Tabulka!BD152","v":{"v":0,"d":"0.00"}},{"$f":"+[1]Tabulka!BE152","v":33},{"$f":"+[1]Tabulka!BF152","v":{"v":0.6123420427175658,"d":"0.61"}},{"$f":"+[1]Tabulka!BG152","v":0},{"$f":"+[1]Tabulka!BH152","v":{"v":0,"d":"0.00"}},{"$f":"+[1]Tabulka!BI152","v":0},{"$f":"+[1]Tabulka!BJ152","v":{"v":0,"d":"0.00"}},{"$f":"+[1]Tabulka!AP152","v":{"v":0,"d":"0.00"}},{"$f":"+[1]Tabulka!AQ152","v":{"v":0,"d":"0.00"}},{"$f":"+[1]Tabulka!BM152","v":{"v":1.6291372636099006,"d":"1.63"}},{"$f":"+[1]Tabulka!BN152","v":2},{"$f":"+[1]Tabulka!BO152","v":{"v":1.6291372636099006,"d":"1.63"}}]
["59",{"$f":"[1]Tabulka!C153","v":"ENDAL"},{"$f":"[1]Tabulka!D153","v":"Sebastián"},{"$f":"[1]Tabulka!E153","v":"1999-11-10"},{"$f":"[1]Tabulka!F153","v":"Havířov- Baník SKST"},{"$f":"[1]Tabulka!G153","v":"KA"},{"$f":"[1]Tabulka!H153","v":100},{"$f":"+[1]Tabulka!AU153","v":0},{"$f":"+[1]Tabulka!AV153","v":{"v":0,"d":"0.00"}},{"$f":"+[1]Tabulka!AW153","v":0},{"$f":"+[1]Tabulka!AX153","v":{"v":0,"d":"0.00"}},{"$f":"+[1]Tabulka!AY153","v":0},{"$f":"+[1]Tabulka!AZ153","v":{"v":0,"d":"0.00"}},{"$f":"+[1]Tabulka!BA153","v":18},{"$f":"+[1]Tabulka!BB153","v":{"v":1.584685144727681,"d":"1.58"}},{"$f":"+[1]Tabulka!BC153","v":0},{"$f":"+[1]Tabulka!BD153","v":{"v":0,"d":"0.00"}},{"$f":"+[1]Tabulka!BE153","v":0},{"$f":"+[1]Tabulka!BF153","v":{"v":0,"d":"0.00"}},{"$f":"+[1]Tabulka!BG153","v":0},{"$f":"+[1]Tabulka!BH153","v":{"v":0,"d":"0.00"}},{"$f":"+[1]Tabulka!BI153","v":0},{"$f":"+[1]Tabulka!BJ153","v":{"v":0,"d":"0.00"}},{"$f":"+[1]Tabulka!AP153","v":{"v":9.719655015738144,"d":"9.72"}},{"$f":"+[1]Tabulka!AQ153","v":{"v":4,"d":"4.00"}},{"$f":"+[1]Tabulka!BM153","v":{"v":1.584685144727681,"d":"1.58"}},{"$f":"+[1]Tabulka!BN153","v":1},{"$f":"+[1]Tabulka!BO153","v":{"v":1.584685144727681,"d":"1.58"}}]
["62",{"$f":"[1]Tabulka!C154","v":"VELICH"},{"$f":"[1]Tabulka!D154","v":"Jan"},{"$f":"[1]Tabulka!E154","v":"1997-01-01"},{"$f":"[1]Tabulka!F154","v":"Dolní Benešov- MSA TJ"},{"$f":"[1]Tabulka!G154","v":"OP"},{"$f":"[1]Tabulka!H154","v":0},{"$f":"+[1]Tabulka!AU154","v":0},{"$f":"+[1]Tabulka!AV154","v":{"v":0,"d":"0.00"}},{"$f":"+[1]Tabulka!AW154","v":26},{"$f":"+[1]Tabulka!AX154","v":{"v":0.9543409711693354,"d":"0.95"}},{"$f":"+[1]Tabulka!AY154","v":0},{"$f":"+[1]Tabulka!AZ154","v":{"v":0,"d":"0.00"}},{"$f":"+[1]Tabulka!BA154","v":0},{"$f":"+[1]Tabulka!BB154","v":{"v":0,"d":"0.00"}},{"$f":"+[1]Tabulka!BC154","v":0},{"$f":"+[1]Tabulka!BD154","v":{"v":0,"d":"0.00"}},{"$f":"+[1]Tabulka!BE154","v":33},{"$f":"+[1]Tabulka!BF154","v":{"v":0.6123420427175658,"d":"0.61"}},{"$f":"+[1]Tabulka!BG154","v":0},{"$f":"+[1]Tabulka!BH154","v":{"v":0,"d":"0.00"}},{"$f":"+[1]Tabulka!BI154","v":0},{"$f":"+[1]Tabulka!BJ154","v":{"v":0,"d":"0.00"}},{"$f":"+[1]Tabulka!AP154","v":{"v":0,"d":"0.00"}},{"$f":"+[1]Tabulka!AQ154","v":{"v":0,"d":"0.00"}},{"$f":"+[1]Tabulka!BM154","v":{"v":1.5666830138869012,"d":"1.57"}},{"$f":"+[1]Tabulka!BN154","v":2},{"$f":"+[1]Tabulka!BO154","v":{"v":1.5666830138869012,"d":"1.57"}}]
["60",{"$f":"[1]Tabulka!C155","v":"ŠČUKA"},{"$f":"[1]Tabulka!D155","v":"Patrik"},{"$f":"[1]Tabulka!E155","v":"1997-01-01"},{"$f":"[1]Tabulka!F155","v":"Těrlicko- DDŠ"},{"$f":"[1]Tabulka!G155","v":"KA"},{"$f":"[1]Tabulka!H155","v":0},{"$f":"+[1]Tabulka!AU155","v":0},{"$f":"+[1]Tabulka!AV155","v":{"v":0,"d":"0.00"}},{"$f":"+[1]Tabulka!AW155","v":25},{"$f":"+[1]Tabulka!AX155","v":{"v":1.0167952208923348,"d":"1.02"}},{"$f":"+[1]Tabulka!AY155","v":0},{"$f":"+[1]Tabulka!AZ155","v":{"v":0,"d":"0.00"}},{"$f":"+[1]Tabulka!BA155","v":35},{"$f":"+[1]Tabulka!BB155","v":{"v":0.5394289174769091,"d":"0.54"}},{"$f":"+[1]Tabulka!BC155","v":0},{"$f":"+[1]Tabulka!BD155","v":{"v":0,"d":"0.00"}},{"$f":"+[1]Tabulka!BE155","v":0},{"$f":"+[1]Tabulka!BF155","v":{"v":0,"d":"0.00"}},{"$f":"+[1]Tabulka!BG155","v":0},{"$f":"+[1]Tabulka!BH155","v":{"v":0,"d":"0.00"}},{"$f":"+[1]Tabulka!BI155","v":0},{"$f":"+[1]Tabulka!BJ155","v":{"v":0,"d":"0.00"}},{"$f":"+[1]Tabulka!AP155","v":{"v":0,"d":"0.00"}},{"$f":"+[1]Tabulka!AQ155","v":{"v":0,"d":"0.00"}},{"$f":"+[1]Tabulka!BM155","v":{"v":1.556224138369244,"d":"1.56"}},{"$f":"+[1]Tabulka!BN155","v":2},{"$f":"+[1]Tabulka!BO155","v":{"v":1.556224138369244,"d":"1.56"}}]
["61",{"$f":"[1]Tabulka!C156","v":"HORVATH"},{"$f":"[1]Tabulka!D156","v":"Josef"},{"$f":"[1]Tabulka!E156","v":"1996-01-01"},{"$f":"[1]Tabulka!F156","v":"Těrlicko- DDŠ"},{"$f":"[1]Tabulka!G156","v":"KA"},{"$f":"[1]Tabulka!H156","v":0},{"$f":"+[1]Tabulka!AU156","v":0},{"$f":"+[1]Tabulka!AV156","v":{"v":0,"d":"0.00"}},{"$f":"+[1]Tabulka!AW156","v":0},{"$f":"+[1]Tabulka!AX156","v":{"v":0,"d":"0.00"}},{"$f":"+[1]Tabulka!AY156","v":41},{"$f":"+[1]Tabulka!AZ156","v":{"v":0.36876921682465774,"d":"0.37"}},{"$f":"+[1]Tabulka!BA156","v":50},{"$f":"+[1]Tabulka!BB156","v":{"v":0.20844204057046203,"d":"0.21"}},{"$f":"+[1]Tabulka!BC156","v":26},{"$f":"+[1]Tabulka!BD156","v":{"v":0.9543409711693354,"d":"0.95"}},{"$f":"+[1]Tabulka!BE156","v":0},{"$f":"+[1]Tabulka!BF156","v":{"v":0,"d":"0.00"}},{"$f":"+[1]Tabulka!BG156","v":0},{"$f":"+[1]Tabulka!BH156","v":{"v":0,"d":"0.00"}},{"$f":"+[1]Tabulka!BI156","v":0},{"$f":"+[1]Tabulka!BJ156","v":{"v":0,"d":"0.00"}},{"$f":"+[1]Tabulka!AP156","v":{"v":0,"d":"0.00"}},{"$f":"+[1]Tabulka!AQ156","v":{"v":0,"d":"0.00"}},{"$f":"+[1]Tabulka!BM156","v":{"v":1.5315522285644552,"d":"1.53"}},{"$f":"+[1]Tabulka!BN156","v":3},{"$f":"+[1]Tabulka!BO156","v":{"v":1.5315522285644552,"d":"1.53"}}]
["62",{"$f":"[1]Tabulka!C157","v":"VINTROCHA"},{"$f":"[1]Tabulka!D157","v":"Richard"},{"$f":"[1]Tabulka!E157","v":"1996-01-01"},{"$f":"[1]Tabulka!F157","v":"Havířov- CSVČ sv. Jana Boska"},{"$f":"[1]Tabulka!G157","v":"KA"},{"$f":"[1]Tabulka!H157","v":0},{"$f":"+[1]Tabulka!AU157","v":0},{"$f":"+[1]Tabulka!AV157","v":{"v":0,"d":"0.00"}},{"$f":"+[1]Tabulka!AW157","v":0},{"$f":"+[1]Tabulka!AX157","v":{"v":0,"d":"0.00"}},{"$f":"+[1]Tabulka!AY157","v":0},{"$f":"+[1]Tabulka!AZ157","v":{"v":0,"d":"0.00"}},{"$f":"+[1]Tabulka!BA157","v":0},{"$f":"+[1]Tabulka!BB157","v":{"v":0,"d":"0.00"}},{"$f":"+[1]Tabulka!BC157","v":0},{"$f":"+[1]Tabulka!BD157","v":{"v":0,"d":"0.00"}},{"$f":"+[1]Tabulka!BE157","v":0},{"$f":"+[1]Tabulka!BF157","v":{"v":0,"d":"0.00"}},{"$f":"+[1]Tabulka!BG157","v":36},{"$f":"+[1]Tabulka!BH157","v":{"v":0.5062957677259255,"d":"0.51"}},{"$f":"+[1]Tabulka!BI157","v":25},{"$f":"+[1]Tabulka!BJ157","v":{"v":1.0167952208923348,"d":"1.02"}},{"$f":"+[1]Tabulka!AP157","v":{"v":0,"d":"0.00"}},{"$f":"+[1]Tabulka!AQ157","v":{"v":0,"d":"0.00"}},{"$f":"+[1]Tabulka!BM157","v":{"v":1.5230909886182604,"d":"1.52"}},{"$f":"+[1]Tabulka!BN157","v":2},{"$f":"+[1]Tabulka!BO157","v":{"v":1.5230909886182604,"d":"1.52"}}]
["63",{"$f":"[1]Tabulka!C158","v":"MUŠUKA"},{"$f":"[1]Tabulka!D158","v":"Patrik"},{"$f":"[1]Tabulka!E158","v":"1996-01-01"},{"$f":"[1]Tabulka!F158","v":"Havířov- CSVČ sv. Jana Boska"},{"$f":"[1]Tabulka!G158","v":"KA"},{"$f":"[1]Tabulka!H158","v":0},{"$f":"+[1]Tabulka!AU158","v":0},{"$f":"+[1]Tabulka!AV158","v":{"v":0,"d":"0.00"}},{"$f":"+[1]Tabulka!AW158","v":0},{"$f":"+[1]Tabulka!AX158","v":{"v":0,"d":"0.00"}},{"$f":"+[1]Tabulka!AY158","v":0},{"$f":"+[1]Tabulka!AZ158","v":{"v":0,"d":"0.00"}},{"$f":"+[1]Tabulka!BA158","v":0},{"$f":"+[1]Tabulka!BB158","v":{"v":0,"d":"0.00"}},{"$f":"+[1]Tabulka!BC158","v":0},{"$f":"+[1]Tabulka!BD158","v":{"v":0,"d":"0.00"}},{"$f":"+[1]Tabulka!BE158","v":0},{"$f":"+[1]Tabulka!BF158","v":{"v":0,"d":"0.00"}},{"$f":"+[1]Tabulka!BG158","v":41},{"$f":"+[1]Tabulka!BH158","v":{"v":0.36876921682465774,"d":"0.37"}},{"$f":"+[1]Tabulka!BI158","v":23},{"$f":"+[1]Tabulka!BJ158","v":{"v":1.1542326382851416,"d":"1.15"}},{"$f":"+[1]Tabulka!AP158","v":{"v":0,"d":"0.00"}},{"$f":"+[1]Tabulka!AQ158","v":{"v":0,"d":"0.00"}},{"$f":"+[1]Tabulka!BM158","v":{"v":1.5230018551097992,"d":"1.52"}},{"$f":"+[1]Tabulka!BN158","v":2},{"$f":"+[1]Tabulka!BO158","v":{"v":1.5230018551097992,"d":"1.52"}}]
["65",{"$f":"[1]Tabulka!C159","v":"CINGELOVÁ"},{"$f":"[1]Tabulka!D159","v":"Luba"},{"$f":"[1]Tabulka!E159","v":"1998-11-05"},{"$f":"[1]Tabulka!F159","v":"Hradec nad Moravicí- FIT SPORT KLUB "},{"$f":"[1]Tabulka!G159","v":"OP"},{"$f":"[1]Tabulka!H159","v":100},{"$f":"+[1]Tabulka!AU159","v":0},{"$f":"+[1]Tabulka!AV159","v":{"v":0,"d":"0.00"}},{"$f":"+[1]Tabulka!AW159","v":27},{"$f":"+[1]Tabulka!AX159","v":{"v":0.8957228265226755,"d":"0.90"}},{"$f":"+[1]Tabulka!AY159","v":0},{"$f":"+[1]Tabulka!AZ159","v":{"v":0,"d":"0.00"}},{"$f":"+[1]Tabulka!BA159","v":0},{"$f":"+[1]Tabulka!BB159","v":{"v":0,"d":"0.00"}},{"$f":"+[1]Tabulka!BC159","v":0},{"$f":"+[1]Tabulka!BD159","v":{"v":0,"d":"0.00"}},{"$f":"+[1]Tabulka!BE159","v":33},{"$f":"+[1]Tabulka!BF159","v":{"v":0.6123420427175658,"d":"0.61"}},{"$f":"+[1]Tabulka!BG159","v":0},{"$f":"+[1]Tabulka!BH159","v":{"v":0,"d":"0.00"}},{"$f":"+[1]Tabulka!BI159","v":0},{"$f":"+[1]Tabulka!BJ159","v":{"v":0,"d":"0.00"}},{"$f":"+[1]Tabulka!AP159","v":{"v":0,"d":"0.00"}},{"$f":"+[1]Tabulka!AQ159","v":{"v":0,"d":"0.00"}},{"$f":"+[1]Tabulka!BM159","v":{"v":1.5080648692402412,"d":"1.51"}},{"$f":"+[1]Tabulka!BN159","v":2},{"$f":"+[1]Tabulka!BO159","v":{"v":1.5080648692402412,"d":"1.51"}}]
["64",{"$f":"[1]Tabulka!C160","v":"MATISOVSKÝ"},{"$f":"[1]Tabulka!D160","v":"Marián"},{"$f":"[1]Tabulka!E160","v":"1995-05-03"},{"$f":"[1]Tabulka!F160","v":"Karviná- Baník ČSA  TJ"},{"$f":"[1]Tabulka!G160","v":"KA"},{"$f":"[1]Tabulka!H160","v":100},{"$f":"+[1]Tabulka!AU160","v":0},{"$f":"+[1]Tabulka!AV160","v":{"v":0,"d":"0.00"}},{"$f":"+[1]Tabulka!AW160","v":0},{"$f":"+[1]Tabulka!AX160","v":{"v":0,"d":"0.00"}},{"$f":"+[1]Tabulka!AY160","v":0},{"$f":"+[1]Tabulka!AZ160","v":{"v":0,"d":"0.00"}},{"$f":"+[1]Tabulka!BA160","v":0},{"$f":"+[1]Tabulka!BB160","v":{"v":0,"d":"0.00"}},{"$f":"+[1]Tabulka!BC160","v":0},{"$f":"+[1]Tabulka!BD160","v":{"v":0,"d":"0.00"}},{"$f":"+[1]Tabulka!BE160","v":19},{"$f":"+[1]Tabulka!BF160","v":{"v":1.4873495950244735,"d":"1.49"}},{"$f":"+[1]Tabulka!BG160","v":0},{"$f":"+[1]Tabulka!BH160","v":{"v":0,"d":"0.00"}},{"$f":"+[1]Tabulka!BI160","v":0},{"$f":"+[1]Tabulka!BJ160","v":{"v":0,"d":"0.00"}},{"$f":"+[1]Tabulka!AP160","v":{"v":0,"d":"0.00"}},{"$f":"+[1]Tabulka!AQ160","v":{"v":0,"d":"0.00"}},{"$f":"+[1]Tabulka!BM160","v":{"v":1.4873495950244735,"d":"1.49"}},{"$f":"+[1]Tabulka!BN160","v":1},{"$f":"+[1]Tabulka!BO160","v":{"v":1.4873495950244735,"d":"1.49"}}]
["65",{"$f":"[1]Tabulka!C161","v":"TRAGAN"},{"$f":"[1]Tabulka!D161","v":"nikolas"},{"$f":"[1]Tabulka!E161","v":"1995-07-16"},{"$f":"[1]Tabulka!F161","v":"Chotěbuz- Sokol TJ"},{"$f":"[1]Tabulka!G161","v":"KA"},{"$f":"[1]Tabulka!H161","v":100},{"$f":"+[1]Tabulka!AU161","v":20},{"$f":"+[1]Tabulka!AV161","v":{"v":1.3959926520290693,"d":"1.40"}},{"$f":"+[1]Tabulka!AW161","v":0},{"$f":"+[1]Tabulka!AX161","v":{"v":0,"d":"0.00"}},{"$f":"+[1]Tabulka!AY161","v":0},{"$f":"+[1]Tabulka!AZ161","v":{"v":0,"d":"0.00"}},{"$f":"+[1]Tabulka!BA161","v":0},{"$f":"+[1]Tabulka!BB161","v":{"v":0,"d":"0.00"}},{"$f":"+[1]Tabulka!BC161","v":0},{"$f":"+[1]Tabulka!BD161","v":{"v":0,"d":"0.00"}},{"$f":"+[1]Tabulka!BE161","v":0},{"$f":"+[1]Tabulka!BF161","v":{"v":0,"d":"0.00"}},{"$f":"+[1]Tabulka!BG161","v":0},{"$f":"+[1]Tabulka!BH161","v":{"v":0,"d":"0.00"}},{"$f":"+[1]Tabulka!BI161","v":0},{"$f":"+[1]Tabulka!BJ161","v":{"v":0,"d":"0.00"}},{"$f":"+[1]Tabulka!AP161","v":{"v":0,"d":"0.00"}},{"$f":"+[1]Tabulka!AQ161","v":{"v":0,"d":"0.00"}},{"$f":"+[1]Tabulka!BM161","v":{"v":1.3959926520290693,"d":"1.40"}},{"$f":"+[1]Tabulka!BN161","v":1},{"$f":"+[1]Tabulka!BO161","v":{"v":1.3959926520290693,"d":"1.40"}}]
["67",{"$f":"[1]Tabulka!C162","v":"VALDMANN"},{"$f":"[1]Tabulka!D162","v":"Martin"},{"$f":"[1]Tabulka!E162","v":"2001-01-01"},{"$f":"[1]Tabulka!F162","v":"Děhylov- Sokol TJ"},{"$f":"[1]Tabulka!G162","v":"OV"},{"$f":"[1]Tabulka!H162","v":0},{"$f":"+[1]Tabulka!AU162","v":0},{"$f":"+[1]Tabulka!AV162","v":{"v":0,"d":"0.00"}},{"$f":"+[1]Tabulka!AW162","v":27},{"$f":"+[1]Tabulka!AX162","v":{"v":0.8957228265226755,"d":"0.90"}},{"$f":"+[1]Tabulka!AY162","v":37},{"$f":"+[1]Tabulka!AZ162","v":{"v":0.4751977435991968,"d":"0.48"}},{"$f":"+[1]Tabulka!BA162","v":0},{"$f":"+[1]Tabulka!BB162","v":{"v":0,"d":"0.00"}},{"$f":"+[1]Tabulka!BC162","v":0},{"$f":"+[1]Tabulka!BD162","v":{"v":0,"d":"0.00"}},{"$f":"+[1]Tabulka!BE162","v":0},{"$f":"+[1]Tabulka!BF162","v":{"v":0,"d":"0.00"}},{"$f":"+[1]Tabulka!BG162","v":0},{"$f":"+[1]Tabulka!BH162","v":{"v":0,"d":"0.00"}},{"$f":"+[1]Tabulka!BI162","v":0},{"$f":"+[1]Tabulka!BJ162","v":{"v":0,"d":"0.00"}},{"$f":"+[1]Tabulka!AP162","v":{"v":0,"d":"0.00"}},{"$f":"+[1]Tabulka!AQ162","v":{"v":0,"d":"0.00"}},{"$f":"+[1]Tabulka!BM162","v":{"v":1.3709205701218723,"d":"1.37"}},{"$f":"+[1]Tabulka!BN162","v":2},{"$f":"+[1]Tabulka!BO162","v":{"v":1.3709205701218723,"d":"1.37"}}]
["66",{"$f":"[1]Tabulka!C163","v":"PIESZKA"},{"$f":"[1]Tabulka!D163","v":"Patrik"},{"$f":"[1]Tabulka!E163","v":"2000-01-01"},{"$f":"[1]Tabulka!F163","v":"Chotěbuz- Sokol TJ"},{"$f":"[1]Tabulka!G163","v":"KA"},{"$f":"[1]Tabulka!H163","v":0},{"$f":"+[1]Tabulka!AU163","v":0},{"$f":"+[1]Tabulka!AV163","v":{"v":0,"d":"0.00"}},{"$f":"+[1]Tabulka!AW163","v":0},{"$f":"+[1]Tabulka!AX163","v":{"v":0,"d":"0.00"}},{"$f":"+[1]Tabulka!AY163","v":0},{"$f":"+[1]Tabulka!AZ163","v":{"v":0,"d":"0.00"}},{"$f":"+[1]Tabulka!BA163","v":44},{"$f":"+[1]Tabulka!BB163","v":{"v":0.3049052338744021,"d":"0.30"}},{"$f":"+[1]Tabulka!BC163","v":30},{"$f":"+[1]Tabulka!BD163","v":{"v":0.7406002601279904,"d":"0.74"}},{"$f":"+[1]Tabulka!BE163","v":0},{"$f":"+[1]Tabulka!BF163","v":{"v":0,"d":"0.00"}},{"$f":"+[1]Tabulka!BG163","v":44},{"$f":"+[1]Tabulka!BH163","v":{"v":0.3049052338744021,"d":"0.30"}},{"$f":"+[1]Tabulka!BI163","v":0},{"$f":"+[1]Tabulka!BJ163","v":{"v":0,"d":"0.00"}},{"$f":"+[1]Tabulka!AP163","v":{"v":0,"d":"0.00"}},{"$f":"+[1]Tabulka!AQ163","v":{"v":0,"d":"0.00"}},{"$f":"+[1]Tabulka!BM163","v":{"v":1.3504107278767945,"d":"1.35"}},{"$f":"+[1]Tabulka!BN163","v":3},{"$f":"+[1]Tabulka!BO163","v":{"v":1.3504107278767945,"d":"1.35"}}]
["67",{"$f":"[1]Tabulka!C164","v":"IŠTVÁN"},{"$f":"[1]Tabulka!D164","v":"Jakub"},{"$f":"[1]Tabulka!E164","v":"2000-01-01"},{"$f":"[1]Tabulka!F164","v":"Orlová- Slávie SK"},{"$f":"[1]Tabulka!G164","v":"KA"},{"$f":"[1]Tabulka!H164","v":0},{"$f":"+[1]Tabulka!AU164","v":0},{"$f":"+[1]Tabulka!AV164","v":{"v":0,"d":"0.00"}},{"$f":"+[1]Tabulka!AW164","v":35},{"$f":"+[1]Tabulka!AX164","v":{"v":0.5394289174769091,"d":"0.54"}},{"$f":"+[1]Tabulka!AY164","v":42},{"$f":"+[1]Tabulka!AZ164","v":{"v":0.3461184369188376,"d":"0.35"}},{"$f":"+[1]Tabulka!BA164","v":38},{"$f":"+[1]Tabulka!BB164","v":{"v":0.4460098423023116,"d":"0.45"}},{"$f":"+[1]Tabulka!BC164","v":0},{"$f":"+[1]Tabulka!BD164","v":{"v":0,"d":"0.00"}},{"$f":"+[1]Tabulka!BE164","v":0},{"$f":"+[1]Tabulka!BF164","v":{"v":0,"d":"0.00"}},{"$f":"+[1]Tabulka!BG164","v":0},{"$f":"+[1]Tabulka!BH164","v":{"v":0,"d":"0.00"}},{"$f":"+[1]Tabulka!BI164","v":0},{"$f":"+[1]Tabulka!BJ164","v":{"v":0,"d":"0.00"}},{"$f":"+[1]Tabulka!AP164","v":{"v":0,"d":"0.00"}},{"$f":"+[1]Tabulka!AQ164","v":{"v":0,"d":"0.00"}},{"$f":"+[1]Tabulka!BM164","v":{"v":1.3315571966980584,"d":"1.33"}},{"$f":"+[1]Tabulka!BN164","v":3},{"$f":"+[1]Tabulka!BO164","v":{"v":1.3315571966980584,"d":"1.33"}}]
["68",{"$f":"[1]Tabulka!C165","v":"GATNAR"},{"$f":"[1]Tabulka!D165","v":"Vojtěch"},{"$f":"[1]Tabulka!E165","v":"1995-03-21"},{"$f":"[1]Tabulka!F165","v":"Karviná- Baník ČSA  TJ"},{"$f":"[1]Tabulka!G165","v":"KA"},{"$f":"[1]Tabulka!H165","v":100},{"$f":"+[1]Tabulka!AU165","v":0},{"$f":"+[1]Tabulka!AV165","v":{"v":0,"d":"0.00"}},{"$f":"+[1]Tabulka!AW165","v":0},{"$f":"+[1]Tabulka!AX165","v":{"v":0,"d":"0.00"}},{"$f":"+[1]Tabulka!AY165","v":0},{"$f":"+[1]Tabulka!AZ165","v":{"v":0,"d":"0.00"}},{"$f":"+[1]Tabulka!BA165","v":0},{"$f":"+[1]Tabulka!BB165","v":{"v":0,"d":"0.00"}},{"$f":"+[1]Tabulka!BC165","v":0},{"$f":"+[1]Tabulka!BD165","v":{"v":0,"d":"0.00"}},{"$f":"+[1]Tabulka!BE165","v":21},{"$f":"+[1]Tabulka!BF165","v":{"v":1.3102470939168058,"d":"1.31"}},{"$f":"+[1]Tabulka!BG165","v":0},{"$f":"+[1]Tabulka!BH165","v":{"v":0,"d":"0.00"}},{"$f":"+[1]Tabulka!BI165","v":0},{"$f":"+[1]Tabulka!BJ165","v":{"v":0,"d":"0.00"}},{"$f":"+[1]Tabulka!AP165","v":{"v":0,"d":"0.00"}},{"$f":"+[1]Tabulka!AQ165","v":{"v":0,"d":"0.00"}},{"$f":"+[1]Tabulka!BM165","v":{"v":1.3102470939168058,"d":"1.31"}},{"$f":"+[1]Tabulka!BN165","v":1},{"$f":"+[1]Tabulka!BO165","v":{"v":1.3102470939168058,"d":"1.31"}}]
["69",{"$f":"[1]Tabulka!C166","v":"NAMYSLO"},{"$f":"[1]Tabulka!D166","v":"Lukáš"},{"$f":"[1]Tabulka!E166","v":"1993-01-01"},{"$f":"[1]Tabulka!F166","v":"Orlová- Slávie SK"},{"$f":"[1]Tabulka!G166","v":"KA"},{"$f":"[1]Tabulka!H166","v":0},{"$f":"+[1]Tabulka!AU166","v":0},{"$f":"+[1]Tabulka!AV166","v":{"v":0,"d":"0.00"}},{"$f":"+[1]Tabulka!AW166","v":0},{"$f":"+[1]Tabulka!AX166","v":{"v":0,"d":"0.00"}},{"$f":"+[1]Tabulka!AY166","v":0},{"$f":"+[1]Tabulka!AZ166","v":{"v":0,"d":"0.00"}},{"$f":"+[1]Tabulka!BA166","v":32},{"$f":"+[1]Tabulka!BB166","v":{"v":0.6524151025642111,"d":"0.65"}},{"$f":"+[1]Tabulka!BC166","v":0},{"$f":"+[1]Tabulka!BD166","v":{"v":0,"d":"0.00"}},{"$f":"+[1]Tabulka!BE166","v":32},{"$f":"+[1]Tabulka!BF166","v":{"v":0.6524151025642111,"d":"0.65"}},{"$f":"+[1]Tabulka!BG166","v":0},{"$f":"+[1]Tabulka!BH166","v":{"v":0,"d":"0.00"}},{"$f":"+[1]Tabulka!BI166","v":0},{"$f":"+[1]Tabulka!BJ166","v":{"v":0,"d":"0.00"}},{"$f":"+[1]Tabulka!AP166","v":{"v":0,"d":"0.00"}},{"$f":"+[1]Tabulka!AQ166","v":{"v":0,"d":"0.00"}},{"$f":"+[1]Tabulka!BM166","v":{"v":1.3048302051284222,"d":"1.30"}},{"$f":"+[1]Tabulka!BN166","v":2},{"$f":"+[1]Tabulka!BO166","v":{"v":1.3048302051284222,"d":"1.30"}}]
["70",{"$f":"[1]Tabulka!C167","v":"LARYŠ"},{"$f":"[1]Tabulka!D167","v":"Vojtěch"},{"$f":"[1]Tabulka!E167","v":"2003-10-10"},{"$f":"[1]Tabulka!F167","v":"Karviná- KLUBsten KST"},{"$f":"[1]Tabulka!G167","v":"KA"},{"$f":"[1]Tabulka!H167","v":100},{"$f":"+[1]Tabulka!AU167","v":0},{"$f":"+[1]Tabulka!AV167","v":{"v":0,"d":"0.00"}},{"$f":"+[1]Tabulka!AW167","v":0},{"$f":"+[1]Tabulka!AX167","v":{"v":0,"d":"0.00"}},{"$f":"+[1]Tabulka!AY167","v":40},{"$f":"+[1]Tabulka!AZ167","v":{"v":0.3929023154272488,"d":"0.39"}},{"$f":"+[1]Tabulka!BA167","v":0},{"$f":"+[1]Tabulka!BB167","v":{"v":0,"d":"0.00"}},{"$f":"+[1]Tabulka!BC167","v":32},{"$f":"+[1]Tabulka!BD167","v":{"v":0.6524151025642111,"d":"0.65"}},{"$f":"+[1]Tabulka!BE167","v":0},{"$f":"+[1]Tabulka!BF167","v":{"v":0,"d":"0.00"}},{"$f":"+[1]Tabulka!BG167","v":47},{"$f":"+[1]Tabulka!BH167","v":{"v":0.2521013072742669,"d":"0.25"}},{"$f":"+[1]Tabulka!BI167","v":0},{"$f":"+[1]Tabulka!BJ167","v":{"v":0,"d":"0.00"}},{"$f":"+[1]Tabulka!AP167","v":{"v":0,"d":"0.00"}},{"$f":"+[1]Tabulka!AQ167","v":{"v":0,"d":"0.00"}},{"$f":"+[1]Tabulka!BM167","v":{"v":1.2974187252657268,"d":"1.30"}},{"$f":"+[1]Tabulka!BN167","v":3},{"$f":"+[1]Tabulka!BO167","v":{"v":1.2974187252657268,"d":"1.30"}}]
["71",{"$f":"[1]Tabulka!C168","v":"NIEDOBA"},{"$f":"[1]Tabulka!D168","v":"Marek"},{"$f":"[1]Tabulka!E168","v":"1999-01-01"},{"$f":"[1]Tabulka!F168","v":"Orlová- Siko TTC"},{"$f":"[1]Tabulka!G168","v":"KA"},{"$f":"[1]Tabulka!H168","v":0},{"$f":"+[1]Tabulka!AU168","v":0},{"$f":"+[1]Tabulka!AV168","v":{"v":0,"d":"0.00"}},{"$f":"+[1]Tabulka!AW168","v":0},{"$f":"+[1]Tabulka!AX168","v":{"v":0,"d":"0.00"}},{"$f":"+[1]Tabulka!AY168","v":34},{"$f":"+[1]Tabulka!AZ168","v":{"v":0.5747303761145184,"d":"0.57"}},{"$f":"+[1]Tabulka!BA168","v":31},{"$f":"+[1]Tabulka!BB168","v":{"v":0.695110634842026,"d":"0.70"}},{"$f":"+[1]Tabulka!BC168","v":0},{"$f":"+[1]Tabulka!BD168","v":{"v":0,"d":"0.00"}},{"$f":"+[1]Tabulka!BE168","v":0},{"$f":"+[1]Tabulka!BF168","v":{"v":0,"d":"0.00"}},{"$f":"+[1]Tabulka!BG168","v":0},{"$f":"+[1]Tabulka!BH168","v":{"v":0,"d":"0.00"}},{"$f":"+[1]Tabulka!BI168","v":0},{"$f":"+[1]Tabulka!BJ168","v":{"v":0,"d":"0.00"}},{"$f":"+[1]Tabulka!AP168","v":{"v":0,"d":"0.00"}},{"$f":"+[1]Tabulka!AQ168","v":{"v":0,"d":"0.00"}},{"$f":"+[1]Tabulka!BM168","v":{"v":1.2698410109565443,"d":"1.27"}},{"$f":"+[1]Tabulka!BN168","v":2},{"$f":"+[1]Tabulka!BO168","v":{"v":1.2698410109565443,"d":"1.27"}}]
["72",{"$f":"[1]Tabulka!C169","v":"RASZKA"},{"$f":"[1]Tabulka!D169","v":"Filip"},{"$f":"[1]Tabulka!E169","v":"2002-01-01"},{"$f":"[1]Tabulka!F169","v":"Orlová- Slávie SK"},{"$f":"[1]Tabulka!G169","v":"KA"},{"$f":"[1]Tabulka!H169","v":0},{"$f":"+[1]Tabulka!AU169","v":36},{"$f":"+[1]Tabulka!AV169","v":{"v":0.5062957677259255,"d":"0.51"}},{"$f":"+[1]Tabulka!AW169","v":0},{"$f":"+[1]Tabulka!AX169","v":{"v":0,"d":"0.00"}},{"$f":"+[1]Tabulka!AY169","v":0},{"$f":"+[1]Tabulka!AZ169","v":{"v":0,"d":"0.00"}},{"$f":"+[1]Tabulka!BA169","v":47},{"$f":"+[1]Tabulka!BB169","v":{"v":0.2521013072742669,"d":"0.25"}},{"$f":"+[1]Tabulka!BC169","v":36},{"$f":"+[1]Tabulka!BD169","v":{"v":0.5062957677259255,"d":"0.51"}},{"$f":"+[1]Tabulka!BE169","v":0},{"$f":"+[1]Tabulka!BF169","v":{"v":0,"d":"0.00"}},{"$f":"+[1]Tabulka!BG169","v":0},{"$f":"+[1]Tabulka!BH169","v":{"v":0,"d":"0.00"}},{"$f":"+[1]Tabulka!BI169","v":0},{"$f":"+[1]Tabulka!BJ169","v":{"v":0,"d":"0.00"}},{"$f":"+[1]Tabulka!AP169","v":{"v":0,"d":"0.00"}},{"$f":"+[1]Tabulka!AQ169","v":{"v":0,"d":"0.00"}},{"$f":"+[1]Tabulka!BM169","v":{"v":1.264692842726118,"d":"1.26"}},{"$f":"+[1]Tabulka!BN169","v":3},{"$f":"+[1]Tabulka!BO169","v":{"v":1.264692842726118,"d":"1.26"}}]
["73",{"$f":"[1]Tabulka!C170","v":"PRYCZEK"},{"$f":"[1]Tabulka!D170","v":"Marian"},{"$f":"[1]Tabulka!E170","v":"1997-01-01"},{"$f":"[1]Tabulka!F170","v":"Karviná-Lázně Darkov- Slovan VOKD TJ"},{"$f":"[1]Tabulka!G170","v":"KA"},{"$f":"[1]Tabulka!H170","v":0},{"$f":"+[1]Tabulka!AU170","v":0},{"$f":"+[1]Tabulka!AV170","v":{"v":0,"d":"0.00"}},{"$f":"+[1]Tabulka!AW170","v":0},{"$f":"+[1]Tabulka!AX170","v":{"v":0,"d":"0.00"}},{"$f":"+[1]Tabulka!AY170","v":0},{"$f":"+[1]Tabulka!AZ170","v":{"v":0,"d":"0.00"}},{"$f":"+[1]Tabulka!BA170","v":0},{"$f":"+[1]Tabulka!BB170","v":{"v":0,"d":"0.00"}},{"$f":"+[1]Tabulka!BC170","v":0},{"$f":"+[1]Tabulka!BD170","v":{"v":0,"d":"0.00"}},{"$f":"+[1]Tabulka!BE170","v":0},{"$f":"+[1]Tabulka!BF170","v":{"v":0,"d":"0.00"}},{"$f":"+[1]Tabulka!BG170","v":22},{"$f":"+[1]Tabulka!BH170","v":{"v":1.2297682545980093,"d":"1.23"}},{"$f":"+[1]Tabulka!BI170","v":0},{"$f":"+[1]Tabulka!BJ170","v":{"v":0,"d":"0.00"}},{"$f":"+[1]Tabulka!AP170","v":{"v":0,"d":"0.00"}},{"$f":"+[1]Tabulka!AQ170","v":{"v":0,"d":"0.00"}},{"$f":"+[1]Tabulka!BM170","v":{"v":1.2297682545980093,"d":"1.23"}},{"$f":"+[1]Tabulka!BN170","v":1},{"$f":"+[1]Tabulka!BO170","v":{"v":1.2297682545980093,"d":"1.23"}}]
["71",{"$f":"[1]Tabulka!C171","v":"OSMANČÍK"},{"$f":"[1]Tabulka!D171","v":"Jakub"},{"$f":"[1]Tabulka!E171","v":"2002-04-02"},{"$f":"[1]Tabulka!F171","v":"Děhylov- Sokol TJ"},{"$f":"[1]Tabulka!G171","v":"OP"},{"$f":"[1]Tabulka!H171","v":100},{"$f":"+[1]Tabulka!AU171","v":0},{"$f":"+[1]Tabulka!AV171","v":{"v":0,"d":"0.00"}},{"$f":"+[1]Tabulka!AW171","v":0},{"$f":"+[1]Tabulka!AX171","v":{"v":0,"d":"0.00"}},{"$f":"+[1]Tabulka!AY171","v":0},{"$f":"+[1]Tabulka!AZ171","v":{"v":0,"d":"0.00"}},{"$f":"+[1]Tabulka!BA171","v":33},{"$f":"+[1]Tabulka!BB171","v":{"v":0.6123420427175658,"d":"0.61"}},{"$f":"+[1]Tabulka!BC171","v":33},{"$f":"+[1]Tabulka!BD171","v":{"v":0.6123420427175658,"d":"0.61"}},{"$f":"+[1]Tabulka!BE171","v":0},{"$f":"+[1]Tabulka!BF171","v":{"v":0,"d":"0.00"}},{"$f":"+[1]Tabulka!BG171","v":0},{"$f":"+[1]Tabulka!BH171","v":{"v":0,"d":"0.00"}},{"$f":"+[1]Tabulka!BI171","v":0},{"$f":"+[1]Tabulka!BJ171","v":{"v":0,"d":"0.00"}},{"$f":"+[1]Tabulka!AP171","v":{"v":0,"d":"0.00"}},{"$f":"+[1]Tabulka!AQ171","v":{"v":0,"d":"0.00"}},{"$f":"+[1]Tabulka!BM171","v":{"v":1.2246840854351315,"d":"1.22"}},{"$f":"+[1]Tabulka!BN171","v":2},{"$f":"+[1]Tabulka!BO171","v":{"v":1.2246840854351315,"d":"1.22"}}]
["72",{"$f":"[1]Tabulka!C172","v":"PETEREK"},{"$f":"[1]Tabulka!D172","v":"Jan"},{"$f":"[1]Tabulka!E172","v":"2000-12-31"},{"$f":"[1]Tabulka!F172","v":"Kravaře- SK TJ"},{"$f":"[1]Tabulka!G172","v":"OP"},{"$f":"[1]Tabulka!H172","v":100},{"$f":"+[1]Tabulka!AU172","v":0},{"$f":"+[1]Tabulka!AV172","v":{"v":0,"d":"0.00"}},{"$f":"+[1]Tabulka!AW172","v":0},{"$f":"+[1]Tabulka!AX172","v":{"v":0,"d":"0.00"}},{"$f":"+[1]Tabulka!AY172","v":33},{"$f":"+[1]Tabulka!AZ172","v":{"v":0.6123420427175658,"d":"0.61"}},{"$f":"+[1]Tabulka!BA172","v":0},{"$f":"+[1]Tabulka!BB172","v":{"v":0,"d":"0.00"}},{"$f":"+[1]Tabulka!BC172","v":33},{"$f":"+[1]Tabulka!BD172","v":{"v":0.6123420427175658,"d":"0.61"}},{"$f":"+[1]Tabulka!BE172","v":0},{"$f":"+[1]Tabulka!BF172","v":{"v":0,"d":"0.00"}},{"$f":"+[1]Tabulka!BG172","v":0},{"$f":"+[1]Tabulka!BH172","v":{"v":0,"d":"0.00"}},{"$f":"+[1]Tabulka!BI172","v":0},{"$f":"+[1]Tabulka!BJ172","v":{"v":0,"d":"0.00"}},{"$f":"+[1]Tabulka!AP172","v":{"v":0,"d":"0.00"}},{"$f":"+[1]Tabulka!AQ172","v":{"v":0,"d":"0.00"}},{"$f":"+[1]Tabulka!BM172","v":{"v":1.2246840854351315,"d":"1.22"}},{"$f":"+[1]Tabulka!BN172","v":2},{"$f":"+[1]Tabulka!BO172","v":{"v":1.2246840854351315,"d":"1.22"}}]
["73",{"$f":"[1]Tabulka!C173","v":"ŠEVČÍK"},{"$f":"[1]Tabulka!D173","v":"Tomáš"},{"$f":"[1]Tabulka!E173","v":"2001-08-29"},{"$f":"[1]Tabulka!F173","v":"Kravaře- SK TJ"},{"$f":"[1]Tabulka!G173","v":"OP"},{"$f":"[1]Tabulka!H173","v":100},{"$f":"+[1]Tabulka!AU173","v":0},{"$f":"+[1]Tabulka!AV173","v":{"v":0,"d":"0.00"}},{"$f":"+[1]Tabulka!AW173","v":0},{"$f":"+[1]Tabulka!AX173","v":{"v":0,"d":"0.00"}},{"$f":"+[1]Tabulka!AY173","v":33},{"$f":"+[1]Tabulka!AZ173","v":{"v":0.6123420427175658,"d":"0.61"}},{"$f":"+[1]Tabulka!BA173","v":0},{"$f":"+[1]Tabulka!BB173","v":{"v":0,"d":"0.00"}},{"$f":"+[1]Tabulka!BC173","v":33},{"$f":"+[1]Tabulka!BD173","v":{"v":0.6123420427175658,"d":"0.61"}},{"$f":"+[1]Tabulka!BE173","v":0},{"$f":"+[1]Tabulka!BF173","v":{"v":0,"d":"0.00"}},{"$f":"+[1]Tabulka!BG173","v":0},{"$f":"+[1]Tabulka!BH173","v":{"v":0,"d":"0.00"}},{"$f":"+[1]Tabulka!BI173","v":0},{"$f":"+[1]Tabulka!BJ173","v":{"v":0,"d":"0.00"}},{"$f":"+[1]Tabulka!AP173","v":{"v":0,"d":"0.00"}},{"$f":"+[1]Tabulka!AQ173","v":{"v":0,"d":"0.00"}},{"$f":"+[1]Tabulka!BM173","v":{"v":1.2246840854351315,"d":"1.22"}},{"$f":"+[1]Tabulka!BN173","v":2},{"$f":"+[1]Tabulka!BO173","v":{"v":1.2246840854351315,"d":"1.22"}}]
["74",{"$f":"[1]Tabulka!C174","v":"PAZDERA"},{"$f":"[1]Tabulka!D174","v":"Jan"},{"$f":"[1]Tabulka!E174","v":"1999-09-20"},{"$f":"[1]Tabulka!F174","v":"Karviná- KLUBsten KST"},{"$f":"[1]Tabulka!G174","v":"KA"},{"$f":"[1]Tabulka!H174","v":100},{"$f":"+[1]Tabulka!AU174","v":23},{"$f":"+[1]Tabulka!AV174","v":{"v":1.1542326382851416,"d":"1.15"}},{"$f":"+[1]Tabulka!AW174","v":0},{"$f":"+[1]Tabulka!AX174","v":{"v":0,"d":"0.00"}},{"$f":"+[1]Tabulka!AY174","v":0},{"$f":"+[1]Tabulka!AZ174","v":{"v":0,"d":"0.00"}},{"$f":"+[1]Tabulka!BA174","v":0},{"$f":"+[1]Tabulka!BB174","v":{"v":0,"d":"0.00"}},{"$f":"+[1]Tabulka!BC174","v":0},{"$f":"+[1]Tabulka!BD174","v":{"v":0,"d":"0.00"}},{"$f":"+[1]Tabulka!BE174","v":0},{"$f":"+[1]Tabulka!BF174","v":{"v":0,"d":"0.00"}},{"$f":"+[1]Tabulka!BG174","v":0},{"$f":"+[1]Tabulka!BH174","v":{"v":0,"d":"0.00"}},{"$f":"+[1]Tabulka!BI174","v":0},{"$f":"+[1]Tabulka!BJ174","v":{"v":0,"d":"0.00"}},{"$f":"+[1]Tabulka!AP174","v":{"v":0,"d":"0.00"}},{"$f":"+[1]Tabulka!AQ174","v":{"v":0,"d":"0.00"}},{"$f":"+[1]Tabulka!BM174","v":{"v":1.1542326382851416,"d":"1.15"}},{"$f":"+[1]Tabulka!BN174","v":1},{"$f":"+[1]Tabulka!BO174","v":{"v":1.1542326382851416,"d":"1.15"}}]
["75",{"$f":"[1]Tabulka!C175","v":"BURDEK"},{"$f":"[1]Tabulka!D175","v":"Filip"},{"$f":"[1]Tabulka!E175","v":"2001-01-01"},{"$f":"[1]Tabulka!F175","v":"Dětmarovice- Sokol TJ"},{"$f":"[1]Tabulka!G175","v":"KA"},{"$f":"[1]Tabulka!H175","v":0},{"$f":"+[1]Tabulka!AU175","v":0},{"$f":"+[1]Tabulka!AV175","v":{"v":0,"d":"0.00"}},{"$f":"+[1]Tabulka!AW175","v":0},{"$f":"+[1]Tabulka!AX175","v":{"v":0,"d":"0.00"}},{"$f":"+[1]Tabulka!AY175","v":39},{"$f":"+[1]Tabulka!AZ175","v":{"v":0.4186147390428583,"d":"0.42"}},{"$f":"+[1]Tabulka!BA175","v":55},{"$f":"+[1]Tabulka!BB175","v":{"v":0.15182233973583883,"d":"0.15"}},{"$f":"+[1]Tabulka!BC175","v":35},{"$f":"+[1]Tabulka!BD175","v":{"v":0.5394289174769091,"d":"0.54"}},{"$f":"+[1]Tabulka!BE175","v":0},{"$f":"+[1]Tabulka!BF175","v":{"v":0,"d":"0.00"}},{"$f":"+[1]Tabulka!BG175","v":0},{"$f":"+[1]Tabulka!BH175","v":{"v":0,"d":"0.00"}},{"$f":"+[1]Tabulka!BI175","v":0},{"$f":"+[1]Tabulka!BJ175","v":{"v":0,"d":"0.00"}},{"$f":"+[1]Tabulka!AP175","v":{"v":0,"d":"0.00"}},{"$f":"+[1]Tabulka!AQ175","v":{"v":0,"d":"0.00"}},{"$f":"+[1]Tabulka!BM175","v":{"v":1.1098659962556061,"d":"1.11"}},{"$f":"+[1]Tabulka!BN175","v":3},{"$f":"+[1]Tabulka!BO175","v":{"v":1.1098659962556061,"d":"1.11"}}]
["76",{"$f":"[1]Tabulka!C176","v":"KLEIN"},{"$f":"[1]Tabulka!D176","v":"Tomáš"},{"$f":"[1]Tabulka!E176","v":"1995-01-01"},{"$f":"[1]Tabulka!F176","v":"Havířov- CSVČ sv. Jana Boska"},{"$f":"[1]Tabulka!G176","v":"KA"},{"$f":"[1]Tabulka!H176","v":0},{"$f":"+[1]Tabulka!AU176","v":0},{"$f":"+[1]Tabulka!AV176","v":{"v":0,"d":"0.00"}},{"$f":"+[1]Tabulka!AW176","v":0},{"$f":"+[1]Tabulka!AX176","v":{"v":0,"d":"0.00"}},{"$f":"+[1]Tabulka!AY176","v":0},{"$f":"+[1]Tabulka!AZ176","v":{"v":0,"d":"0.00"}},{"$f":"+[1]Tabulka!BA176","v":0},{"$f":"+[1]Tabulka!BB176","v":{"v":0,"d":"0.00"}},{"$f":"+[1]Tabulka!BC176","v":0},{"$f":"+[1]Tabulka!BD176","v":{"v":0,"d":"0.00"}},{"$f":"+[1]Tabulka!BE176","v":0},{"$f":"+[1]Tabulka!BF176","v":{"v":0,"d":"0.00"}},{"$f":"+[1]Tabulka!BG176","v":38},{"$f":"+[1]Tabulka!BH176","v":{"v":0.4460098423023116,"d":"0.45"}},{"$f":"+[1]Tabulka!BI176","v":32},{"$f":"+[1]Tabulka!BJ176","v":{"v":0.6524151025642111,"d":"0.65"}},{"$f":"+[1]Tabulka!AP176","v":{"v":0,"d":"0.00"}},{"$f":"+[1]Tabulka!AQ176","v":{"v":0,"d":"0.00"}},{"$f":"+[1]Tabulka!BM176","v":{"v":1.0984249448665226,"d":"1.10"}},{"$f":"+[1]Tabulka!BN176","v":2},{"$f":"+[1]Tabulka!BO176","v":{"v":1.0984249448665226,"d":"1.10"}}]
["77",{"$f":"[1]Tabulka!C177","v":"TUROŇ"},{"$f":"[1]Tabulka!D177","v":"Filip"},{"$f":"[1]Tabulka!E177","v":"1996-07-09"},{"$f":"[1]Tabulka!F177","v":"Český Těšín- SKST"},{"$f":"[1]Tabulka!G177","v":"KA"},{"$f":"[1]Tabulka!H177","v":100},{"$f":"+[1]Tabulka!AU177","v":0},{"$f":"+[1]Tabulka!AV177","v":{"v":0,"d":"0.00"}},{"$f":"+[1]Tabulka!AW177","v":0},{"$f":"+[1]Tabulka!AX177","v":{"v":0,"d":"0.00"}},{"$f":"+[1]Tabulka!AY177","v":0},{"$f":"+[1]Tabulka!AZ177","v":{"v":0,"d":"0.00"}},{"$f":"+[1]Tabulka!BA177","v":0},{"$f":"+[1]Tabulka!BB177","v":{"v":0,"d":"0.00"}},{"$f":"+[1]Tabulka!BC177","v":0},{"$f":"+[1]Tabulka!BD177","v":{"v":0,"d":"0.00"}},{"$f":"+[1]Tabulka!BE177","v":0},{"$f":"+[1]Tabulka!BF177","v":{"v":0,"d":"0.00"}},{"$f":"+[1]Tabulka!BG177","v":25},{"$f":"+[1]Tabulka!BH177","v":{"v":1.0167952208923348,"d":"1.02"}},{"$f":"+[1]Tabulka!BI177","v":0},{"$f":"+[1]Tabulka!BJ177","v":{"v":0,"d":"0.00"}},{"$f":"+[1]Tabulka!AP177","v":{"v":0,"d":"0.00"}},{"$f":"+[1]Tabulka!AQ177","v":{"v":0,"d":"0.00"}},{"$f":"+[1]Tabulka!BM177","v":{"v":1.0167952208923348,"d":"1.02"}},{"$f":"+[1]Tabulka!BN177","v":1},{"$f":"+[1]Tabulka!BO177","v":{"v":1.0167952208923348,"d":"1.02"}}]
["78",{"$f":"[1]Tabulka!C178","v":"VOKÁL"},{"$f":"[1]Tabulka!D178","v":"Daniel"},{"$f":"[1]Tabulka!E178","v":"1997-01-01"},{"$f":"[1]Tabulka!F178","v":"Hlučín- DDM"},{"$f":"[1]Tabulka!G178","v":"OP"},{"$f":"[1]Tabulka!H178","v":0},{"$f":"+[1]Tabulka!AU178","v":25},{"$f":"+[1]Tabulka!AV178","v":{"v":1.0167952208923348,"d":"1.02"}},{"$f":"+[1]Tabulka!AW178","v":0},{"$f":"+[1]Tabulka!AX178","v":{"v":0,"d":"0.00"}},{"$f":"+[1]Tabulka!AY178","v":0},{"$f":"+[1]Tabulka!AZ178","v":{"v":0,"d":"0.00"}},{"$f":"+[1]Tabulka!BA178","v":0},{"$f":"+[1]Tabulka!BB178","v":{"v":0,"d":"0.00"}},{"$f":"+[1]Tabulka!BC178","v":0},{"$f":"+[1]Tabulka!BD178","v":{"v":0,"d":"0.00"}},{"$f":"+[1]Tabulka!BE178","v":0},{"$f":"+[1]Tabulka!BF178","v":{"v":0,"d":"0.00"}},{"$f":"+[1]Tabulka!BG178","v":0},{"$f":"+[1]Tabulka!BH178","v":{"v":0,"d":"0.00"}},{"$f":"+[1]Tabulka!BI178","v":0},{"$f":"+[1]Tabulka!BJ178","v":{"v":0,"d":"0.00"}},{"$f":"+[1]Tabulka!AP178","v":{"v":0,"d":"0.00"}},{"$f":"+[1]Tabulka!AQ178","v":{"v":0,"d":"0.00"}},{"$f":"+[1]Tabulka!BM178","v":{"v":1.0167952208923348,"d":"1.02"}},{"$f":"+[1]Tabulka!BN178","v":1},{"$f":"+[1]Tabulka!BO178","v":{"v":1.0167952208923348,"d":"1.02"}}]
["78",{"$f":"[1]Tabulka!C179","v":"MACURÁK"},{"$f":"[1]Tabulka!D179","v":"Michal"},{"$f":"[1]Tabulka!E179","v":"2002-11-30"},{"$f":"[1]Tabulka!F179","v":"Havířov- Baník SKST"},{"$f":"[1]Tabulka!G179","v":"KA"},{"$f":"[1]Tabulka!H179","v":100},{"$f":"+[1]Tabulka!AU179","v":0},{"$f":"+[1]Tabulka!AV179","v":{"v":0,"d":"0.00"}},{"$f":"+[1]Tabulka!AW179","v":36},{"$f":"+[1]Tabulka!AX179","v":{"v":0.5062957677259255,"d":"0.51"}},{"$f":"+[1]Tabulka!AY179","v":37},{"$f":"+[1]Tabulka!AZ179","v":{"v":0.4751977435991968,"d":"0.48"}},{"$f":"+[1]Tabulka!BA179","v":0},{"$f":"+[1]Tabulka!BB179","v":{"v":0,"d":"0.00"}},{"$f":"+[1]Tabulka!BC179","v":0},{"$f":"+[1]Tabulka!BD179","v":{"v":0,"d":"0.00"}},{"$f":"+[1]Tabulka!BE179","v":0},{"$f":"+[1]Tabulka!BF179","v":{"v":0,"d":"0.00"}},{"$f":"+[1]Tabulka!BG179","v":0},{"$f":"+[1]Tabulka!BH179","v":{"v":0,"d":"0.00"}},{"$f":"+[1]Tabulka!BI179","v":0},{"$f":"+[1]Tabulka!BJ179","v":{"v":0,"d":"0.00"}},{"$f":"+[1]Tabulka!AP179","v":{"v":0,"d":"0.00"}},{"$f":"+[1]Tabulka!AQ179","v":{"v":0,"d":"0.00"}},{"$f":"+[1]Tabulka!BM179","v":{"v":0.9814935113251224,"d":"0.98"}},{"$f":"+[1]Tabulka!BN179","v":2},{"$f":"+[1]Tabulka!BO179","v":{"v":0.9814935113251224,"d":"0.98"}}]
["79",{"$f":"[1]Tabulka!C180","v":"IŠTOK"},{"$f":"[1]Tabulka!D180","v":"Ivan"},{"$f":"[1]Tabulka!E180","v":"1995-01-01"},{"$f":"[1]Tabulka!F180","v":"Karviná-Lázně Darkov- Slovan VOKD TJ"},{"$f":"[1]Tabulka!G180","v":"KA"},{"$f":"[1]Tabulka!H180","v":0},{"$f":"+[1]Tabulka!AU180","v":0},{"$f":"+[1]Tabulka!AV180","v":{"v":0,"d":"0.00"}},{"$f":"+[1]Tabulka!AW180","v":0},{"$f":"+[1]Tabulka!AX180","v":{"v":0,"d":"0.00"}},{"$f":"+[1]Tabulka!AY180","v":0},{"$f":"+[1]Tabulka!AZ180","v":{"v":0,"d":"0.00"}},{"$f":"+[1]Tabulka!BA180","v":0},{"$f":"+[1]Tabulka!BB180","v":{"v":0,"d":"0.00"}},{"$f":"+[1]Tabulka!BC180","v":0},{"$f":"+[1]Tabulka!BD180","v":{"v":0,"d":"0.00"}},{"$f":"+[1]Tabulka!BE180","v":0},{"$f":"+[1]Tabulka!BF180","v":{"v":0,"d":"0.00"}},{"$f":"+[1]Tabulka!BG180","v":26},{"$f":"+[1]Tabulka!BH180","v":{"v":0.9543409711693354,"d":"0.95"}},{"$f":"+[1]Tabulka!BI180","v":0},{"$f":"+[1]Tabulka!BJ180","v":{"v":0,"d":"0.00"}},{"$f":"+[1]Tabulka!AP180","v":{"v":0,"d":"0.00"}},{"$f":"+[1]Tabulka!AQ180","v":{"v":0,"d":"0.00"}},{"$f":"+[1]Tabulka!BM180","v":{"v":0.9543409711693354,"d":"0.95"}},{"$f":"+[1]Tabulka!BN180","v":1},{"$f":"+[1]Tabulka!BO180","v":{"v":0.9543409711693354,"d":"0.95"}}]
["79",{"$f":"[1]Tabulka!C181","v":"HRABCOVÁ"},{"$f":"[1]Tabulka!D181","v":"Bára"},{"$f":"[1]Tabulka!E181","v":"1999-01-01"},{"$f":"[1]Tabulka!F181","v":"Kateřinky- Sokol TJ"},{"$f":"[1]Tabulka!G181","v":"OP"},{"$f":"[1]Tabulka!H181","v":0},{"$f":"+[1]Tabulka!AU181","v":0},{"$f":"+[1]Tabulka!AV181","v":{"v":0,"d":"0.00"}},{"$f":"+[1]Tabulka!AW181","v":27},{"$f":"+[1]Tabulka!AX181","v":{"v":0.8957228265226755,"d":"0.90"}},{"$f":"+[1]Tabulka!AY181","v":0},{"$f":"+[1]Tabulka!AZ181","v":{"v":0,"d":"0.00"}},{"$f":"+[1]Tabulka!BA181","v":0},{"$f":"+[1]Tabulka!BB181","v":{"v":0,"d":"0.00"}},{"$f":"+[1]Tabulka!BC181","v":0},{"$f":"+[1]Tabulka!BD181","v":{"v":0,"d":"0.00"}},{"$f":"+[1]Tabulka!BE181","v":0},{"$f":"+[1]Tabulka!BF181","v":{"v":0,"d":"0.00"}},{"$f":"+[1]Tabulka!BG181","v":0},{"$f":"+[1]Tabulka!BH181","v":{"v":0,"d":"0.00"}},{"$f":"+[1]Tabulka!BI181","v":0},{"$f":"+[1]Tabulka!BJ181","v":{"v":0,"d":"0.00"}},{"$f":"+[1]Tabulka!AP181","v":{"v":0,"d":"0.00"}},{"$f":"+[1]Tabulka!AQ181","v":{"v":0,"d":"0.00"}},{"$f":"+[1]Tabulka!BM181","v":{"v":0.8957228265226755,"d":"0.90"}},{"$f":"+[1]Tabulka!BN181","v":1},{"$f":"+[1]Tabulka!BO181","v":{"v":0.8957228265226755,"d":"0.90"}}]
["80",{"$f":"[1]Tabulka!C182","v":"ROZKYDALOVÁ"},{"$f":"[1]Tabulka!D182","v":"Eliška"},{"$f":"[1]Tabulka!E182","v":"2002-01-11"},{"$f":"[1]Tabulka!F182","v":"Frýdlant nad Ostravicí- SK"},{"$f":"[1]Tabulka!G182","v":"FM"},{"$f":"[1]Tabulka!H182","v":100},{"$f":"+[1]Tabulka!AU182","v":0},{"$f":"+[1]Tabulka!AV182","v":{"v":0,"d":"0.00"}},{"$f":"+[1]Tabulka!AW182","v":27},{"$f":"+[1]Tabulka!AX182","v":{"v":0.8957228265226755,"d":"0.90"}},{"$f":"+[1]Tabulka!AY182","v":0},{"$f":"+[1]Tabulka!AZ182","v":{"v":0,"d":"0.00"}},{"$f":"+[1]Tabulka!BA182","v":0},{"$f":"+[1]Tabulka!BB182","v":{"v":0,"d":"0.00"}},{"$f":"+[1]Tabulka!BC182","v":0},{"$f":"+[1]Tabulka!BD182","v":{"v":0,"d":"0.00"}},{"$f":"+[1]Tabulka!BE182","v":0},{"$f":"+[1]Tabulka!BF182","v":{"v":0,"d":"0.00"}},{"$f":"+[1]Tabulka!BG182","v":0},{"$f":"+[1]Tabulka!BH182","v":{"v":0,"d":"0.00"}},{"$f":"+[1]Tabulka!BI182","v":0},{"$f":"+[1]Tabulka!BJ182","v":{"v":0,"d":"0.00"}},{"$f":"+[1]Tabulka!AP182","v":{"v":0.8756296034055838,"d":"0.88"}},{"$f":"+[1]Tabulka!AQ182","v":{"v":2,"d":"2.00"}},{"$f":"+[1]Tabulka!BM182","v":{"v":0.8957228265226755,"d":"0.90"}},{"$f":"+[1]Tabulka!BN182","v":1},{"$f":"+[1]Tabulka!BO182","v":{"v":0.8957228265226755,"d":"0.90"}}]
["80",{"$f":"[1]Tabulka!C183","v":"IŠTOKOVÁ"},{"$f":"[1]Tabulka!D183","v":"Jana"},{"$f":"[1]Tabulka!E183","v":"1997-01-01"},{"$f":"[1]Tabulka!F183","v":"Karviná-Lázně Darkov- Slovan VOKD TJ"},{"$f":"[1]Tabulka!G183","v":"KA"},{"$f":"[1]Tabulka!H183","v":0},{"$f":"+[1]Tabulka!AU183","v":0},{"$f":"+[1]Tabulka!AV183","v":{"v":0,"d":"0.00"}},{"$f":"+[1]Tabulka!AW183","v":0},{"$f":"+[1]Tabulka!AX183","v":{"v":0,"d":"0.00"}},{"$f":"+[1]Tabulka!AY183","v":0},{"$f":"+[1]Tabulka!AZ183","v":{"v":0,"d":"0.00"}},{"$f":"+[1]Tabulka!BA183","v":0},{"$f":"+[1]Tabulka!BB183","v":{"v":0,"d":"0.00"}},{"$f":"+[1]Tabulka!BC183","v":0},{"$f":"+[1]Tabulka!BD183","v":{"v":0,"d":"0.00"}},{"$f":"+[1]Tabulka!BE183","v":0},{"$f":"+[1]Tabulka!BF183","v":{"v":0,"d":"0.00"}},{"$f":"+[1]Tabulka!BG183","v":28},{"$f":"+[1]Tabulka!BH183","v":{"v":0.8407051632402461,"d":"0.84"}},{"$f":"+[1]Tabulka!BI183","v":0},{"$f":"+[1]Tabulka!BJ183","v":{"v":0,"d":"0.00"}},{"$f":"+[1]Tabulka!AP183","v":{"v":0,"d":"0.00"}},{"$f":"+[1]Tabulka!AQ183","v":{"v":0,"d":"0.00"}},{"$f":"+[1]Tabulka!BM183","v":{"v":0.8407051632402461,"d":"0.84"}},{"$f":"+[1]Tabulka!BN183","v":1},{"$f":"+[1]Tabulka!BO183","v":{"v":0.8407051632402461,"d":"0.84"}}]
["81",{"$f":"[1]Tabulka!C184","v":"SLIWKA"},{"$f":"[1]Tabulka!D184","v":"Martin"},{"$f":"[1]Tabulka!E184","v":"2000-07-18"},{"$f":"[1]Tabulka!F184","v":"Karviná- KLUBsten KST"},{"$f":"[1]Tabulka!G184","v":"KA"},{"$f":"[1]Tabulka!H184","v":100},{"$f":"+[1]Tabulka!AU184","v":0},{"$f":"+[1]Tabulka!AV184","v":{"v":0,"d":"0.00"}},{"$f":"+[1]Tabulka!AW184","v":0},{"$f":"+[1]Tabulka!AX184","v":{"v":0,"d":"0.00"}},{"$f":"+[1]Tabulka!AY184","v":0},{"$f":"+[1]Tabulka!AZ184","v":{"v":0,"d":"0.00"}},{"$f":"+[1]Tabulka!BA184","v":0},{"$f":"+[1]Tabulka!BB184","v":{"v":0,"d":"0.00"}},{"$f":"+[1]Tabulka!BC184","v":0},{"$f":"+[1]Tabulka!BD184","v":{"v":0,"d":"0.00"}},{"$f":"+[1]Tabulka!BE184","v":0},{"$f":"+[1]Tabulka!BF184","v":{"v":0,"d":"0.00"}},{"$f":"+[1]Tabulka!BG184","v":0},{"$f":"+[1]Tabulka!BH184","v":{"v":0,"d":"0.00"}},{"$f":"+[1]Tabulka!BI184","v":28},{"$f":"+[1]Tabulka!BJ184","v":{"v":0.8407051632402461,"d":"0.84"}},{"$f":"+[1]Tabulka!AP184","v":{"v":0,"d":"0.00"}},{"$f":"+[1]Tabulka!AQ184","v":{"v":0,"d":"0.00"}},{"$f":"+[1]Tabulka!BM184","v":{"v":0.8407051632402461,"d":"0.84"}},{"$f":"+[1]Tabulka!BN184","v":1},{"$f":"+[1]Tabulka!BO184","v":{"v":0.8407051632402461,"d":"0.84"}}]
["82",{"$f":"[1]Tabulka!C185","v":"ŠTAIGER"},{"$f":"[1]Tabulka!D185","v":"David"},{"$f":"[1]Tabulka!E185","v":"1996-01-01"},{"$f":"[1]Tabulka!F185","v":"Havířov- Baník SKST"},{"$f":"[1]Tabulka!G185","v":"KA"},{"$f":"[1]Tabulka!H185","v":0},{"$f":"+[1]Tabulka!AU185","v":0},{"$f":"+[1]Tabulka!AV185","v":{"v":0,"d":"0.00"}},{"$f":"+[1]Tabulka!AW185","v":28},{"$f":"+[1]Tabulka!AX185","v":{"v":0.8407051632402461,"d":"0.84"}},{"$f":"+[1]Tabulka!AY185","v":0},{"$f":"+[1]Tabulka!AZ185","v":{"v":0,"d":"0.00"}},{"$f":"+[1]Tabulka!BA185","v":0},{"$f":"+[1]Tabulka!BB185","v":{"v":0,"d":"0.00"}},{"$f":"+[1]Tabulka!BC185","v":0},{"$f":"+[1]Tabulka!BD185","v":{"v":0,"d":"0.00"}},{"$f":"+[1]Tabulka!BE185","v":0},{"$f":"+[1]Tabulka!BF185","v":{"v":0,"d":"0.00"}},{"$f":"+[1]Tabulka!BG185","v":0},{"$f":"+[1]Tabulka!BH185","v":{"v":0,"d":"0.00"}},{"$f":"+[1]Tabulka!BI185","v":0},{"$f":"+[1]Tabulka!BJ185","v":{"v":0,"d":"0.00"}},{"$f":"+[1]Tabulka!AP185","v":{"v":0,"d":"0.00"}},{"$f":"+[1]Tabulka!AQ185","v":{"v":0,"d":"0.00"}},{"$f":"+[1]Tabulka!BM185","v":{"v":0.8407051632402461,"d":"0.84"}},{"$f":"+[1]Tabulka!BN185","v":1},{"$f":"+[1]Tabulka!BO185","v":{"v":0.8407051632402461,"d":"0.84"}}]
["83",{"$f":"[1]Tabulka!C186","v":"SWACZYNOVÁ"},{"$f":"[1]Tabulka!D186","v":"Sára"},{"$f":"[1]Tabulka!E186","v":"1997-01-01"},{"$f":"[1]Tabulka!F186","v":"Karviná- KLUBsten KST"},{"$f":"[1]Tabulka!G186","v":"KA"},{"$f":"[1]Tabulka!H186","v":0},{"$f":"+[1]Tabulka!AU186","v":0},{"$f":"+[1]Tabulka!AV186","v":{"v":0,"d":"0.00"}},{"$f":"+[1]Tabulka!AW186","v":0},{"$f":"+[1]Tabulka!AX186","v":{"v":0,"d":"0.00"}},{"$f":"+[1]Tabulka!AY186","v":35},{"$f":"+[1]Tabulka!AZ186","v":{"v":0.5394289174769091,"d":"0.54"}},{"$f":"+[1]Tabulka!BA186","v":46},{"$f":"+[1]Tabulka!BB186","v":{"v":0.26859939179086256,"d":"0.27"}},{"$f":"+[1]Tabulka!BC186","v":0},{"$f":"+[1]Tabulka!BD186","v":{"v":0,"d":"0.00"}},{"$f":"+[1]Tabulka!BE186","v":0},{"$f":"+[1]Tabulka!BF186","v":{"v":0,"d":"0.00"}},{"$f":"+[1]Tabulka!BG186","v":0},{"$f":"+[1]Tabulka!BH186","v":{"v":0,"d":"0.00"}},{"$f":"+[1]Tabulka!BI186","v":0},{"$f":"+[1]Tabulka!BJ186","v":{"v":0,"d":"0.00"}},{"$f":"+[1]Tabulka!AP186","v":{"v":0.021290608125878997,"d":"0.02"}},{"$f":"+[1]Tabulka!AQ186","v":{"v":1,"d":"1.00"}},{"$f":"+[1]Tabulka!BM186","v":{"v":0.8080283092677717,"d":"0.81"}},{"$f":"+[1]Tabulka!BN186","v":2},{"$f":"+[1]Tabulka!BO186","v":{"v":0.8080283092677717,"d":"0.81"}}]
["84",{"$f":"[1]Tabulka!C187","v":"WITOSZOVÁ"},{"$f":"[1]Tabulka!D187","v":"Klára"},{"$f":"[1]Tabulka!E187","v":"2003-09-25"},{"$f":"[1]Tabulka!F187","v":"Havířov- Baník SKST"},{"$f":"[1]Tabulka!G187","v":"KA"},{"$f":"[1]Tabulka!H187","v":100},{"$f":"+[1]Tabulka!AU187","v":0},{"$f":"+[1]Tabulka!AV187","v":{"v":0,"d":"0.00"}},{"$f":"+[1]Tabulka!AW187","v":37},{"$f":"+[1]Tabulka!AX187","v":{"v":0.4751977435991968,"d":"0.48"}},{"$f":"+[1]Tabulka!AY187","v":43},{"$f":"+[1]Tabulka!AZ187","v":{"v":0.32485892777785963,"d":"0.32"}},{"$f":"+[1]Tabulka!BA187","v":0},{"$f":"+[1]Tabulka!BB187","v":{"v":0,"d":"0.00"}},{"$f":"+[1]Tabulka!BC187","v":0},{"$f":"+[1]Tabulka!BD187","v":{"v":0,"d":"0.00"}},{"$f":"+[1]Tabulka!BE187","v":0},{"$f":"+[1]Tabulka!BF187","v":{"v":0,"d":"0.00"}},{"$f":"+[1]Tabulka!BG187","v":0},{"$f":"+[1]Tabulka!BH187","v":{"v":0,"d":"0.00"}},{"$f":"+[1]Tabulka!BI187","v":0},{"$f":"+[1]Tabulka!BJ187","v":{"v":0,"d":"0.00"}},{"$f":"+[1]Tabulka!AP187","v":{"v":0,"d":"0.00"}},{"$f":"+[1]Tabulka!AQ187","v":{"v":0,"d":"0.00"}},{"$f":"+[1]Tabulka!BM187","v":{"v":0.8000566713770565,"d":"0.80"}},{"$f":"+[1]Tabulka!BN187","v":2},{"$f":"+[1]Tabulka!BO187","v":{"v":0.8000566713770565,"d":"0.80"}}]
["85",{"$f":"[1]Tabulka!C188","v":"ŠČUKA"},{"$f":"[1]Tabulka!D188","v":"Radim"},{"$f":"[1]Tabulka!E188","v":"1997-01-01"},{"$f":"[1]Tabulka!F188","v":"Těrlicko- DDŠ"},{"$f":"[1]Tabulka!G188","v":"KA"},{"$f":"[1]Tabulka!H188","v":0},{"$f":"+[1]Tabulka!AU188","v":0},{"$f":"+[1]Tabulka!AV188","v":{"v":0,"d":"0.00"}},{"$f":"+[1]Tabulka!AW188","v":0},{"$f":"+[1]Tabulka!AX188","v":{"v":0,"d":"0.00"}},{"$f":"+[1]Tabulka!AY188","v":38},{"$f":"+[1]Tabulka!AZ188","v":{"v":0.4460098423023116,"d":"0.45"}},{"$f":"+[1]Tabulka!BA188","v":43},{"$f":"+[1]Tabulka!BB188","v":{"v":0.32485892777785963,"d":"0.32"}},{"$f":"+[1]Tabulka!BC188","v":0},{"$f":"+[1]Tabulka!BD188","v":{"v":0,"d":"0.00"}},{"$f":"+[1]Tabulka!BE188","v":0},{"$f":"+[1]Tabulka!BF188","v":{"v":0,"d":"0.00"}},{"$f":"+[1]Tabulka!BG188","v":0},{"$f":"+[1]Tabulka!BH188","v":{"v":0,"d":"0.00"}},{"$f":"+[1]Tabulka!BI188","v":0},{"$f":"+[1]Tabulka!BJ188","v":{"v":0,"d":"0.00"}},{"$f":"+[1]Tabulka!AP188","v":{"v":0,"d":"0.00"}},{"$f":"+[1]Tabulka!AQ188","v":{"v":0,"d":"0.00"}},{"$f":"+[1]Tabulka!BM188","v":{"v":0.7708687700801713,"d":"0.77"}},{"$f":"+[1]Tabulka!BN188","v":2},{"$f":"+[1]Tabulka!BO188","v":{"v":0.7708687700801713,"d":"0.77"}}]
["86",{"$f":"[1]Tabulka!C189","v":"PIEKNIK"},{"$f":"[1]Tabulka!D189","v":"Adam"},{"$f":"[1]Tabulka!E189","v":"1998-01-01"},{"$f":"[1]Tabulka!F189","v":"Darkovice- KST"},{"$f":"[1]Tabulka!G189","v":"OP"},{"$f":"[1]Tabulka!H189","v":0},{"$f":"+[1]Tabulka!AU189","v":0},{"$f":"+[1]Tabulka!AV189","v":{"v":0,"d":"0.00"}},{"$f":"+[1]Tabulka!AW189","v":0},{"$f":"+[1]Tabulka!AX189","v":{"v":0,"d":"0.00"}},{"$f":"+[1]Tabulka!AY189","v":30},{"$f":"+[1]Tabulka!AZ189","v":{"v":0.7406002601279904,"d":"0.74"}},{"$f":"+[1]Tabulka!BA189","v":0},{"$f":"+[1]Tabulka!BB189","v":{"v":0,"d":"0.00"}},{"$f":"+[1]Tabulka!BC189","v":0},{"$f":"+[1]Tabulka!BD189","v":{"v":0,"d":"0.00"}},{"$f":"+[1]Tabulka!BE189","v":0},{"$f":"+[1]Tabulka!BF189","v":{"v":0,"d":"0.00"}},{"$f":"+[1]Tabulka!BG189","v":0},{"$f":"+[1]Tabulka!BH189","v":{"v":0,"d":"0.00"}},{"$f":"+[1]Tabulka!BI189","v":0},{"$f":"+[1]Tabulka!BJ189","v":{"v":0,"d":"0.00"}},{"$f":"+[1]Tabulka!AP189","v":{"v":0,"d":"0.00"}},{"$f":"+[1]Tabulka!AQ189","v":{"v":0,"d":"0.00"}},{"$f":"+[1]Tabulka!BM189","v":{"v":0.7406002601279904,"d":"0.74"}},{"$f":"+[1]Tabulka!BN189","v":1},{"$f":"+[1]Tabulka!BO189","v":{"v":0.7406002601279904,"d":"0.74"}}]
["86",{"$f":"[1]Tabulka!C190","v":"CZOLKO"},{"$f":"[1]Tabulka!D190","v":"Daniel"},{"$f":"[1]Tabulka!E190","v":"2002-06-08"},{"$f":"[1]Tabulka!F190","v":"Orlová- Siko TTC"},{"$f":"[1]Tabulka!G190","v":"KA"},{"$f":"[1]Tabulka!H190","v":100},{"$f":"+[1]Tabulka!AU190","v":0},{"$f":"+[1]Tabulka!AV190","v":{"v":0,"d":"0.00"}},{"$f":"+[1]Tabulka!AW190","v":38},{"$f":"+[1]Tabulka!AX190","v":{"v":0.4460098423023116,"d":"0.45"}},{"$f":"+[1]Tabulka!AY190","v":0},{"$f":"+[1]Tabulka!AZ190","v":{"v":0,"d":"0.00"}},{"$f":"+[1]Tabulka!BA190","v":52},{"$f":"+[1]Tabulka!BB190","v":{"v":0.18362231638153834,"d":"0.18"}},{"$f":"+[1]Tabulka!BC190","v":0},{"$f":"+[1]Tabulka!BD190","v":{"v":0,"d":"0.00"}},{"$f":"+[1]Tabulka!BE190","v":0},{"$f":"+[1]Tabulka!BF190","v":{"v":0,"d":"0.00"}},{"$f":"+[1]Tabulka!BG190","v":0},{"$f":"+[1]Tabulka!BH190","v":{"v":0,"d":"0.00"}},{"$f":"+[1]Tabulka!BI190","v":0},{"$f":"+[1]Tabulka!BJ190","v":{"v":0,"d":"0.00"}},{"$f":"+[1]Tabulka!AP190","v":{"v":0,"d":"0.00"}},{"$f":"+[1]Tabulka!AQ190","v":{"v":0,"d":"0.00"}},{"$f":"+[1]Tabulka!BM190","v":{"v":0.6296321586838499,"d":"0.63"}},{"$f":"+[1]Tabulka!BN190","v":2},{"$f":"+[1]Tabulka!BO190","v":{"v":0.6296321586838499,"d":"0.63"}}]
[null,{"$f":"[1]Tabulka!C191","v":"ADAMEC"},{"$f":"[1]Tabulka!D191","v":"Petr"},{"$f":"[1]Tabulka!E191","v":"1998-07-14"},{"$f":"[1]Tabulka!F191","v":"Polanka- Sokol TJ"},{"$f":"[1]Tabulka!G191","v":"OV"},{"$f":"[1]Tabulka!H191","v":100},{"$f":"+[1]Tabulka!AU191","v":0},{"$f":"+[1]Tabulka!AV191","v":{"v":0,"d":"0.00"}},{"$f":"+[1]Tabulka!AW191","v":0},{"$f":"+[1]Tabulka!AX191","v":{"v":0,"d":"0.00"}},{"$f":"+[1]Tabulka!AY191","v":0},{"$f":"+[1]Tabulka!AZ191","v":{"v":0,"d":"0.00"}},{"$f":"+[1]Tabulka!BA191","v":33},{"$f":"+[1]Tabulka!BB191","v":{"v":0.6123420427175658,"d":"0.61"}},{"$f":"+[1]Tabulka!BC191","v":0},{"$f":"+[1]Tabulka!BD191","v":{"v":0,"d":"0.00"}},{"$f":"+[1]Tabulka!BE191","v":0},{"$f":"+[1]Tabulka!BF191","v":{"v":0,"d":"0.00"}},{"$f":"+[1]Tabulka!BG191","v":0},{"$f":"+[1]Tabulka!BH191","v":{"v":0,"d":"0.00"}},{"$f":"+[1]Tabulka!BI191","v":0},{"$f":"+[1]Tabulka!BJ191","v":{"v":0,"d":"0.00"}},{"$f":"+[1]Tabulka!AP191","v":{"v":0,"d":"0.00"}},{"$f":"+[1]Tabulka!AQ191","v":{"v":0,"d":"0.00"}},{"$f":"+[1]Tabulka!BM191","v":{"v":0.6123420427175658,"d":"0.61"}},{"$f":"+[1]Tabulka!BN191","v":1},{"$f":"+[1]Tabulka!BO191","v":{"v":0.6123420427175658,"d":"0.61"}}]
[null,{"$f":"[1]Tabulka!C192","v":"CIGÁN"},{"$f":"[1]Tabulka!D192","v":"Antonín"},{"$f":"[1]Tabulka!E192","v":"2002-08-30"},{"$f":"[1]Tabulka!F192","v":"Dolní Benešov- MSA TJ"},{"$f":"[1]Tabulka!G192","v":"OP"},{"$f":"[1]Tabulka!H192","v":100},{"$f":"+[1]Tabulka!AU192","v":0},{"$f":"+[1]Tabulka!AV192","v":{"v":0,"d":"0.00"}},{"$f":"+[1]Tabulka!AW192","v":0},{"$f":"+[1]Tabulka!AX192","v":{"v":0,"d":"0.00"}},{"$f":"+[1]Tabulka!AY192","v":33},{"$f":"+[1]Tabulka!AZ192","v":{"v":0.6123420427175658,"d":"0.61"}},{"$f":"+[1]Tabulka!BA192","v":0},{"$f":"+[1]Tabulka!BB192","v":{"v":0,"d":"0.00"}},{"$f":"+[1]Tabulka!BC192","v":0},{"$f":"+[1]Tabulka!BD192","v":{"v":0,"d":"0.00"}},{"$f":"+[1]Tabulka!BE192","v":0},{"$f":"+[1]Tabulka!BF192","v":{"v":0,"d":"0.00"}},{"$f":"+[1]Tabulka!BG192","v":0},{"$f":"+[1]Tabulka!BH192","v":{"v":0,"d":"0.00"}},{"$f":"+[1]Tabulka!BI192","v":0},{"$f":"+[1]Tabulka!BJ192","v":{"v":0,"d":"0.00"}},{"$f":"+[1]Tabulka!AP192","v":{"v":0,"d":"0.00"}},{"$f":"+[1]Tabulka!AQ192","v":{"v":0,"d":"0.00"}},{"$f":"+[1]Tabulka!BM192","v":{"v":0.6123420427175658,"d":"0.61"}},{"$f":"+[1]Tabulka!BN192","v":1},{"$f":"+[1]Tabulka!BO192","v":{"v":0.6123420427175658,"d":"0.61"}}]
["88",{"$f":"[1]Tabulka!C193","v":"DUDYS"},{"$f":"[1]Tabulka!D193","v":"Dominik"},{"$f":"[1]Tabulka!E193","v":"2001-09-28"},{"$f":"[1]Tabulka!F193","v":"Třinec- TŽ TJ"},{"$f":"[1]Tabulka!G193","v":"FM"},{"$f":"[1]Tabulka!H193","v":100},{"$f":"+[1]Tabulka!AU193","v":0},{"$f":"+[1]Tabulka!AV193","v":{"v":0,"d":"0.00"}},{"$f":"+[1]Tabulka!AW193","v":0},{"$f":"+[1]Tabulka!AX193","v":{"v":0,"d":"0.00"}},{"$f":"+[1]Tabulka!AY193","v":0},{"$f":"+[1]Tabulka!AZ193","v":{"v":0,"d":"0.00"}},{"$f":"+[1]Tabulka!BA193","v":33},{"$f":"+[1]Tabulka!BB193","v":{"v":0.6123420427175658,"d":"0.61"}},{"$f":"+[1]Tabulka!BC193","v":0},{"$f":"+[1]Tabulka!BD193","v":{"v":0,"d":"0.00"}},{"$f":"+[1]Tabulka!BE193","v":0},{"$f":"+[1]Tabulka!BF193","v":{"v":0,"d":"0.00"}},{"$f":"+[1]Tabulka!BG193","v":0},{"$f":"+[1]Tabulka!BH193","v":{"v":0,"d":"0.00"}},{"$f":"+[1]Tabulka!BI193","v":0},{"$f":"+[1]Tabulka!BJ193","v":{"v":0,"d":"0.00"}},{"$f":"+[1]Tabulka!AP193","v":{"v":0,"d":"0.00"}},{"$f":"+[1]Tabulka!AQ193","v":{"v":0,"d":"0.00"}},{"$f":"+[1]Tabulka!BM193","v":{"v":0.6123420427175658,"d":"0.61"}},{"$f":"+[1]Tabulka!BN193","v":1},{"$f":"+[1]Tabulka!BO193","v":{"v":0.6123420427175658,"d":"0.61"}}]
[null,{"$f":"[1]Tabulka!C194","v":"DZIDA"},{"$f":"[1]Tabulka!D194","v":"Martin"},{"$f":"[1]Tabulka!E194","v":"2001-06-14"},{"$f":"[1]Tabulka!F194","v":"Opava- KST Slezan "},{"$f":"[1]Tabulka!G194","v":"OP"},{"$f":"[1]Tabulka!H194","v":100},{"$f":"+[1]Tabulka!AU194","v":0},{"$f":"+[1]Tabulka!AV194","v":{"v":0,"d":"0.00"}},{"$f":"+[1]Tabulka!AW194","v":0},{"$f":"+[1]Tabulka!AX194","v":{"v":0,"d":"0.00"}},{"$f":"+[1]Tabulka!AY194","v":0},{"$f":"+[1]Tabulka!AZ194","v":{"v":0,"d":"0.00"}},{"$f":"+[1]Tabulka!BA194","v":33},{"$f":"+[1]Tabulka!BB194","v":{"v":0.6123420427175658,"d":"0.61"}},{"$f":"+[1]Tabulka!BC194","v":0},{"$f":"+[1]Tabulka!BD194","v":{"v":0,"d":"0.00"}},{"$f":"+[1]Tabulka!BE194","v":0},{"$f":"+[1]Tabulka!BF194","v":{"v":0,"d":"0.00"}},{"$f":"+[1]Tabulka!BG194","v":0},{"$f":"+[1]Tabulka!BH194","v":{"v":0,"d":"0.00"}},{"$f":"+[1]Tabulka!BI194","v":0},{"$f":"+[1]Tabulka!BJ194","v":{"v":0,"d":"0.00"}},{"$f":"+[1]Tabulka!AP194","v":{"v":1.855722615400165,"d":"1.86"}},{"$f":"+[1]Tabulka!AQ194","v":{"v":3,"d":"3.00"}},{"$f":"+[1]Tabulka!BM194","v":{"v":0.6123420427175658,"d":"0.61"}},{"$f":"+[1]Tabulka!BN194","v":1},{"$f":"+[1]Tabulka!BO194","v":{"v":0.6123420427175658,"d":"0.61"}}]
[null,{"$f":"[1]Tabulka!C195","v":"FARKAŠ"},{"$f":"[1]Tabulka!D195","v":"Robin"},{"$f":"[1]Tabulka!E195","v":"2001-01-01"},{"$f":"[1]Tabulka!F195","v":"Ostrava- Domik"},{"$f":"[1]Tabulka!G195","v":"OV"},{"$f":"[1]Tabulka!H195","v":0},{"$f":"+[1]Tabulka!AU195","v":33},{"$f":"+[1]Tabulka!AV195","v":{"v":0.6123420427175658,"d":"0.61"}},{"$f":"+[1]Tabulka!AW195","v":0},{"$f":"+[1]Tabulka!AX195","v":{"v":0,"d":"0.00"}},{"$f":"+[1]Tabulka!AY195","v":0},{"$f":"+[1]Tabulka!AZ195","v":{"v":0,"d":"0.00"}},{"$f":"+[1]Tabulka!BA195","v":0},{"$f":"+[1]Tabulka!BB195","v":{"v":0,"d":"0.00"}},{"$f":"+[1]Tabulka!BC195","v":0},{"$f":"+[1]Tabulka!BD195","v":{"v":0,"d":"0.00"}},{"$f":"+[1]Tabulka!BE195","v":0},{"$f":"+[1]Tabulka!BF195","v":{"v":0,"d":"0.00"}},{"$f":"+[1]Tabulka!BG195","v":0},{"$f":"+[1]Tabulka!BH195","v":{"v":0,"d":"0.00"}},{"$f":"+[1]Tabulka!BI195","v":0},{"$f":"+[1]Tabulka!BJ195","v":{"v":0,"d":"0.00"}},{"$f":"+[1]Tabulka!AP195","v":{"v":0,"d":"0.00"}},{"$f":"+[1]Tabulka!AQ195","v":{"v":0,"d":"0.00"}},{"$f":"+[1]Tabulka!BM195","v":{"v":0.6123420427175658,"d":"0.61"}},{"$f":"+[1]Tabulka!BN195","v":1},{"$f":"+[1]Tabulka!BO195","v":{"v":0.6123420427175658,"d":"0.61"}}]
[null,{"$f":"[1]Tabulka!C196","v":"FLASCHKA"},{"$f":"[1]Tabulka!D196","v":"Tomáš"},{"$f":"[1]Tabulka!E196","v":"1996-01-01"},{"$f":"[1]Tabulka!F196","v":"Darkovice- KST"},{"$f":"[1]Tabulka!G196","v":"OP"},{"$f":"[1]Tabulka!H196","v":0},{"$f":"+[1]Tabulka!AU196","v":33},{"$f":"+[1]Tabulka!AV196","v":{"v":0.6123420427175658,"d":"0.61"}},{"$f":"+[1]Tabulka!AW196","v":0},{"$f":"+[1]Tabulka!AX196","v":{"v":0,"d":"0.00"}},{"$f":"+[1]Tabulka!AY196","v":0},{"$f":"+[1]Tabulka!AZ196","v":{"v":0,"d":"0.00"}},{"$f":"+[1]Tabulka!BA196","v":0},{"$f":"+[1]Tabulka!BB196","v":{"v":0,"d":"0.00"}},{"$f":"+[1]Tabulka!BC196","v":0},{"$f":"+[1]Tabulka!BD196","v":{"v":0,"d":"0.00"}},{"$f":"+[1]Tabulka!BE196","v":0},{"$f":"+[1]Tabulka!BF196","v":{"v":0,"d":"0.00"}},{"$f":"+[1]Tabulka!BG196","v":0},{"$f":"+[1]Tabulka!BH196","v":{"v":0,"d":"0.00"}},{"$f":"+[1]Tabulka!BI196","v":0},{"$f":"+[1]Tabulka!BJ196","v":{"v":0,"d":"0.00"}},{"$f":"+[1]Tabulka!AP196","v":{"v":0,"d":"0.00"}},{"$f":"+[1]Tabulka!AQ196","v":{"v":0,"d":"0.00"}},{"$f":"+[1]Tabulka!BM196","v":{"v":0.6123420427175658,"d":"0.61"}},{"$f":"+[1]Tabulka!BN196","v":1},{"$f":"+[1]Tabulka!BO196","v":{"v":0.6123420427175658,"d":"0.61"}}]
[null,{"$f":"[1]Tabulka!C197","v":"GREIPLOVÁ"},{"$f":"[1]Tabulka!D197","v":"Barbora"},{"$f":"[1]Tabulka!E197","v":"2000-03-22"},{"$f":"[1]Tabulka!F197","v":"Hlučín- DDM"},{"$f":"[1]Tabulka!G197","v":"OP"},{"$f":"[1]Tabulka!H197","v":100},{"$f":"+[1]Tabulka!AU197","v":33},{"$f":"+[1]Tabulka!AV197","v":{"v":0.6123420427175658,"d":"0.61"}},{"$f":"+[1]Tabulka!AW197","v":0},{"$f":"+[1]Tabulka!AX197","v":{"v":0,"d":"0.00"}},{"$f":"+[1]Tabulka!AY197","v":0},{"$f":"+[1]Tabulka!AZ197","v":{"v":0,"d":"0.00"}},{"$f":"+[1]Tabulka!BA197","v":0},{"$f":"+[1]Tabulka!BB197","v":{"v":0,"d":"0.00"}},{"$f":"+[1]Tabulka!BC197","v":0},{"$f":"+[1]Tabulka!BD197","v":{"v":0,"d":"0.00"}},{"$f":"+[1]Tabulka!BE197","v":0},{"$f":"+[1]Tabulka!BF197","v":{"v":0,"d":"0.00"}},{"$f":"+[1]Tabulka!BG197","v":0},{"$f":"+[1]Tabulka!BH197","v":{"v":0,"d":"0.00"}},{"$f":"+[1]Tabulka!BI197","v":0},{"$f":"+[1]Tabulka!BJ197","v":{"v":0,"d":"0.00"}},{"$f":"+[1]Tabulka!AP197","v":{"v":0,"d":"0.00"}},{"$f":"+[1]Tabulka!AQ197","v":{"v":0,"d":"0.00"}},{"$f":"+[1]Tabulka!BM197","v":{"v":0.6123420427175658,"d":"0.61"}},{"$f":"+[1]Tabulka!BN197","v":1},{"$f":"+[1]Tabulka!BO197","v":{"v":0.6123420427175658,"d":"0.61"}}]
[null,{"$f":"[1]Tabulka!C198","v":"HALFAROVÁ"},{"$f":"[1]Tabulka!D198","v":"Natálie"},{"$f":"[1]Tabulka!E198","v":"2000-11-18"},{"$f":"[1]Tabulka!F198","v":"Darkovice- KST"},{"$f":"[1]Tabulka!G198","v":"OP"},{"$f":"[1]Tabulka!H198","v":100},{"$f":"+[1]Tabulka!AU198","v":0},{"$f":"+[1]Tabulka!AV198","v":{"v":0,"d":"0.00"}},{"$f":"+[1]Tabulka!AW198","v":0},{"$f":"+[1]Tabulka!AX198","v":{"v":0,"d":"0.00"}},{"$f":"+[1]Tabulka!AY198","v":0},{"$f":"+[1]Tabulka!AZ198","v":{"v":0,"d":"0.00"}},{"$f":"+[1]Tabulka!BA198","v":0},{"$f":"+[1]Tabulka!BB198","v":{"v":0,"d":"0.00"}},{"$f":"+[1]Tabulka!BC198","v":33},{"$f":"+[1]Tabulka!BD198","v":{"v":0.6123420427175658,"d":"0.61"}},{"$f":"+[1]Tabulka!BE198","v":0},{"$f":"+[1]Tabulka!BF198","v":{"v":0,"d":"0.00"}},{"$f":"+[1]Tabulka!BG198","v":0},{"$f":"+[1]Tabulka!BH198","v":{"v":0,"d":"0.00"}},{"$f":"+[1]Tabulka!BI198","v":0},{"$f":"+[1]Tabulka!BJ198","v":{"v":0,"d":"0.00"}},{"$f":"+[1]Tabulka!AP198","v":{"v":0,"d":"0.00"}},{"$f":"+[1]Tabulka!AQ198","v":{"v":0,"d":"0.00"}},{"$f":"+[1]Tabulka!BM198","v":{"v":0.6123420427175658,"d":"0.61"}},{"$f":"+[1]Tabulka!BN198","v":1},{"$f":"+[1]Tabulka!BO198","v":{"v":0.6123420427175658,"d":"0.61"}}]
[null,{"$f":"[1]Tabulka!C199","v":"HANNHOFEROVÁ"},{"$f":"[1]Tabulka!D199","v":"Aneta"},{"$f":"[1]Tabulka!E199","v":"1998-01-01"},{"$f":"[1]Tabulka!F199","v":"Kravaře- SK TJ"},{"$f":"[1]Tabulka!G199","v":"OP"},{"$f":"[1]Tabulka!H199","v":0},{"$f":"+[1]Tabulka!AU199","v":0},{"$f":"+[1]Tabulka!AV199","v":{"v":0,"d":"0.00"}},{"$f":"+[1]Tabulka!AW199","v":0},{"$f":"+[1]Tabulka!AX199","v":{"v":0,"d":"0.00"}},{"$f":"+[1]Tabulka!AY199","v":0},{"$f":"+[1]Tabulka!AZ199","v":{"v":0,"d":"0.00"}},{"$f":"+[1]Tabulka!BA199","v":0},{"$f":"+[1]Tabulka!BB199","v":{"v":0,"d":"0.00"}},{"$f":"+[1]Tabulka!BC199","v":33},{"$f":"+[1]Tabulka!BD199","v":{"v":0.6123420427175658,"d":"0.61"}},{"$f":"+[1]Tabulka!BE199","v":0},{"$f":"+[1]Tabulka!BF199","v":{"v":0,"d":"0.00"}},{"$f":"+[1]Tabulka!BG199","v":0},{"$f":"+[1]Tabulka!BH199","v":{"v":0,"d":"0.00"}},{"$f":"+[1]Tabulka!BI199","v":0},{"$f":"+[1]Tabulka!BJ199","v":{"v":0,"d":"0.00"}},{"$f":"+[1]Tabulka!AP199","v":{"v":0,"d":"0.00"}},{"$f":"+[1]Tabulka!AQ199","v":{"v":0,"d":"0.00"}},{"$f":"+[1]Tabulka!BM199","v":{"v":0.6123420427175658,"d":"0.61"}},{"$f":"+[1]Tabulka!BN199","v":1},{"$f":"+[1]Tabulka!BO199","v":{"v":0.6123420427175658,"d":"0.61"}}]
[null,{"$f":"[1]Tabulka!C200","v":"JEMELÍKOVÁ"},{"$f":"[1]Tabulka!D200","v":"Alice"},{"$f":"[1]Tabulka!E200","v":"1998-08-03"},{"$f":"[1]Tabulka!F200","v":"Frýdlant nad Ostravicí- SK"},{"$f":"[1]Tabulka!G200","v":"FM"},{"$f":"[1]Tabulka!H200","v":100},{"$f":"+[1]Tabulka!AU200","v":0},{"$f":"+[1]Tabulka!AV200","v":{"v":0,"d":"0.00"}},{"$f":"+[1]Tabulka!AW200","v":0},{"$f":"+[1]Tabulka!AX200","v":{"v":0,"d":"0.00"}},{"$f":"+[1]Tabulka!AY200","v":0},{"$f":"+[1]Tabulka!AZ200","v":{"v":0,"d":"0.00"}},{"$f":"+[1]Tabulka!BA200","v":33},{"$f":"+[1]Tabulka!BB200","v":{"v":0.6123420427175658,"d":"0.61"}},{"$f":"+[1]Tabulka!BC200","v":0},{"$f":"+[1]Tabulka!BD200","v":{"v":0,"d":"0.00"}},{"$f":"+[1]Tabulka!BE200","v":0},{"$f":"+[1]Tabulka!BF200","v":{"v":0,"d":"0.00"}},{"$f":"+[1]Tabulka!BG200","v":0},{"$f":"+[1]Tabulka!BH200","v":{"v":0,"d":"0.00"}},{"$f":"+[1]Tabulka!BI200","v":0},{"$f":"+[1]Tabulka!BJ200","v":{"v":0,"d":"0.00"}},{"$f":"+[1]Tabulka!AP200","v":{"v":2.014155987867099,"d":"2.01"}},{"$f":"+[1]Tabulka!AQ200","v":{"v":4,"d":"4.00"}},{"$f":"+[1]Tabulka!BM200","v":{"v":0.6123420427175658,"d":"0.61"}},{"$f":"+[1]Tabulka!BN200","v":1},{"$f":"+[1]Tabulka!BO200","v":{"v":0.6123420427175658,"d":"0.61"}}]
[null,{"$f":"[1]Tabulka!C201","v":"KOLONIČNÁ"},{"$f":"[1]Tabulka!D201","v":"Markéta"},{"$f":"[1]Tabulka!E201","v":"2002-12-12"},{"$f":"[1]Tabulka!F201","v":"Hrabůvka- Sokol TJ"},{"$f":"[1]Tabulka!G201","v":"OV"},{"$f":"[1]Tabulka!H201","v":100},{"$f":"+[1]Tabulka!AU201","v":0},{"$f":"+[1]Tabulka!AV201","v":{"v":0,"d":"0.00"}},{"$f":"+[1]Tabulka!AW201","v":0},{"$f":"+[1]Tabulka!AX201","v":{"v":0,"d":"0.00"}},{"$f":"+[1]Tabulka!AY201","v":0},{"$f":"+[1]Tabulka!AZ201","v":{"v":0,"d":"0.00"}},{"$f":"+[1]Tabulka!BA201","v":0},{"$f":"+[1]Tabulka!BB201","v":{"v":0,"d":"0.00"}},{"$f":"+[1]Tabulka!BC201","v":0},{"$f":"+[1]Tabulka!BD201","v":{"v":0,"d":"0.00"}},{"$f":"+[1]Tabulka!BE201","v":33},{"$f":"+[1]Tabulka!BF201","v":{"v":0.6123420427175658,"d":"0.61"}},{"$f":"+[1]Tabulka!BG201","v":0},{"$f":"+[1]Tabulka!BH201","v":{"v":0,"d":"0.00"}},{"$f":"+[1]Tabulka!BI201","v":0},{"$f":"+[1]Tabulka!BJ201","v":{"v":0,"d":"0.00"}},{"$f":"+[1]Tabulka!AP201","v":{"v":0.637366666916245,"d":"0.64"}},{"$f":"+[1]Tabulka!AQ201","v":{"v":2,"d":"2.00"}},{"$f":"+[1]Tabulka!BM201","v":{"v":0.6123420427175658,"d":"0.61"}},{"$f":"+[1]Tabulka!BN201","v":1},{"$f":"+[1]Tabulka!BO201","v":{"v":0.6123420427175658,"d":"0.61"}}]
[null,{"$f":"[1]Tabulka!C202","v":"KROUSKÝ"},{"$f":"[1]Tabulka!D202","v":"Jakub"},{"$f":"[1]Tabulka!E202","v":"1993-01-01"},{"$f":"[1]Tabulka!F202","v":"Ostrava- Zábřeh- Domik"},{"$f":"[1]Tabulka!G202","v":"OV"},{"$f":"[1]Tabulka!H202","v":0},{"$f":"+[1]Tabulka!AU202","v":0},{"$f":"+[1]Tabulka!AV202","v":{"v":0,"d":"0.00"}},{"$f":"+[1]Tabulka!AW202","v":0},{"$f":"+[1]Tabulka!AX202","v":{"v":0,"d":"0.00"}},{"$f":"+[1]Tabulka!AY202","v":0},{"$f":"+[1]Tabulka!AZ202","v":{"v":0,"d":"0.00"}},{"$f":"+[1]Tabulka!BA202","v":33},{"$f":"+[1]Tabulka!BB202","v":{"v":0.6123420427175658,"d":"0.61"}},{"$f":"+[1]Tabulka!BC202","v":0},{"$f":"+[1]Tabulka!BD202","v":{"v":0,"d":"0.00"}},{"$f":"+[1]Tabulka!BE202","v":0},{"$f":"+[1]Tabulka!BF202","v":{"v":0,"d":"0.00"}},{"$f":"+[1]Tabulka!BG202","v":0},{"$f":"+[1]Tabulka!BH202","v":{"v":0,"d":"0.00"}},{"$f":"+[1]Tabulka!BI202","v":0},{"$f":"+[1]Tabulka!BJ202","v":{"v":0,"d":"0.00"}},{"$f":"+[1]Tabulka!AP202","v":{"v":0,"d":"0.00"}},{"$f":"+[1]Tabulka!AQ202","v":{"v":0,"d":"0.00"}},{"$f":"+[1]Tabulka!BM202","v":{"v":0.6123420427175658,"d":"0.61"}},{"$f":"+[1]Tabulka!BN202","v":1},{"$f":"+[1]Tabulka!BO202","v":{"v":0.6123420427175658,"d":"0.61"}}]
[null,{"$f":"[1]Tabulka!C203","v":"MLČOCHOVÁ"},{"$f":"[1]Tabulka!D203","v":"Karolína"},{"$f":"[1]Tabulka!E203","v":"1999-05-07"},{"$f":"[1]Tabulka!F203","v":"Kravaře- SK TJ"},{"$f":"[1]Tabulka!G203","v":"OP"},{"$f":"[1]Tabulka!H203","v":100},{"$f":"+[1]Tabulka!AU203","v":0},{"$f":"+[1]Tabulka!AV203","v":{"v":0,"d":"0.00"}},{"$f":"+[1]Tabulka!AW203","v":0},{"$f":"+[1]Tabulka!AX203","v":{"v":0,"d":"0.00"}},{"$f":"+[1]Tabulka!AY203","v":0},{"$f":"+[1]Tabulka!AZ203","v":{"v":0,"d":"0.00"}},{"$f":"+[1]Tabulka!BA203","v":0},{"$f":"+[1]Tabulka!BB203","v":{"v":0,"d":"0.00"}},{"$f":"+[1]Tabulka!BC203","v":33},{"$f":"+[1]Tabulka!BD203","v":{"v":0.6123420427175658,"d":"0.61"}},{"$f":"+[1]Tabulka!BE203","v":0},{"$f":"+[1]Tabulka!BF203","v":{"v":0,"d":"0.00"}},{"$f":"+[1]Tabulka!BG203","v":0},{"$f":"+[1]Tabulka!BH203","v":{"v":0,"d":"0.00"}},{"$f":"+[1]Tabulka!BI203","v":0},{"$f":"+[1]Tabulka!BJ203","v":{"v":0,"d":"0.00"}},{"$f":"+[1]Tabulka!AP203","v":{"v":0,"d":"0.00"}},{"$f":"+[1]Tabulka!AQ203","v":{"v":0,"d":"0.00"}},{"$f":"+[1]Tabulka!BM203","v":{"v":0.6123420427175658,"d":"0.61"}},{"$f":"+[1]Tabulka!BN203","v":1},{"$f":"+[1]Tabulka!BO203","v":{"v":0.6123420427175658,"d":"0.61"}}]
["81",{"$f":"[1]Tabulka!C204","v":"MLÝNEK"},{"$f":"[1]Tabulka!D204","v":"Denis"},{"$f":"[1]Tabulka!E204","v":"1999-01-01"},{"$f":"[1]Tabulka!F204","v":"Ostrava- Zábřeh- Domik"},{"$f":"[1]Tabulka!G204","v":"OV"},{"$f":"[1]Tabulka!H204","v":0},{"$f":"+[1]Tabulka!AU204","v":0},{"$f":"+[1]Tabulka!AV204","v":{"v":0,"d":"0.00"}},{"$f":"+[1]Tabulka!AW204","v":0},{"$f":"+[1]Tabulka!AX204","v":{"v":0,"d":"0.00"}},{"$f":"+[1]Tabulka!AY204","v":0},{"$f":"+[1]Tabulka!AZ204","v":{"v":0,"d":"0.00"}},{"$f":"+[1]Tabulka!BA204","v":33},{"$f":"+[1]Tabulka!BB204","v":{"v":0.6123420427175658,"d":"0.61"}},{"$f":"+[1]Tabulka!BC204","v":0},{"$f":"+[1]Tabulka!BD204","v":{"v":0,"d":"0.00"}},{"$f":"+[1]Tabulka!BE204","v":0},{"$f":"+[1]Tabulka!BF204","v":{"v":0,"d":"0.00"}},{"$f":"+[1]Tabulka!BG204","v":0},{"$f":"+[1]Tabulka!BH204","v":{"v":0,"d":"0.00"}},{"$f":"+[1]Tabulka!BI204","v":0},{"$f":"+[1]Tabulka!BJ204","v":{"v":0,"d":"0.00"}},{"$f":"+[1]Tabulka!AP204","v":{"v":0,"d":"0.00"}},{"$f":"+[1]Tabulka!AQ204","v":{"v":0,"d":"0.00"}},{"$f":"+[1]Tabulka!BM204","v":{"v":0.6123420427175658,"d":"0.61"}},{"$f":"+[1]Tabulka!BN204","v":1},{"$f":"+[1]Tabulka!BO204","v":{"v":0.6123420427175658,"d":"0.61"}}]
[null,{"$f":"[1]Tabulka!C205","v":"MRKVOVÁ"},{"$f":"[1]Tabulka!D205","v":"Kateřina"},{"$f":"[1]Tabulka!E205","v":"1998-01-01"},{"$f":"[1]Tabulka!F205","v":"Kravaře- SK TJ"},{"$f":"[1]Tabulka!G205","v":"OP"},{"$f":"[1]Tabulka!H205","v":0},{"$f":"+[1]Tabulka!AU205","v":0},{"$f":"+[1]Tabulka!AV205","v":{"v":0,"d":"0.00"}},{"$f":"+[1]Tabulka!AW205","v":0},{"$f":"+[1]Tabulka!AX205","v":{"v":0,"d":"0.00"}},{"$f":"+[1]Tabulka!AY205","v":0},{"$f":"+[1]Tabulka!AZ205","v":{"v":0,"d":"0.00"}},{"$f":"+[1]Tabulka!BA205","v":0},{"$f":"+[1]Tabulka!BB205","v":{"v":0,"d":"0.00"}},{"$f":"+[1]Tabulka!BC205","v":33},{"$f":"+[1]Tabulka!BD205","v":{"v":0.6123420427175658,"d":"0.61"}},{"$f":"+[1]Tabulka!BE205","v":0},{"$f":"+[1]Tabulka!BF205","v":{"v":0,"d":"0.00"}},{"$f":"+[1]Tabulka!BG205","v":0},{"$f":"+[1]Tabulka!BH205","v":{"v":0,"d":"0.00"}},{"$f":"+[1]Tabulka!BI205","v":0},{"$f":"+[1]Tabulka!BJ205","v":{"v":0,"d":"0.00"}},{"$f":"+[1]Tabulka!AP205","v":{"v":0,"d":"0.00"}},{"$f":"+[1]Tabulka!AQ205","v":{"v":0,"d":"0.00"}},{"$f":"+[1]Tabulka!BM205","v":{"v":0.6123420427175658,"d":"0.61"}},{"$f":"+[1]Tabulka!BN205","v":1},{"$f":"+[1]Tabulka!BO205","v":{"v":0.6123420427175658,"d":"0.61"}}]
["82",{"$f":"[1]Tabulka!C206","v":"OBORNÝ"},{"$f":"[1]Tabulka!D206","v":"Dominik"},{"$f":"[1]Tabulka!E206","v":"1999-05-10"},{"$f":"[1]Tabulka!F206","v":"Hrabůvka- Sokol TJ"},{"$f":"[1]Tabulka!G206","v":"OV"},{"$f":"[1]Tabulka!H206","v":100},{"$f":"+[1]Tabulka!AU206","v":0},{"$f":"+[1]Tabulka!AV206","v":{"v":0,"d":"0.00"}},{"$f":"+[1]Tabulka!AW206","v":0},{"$f":"+[1]Tabulka!AX206","v":{"v":0,"d":"0.00"}},{"$f":"+[1]Tabulka!AY206","v":0},{"$f":"+[1]Tabulka!AZ206","v":{"v":0,"d":"0.00"}},{"$f":"+[1]Tabulka!BA206","v":0},{"$f":"+[1]Tabulka!BB206","v":{"v":0,"d":"0.00"}},{"$f":"+[1]Tabulka!BC206","v":0},{"$f":"+[1]Tabulka!BD206","v":{"v":0,"d":"0.00"}},{"$f":"+[1]Tabulka!BE206","v":33},{"$f":"+[1]Tabulka!BF206","v":{"v":0.6123420427175658,"d":"0.61"}},{"$f":"+[1]Tabulka!BG206","v":0},{"$f":"+[1]Tabulka!BH206","v":{"v":0,"d":"0.00"}},{"$f":"+[1]Tabulka!BI206","v":0},{"$f":"+[1]Tabulka!BJ206","v":{"v":0,"d":"0.00"}},{"$f":"+[1]Tabulka!AP206","v":{"v":1.4666152727417803,"d":"1.47"}},{"$f":"+[1]Tabulka!AQ206","v":{"v":4,"d":"4.00"}},{"$f":"+[1]Tabulka!BM206","v":{"v":0.6123420427175658,"d":"0.61"}},{"$f":"+[1]Tabulka!BN206","v":1},{"$f":"+[1]Tabulka!BO206","v":{"v":0.6123420427175658,"d":"0.61"}}]
[null,{"$f":"[1]Tabulka!C207","v":"ONDERKA"},{"$f":"[1]Tabulka!D207","v":"František"},{"$f":"[1]Tabulka!E207","v":"2002-02-27"},{"$f":"[1]Tabulka!F207","v":"Opava- KST Slezan "},{"$f":"[1]Tabulka!G207","v":"OP"},{"$f":"[1]Tabulka!H207","v":100},{"$f":"+[1]Tabulka!AU207","v":0},{"$f":"+[1]Tabulka!AV207","v":{"v":0,"d":"0.00"}},{"$f":"+[1]Tabulka!AW207","v":0},{"$f":"+[1]Tabulka!AX207","v":{"v":0,"d":"0.00"}},{"$f":"+[1]Tabulka!AY207","v":0},{"$f":"+[1]Tabulka!AZ207","v":{"v":0,"d":"0.00"}},{"$f":"+[1]Tabulka!BA207","v":33},{"$f":"+[1]Tabulka!BB207","v":{"v":0.6123420427175658,"d":"0.61"}},{"$f":"+[1]Tabulka!BC207","v":0},{"$f":"+[1]Tabulka!BD207","v":{"v":0,"d":"0.00"}},{"$f":"+[1]Tabulka!BE207","v":0},{"$f":"+[1]Tabulka!BF207","v":{"v":0,"d":"0.00"}},{"$f":"+[1]Tabulka!BG207","v":0},{"$f":"+[1]Tabulka!BH207","v":{"v":0,"d":"0.00"}},{"$f":"+[1]Tabulka!BI207","v":0},{"$f":"+[1]Tabulka!BJ207","v":{"v":0,"d":"0.00"}},{"$f":"+[1]Tabulka!AP207","v":{"v":2.0288369873473586,"d":"2.03"}},{"$f":"+[1]Tabulka!AQ207","v":{"v":3,"d":"3.00"}},{"$f":"+[1]Tabulka!BM207","v":{"v":0.6123420427175658,"d":"0.61"}},{"$f":"+[1]Tabulka!BN207","v":1},{"$f":"+[1]Tabulka!BO207","v":{"v":0.6123420427175658,"d":"0.61"}}]
["85",{"$f":"[1]Tabulka!C208","v":"OSTÁREK"},{"$f":"[1]Tabulka!D208","v":"Martin"},{"$f":"[1]Tabulka!E208","v":"2003-05-08"},{"$f":"[1]Tabulka!F208","v":"Děhylov- Sokol TJ"},{"$f":"[1]Tabulka!G208","v":"OP"},{"$f":"[1]Tabulka!H208","v":100},{"$f":"+[1]Tabulka!AU208","v":0},{"$f":"+[1]Tabulka!AV208","v":{"v":0,"d":"0.00"}},{"$f":"+[1]Tabulka!AW208","v":0},{"$f":"+[1]Tabulka!AX208","v":{"v":0,"d":"0.00"}},{"$f":"+[1]Tabulka!AY208","v":0},{"$f":"+[1]Tabulka!AZ208","v":{"v":0,"d":"0.00"}},{"$f":"+[1]Tabulka!BA208","v":0},{"$f":"+[1]Tabulka!BB208","v":{"v":0,"d":"0.00"}},{"$f":"+[1]Tabulka!BC208","v":33},{"$f":"+[1]Tabulka!BD208","v":{"v":0.6123420427175658,"d":"0.61"}},{"$f":"+[1]Tabulka!BE208","v":0},{"$f":"+[1]Tabulka!BF208","v":{"v":0,"d":"0.00"}},{"$f":"+[1]Tabulka!BG208","v":0},{"$f":"+[1]Tabulka!BH208","v":{"v":0,"d":"0.00"}},{"$f":"+[1]Tabulka!BI208","v":0},{"$f":"+[1]Tabulka!BJ208","v":{"v":0,"d":"0.00"}},{"$f":"+[1]Tabulka!AP208","v":{"v":0,"d":"0.00"}},{"$f":"+[1]Tabulka!AQ208","v":{"v":0,"d":"0.00"}},{"$f":"+[1]Tabulka!BM208","v":{"v":0.6123420427175658,"d":"0.61"}},{"$f":"+[1]Tabulka!BN208","v":1},{"$f":"+[1]Tabulka!BO208","v":{"v":0.6123420427175658,"d":"0.61"}}]
[null,{"$f":"[1]Tabulka!C209","v":"OTISKOVÁ"},{"$f":"[1]Tabulka!D209","v":"Hana"},{"$f":"[1]Tabulka!E209","v":"2001-01-01"},{"$f":"[1]Tabulka!F209","v":"Ostrava- Poruba- DDM"},{"$f":"[1]Tabulka!G209","v":"OV"},{"$f":"[1]Tabulka!H209","v":0},{"$f":"+[1]Tabulka!AU209","v":0},{"$f":"+[1]Tabulka!AV209","v":{"v":0,"d":"0.00"}},{"$f":"+[1]Tabulka!AW209","v":0},{"$f":"+[1]Tabulka!AX209","v":{"v":0,"d":"0.00"}},{"$f":"+[1]Tabulka!AY209","v":0},{"$f":"+[1]Tabulka!AZ209","v":{"v":0,"d":"0.00"}},{"$f":"+[1]Tabulka!BA209","v":33},{"$f":"+[1]Tabulka!BB209","v":{"v":0.6123420427175658,"d":"0.61"}},{"$f":"+[1]Tabulka!BC209","v":0},{"$f":"+[1]Tabulka!BD209","v":{"v":0,"d":"0.00"}},{"$f":"+[1]Tabulka!BE209","v":0},{"$f":"+[1]Tabulka!BF209","v":{"v":0,"d":"0.00"}},{"$f":"+[1]Tabulka!BG209","v":0},{"$f":"+[1]Tabulka!BH209","v":{"v":0,"d":"0.00"}},{"$f":"+[1]Tabulka!BI209","v":0},{"$f":"+[1]Tabulka!BJ209","v":{"v":0,"d":"0.00"}},{"$f":"+[1]Tabulka!AP209","v":{"v":0,"d":"0.00"}},{"$f":"+[1]Tabulka!AQ209","v":{"v":0,"d":"0.00"}},{"$f":"+[1]Tabulka!BM209","v":{"v":0.6123420427175658,"d":"0.61"}},{"$f":"+[1]Tabulka!BN209","v":1},{"$f":"+[1]Tabulka!BO209","v":{"v":0.6123420427175658,"d":"0.61"}}]
["87",{"$f":"[1]Tabulka!C210","v":"POHROM"},{"$f":"[1]Tabulka!D210","v":"Josef"},{"$f":"[1]Tabulka!E210","v":"1994-12-13"},{"$f":"[1]Tabulka!F210","v":"Český Těšín- SKST"},{"$f":"[1]Tabulka!G210","v":"KA"},{"$f":"[1]Tabulka!H210","v":100},{"$f":"+[1]Tabulka!AU210","v":0},{"$f":"+[1]Tabulka!AV210","v":{"v":0,"d":"0.00"}},{"$f":"+[1]Tabulka!AW210","v":0},{"$f":"+[1]Tabulka!AX210","v":{"v":0,"d":"0.00"}},{"$f":"+[1]Tabulka!AY210","v":0},{"$f":"+[1]Tabulka!AZ210","v":{"v":0,"d":"0.00"}},{"$f":"+[1]Tabulka!BA210","v":0},{"$f":"+[1]Tabulka!BB210","v":{"v":0,"d":"0.00"}},{"$f":"+[1]Tabulka!BC210","v":0},{"$f":"+[1]Tabulka!BD210","v":{"v":0,"d":"0.00"}},{"$f":"+[1]Tabulka!BE210","v":0},{"$f":"+[1]Tabulka!BF210","v":{"v":0,"d":"0.00"}},{"$f":"+[1]Tabulka!BG210","v":33},{"$f":"+[1]Tabulka!BH210","v":{"v":0.6123420427175658,"d":"0.61"}},{"$f":"+[1]Tabulka!BI210","v":0},{"$f":"+[1]Tabulka!BJ210","v":{"v":0,"d":"0.00"}},{"$f":"+[1]Tabulka!AP210","v":{"v":0,"d":"0.00"}},{"$f":"+[1]Tabulka!AQ210","v":{"v":0,"d":"0.00"}},{"$f":"+[1]Tabulka!BM210","v":{"v":0.6123420427175658,"d":"0.61"}},{"$f":"+[1]Tabulka!BN210","v":1},{"$f":"+[1]Tabulka!BO210","v":{"v":0.6123420427175658,"d":"0.61"}}]
["88",{"$f":"[1]Tabulka!C211","v":"RASZYK"},{"$f":"[1]Tabulka!D211","v":"Kristián"},{"$f":"[1]Tabulka!E211","v":"1999-01-01"},{"$f":"[1]Tabulka!F211","v":"Karviná- KLUBsten KST"},{"$f":"[1]Tabulka!G211","v":"KA"},{"$f":"[1]Tabulka!H211","v":0},{"$f":"+[1]Tabulka!AU211","v":0},{"$f":"+[1]Tabulka!AV211","v":{"v":0,"d":"0.00"}},{"$f":"+[1]Tabulka!AW211","v":0},{"$f":"+[1]Tabulka!AX211","v":{"v":0,"d":"0.00"}},{"$f":"+[1]Tabulka!AY211","v":0},{"$f":"+[1]Tabulka!AZ211","v":{"v":0,"d":"0.00"}},{"$f":"+[1]Tabulka!BA211","v":0},{"$f":"+[1]Tabulka!BB211","v":{"v":0,"d":"0.00"}},{"$f":"+[1]Tabulka!BC211","v":0},{"$f":"+[1]Tabulka!BD211","v":{"v":0,"d":"0.00"}},{"$f":"+[1]Tabulka!BE211","v":0},{"$f":"+[1]Tabulka!BF211","v":{"v":0,"d":"0.00"}},{"$f":"+[1]Tabulka!BG211","v":0},{"$f":"+[1]Tabulka!BH211","v":{"v":0,"d":"0.00"}},{"$f":"+[1]Tabulka!BI211","v":33},{"$f":"+[1]Tabulka!BJ211","v":{"v":0.6123420427175658,"d":"0.61"}},{"$f":"+[1]Tabulka!AP211","v":{"v":0,"d":"0.00"}},{"$f":"+[1]Tabulka!AQ211","v":{"v":0,"d":"0.00"}},{"$f":"+[1]Tabulka!BM211","v":{"v":0.6123420427175658,"d":"0.61"}},{"$f":"+[1]Tabulka!BN211","v":1},{"$f":"+[1]Tabulka!BO211","v":{"v":0.6123420427175658,"d":"0.61"}}]
["87",{"$f":"[1]Tabulka!C212","v":"SEKEROVÁ"},{"$f":"[1]Tabulka!D212","v":"Zuzana"},{"$f":"[1]Tabulka!E212","v":"2002-01-01"},{"$f":"[1]Tabulka!F212","v":"Polanka- Sokol"},{"$f":"[1]Tabulka!G212","v":"OV"},{"$f":"[1]Tabulka!H212","v":0},{"$f":"+[1]Tabulka!AU212","v":0},{"$f":"+[1]Tabulka!AV212","v":{"v":0,"d":"0.00"}},{"$f":"+[1]Tabulka!AW212","v":0},{"$f":"+[1]Tabulka!AX212","v":{"v":0,"d":"0.00"}},{"$f":"+[1]Tabulka!AY212","v":0},{"$f":"+[1]Tabulka!AZ212","v":{"v":0,"d":"0.00"}},{"$f":"+[1]Tabulka!BA212","v":33},{"$f":"+[1]Tabulka!BB212","v":{"v":0.6123420427175658,"d":"0.61"}},{"$f":"+[1]Tabulka!BC212","v":0},{"$f":"+[1]Tabulka!BD212","v":{"v":0,"d":"0.00"}},{"$f":"+[1]Tabulka!BE212","v":0},{"$f":"+[1]Tabulka!BF212","v":{"v":0,"d":"0.00"}},{"$f":"+[1]Tabulka!BG212","v":0},{"$f":"+[1]Tabulka!BH212","v":{"v":0,"d":"0.00"}},{"$f":"+[1]Tabulka!BI212","v":0},{"$f":"+[1]Tabulka!BJ212","v":{"v":0,"d":"0.00"}},{"$f":"+[1]Tabulka!AP212","v":{"v":0,"d":"0.00"}},{"$f":"+[1]Tabulka!AQ212","v":{"v":0,"d":"0.00"}},{"$f":"+[1]Tabulka!BM212","v":{"v":0.6123420427175658,"d":"0.61"}},{"$f":"+[1]Tabulka!BN212","v":1},{"$f":"+[1]Tabulka!BO212","v":{"v":0.6123420427175658,"d":"0.61"}}]
["85",{"$f":"[1]Tabulka!C213","v":"SMIEŠKOVÁ"},{"$f":"[1]Tabulka!D213","v":"Adéla"},{"$f":"[1]Tabulka!E213","v":"1999-06-08"},{"$f":"[1]Tabulka!F213","v":"Hrabůvka- Sokol TJ"},{"$f":"[1]Tabulka!G213","v":"OV"},{"$f":"[1]Tabulka!H213","v":100},{"$f":"+[1]Tabulka!AU213","v":0},{"$f":"+[1]Tabulka!AV213","v":{"v":0,"d":"0.00"}},{"$f":"+[1]Tabulka!AW213","v":0},{"$f":"+[1]Tabulka!AX213","v":{"v":0,"d":"0.00"}},{"$f":"+[1]Tabulka!AY213","v":0},{"$f":"+[1]Tabulka!AZ213","v":{"v":0,"d":"0.00"}},{"$f":"+[1]Tabulka!BA213","v":0},{"$f":"+[1]Tabulka!BB213","v":{"v":0,"d":"0.00"}},{"$f":"+[1]Tabulka!BC213","v":0},{"$f":"+[1]Tabulka!BD213","v":{"v":0,"d":"0.00"}},{"$f":"+[1]Tabulka!BE213","v":33},{"$f":"+[1]Tabulka!BF213","v":{"v":0.6123420427175658,"d":"0.61"}},{"$f":"+[1]Tabulka!BG213","v":0},{"$f":"+[1]Tabulka!BH213","v":{"v":0,"d":"0.00"}},{"$f":"+[1]Tabulka!BI213","v":0},{"$f":"+[1]Tabulka!BJ213","v":{"v":0,"d":"0.00"}},{"$f":"+[1]Tabulka!AP213","v":{"v":0.4976366244177015,"d":"0.50"}},{"$f":"+[1]Tabulka!AQ213","v":{"v":3,"d":"3.00"}},{"$f":"+[1]Tabulka!BM213","v":{"v":0.6123420427175658,"d":"0.61"}},{"$f":"+[1]Tabulka!BN213","v":1},{"$f":"+[1]Tabulka!BO213","v":{"v":0.6123420427175658,"d":"0.61"}}]
["89",{"$f":"[1]Tabulka!C214","v":"SUPÍK"},{"$f":"[1]Tabulka!D214","v":"Lukáš"},{"$f":"[1]Tabulka!E214","v":"1997-10-24"},{"$f":"[1]Tabulka!F214","v":"Český Těšín- SKST"},{"$f":"[1]Tabulka!G214","v":"KA"},{"$f":"[1]Tabulka!H214","v":100},{"$f":"+[1]Tabulka!AU214","v":33},{"$f":"+[1]Tabulka!AV214","v":{"v":0.6123420427175658,"d":"0.61"}},{"$f":"+[1]Tabulka!AW214","v":0},{"$f":"+[1]Tabulka!AX214","v":{"v":0,"d":"0.00"}},{"$f":"+[1]Tabulka!AY214","v":0},{"$f":"+[1]Tabulka!AZ214","v":{"v":0,"d":"0.00"}},{"$f":"+[1]Tabulka!BA214","v":0},{"$f":"+[1]Tabulka!BB214","v":{"v":0,"d":"0.00"}},{"$f":"+[1]Tabulka!BC214","v":0},{"$f":"+[1]Tabulka!BD214","v":{"v":0,"d":"0.00"}},{"$f":"+[1]Tabulka!BE214","v":0},{"$f":"+[1]Tabulka!BF214","v":{"v":0,"d":"0.00"}},{"$f":"+[1]Tabulka!BG214","v":0},{"$f":"+[1]Tabulka!BH214","v":{"v":0,"d":"0.00"}},{"$f":"+[1]Tabulka!BI214","v":0},{"$f":"+[1]Tabulka!BJ214","v":{"v":0,"d":"0.00"}},{"$f":"+[1]Tabulka!AP214","v":{"v":0,"d":"0.00"}},{"$f":"+[1]Tabulka!AQ214","v":{"v":0,"d":"0.00"}},{"$f":"+[1]Tabulka!BM214","v":{"v":0.6123420427175658,"d":"0.61"}},{"$f":"+[1]Tabulka!BN214","v":1},{"$f":"+[1]Tabulka!BO214","v":{"v":0.6123420427175658,"d":"0.61"}}]
["87",{"$f":"[1]Tabulka!C215","v":"ŠTEFEK"},{"$f":"[1]Tabulka!D215","v":"Martin"},{"$f":"[1]Tabulka!E215","v":"2000-01-01"},{"$f":"[1]Tabulka!F215","v":"Ostrava- Zábřeh- Domik"},{"$f":"[1]Tabulka!G215","v":"OV"},{"$f":"[1]Tabulka!H215","v":0},{"$f":"+[1]Tabulka!AU215","v":0},{"$f":"+[1]Tabulka!AV215","v":{"v":0,"d":"0.00"}},{"$f":"+[1]Tabulka!AW215","v":0},{"$f":"+[1]Tabulka!AX215","v":{"v":0,"d":"0.00"}},{"$f":"+[1]Tabulka!AY215","v":0},{"$f":"+[1]Tabulka!AZ215","v":{"v":0,"d":"0.00"}},{"$f":"+[1]Tabulka!BA215","v":33},{"$f":"+[1]Tabulka!BB215","v":{"v":0.6123420427175658,"d":"0.61"}},{"$f":"+[1]Tabulka!BC215","v":0},{"$f":"+[1]Tabulka!BD215","v":{"v":0,"d":"0.00"}},{"$f":"+[1]Tabulka!BE215","v":0},{"$f":"+[1]Tabulka!BF215","v":{"v":0,"d":"0.00"}},{"$f":"+[1]Tabulka!BG215","v":0},{"$f":"+[1]Tabulka!BH215","v":{"v":0,"d":"0.00"}},{"$f":"+[1]Tabulka!BI215","v":0},{"$f":"+[1]Tabulka!BJ215","v":{"v":0,"d":"0.00"}},{"$f":"+[1]Tabulka!AP215","v":{"v":0,"d":"0.00"}},{"$f":"+[1]Tabulka!AQ215","v":{"v":0,"d":"0.00"}},{"$f":"+[1]Tabulka!BM215","v":{"v":0.6123420427175658,"d":"0.61"}},{"$f":"+[1]Tabulka!BN215","v":1},{"$f":"+[1]Tabulka!BO215","v":{"v":0.6123420427175658,"d":"0.61"}}]
["88",{"$f":"[1]Tabulka!C216","v":"VAVREČKA"},{"$f":"[1]Tabulka!D216","v":"Michal"},{"$f":"[1]Tabulka!E216","v":"1997-10-14"},{"$f":"[1]Tabulka!F216","v":"Ostrava- SDDM"},{"$f":"[1]Tabulka!G216","v":"OV"},{"$f":"[1]Tabulka!H216","v":100},{"$f":"+[1]Tabulka!AU216","v":0},{"$f":"+[1]Tabulka!AV216","v":{"v":0,"d":"0.00"}},{"$f":"+[1]Tabulka!AW216","v":0},{"$f":"+[1]Tabulka!AX216","v":{"v":0,"d":"0.00"}},{"$f":"+[1]Tabulka!AY216","v":0},{"$f":"+[1]Tabulka!AZ216","v":{"v":0,"d":"0.00"}},{"$f":"+[1]Tabulka!BA216","v":0},{"$f":"+[1]Tabulka!BB216","v":{"v":0,"d":"0.00"}},{"$f":"+[1]Tabulka!BC216","v":0},{"$f":"+[1]Tabulka!BD216","v":{"v":0,"d":"0.00"}},{"$f":"+[1]Tabulka!BE216","v":33},{"$f":"+[1]Tabulka!BF216","v":{"v":0.6123420427175658,"d":"0.61"}},{"$f":"+[1]Tabulka!BG216","v":0},{"$f":"+[1]Tabulka!BH216","v":{"v":0,"d":"0.00"}},{"$f":"+[1]Tabulka!BI216","v":0},{"$f":"+[1]Tabulka!BJ216","v":{"v":0,"d":"0.00"}},{"$f":"+[1]Tabulka!AP216","v":{"v":0,"d":"0.00"}},{"$f":"+[1]Tabulka!AQ216","v":{"v":0,"d":"0.00"}},{"$f":"+[1]Tabulka!BM216","v":{"v":0.6123420427175658,"d":"0.61"}},{"$f":"+[1]Tabulka!BN216","v":1},{"$f":"+[1]Tabulka!BO216","v":{"v":0.6123420427175658,"d":"0.61"}}]
["89",{"$f":"[1]Tabulka!C217","v":"VESELÝ"},{"$f":"[1]Tabulka!D217","v":"Marek"},{"$f":"[1]Tabulka!E217","v":"1997-06-02"},{"$f":"[1]Tabulka!F217","v":"Darkovice- KST"},{"$f":"[1]Tabulka!G217","v":"OP"},{"$f":"[1]Tabulka!H217","v":100},{"$f":"+[1]Tabulka!AU217","v":0},{"$f":"+[1]Tabulka!AV217","v":{"v":0,"d":"0.00"}},{"$f":"+[1]Tabulka!AW217","v":0},{"$f":"+[1]Tabulka!AX217","v":{"v":0,"d":"0.00"}},{"$f":"+[1]Tabulka!AY217","v":0},{"$f":"+[1]Tabulka!AZ217","v":{"v":0,"d":"0.00"}},{"$f":"+[1]Tabulka!BA217","v":0},{"$f":"+[1]Tabulka!BB217","v":{"v":0,"d":"0.00"}},{"$f":"+[1]Tabulka!BC217","v":33},{"$f":"+[1]Tabulka!BD217","v":{"v":0.6123420427175658,"d":"0.61"}},{"$f":"+[1]Tabulka!BE217","v":0},{"$f":"+[1]Tabulka!BF217","v":{"v":0,"d":"0.00"}},{"$f":"+[1]Tabulka!BG217","v":0},{"$f":"+[1]Tabulka!BH217","v":{"v":0,"d":"0.00"}},{"$f":"+[1]Tabulka!BI217","v":0},{"$f":"+[1]Tabulka!BJ217","v":{"v":0,"d":"0.00"}},{"$f":"+[1]Tabulka!AP217","v":{"v":0,"d":"0.00"}},{"$f":"+[1]Tabulka!AQ217","v":{"v":0,"d":"0.00"}},{"$f":"+[1]Tabulka!BM217","v":{"v":0.6123420427175658,"d":"0.61"}},{"$f":"+[1]Tabulka!BN217","v":1},{"$f":"+[1]Tabulka!BO217","v":{"v":0.6123420427175658,"d":"0.61"}}]
["90",{"$f":"[1]Tabulka!C218","v":"CZOLKOVÁ"},{"$f":"[1]Tabulka!D218","v":"Adéla"},{"$f":"[1]Tabulka!E218","v":"1999-01-01"},{"$f":"[1]Tabulka!F218","v":"Orlová- Siko TTC"},{"$f":"[1]Tabulka!G218","v":"KA"},{"$f":"[1]Tabulka!H218","v":0},{"$f":"+[1]Tabulka!AU218","v":0},{"$f":"+[1]Tabulka!AV218","v":{"v":0,"d":"0.00"}},{"$f":"+[1]Tabulka!AW218","v":39},{"$f":"+[1]Tabulka!AX218","v":{"v":0.4186147390428583,"d":"0.42"}},{"$f":"+[1]Tabulka!AY218","v":0},{"$f":"+[1]Tabulka!AZ218","v":{"v":0,"d":"0.00"}},{"$f":"+[1]Tabulka!BA218","v":53},{"$f":"+[1]Tabulka!BB218","v":{"v":0.17234374841979688,"d":"0.17"}},{"$f":"+[1]Tabulka!BC218","v":0},{"$f":"+[1]Tabulka!BD218","v":{"v":0,"d":"0.00"}},{"$f":"+[1]Tabulka!BE218","v":0},{"$f":"+[1]Tabulka!BF218","v":{"v":0,"d":"0.00"}},{"$f":"+[1]Tabulka!BG218","v":0},{"$f":"+[1]Tabulka!BH218","v":{"v":0,"d":"0.00"}},{"$f":"+[1]Tabulka!BI218","v":0},{"$f":"+[1]Tabulka!BJ218","v":{"v":0,"d":"0.00"}},{"$f":"+[1]Tabulka!AP218","v":{"v":0,"d":"0.00"}},{"$f":"+[1]Tabulka!AQ218","v":{"v":0,"d":"0.00"}},{"$f":"+[1]Tabulka!BM218","v":{"v":0.5909584874626552,"d":"0.59"}},{"$f":"+[1]Tabulka!BN218","v":2},{"$f":"+[1]Tabulka!BO218","v":{"v":0.5909584874626552,"d":"0.59"}}]
["91",{"$f":"[1]Tabulka!C219","v":"GALGANÁK"},{"$f":"[1]Tabulka!D219","v":"Adam"},{"$f":"[1]Tabulka!E219","v":"2002-05-10"},{"$f":"[1]Tabulka!F219","v":"Orlová- Siko TTC"},{"$f":"[1]Tabulka!G219","v":"KA"},{"$f":"[1]Tabulka!H219","v":100},{"$f":"+[1]Tabulka!AU219","v":0},{"$f":"+[1]Tabulka!AV219","v":{"v":0,"d":"0.00"}},{"$f":"+[1]Tabulka!AW219","v":40},{"$f":"+[1]Tabulka!AX219","v":{"v":0.3929023154272488,"d":"0.39"}},{"$f":"+[1]Tabulka!AY219","v":0},{"$f":"+[1]Tabulka!AZ219","v":{"v":0,"d":"0.00"}},{"$f":"+[1]Tabulka!BA219","v":51},{"$f":"+[1]Tabulka!BB219","v":{"v":0.1956389795537761,"d":"0.20"}},{"$f":"+[1]Tabulka!BC219","v":0},{"$f":"+[1]Tabulka!BD219","v":{"v":0,"d":"0.00"}},{"$f":"+[1]Tabulka!BE219","v":0},{"$f":"+[1]Tabulka!BF219","v":{"v":0,"d":"0.00"}},{"$f":"+[1]Tabulka!BG219","v":0},{"$f":"+[1]Tabulka!BH219","v":{"v":0,"d":"0.00"}},{"$f":"+[1]Tabulka!BI219","v":0},{"$f":"+[1]Tabulka!BJ219","v":{"v":0,"d":"0.00"}},{"$f":"+[1]Tabulka!AP219","v":{"v":0,"d":"0.00"}},{"$f":"+[1]Tabulka!AQ219","v":{"v":0,"d":"0.00"}},{"$f":"+[1]Tabulka!BM219","v":{"v":0.5885412949810249,"d":"0.59"}},{"$f":"+[1]Tabulka!BN219","v":2},{"$f":"+[1]Tabulka!BO219","v":{"v":0.5885412949810249,"d":"0.59"}}]
["93",{"$f":"[1]Tabulka!C220","v":"VEČEREK"},{"$f":"[1]Tabulka!D220","v":"Adam"},{"$f":"[1]Tabulka!E220","v":"1998-01-01"},{"$f":"[1]Tabulka!F220","v":"Darkovice- KST"},{"$f":"[1]Tabulka!G220","v":"OP"},{"$f":"[1]Tabulka!H220","v":0},{"$f":"+[1]Tabulka!AU220","v":0},{"$f":"+[1]Tabulka!AV220","v":{"v":0,"d":"0.00"}},{"$f":"+[1]Tabulka!AW220","v":0},{"$f":"+[1]Tabulka!AX220","v":{"v":0,"d":"0.00"}},{"$f":"+[1]Tabulka!AY220","v":37},{"$f":"+[1]Tabulka!AZ220","v":{"v":0.4751977435991968,"d":"0.48"}},{"$f":"+[1]Tabulka!BA220","v":0},{"$f":"+[1]Tabulka!BB220","v":{"v":0,"d":"0.00"}},{"$f":"+[1]Tabulka!BC220","v":0},{"$f":"+[1]Tabulka!BD220","v":{"v":0,"d":"0.00"}},{"$f":"+[1]Tabulka!BE220","v":0},{"$f":"+[1]Tabulka!BF220","v":{"v":0,"d":"0.00"}},{"$f":"+[1]Tabulka!BG220","v":0},{"$f":"+[1]Tabulka!BH220","v":{"v":0,"d":"0.00"}},{"$f":"+[1]Tabulka!BI220","v":0},{"$f":"+[1]Tabulka!BJ220","v":{"v":0,"d":"0.00"}},{"$f":"+[1]Tabulka!AP220","v":{"v":0,"d":"0.00"}},{"$f":"+[1]Tabulka!AQ220","v":{"v":0,"d":"0.00"}},{"$f":"+[1]Tabulka!BM220","v":{"v":0.4751977435991968,"d":"0.48"}},{"$f":"+[1]Tabulka!BN220","v":1},{"$f":"+[1]Tabulka!BO220","v":{"v":0.4751977435991968,"d":"0.48"}}]
["92",{"$f":"[1]Tabulka!C221","v":"SLÍŽ"},{"$f":"[1]Tabulka!D221","v":"Viktor"},{"$f":"[1]Tabulka!E221","v":"1999-01-01"},{"$f":"[1]Tabulka!F221","v":"Havířov- Baník SKST"},{"$f":"[1]Tabulka!G221","v":"KA"},{"$f":"[1]Tabulka!H221","v":0},{"$f":"+[1]Tabulka!AU221","v":0},{"$f":"+[1]Tabulka!AV221","v":{"v":0,"d":"0.00"}},{"$f":"+[1]Tabulka!AW221","v":0},{"$f":"+[1]Tabulka!AX221","v":{"v":0,"d":"0.00"}},{"$f":"+[1]Tabulka!AY221","v":0},{"$f":"+[1]Tabulka!AZ221","v":{"v":0,"d":"0.00"}},{"$f":"+[1]Tabulka!BA221","v":0},{"$f":"+[1]Tabulka!BB221","v":{"v":0,"d":"0.00"}},{"$f":"+[1]Tabulka!BC221","v":0},{"$f":"+[1]Tabulka!BD221","v":{"v":0,"d":"0.00"}},{"$f":"+[1]Tabulka!BE221","v":0},{"$f":"+[1]Tabulka!BF221","v":{"v":0,"d":"0.00"}},{"$f":"+[1]Tabulka!BG221","v":39},{"$f":"+[1]Tabulka!BH221","v":{"v":0.4186147390428583,"d":"0.42"}},{"$f":"+[1]Tabulka!BI221","v":0},{"$f":"+[1]Tabulka!BJ221","v":{"v":0,"d":"0.00"}},{"$f":"+[1]Tabulka!AP221","v":{"v":0,"d":"0.00"}},{"$f":"+[1]Tabulka!AQ221","v":{"v":0,"d":"0.00"}},{"$f":"+[1]Tabulka!BM221","v":{"v":0.4186147390428583,"d":"0.42"}},{"$f":"+[1]Tabulka!BN221","v":1},{"$f":"+[1]Tabulka!BO221","v":{"v":0.4186147390428583,"d":"0.42"}}]
["93",{"$f":"[1]Tabulka!C222","v":"TUROŇ"},{"$f":"[1]Tabulka!D222","v":"Vojtěch"},{"$f":"[1]Tabulka!E222","v":"2001-09-21"},{"$f":"[1]Tabulka!F222","v":"Český Těšín- SKST"},{"$f":"[1]Tabulka!G222","v":"KA"},{"$f":"[1]Tabulka!H222","v":100},{"$f":"+[1]Tabulka!AU222","v":0},{"$f":"+[1]Tabulka!AV222","v":{"v":0,"d":"0.00"}},{"$f":"+[1]Tabulka!AW222","v":0},{"$f":"+[1]Tabulka!AX222","v":{"v":0,"d":"0.00"}},{"$f":"+[1]Tabulka!AY222","v":0},{"$f":"+[1]Tabulka!AZ222","v":{"v":0,"d":"0.00"}},{"$f":"+[1]Tabulka!BA222","v":0},{"$f":"+[1]Tabulka!BB222","v":{"v":0,"d":"0.00"}},{"$f":"+[1]Tabulka!BC222","v":0},{"$f":"+[1]Tabulka!BD222","v":{"v":0,"d":"0.00"}},{"$f":"+[1]Tabulka!BE222","v":0},{"$f":"+[1]Tabulka!BF222","v":{"v":0,"d":"0.00"}},{"$f":"+[1]Tabulka!BG222","v":42},{"$f":"+[1]Tabulka!BH222","v":{"v":0.3461184369188376,"d":"0.35"}},{"$f":"+[1]Tabulka!BI222","v":0},{"$f":"+[1]Tabulka!BJ222","v":{"v":0,"d":"0.00"}},{"$f":"+[1]Tabulka!AP222","v":{"v":0,"d":"0.00"}},{"$f":"+[1]Tabulka!AQ222","v":{"v":0,"d":"0.00"}},{"$f":"+[1]Tabulka!BM222","v":{"v":0.3461184369188376,"d":"0.35"}},{"$f":"+[1]Tabulka!BN222","v":1},{"$f":"+[1]Tabulka!BO222","v":{"v":0.3461184369188376,"d":"0.35"}}]
["96",{"$f":"[1]Tabulka!C223","v":"PANKOVÁ"},{"$f":"[1]Tabulka!D223","v":"Lenka"},{"$f":"[1]Tabulka!E223","v":"1999-01-01"},{"$f":"[1]Tabulka!F223","v":"Vratimov- MG Odra Gas TTC"},{"$f":"[1]Tabulka!G223","v":"OV"},{"$f":"[1]Tabulka!H223","v":0},{"$f":"+[1]Tabulka!AU223","v":43},{"$f":"+[1]Tabulka!AV223","v":{"v":0.32485892777785963,"d":"0.32"}},{"$f":"+[1]Tabulka!AW223","v":0},{"$f":"+[1]Tabulka!AX223","v":{"v":0,"d":"0.00"}},{"$f":"+[1]Tabulka!AY223","v":0},{"$f":"+[1]Tabulka!AZ223","v":{"v":0,"d":"0.00"}},{"$f":"+[1]Tabulka!BA223","v":0},{"$f":"+[1]Tabulka!BB223","v":{"v":0,"d":"0.00"}},{"$f":"+[1]Tabulka!BC223","v":0},{"$f":"+[1]Tabulka!BD223","v":{"v":0,"d":"0.00"}},{"$f":"+[1]Tabulka!BE223","v":0},{"$f":"+[1]Tabulka!BF223","v":{"v":0,"d":"0.00"}},{"$f":"+[1]Tabulka!BG223","v":0},{"$f":"+[1]Tabulka!BH223","v":{"v":0,"d":"0.00"}},{"$f":"+[1]Tabulka!BI223","v":0},{"$f":"+[1]Tabulka!BJ223","v":{"v":0,"d":"0.00"}},{"$f":"+[1]Tabulka!AP223","v":{"v":0,"d":"0.00"}},{"$f":"+[1]Tabulka!AQ223","v":{"v":0,"d":"0.00"}},{"$f":"+[1]Tabulka!BM223","v":{"v":0.32485892777785963,"d":"0.32"}},{"$f":"+[1]Tabulka!BN223","v":1},{"$f":"+[1]Tabulka!BO223","v":{"v":0.32485892777785963,"d":"0.32"}}]
["94",{"$f":"[1]Tabulka!C224","v":"FRIEDEL"},{"$f":"[1]Tabulka!D224","v":"Petr"},{"$f":"[1]Tabulka!E224","v":"1999-09-06"},{"$f":"[1]Tabulka!F224","v":"Karviná- KLUBsten KST"},{"$f":"[1]Tabulka!G224","v":"KA"},{"$f":"[1]Tabulka!H224","v":100},{"$f":"+[1]Tabulka!AU224","v":0},{"$f":"+[1]Tabulka!AV224","v":{"v":0,"d":"0.00"}},{"$f":"+[1]Tabulka!AW224","v":0},{"$f":"+[1]Tabulka!AX224","v":{"v":0,"d":"0.00"}},{"$f":"+[1]Tabulka!AY224","v":44},{"$f":"+[1]Tabulka!AZ224","v":{"v":0.3049052338744021,"d":"0.30"}},{"$f":"+[1]Tabulka!BA224","v":0},{"$f":"+[1]Tabulka!BB224","v":{"v":0,"d":"0.00"}},{"$f":"+[1]Tabulka!BC224","v":0},{"$f":"+[1]Tabulka!BD224","v":{"v":0,"d":"0.00"}},{"$f":"+[1]Tabulka!BE224","v":0},{"$f":"+[1]Tabulka!BF224","v":{"v":0,"d":"0.00"}},{"$f":"+[1]Tabulka!BG224","v":0},{"$f":"+[1]Tabulka!BH224","v":{"v":0,"d":"0.00"}},{"$f":"+[1]Tabulka!BI224","v":0},{"$f":"+[1]Tabulka!BJ224","v":{"v":0,"d":"0.00"}},{"$f":"+[1]Tabulka!AP224","v":{"v":1.0213988314153506,"d":"1.02"}},{"$f":"+[1]Tabulka!AQ224","v":{"v":2,"d":"2.00"}},{"$f":"+[1]Tabulka!BM224","v":{"v":0.3049052338744021,"d":"0.30"}},{"$f":"+[1]Tabulka!BN224","v":1},{"$f":"+[1]Tabulka!BO224","v":{"v":0.3049052338744021,"d":"0.30"}}]
["95",{"$f":"[1]Tabulka!C225","v":"SZULCZÁN"},{"$f":"[1]Tabulka!D225","v":"Patrik"},{"$f":"[1]Tabulka!E225","v":"1994-01-01"},{"$f":"[1]Tabulka!F225","v":"Karviná-Lázně Darkov- Slovan VOKD TJ"},{"$f":"[1]Tabulka!G225","v":"KA"},{"$f":"[1]Tabulka!H225","v":0},{"$f":"+[1]Tabulka!AU225","v":0},{"$f":"+[1]Tabulka!AV225","v":{"v":0,"d":"0.00"}},{"$f":"+[1]Tabulka!AW225","v":0},{"$f":"+[1]Tabulka!AX225","v":{"v":0,"d":"0.00"}},{"$f":"+[1]Tabulka!AY225","v":0},{"$f":"+[1]Tabulka!AZ225","v":{"v":0,"d":"0.00"}},{"$f":"+[1]Tabulka!BA225","v":0},{"$f":"+[1]Tabulka!BB225","v":{"v":0,"d":"0.00"}},{"$f":"+[1]Tabulka!BC225","v":0},{"$f":"+[1]Tabulka!BD225","v":{"v":0,"d":"0.00"}},{"$f":"+[1]Tabulka!BE225","v":0},{"$f":"+[1]Tabulka!BF225","v":{"v":0,"d":"0.00"}},{"$f":"+[1]Tabulka!BG225","v":45},{"$f":"+[1]Tabulka!BH225","v":{"v":0.2861771485854786,"d":"0.29"}},{"$f":"+[1]Tabulka!BI225","v":0},{"$f":"+[1]Tabulka!BJ225","v":{"v":0,"d":"0.00"}},{"$f":"+[1]Tabulka!AP225","v":{"v":0,"d":"0.00"}},{"$f":"+[1]Tabulka!AQ225","v":{"v":0,"d":"0.00"}},{"$f":"+[1]Tabulka!BM225","v":{"v":0.2861771485854786,"d":"0.29"}},{"$f":"+[1]Tabulka!BN225","v":1},{"$f":"+[1]Tabulka!BO225","v":{"v":0.2861771485854786,"d":"0.29"}}]
["96",{"$f":"[1]Tabulka!C226","v":"STARÁ"},{"$f":"[1]Tabulka!D226","v":"Petra"},{"$f":"[1]Tabulka!E226","v":"1998-01-01"},{"$f":"[1]Tabulka!F226","v":"Český Těšín- SKST"},{"$f":"[1]Tabulka!G226","v":"KA"},{"$f":"[1]Tabulka!H226","v":0},{"$f":"+[1]Tabulka!AU226","v":0},{"$f":"+[1]Tabulka!AV226","v":{"v":0,"d":"0.00"}},{"$f":"+[1]Tabulka!AW226","v":0},{"$f":"+[1]Tabulka!AX226","v":{"v":0,"d":"0.00"}},{"$f":"+[1]Tabulka!AY226","v":0},{"$f":"+[1]Tabulka!AZ226","v":{"v":0,"d":"0.00"}},{"$f":"+[1]Tabulka!BA226","v":49},{"$f":"+[1]Tabulka!BB226","v":{"v":0.22208296310007783,"d":"0.22"}},{"$f":"+[1]Tabulka!BC226","v":0},{"$f":"+[1]Tabulka!BD226","v":{"v":0,"d":"0.00"}},{"$f":"+[1]Tabulka!BE226","v":0},{"$f":"+[1]Tabulka!BF226","v":{"v":0,"d":"0.00"}},{"$f":"+[1]Tabulka!BG226","v":0},{"$f":"+[1]Tabulka!BH226","v":{"v":0,"d":"0.00"}},{"$f":"+[1]Tabulka!BI226","v":0},{"$f":"+[1]Tabulka!BJ226","v":{"v":0,"d":"0.00"}},{"$f":"+[1]Tabulka!AP226","v":{"v":0,"d":"0.00"}},{"$f":"+[1]Tabulka!AQ226","v":{"v":0,"d":"0.00"}},{"$f":"+[1]Tabulka!BM226","v":{"v":0.22208296310007783,"d":"0.22"}},{"$f":"+[1]Tabulka!BN226","v":1},{"$f":"+[1]Tabulka!BO226","v":{"v":0.22208296310007783,"d":"0.22"}}]
["97",{"$f":"[1]Tabulka!C227","v":"REMENÍK"},{"$f":"[1]Tabulka!D227","v":"Filip"},{"$f":"[1]Tabulka!E227","v":"2000-01-01"},{"$f":"[1]Tabulka!F227","v":"Karviná- KLUBsten KST"},{"$f":"[1]Tabulka!G227","v":"KA"},{"$f":"[1]Tabulka!H227","v":100},{"$f":"+[1]Tabulka!AU227","v":0},{"$f":"+[1]Tabulka!AV227","v":{"v":0,"d":"0.00"}},{"$f":"+[1]Tabulka!AW227","v":0},{"$f":"+[1]Tabulka!AX227","v":{"v":0,"d":"0.00"}},{"$f":"+[1]Tabulka!AY227","v":0},{"$f":"+[1]Tabulka!AZ227","v":{"v":0,"d":"0.00"}},{"$f":"+[1]Tabulka!BA227","v":54},{"$f":"+[1]Tabulka!BB227","v":{"v":0.1617579399100345,"d":"0.16"}},{"$f":"+[1]Tabulka!BC227","v":0},{"$f":"+[1]Tabulka!BD227","v":{"v":0,"d":"0.00"}},{"$f":"+[1]Tabulka!BE227","v":0},{"$f":"+[1]Tabulka!BF227","v":{"v":0,"d":"0.00"}},{"$f":"+[1]Tabulka!BG227","v":0},{"$f":"+[1]Tabulka!BH227","v":{"v":0,"d":"0.00"}},{"$f":"+[1]Tabulka!BI227","v":0},{"$f":"+[1]Tabulka!BJ227","v":{"v":0,"d":"0.00"}},{"$f":"+[1]Tabulka!AP227","v":{"v":0,"d":"0.00"}},{"$f":"+[1]Tabulka!AQ227","v":{"v":0,"d":"0.00"}},{"$f":"+[1]Tabulka!BM227","v":{"v":0.1617579399100345,"d":"0.16"}},{"$f":"+[1]Tabulka!BN227","v":1},{"$f":"+[1]Tabulka!BO227","v":{"v":0.1617579399100345,"d":"0.16"}}]
["100",{"$f":"[1]Tabulka!C228","v":"ADAMČÍK"},{"$f":"[1]Tabulka!D228","v":"Jiří"},{"$f":"[1]Tabulka!E228","v":"1997-09-03"},{"$f":"[1]Tabulka!F228","v":"Ostrava- Mittal TJ"},{"$f":"[1]Tabulka!G228","v":"OV"},{"$f":"[1]Tabulka!H228","v":100},{"$f":"+[1]Tabulka!AU228","v":0},{"$f":"+[1]Tabulka!AV228","v":{"v":0,"d":"0.00"}},{"$f":"+[1]Tabulka!AW228","v":0},{"$f":"+[1]Tabulka!AX228","v":{"v":0,"d":"0.00"}},{"$f":"+[1]Tabulka!AY228","v":0},{"$f":"+[1]Tabulka!AZ228","v":{"v":0,"d":"0.00"}},{"$f":"+[1]Tabulka!BA228","v":0},{"$f":"+[1]Tabulka!BB228","v":{"v":0,"d":"0.00"}},{"$f":"+[1]Tabulka!BC228","v":0},{"$f":"+[1]Tabulka!BD228","v":{"v":0,"d":"0.00"}},{"$f":"+[1]Tabulka!BE228","v":0},{"$f":"+[1]Tabulka!BF228","v":{"v":0,"d":"0.00"}},{"$f":"+[1]Tabulka!BG228","v":0},{"$f":"+[1]Tabulka!BH228","v":{"v":0,"d":"0.00"}},{"$f":"+[1]Tabulka!BI228","v":0},{"$f":"+[1]Tabulka!BJ228","v":{"v":0,"d":"0.00"}},{"$f":"+[1]Tabulka!AP228","v":{"v":0.14533037144710162,"d":"0.15"}},{"$f":"+[1]Tabulka!AQ228","v":{"v":2,"d":"2.00"}},{"$f":"+[1]Tabulka!BM228","v":{"v":0,"d":"0.00"}},{"$f":"+[1]Tabulka!BN228","v":0},{"$f":"+[1]Tabulka!BO228","v":{"v":0,"d":"0.00"}}]
[null,{"$f":"[1]Tabulka!C229","v":"ANTLOVÁ"},{"$f":"[1]Tabulka!D229","v":"Vanesa"},{"$f":"[1]Tabulka!E229","v":"1997-06-26"},{"$f":"[1]Tabulka!F229","v":"Havířov- CSVČ sv. Jana Boska"},{"$f":"[1]Tabulka!G229","v":"KA"},{"$f":"[1]Tabulka!H229","v":100},{"$f":"+[1]Tabulka!AU229","v":0},{"$f":"+[1]Tabulka!AV229","v":{"v":0,"d":"0.00"}},{"$f":"+[1]Tabulka!AW229","v":0},{"$f":"+[1]Tabulka!AX229","v":{"v":0,"d":"0.00"}},{"$f":"+[1]Tabulka!AY229","v":0},{"$f":"+[1]Tabulka!AZ229","v":{"v":0,"d":"0.00"}},{"$f":"+[1]Tabulka!BA229","v":0},{"$f":"+[1]Tabulka!BB229","v":{"v":0,"d":"0.00"}},{"$f":"+[1]Tabulka!BC229","v":0},{"$f":"+[1]Tabulka!BD229","v":{"v":0,"d":"0.00"}},{"$f":"+[1]Tabulka!BE229","v":0},{"$f":"+[1]Tabulka!BF229","v":{"v":0,"d":"0.00"}},{"$f":"+[1]Tabulka!BG229","v":0},{"$f":"+[1]Tabulka!BH229","v":{"v":0,"d":"0.00"}},{"$f":"+[1]Tabulka!BI229","v":0},{"$f":"+[1]Tabulka!BJ229","v":{"v":0,"d":"0.00"}},{"$f":"+[1]Tabulka!AP229","v":{"v":0,"d":"0.00"}},{"$f":"+[1]Tabulka!AQ229","v":{"v":0,"d":"0.00"}},{"$f":"+[1]Tabulka!BM229","v":{"v":0,"d":"0.00"}},{"$f":"+[1]Tabulka!BN229","v":0},{"$f":"+[1]Tabulka!BO229","v":{"v":0,"d":"0.00"}}]
[null,{"$f":"[1]Tabulka!C230","v":"BAJER"},{"$f":"[1]Tabulka!D230","v":"Daniel"},{"$f":"[1]Tabulka!E230","v":"1998-07-27"},{"$f":"[1]Tabulka!F230","v":"Havířov- Baník SKST"},{"$f":"[1]Tabulka!G230","v":"KA"},{"$f":"[1]Tabulka!H230","v":100},{"$f":"+[1]Tabulka!AU230","v":0},{"$f":"+[1]Tabulka!AV230","v":{"v":0,"d":"0.00"}},{"$f":"+[1]Tabulka!AW230","v":0},{"$f":"+[1]Tabulka!AX230","v":{"v":0,"d":"0.00"}},{"$f":"+[1]Tabulka!AY230","v":0},{"$f":"+[1]Tabulka!AZ230","v":{"v":0,"d":"0.00"}},{"$f":"+[1]Tabulka!BA230","v":0},{"$f":"+[1]Tabulka!BB230","v":{"v":0,"d":"0.00"}},{"$f":"+[1]Tabulka!BC230","v":0},{"$f":"+[1]Tabulka!BD230","v":{"v":0,"d":"0.00"}},{"$f":"+[1]Tabulka!BE230","v":0},{"$f":"+[1]Tabulka!BF230","v":{"v":0,"d":"0.00"}},{"$f":"+[1]Tabulka!BG230","v":0},{"$f":"+[1]Tabulka!BH230","v":{"v":0,"d":"0.00"}},{"$f":"+[1]Tabulka!BI230","v":0},{"$f":"+[1]Tabulka!BJ230","v":{"v":0,"d":"0.00"}},{"$f":"+[1]Tabulka!AP230","v":{"v":4.237386667050649,"d":"4.24"}},{"$f":"+[1]Tabulka!AQ230","v":{"v":2,"d":"2.00"}},{"$f":"+[1]Tabulka!BM230","v":{"v":0,"d":"0.00"}},{"$f":"+[1]Tabulka!BN230","v":0},{"$f":"+[1]Tabulka!BO230","v":{"v":0,"d":"0.00"}}]
["102",{"$f":"[1]Tabulka!C231","v":"BAJGER"},{"$f":"[1]Tabulka!D231","v":"Ondřej"},{"$f":"[1]Tabulka!E231","v":"1994-02-20"},{"$f":"[1]Tabulka!F231","v":"Ostrava- Mittal TJ"},{"$f":"[1]Tabulka!G231","v":"OV"},{"$f":"[1]Tabulka!H231","v":100},{"$f":"+[1]Tabulka!AU231","v":0},{"$f":"+[1]Tabulka!AV231","v":{"v":0,"d":"0.00"}},{"$f":"+[1]Tabulka!AW231","v":0},{"$f":"+[1]Tabulka!AX231","v":{"v":0,"d":"0.00"}},{"$f":"+[1]Tabulka!AY231","v":0},{"$f":"+[1]Tabulka!AZ231","v":{"v":0,"d":"0.00"}},{"$f":"+[1]Tabulka!BA231","v":0},{"$f":"+[1]Tabulka!BB231","v":{"v":0,"d":"0.00"}},{"$f":"+[1]Tabulka!BC231","v":0},{"$f":"+[1]Tabulka!BD231","v":{"v":0,"d":"0.00"}},{"$f":"+[1]Tabulka!BE231","v":0},{"$f":"+[1]Tabulka!BF231","v":{"v":0,"d":"0.00"}},{"$f":"+[1]Tabulka!BG231","v":0},{"$f":"+[1]Tabulka!BH231","v":{"v":0,"d":"0.00"}},{"$f":"+[1]Tabulka!BI231","v":0},{"$f":"+[1]Tabulka!BJ231","v":{"v":0,"d":"0.00"}},{"$f":"+[1]Tabulka!AP231","v":{"v":0,"d":"0.00"}},{"$f":"+[1]Tabulka!AQ231","v":{"v":0,"d":"0.00"}},{"$f":"+[1]Tabulka!BM231","v":{"v":0,"d":"0.00"}},{"$f":"+[1]Tabulka!BN231","v":0},{"$f":"+[1]Tabulka!BO231","v":{"v":0,"d":"0.00"}}]
["103",{"$f":"[1]Tabulka!C232","v":"BANDOLA"},{"$f":"[1]Tabulka!D232","v":"Dominik"},{"$f":"[1]Tabulka!E232","v":"1998-09-08"},{"$f":"[1]Tabulka!F232","v":"Paskov- Orel"},{"$f":"[1]Tabulka!G232","v":"FM"},{"$f":"[1]Tabulka!H232","v":100},{"$f":"+[1]Tabulka!AU232","v":0},{"$f":"+[1]Tabulka!AV232","v":{"v":0,"d":"0.00"}},{"$f":"+[1]Tabulka!AW232","v":0},{"$f":"+[1]Tabulka!AX232","v":{"v":0,"d":"0.00"}},{"$f":"+[1]Tabulka!AY232","v":0},{"$f":"+[1]Tabulka!AZ232","v":{"v":0,"d":"0.00"}},{"$f":"+[1]Tabulka!BA232","v":0},{"$f":"+[1]Tabulka!BB232","v":{"v":0,"d":"0.00"}},{"$f":"+[1]Tabulka!BC232","v":0},{"$f":"+[1]Tabulka!BD232","v":{"v":0,"d":"0.00"}},{"$f":"+[1]Tabulka!BE232","v":0},{"$f":"+[1]Tabulka!BF232","v":{"v":0,"d":"0.00"}},{"$f":"+[1]Tabulka!BG232","v":0},{"$f":"+[1]Tabulka!BH232","v":{"v":0,"d":"0.00"}},{"$f":"+[1]Tabulka!BI232","v":0},{"$f":"+[1]Tabulka!BJ232","v":{"v":0,"d":"0.00"}},{"$f":"+[1]Tabulka!AP232","v":{"v":0.182720633641056,"d":"0.18"}},{"$f":"+[1]Tabulka!AQ232","v":{"v":2,"d":"2.00"}},{"$f":"+[1]Tabulka!BM232","v":{"v":0,"d":"0.00"}},{"$f":"+[1]Tabulka!BN232","v":0},{"$f":"+[1]Tabulka!BO232","v":{"v":0,"d":"0.00"}}]
[null,{"$f":"[1]Tabulka!C233","v":"BENEŠ"},{"$f":"[1]Tabulka!D233","v":"Michal"},{"$f":"[1]Tabulka!E233","v":"1994-03-20"},{"$f":"[1]Tabulka!F233","v":"Havířov- Baník SKST"},{"$f":"[1]Tabulka!G233","v":"KA"},{"$f":"[1]Tabulka!H233","v":100},{"$f":"+[1]Tabulka!AU233","v":0},{"$f":"+[1]Tabulka!AV233","v":{"v":0,"d":"0.00"}},{"$f":"+[1]Tabulka!AW233","v":0},{"$f":"+[1]Tabulka!AX233","v":{"v":0,"d":"0.00"}},{"$f":"+[1]Tabulka!AY233","v":0},{"$f":"+[1]Tabulka!AZ233","v":{"v":0,"d":"0.00"}},{"$f":"+[1]Tabulka!BA233","v":0},{"$f":"+[1]Tabulka!BB233","v":{"v":0,"d":"0.00"}},{"$f":"+[1]Tabulka!BC233","v":0},{"$f":"+[1]Tabulka!BD233","v":{"v":0,"d":"0.00"}},{"$f":"+[1]Tabulka!BE233","v":0},{"$f":"+[1]Tabulka!BF233","v":{"v":0,"d":"0.00"}},{"$f":"+[1]Tabulka!BG233","v":0},{"$f":"+[1]Tabulka!BH233","v":{"v":0,"d":"0.00"}},{"$f":"+[1]Tabulka!BI233","v":0},{"$f":"+[1]Tabulka!BJ233","v":{"v":0,"d":"0.00"}},{"$f":"+[1]Tabulka!AP233","v":{"v":0,"d":"0.00"}},{"$f":"+[1]Tabulka!AQ233","v":{"v":0,"d":"0.00"}},{"$f":"+[1]Tabulka!BM233","v":{"v":0,"d":"0.00"}},{"$f":"+[1]Tabulka!BN233","v":0},{"$f":"+[1]Tabulka!BO233","v":{"v":0,"d":"0.00"}}]
["105",{"$f":"[1]Tabulka!C234","v":"BENEŠ"},{"$f":"[1]Tabulka!D234","v":"Radek"},{"$f":"[1]Tabulka!E234","v":"1996-12-02"},{"$f":"[1]Tabulka!F234","v":"Ostrava- Mittal TJ"},{"$f":"[1]Tabulka!G234","v":"OV"},{"$f":"[1]Tabulka!H234","v":100},{"$f":"+[1]Tabulka!AU234","v":0},{"$f":"+[1]Tabulka!AV234","v":{"v":0,"d":"0.00"}},{"$f":"+[1]Tabulka!AW234","v":0},{"$f":"+[1]Tabulka!AX234","v":{"v":0,"d":"0.00"}},{"$f":"+[1]Tabulka!AY234","v":0},{"$f":"+[1]Tabulka!AZ234","v":{"v":0,"d":"0.00"}},{"$f":"+[1]Tabulka!BA234","v":0},{"$f":"+[1]Tabulka!BB234","v":{"v":0,"d":"0.00"}},{"$f":"+[1]Tabulka!BC234","v":0},{"$f":"+[1]Tabulka!BD234","v":{"v":0,"d":"0.00"}},{"$f":"+[1]Tabulka!BE234","v":0},{"$f":"+[1]Tabulka!BF234","v":{"v":0,"d":"0.00"}},{"$f":"+[1]Tabulka!BG234","v":0},{"$f":"+[1]Tabulka!BH234","v":{"v":0,"d":"0.00"}},{"$f":"+[1]Tabulka!BI234","v":0},{"$f":"+[1]Tabulka!BJ234","v":{"v":0,"d":"0.00"}},{"$f":"+[1]Tabulka!AP234","v":{"v":34.18562200406906,"d":"34.19"}},{"$f":"+[1]Tabulka!AQ234","v":{"v":2,"d":"2.00"}},{"$f":"+[1]Tabulka!BM234","v":{"v":0,"d":"0.00"}},{"$f":"+[1]Tabulka!BN234","v":0},{"$f":"+[1]Tabulka!BO234","v":{"v":0,"d":"0.00"}}]
["105",{"$f":"[1]Tabulka!C235","v":"BOROVSKÝ"},{"$f":"[1]Tabulka!D235","v":"Šimon"},{"$f":"[1]Tabulka!E235","v":"1996-04-25"},{"$f":"[1]Tabulka!F235","v":"Kopřivnice- Tatra  ASK"},{"$f":"[1]Tabulka!G235","v":"NJ"},{"$f":"[1]Tabulka!H235","v":100},{"$f":"+[1]Tabulka!AU235","v":0},{"$f":"+[1]Tabulka!AV235","v":{"v":0,"d":"0.00"}},{"$f":"+[1]Tabulka!AW235","v":0},{"$f":"+[1]Tabulka!AX235","v":{"v":0,"d":"0.00"}},{"$f":"+[1]Tabulka!AY235","v":0},{"$f":"+[1]Tabulka!AZ235","v":{"v":0,"d":"0.00"}},{"$f":"+[1]Tabulka!BA235","v":0},{"$f":"+[1]Tabulka!BB235","v":{"v":0,"d":"0.00"}},{"$f":"+[1]Tabulka!BC235","v":0},{"$f":"+[1]Tabulka!BD235","v":{"v":0,"d":"0.00"}},{"$f":"+[1]Tabulka!BE235","v":0},{"$f":"+[1]Tabulka!BF235","v":{"v":0,"d":"0.00"}},{"$f":"+[1]Tabulka!BG235","v":0},{"$f":"+[1]Tabulka!BH235","v":{"v":0,"d":"0.00"}},{"$f":"+[1]Tabulka!BI235","v":0},{"$f":"+[1]Tabulka!BJ235","v":{"v":0,"d":"0.00"}},{"$f":"+[1]Tabulka!AP235","v":{"v":26.63581469031012,"d":"26.64"}},{"$f":"+[1]Tabulka!AQ235","v":{"v":2,"d":"2.00"}},{"$f":"+[1]Tabulka!BM235","v":{"v":0,"d":"0.00"}},{"$f":"+[1]Tabulka!BN235","v":0},{"$f":"+[1]Tabulka!BO235","v":{"v":0,"d":"0.00"}}]
[null,{"$f":"[1]Tabulka!C236","v":"BOROVSKÝ"},{"$f":"[1]Tabulka!D236","v":"Michal"},{"$f":"[1]Tabulka!E236","v":"1993-08-12"},{"$f":"[1]Tabulka!F236","v":"Kopřivnice- Tatra  ASK"},{"$f":"[1]Tabulka!G236","v":"NJ"},{"$f":"[1]Tabulka!H236","v":200},{"$f":"+[1]Tabulka!AU236","v":0},{"$f":"+[1]Tabulka!AV236","v":{"v":0,"d":"0.00"}},{"$f":"+[1]Tabulka!AW236","v":0},{"$f":"+[1]Tabulka!AX236","v":{"v":0,"d":"0.00"}},{"$f":"+[1]Tabulka!AY236","v":0},{"$f":"+[1]Tabulka!AZ236","v":{"v":0,"d":"0.00"}},{"$f":"+[1]Tabulka!BA236","v":0},{"$f":"+[1]Tabulka!BB236","v":{"v":0,"d":"0.00"}},{"$f":"+[1]Tabulka!BC236","v":0},{"$f":"+[1]Tabulka!BD236","v":{"v":0,"d":"0.00"}},{"$f":"+[1]Tabulka!BE236","v":0},{"$f":"+[1]Tabulka!BF236","v":{"v":0,"d":"0.00"}},{"$f":"+[1]Tabulka!BG236","v":0},{"$f":"+[1]Tabulka!BH236","v":{"v":0,"d":"0.00"}},{"$f":"+[1]Tabulka!BI236","v":0},{"$f":"+[1]Tabulka!BJ236","v":{"v":0,"d":"0.00"}},{"$f":"+[1]Tabulka!AP236","v":{"v":14.339828725763045,"d":"14.34"}},{"$f":"+[1]Tabulka!AQ236","v":{"v":2,"d":"2.00"}},{"$f":"+[1]Tabulka!BM236","v":{"v":0,"d":"0.00"}},{"$f":"+[1]Tabulka!BN236","v":0},{"$f":"+[1]Tabulka!BO236","v":{"v":0,"d":"0.00"}}]
[null,{"$f":"[1]Tabulka!C237","v":"DANĚK"},{"$f":"[1]Tabulka!D237","v":"Jiří"},{"$f":"[1]Tabulka!E237","v":"1994-01-01"},{"$f":"[1]Tabulka!F237","v":"Havířov- Baník SKST"},{"$f":"[1]Tabulka!G237","v":"KA"},{"$f":"[1]Tabulka!H237","v":0},{"$f":"+[1]Tabulka!AU237","v":0},{"$f":"+[1]Tabulka!AV237","v":{"v":0,"d":"0.00"}},{"$f":"+[1]Tabulka!AW237","v":0},{"$f":"+[1]Tabulka!AX237","v":{"v":0,"d":"0.00"}},{"$f":"+[1]Tabulka!AY237","v":0},{"$f":"+[1]Tabulka!AZ237","v":{"v":0,"d":"0.00"}},{"$f":"+[1]Tabulka!BA237","v":0},{"$f":"+[1]Tabulka!BB237","v":{"v":0,"d":"0.00"}},{"$f":"+[1]Tabulka!BC237","v":0},{"$f":"+[1]Tabulka!BD237","v":{"v":0,"d":"0.00"}},{"$f":"+[1]Tabulka!BE237","v":0},{"$f":"+[1]Tabulka!BF237","v":{"v":0,"d":"0.00"}},{"$f":"+[1]Tabulka!BG237","v":0},{"$f":"+[1]Tabulka!BH237","v":{"v":0,"d":"0.00"}},{"$f":"+[1]Tabulka!BI237","v":0},{"$f":"+[1]Tabulka!BJ237","v":{"v":0,"d":"0.00"}},{"$f":"+[1]Tabulka!AP237","v":{"v":0,"d":"0.00"}},{"$f":"+[1]Tabulka!AQ237","v":{"v":0,"d":"0.00"}},{"$f":"+[1]Tabulka!BM237","v":{"v":0,"d":"0.00"}},{"$f":"+[1]Tabulka!BN237","v":0},{"$f":"+[1]Tabulka!BO237","v":{"v":0,"d":"0.00"}}]
[null,{"$f":"[1]Tabulka!C238","v":"DANIŠKO"},{"$f":"[1]Tabulka!D238","v":"Daniel"},{"$f":"[1]Tabulka!E238","v":"1998-11-13"},{"$f":"[1]Tabulka!F238","v":"Nový Jičín- TJ"},{"$f":"[1]Tabulka!G238","v":"NJ"},{"$f":"[1]Tabulka!H238","v":100},{"$f":"+[1]Tabulka!AU238","v":0},{"$f":"+[1]Tabulka!AV238","v":{"v":0,"d":"0.00"}},{"$f":"+[1]Tabulka!AW238","v":0},{"$f":"+[1]Tabulka!AX238","v":{"v":0,"d":"0.00"}},{"$f":"+[1]Tabulka!AY238","v":0},{"$f":"+[1]Tabulka!AZ238","v":{"v":0,"d":"0.00"}},{"$f":"+[1]Tabulka!BA238","v":0},{"$f":"+[1]Tabulka!BB238","v":{"v":0,"d":"0.00"}},{"$f":"+[1]Tabulka!BC238","v":0},{"$f":"+[1]Tabulka!BD238","v":{"v":0,"d":"0.00"}},{"$f":"+[1]Tabulka!BE238","v":0},{"$f":"+[1]Tabulka!BF238","v":{"v":0,"d":"0.00"}},{"$f":"+[1]Tabulka!BG238","v":0},{"$f":"+[1]Tabulka!BH238","v":{"v":0,"d":"0.00"}},{"$f":"+[1]Tabulka!BI238","v":0},{"$f":"+[1]Tabulka!BJ238","v":{"v":0,"d":"0.00"}},{"$f":"+[1]Tabulka!AP238","v":{"v":0.28121872992798097,"d":"0.28"}},{"$f":"+[1]Tabulka!AQ238","v":{"v":2,"d":"2.00"}},{"$f":"+[1]Tabulka!BM238","v":{"v":0,"d":"0.00"}},{"$f":"+[1]Tabulka!BN238","v":0},{"$f":"+[1]Tabulka!BO238","v":{"v":0,"d":"0.00"}}]
[null,{"$f":"[1]Tabulka!C239","v":"DEBRECKI"},{"$f":"[1]Tabulka!D239","v":"Patrik"},{"$f":"[1]Tabulka!E239","v":"1998-01-01"},{"$f":"[1]Tabulka!F239","v":"Karviná- KLUBsten KST"},{"$f":"[1]Tabulka!G239","v":"KA"},{"$f":"[1]Tabulka!H239","v":0},{"$f":"+[1]Tabulka!AU239","v":0},{"$f":"+[1]Tabulka!AV239","v":{"v":0,"d":"0.00"}},{"$f":"+[1]Tabulka!AW239","v":0},{"$f":"+[1]Tabulka!AX239","v":{"v":0,"d":"0.00"}},{"$f":"+[1]Tabulka!AY239","v":0},{"$f":"+[1]Tabulka!AZ239","v":{"v":0,"d":"0.00"}},{"$f":"+[1]Tabulka!BA239","v":0},{"$f":"+[1]Tabulka!BB239","v":{"v":0,"d":"0.00"}},{"$f":"+[1]Tabulka!BC239","v":0},{"$f":"+[1]Tabulka!BD239","v":{"v":0,"d":"0.00"}},{"$f":"+[1]Tabulka!BE239","v":0},{"$f":"+[1]Tabulka!BF239","v":{"v":0,"d":"0.00"}},{"$f":"+[1]Tabulka!BG239","v":0},{"$f":"+[1]Tabulka!BH239","v":{"v":0,"d":"0.00"}},{"$f":"+[1]Tabulka!BI239","v":0},{"$f":"+[1]Tabulka!BJ239","v":{"v":0,"d":"0.00"}},{"$f":"+[1]Tabulka!AP239","v":{"v":0.014554875776820351,"d":"0.01"}},{"$f":"+[1]Tabulka!AQ239","v":{"v":1,"d":"1.00"}},{"$f":"+[1]Tabulka!BM239","v":{"v":0,"d":"0.00"}},{"$f":"+[1]Tabulka!BN239","v":0},{"$f":"+[1]Tabulka!BO239","v":{"v":0,"d":"0.00"}}]
[null,{"$f":"[1]Tabulka!C240","v":"DOHNAL"},{"$f":"[1]Tabulka!D240","v":"Patrik"},{"$f":"[1]Tabulka!E240","v":"1998-05-16"},{"$f":"[1]Tabulka!F240","v":"Fulnel- TJ"},{"$f":"[1]Tabulka!G240","v":"NJ"},{"$f":"[1]Tabulka!H240","v":100},{"$f":"+[1]Tabulka!AU240","v":0},{"$f":"+[1]Tabulka!AV240","v":{"v":0,"d":"0.00"}},{"$f":"+[1]Tabulka!AW240","v":0},{"$f":"+[1]Tabulka!AX240","v":{"v":0,"d":"0.00"}},{"$f":"+[1]Tabulka!AY240","v":0},{"$f":"+[1]Tabulka!AZ240","v":{"v":0,"d":"0.00"}},{"$f":"+[1]Tabulka!BA240","v":0},{"$f":"+[1]Tabulka!BB240","v":{"v":0,"d":"0.00"}},{"$f":"+[1]Tabulka!BC240","v":0},{"$f":"+[1]Tabulka!BD240","v":{"v":0,"d":"0.00"}},{"$f":"+[1]Tabulka!BE240","v":0},{"$f":"+[1]Tabulka!BF240","v":{"v":0,"d":"0.00"}},{"$f":"+[1]Tabulka!BG240","v":0},{"$f":"+[1]Tabulka!BH240","v":{"v":0,"d":"0.00"}},{"$f":"+[1]Tabulka!BI240","v":0},{"$f":"+[1]Tabulka!BJ240","v":{"v":0,"d":"0.00"}},{"$f":"+[1]Tabulka!AP240","v":{"v":3.4402436869213426,"d":"3.44"}},{"$f":"+[1]Tabulka!AQ240","v":{"v":2,"d":"2.00"}},{"$f":"+[1]Tabulka!BM240","v":{"v":0,"d":"0.00"}},{"$f":"+[1]Tabulka!BN240","v":0},{"$f":"+[1]Tabulka!BO240","v":{"v":0,"d":"0.00"}}]
[null,{"$f":"[1]Tabulka!C241","v":"DORAZIL"},{"$f":"[1]Tabulka!D241","v":"Ondřej"},{"$f":"[1]Tabulka!E241","v":"1995-06-28"},{"$f":"[1]Tabulka!F241","v":"Nový Jičín- TJ"},{"$f":"[1]Tabulka!G241","v":"NJ"},{"$f":"[1]Tabulka!H241","v":100},{"$f":"+[1]Tabulka!AU241","v":0},{"$f":"+[1]Tabulka!AV241","v":{"v":0,"d":"0.00"}},{"$f":"+[1]Tabulka!AW241","v":0},{"$f":"+[1]Tabulka!AX241","v":{"v":0,"d":"0.00"}},{"$f":"+[1]Tabulka!AY241","v":0},{"$f":"+[1]Tabulka!AZ241","v":{"v":0,"d":"0.00"}},{"$f":"+[1]Tabulka!BA241","v":0},{"$f":"+[1]Tabulka!BB241","v":{"v":0,"d":"0.00"}},{"$f":"+[1]Tabulka!BC241","v":0},{"$f":"+[1]Tabulka!BD241","v":{"v":0,"d":"0.00"}},{"$f":"+[1]Tabulka!BE241","v":0},{"$f":"+[1]Tabulka!BF241","v":{"v":0,"d":"0.00"}},{"$f":"+[1]Tabulka!BG241","v":0},{"$f":"+[1]Tabulka!BH241","v":{"v":0,"d":"0.00"}},{"$f":"+[1]Tabulka!BI241","v":0},{"$f":"+[1]Tabulka!BJ241","v":{"v":0,"d":"0.00"}},{"$f":"+[1]Tabulka!AP241","v":{"v":0,"d":"0.00"}},{"$f":"+[1]Tabulka!AQ241","v":{"v":0,"d":"0.00"}},{"$f":"+[1]Tabulka!BM241","v":{"v":0,"d":"0.00"}},{"$f":"+[1]Tabulka!BN241","v":0},{"$f":"+[1]Tabulka!BO241","v":{"v":0,"d":"0.00"}}]
[null,{"$f":"[1]Tabulka!C242","v":"DUFEK"},{"$f":"[1]Tabulka!D242","v":"Michal"},{"$f":"[1]Tabulka!E242","v":"2002-01-01"},{"$f":"[1]Tabulka!F242","v":"Frenštát pod Radhoštěm- TJ"},{"$f":"[1]Tabulka!G242","v":"NJ"},{"$f":"[1]Tabulka!H242","v":100},{"$f":"+[1]Tabulka!AU242","v":0},{"$f":"+[1]Tabulka!AV242","v":{"v":0,"d":"0.00"}},{"$f":"+[1]Tabulka!AW242","v":0},{"$f":"+[1]Tabulka!AX242","v":{"v":0,"d":"0.00"}},{"$f":"+[1]Tabulka!AY242","v":0},{"$f":"+[1]Tabulka!AZ242","v":{"v":0,"d":"0.00"}},{"$f":"+[1]Tabulka!BA242","v":0},{"$f":"+[1]Tabulka!BB242","v":{"v":0,"d":"0.00"}},{"$f":"+[1]Tabulka!BC242","v":0},{"$f":"+[1]Tabulka!BD242","v":{"v":0,"d":"0.00"}},{"$f":"+[1]Tabulka!BE242","v":0},{"$f":"+[1]Tabulka!BF242","v":{"v":0,"d":"0.00"}},{"$f":"+[1]Tabulka!BG242","v":0},{"$f":"+[1]Tabulka!BH242","v":{"v":0,"d":"0.00"}},{"$f":"+[1]Tabulka!BI242","v":0},{"$f":"+[1]Tabulka!BJ242","v":{"v":0,"d":"0.00"}},{"$f":"+[1]Tabulka!AP242","v":{"v":0,"d":"0.00"}},{"$f":"+[1]Tabulka!AQ242","v":{"v":0,"d":"0.00"}},{"$f":"+[1]Tabulka!BM242","v":{"v":0,"d":"0.00"}},{"$f":"+[1]Tabulka!BN242","v":0},{"$f":"+[1]Tabulka!BO242","v":{"v":0,"d":"0.00"}}]
[null,{"$f":"[1]Tabulka!C243","v":"FEŠAR"},{"$f":"[1]Tabulka!D243","v":"Tom "},{"$f":"[1]Tabulka!E243","v":"1999-09-09"},{"$f":"[1]Tabulka!F243","v":"Frenštát pod Radhoštěm- TJ"},{"$f":"[1]Tabulka!G243","v":"NJ"},{"$f":"[1]Tabulka!H243","v":100},{"$f":"+[1]Tabulka!AU243","v":0},{"$f":"+[1]Tabulka!AV243","v":{"v":0,"d":"0.00"}},{"$f":"+[1]Tabulka!AW243","v":0},{"$f":"+[1]Tabulka!AX243","v":{"v":0,"d":"0.00"}},{"$f":"+[1]Tabulka!AY243","v":0},{"$f":"+[1]Tabulka!AZ243","v":{"v":0,"d":"0.00"}},{"$f":"+[1]Tabulka!BA243","v":0},{"$f":"+[1]Tabulka!BB243","v":{"v":0,"d":"0.00"}},{"$f":"+[1]Tabulka!BC243","v":0},{"$f":"+[1]Tabulka!BD243","v":{"v":0,"d":"0.00"}},{"$f":"+[1]Tabulka!BE243","v":0},{"$f":"+[1]Tabulka!BF243","v":{"v":0,"d":"0.00"}},{"$f":"+[1]Tabulka!BG243","v":0},{"$f":"+[1]Tabulka!BH243","v":{"v":0,"d":"0.00"}},{"$f":"+[1]Tabulka!BI243","v":0},{"$f":"+[1]Tabulka!BJ243","v":{"v":0,"d":"0.00"}},{"$f":"+[1]Tabulka!AP243","v":{"v":3.211572186012429,"d":"3.21"}},{"$f":"+[1]Tabulka!AQ243","v":{"v":4,"d":"4.00"}},{"$f":"+[1]Tabulka!BM243","v":{"v":0,"d":"0.00"}},{"$f":"+[1]Tabulka!BN243","v":0},{"$f":"+[1]Tabulka!BO243","v":{"v":0,"d":"0.00"}}]
[null,{"$f":"[1]Tabulka!C244","v":"FREJVOLT"},{"$f":"[1]Tabulka!D244","v":"Dominik"},{"$f":"[1]Tabulka!E244","v":"1995-05-24"},{"$f":"[1]Tabulka!F244","v":"Orlová- Siko TTC"},{"$f":"[1]Tabulka!G244","v":"KA"},{"$f":"[1]Tabulka!H244","v":100},{"$f":"+[1]Tabulka!AU244","v":0},{"$f":"+[1]Tabulka!AV244","v":{"v":0,"d":"0.00"}},{"$f":"+[1]Tabulka!AW244","v":0},{"$f":"+[1]Tabulka!AX244","v":{"v":0,"d":"0.00"}},{"$f":"+[1]Tabulka!AY244","v":0},{"$f":"+[1]Tabulka!AZ244","v":{"v":0,"d":"0.00"}},{"$f":"+[1]Tabulka!BA244","v":0},{"$f":"+[1]Tabulka!BB244","v":{"v":0,"d":"0.00"}},{"$f":"+[1]Tabulka!BC244","v":0},{"$f":"+[1]Tabulka!BD244","v":{"v":0,"d":"0.00"}},{"$f":"+[1]Tabulka!BE244","v":0},{"$f":"+[1]Tabulka!BF244","v":{"v":0,"d":"0.00"}},{"$f":"+[1]Tabulka!BG244","v":0},{"$f":"+[1]Tabulka!BH244","v":{"v":0,"d":"0.00"}},{"$f":"+[1]Tabulka!BI244","v":0},{"$f":"+[1]Tabulka!BJ244","v":{"v":0,"d":"0.00"}},{"$f":"+[1]Tabulka!AP244","v":{"v":0,"d":"0.00"}},{"$f":"+[1]Tabulka!AQ244","v":{"v":0,"d":"0.00"}},{"$f":"+[1]Tabulka!BM244","v":{"v":0,"d":"0.00"}},{"$f":"+[1]Tabulka!BN244","v":0},{"$f":"+[1]Tabulka!BO244","v":{"v":0,"d":"0.00"}}]
[null,{"$f":"[1]Tabulka!C245","v":"GLOS"},{"$f":"[1]Tabulka!D245","v":"Tomáš"},{"$f":"[1]Tabulka!E245","v":"1996-10-15"},{"$f":"[1]Tabulka!F245","v":"Třinec- TŽ TJ"},{"$f":"[1]Tabulka!G245","v":"FM"},{"$f":"[1]Tabulka!H245","v":100},{"$f":"+[1]Tabulka!AU245","v":0},{"$f":"+[1]Tabulka!AV245","v":{"v":0,"d":"0.00"}},{"$f":"+[1]Tabulka!AW245","v":0},{"$f":"+[1]Tabulka!AX245","v":{"v":0,"d":"0.00"}},{"$f":"+[1]Tabulka!AY245","v":0},{"$f":"+[1]Tabulka!AZ245","v":{"v":0,"d":"0.00"}},{"$f":"+[1]Tabulka!BA245","v":0},{"$f":"+[1]Tabulka!BB245","v":{"v":0,"d":"0.00"}},{"$f":"+[1]Tabulka!BC245","v":0},{"$f":"+[1]Tabulka!BD245","v":{"v":0,"d":"0.00"}},{"$f":"+[1]Tabulka!BE245","v":0},{"$f":"+[1]Tabulka!BF245","v":{"v":0,"d":"0.00"}},{"$f":"+[1]Tabulka!BG245","v":0},{"$f":"+[1]Tabulka!BH245","v":{"v":0,"d":"0.00"}},{"$f":"+[1]Tabulka!BI245","v":0},{"$f":"+[1]Tabulka!BJ245","v":{"v":0,"d":"0.00"}},{"$f":"+[1]Tabulka!AP245","v":{"v":45.22437811127093,"d":"45.22"}},{"$f":"+[1]Tabulka!AQ245","v":{"v":3,"d":"3.00"}},{"$f":"+[1]Tabulka!BM245","v":{"v":0,"d":"0.00"}},{"$f":"+[1]Tabulka!BN245","v":0},{"$f":"+[1]Tabulka!BO245","v":{"v":0,"d":"0.00"}}]
[null,{"$f":"[1]Tabulka!C246","v":"GLOS"},{"$f":"[1]Tabulka!D246","v":"Michal"},{"$f":"[1]Tabulka!E246","v":"1999-06-08"},{"$f":"[1]Tabulka!F246","v":"Třinec- TŽ TJ"},{"$f":"[1]Tabulka!G246","v":"FM"},{"$f":"[1]Tabulka!H246","v":100},{"$f":"+[1]Tabulka!AU246","v":0},{"$f":"+[1]Tabulka!AV246","v":{"v":0,"d":"0.00"}},{"$f":"+[1]Tabulka!AW246","v":0},{"$f":"+[1]Tabulka!AX246","v":{"v":0,"d":"0.00"}},{"$f":"+[1]Tabulka!AY246","v":0},{"$f":"+[1]Tabulka!AZ246","v":{"v":0,"d":"0.00"}},{"$f":"+[1]Tabulka!BA246","v":0},{"$f":"+[1]Tabulka!BB246","v":{"v":0,"d":"0.00"}},{"$f":"+[1]Tabulka!BC246","v":0},{"$f":"+[1]Tabulka!BD246","v":{"v":0,"d":"0.00"}},{"$f":"+[1]Tabulka!BE246","v":0},{"$f":"+[1]Tabulka!BF246","v":{"v":0,"d":"0.00"}},{"$f":"+[1]Tabulka!BG246","v":0},{"$f":"+[1]Tabulka!BH246","v":{"v":0,"d":"0.00"}},{"$f":"+[1]Tabulka!BI246","v":0},{"$f":"+[1]Tabulka!BJ246","v":{"v":0,"d":"0.00"}},{"$f":"+[1]Tabulka!AP246","v":{"v":32.03997681007387,"d":"32.04"}},{"$f":"+[1]Tabulka!AQ246","v":{"v":3,"d":"3.00"}},{"$f":"+[1]Tabulka!BM246","v":{"v":0,"d":"0.00"}},{"$f":"+[1]Tabulka!BN246","v":0},{"$f":"+[1]Tabulka!BO246","v":{"v":0,"d":"0.00"}}]
[null,{"$f":"[1]Tabulka!C247","v":"GOLASOWSKI"},{"$f":"[1]Tabulka!D247","v":"Tomáš"},{"$f":"[1]Tabulka!E247","v":"1997-06-24"},{"$f":"[1]Tabulka!F247","v":"Karviná- KLUBsten KST"},{"$f":"[1]Tabulka!G247","v":"KA"},{"$f":"[1]Tabulka!H247","v":100},{"$f":"+[1]Tabulka!AU247","v":0},{"$f":"+[1]Tabulka!AV247","v":{"v":0,"d":"0.00"}},{"$f":"+[1]Tabulka!AW247","v":0},{"$f":"+[1]Tabulka!AX247","v":{"v":0,"d":"0.00"}},{"$f":"+[1]Tabulka!AY247","v":0},{"$f":"+[1]Tabulka!AZ247","v":{"v":0,"d":"0.00"}},{"$f":"+[1]Tabulka!BA247","v":0},{"$f":"+[1]Tabulka!BB247","v":{"v":0,"d":"0.00"}},{"$f":"+[1]Tabulka!BC247","v":0},{"$f":"+[1]Tabulka!BD247","v":{"v":0,"d":"0.00"}},{"$f":"+[1]Tabulka!BE247","v":0},{"$f":"+[1]Tabulka!BF247","v":{"v":0,"d":"0.00"}},{"$f":"+[1]Tabulka!BG247","v":0},{"$f":"+[1]Tabulka!BH247","v":{"v":0,"d":"0.00"}},{"$f":"+[1]Tabulka!BI247","v":0},{"$f":"+[1]Tabulka!BJ247","v":{"v":0,"d":"0.00"}},{"$f":"+[1]Tabulka!AP247","v":{"v":0,"d":"0.00"}},{"$f":"+[1]Tabulka!AQ247","v":{"v":0,"d":"0.00"}},{"$f":"+[1]Tabulka!BM247","v":{"v":0,"d":"0.00"}},{"$f":"+[1]Tabulka!BN247","v":0},{"$f":"+[1]Tabulka!BO247","v":{"v":0,"d":"0.00"}}]
[null,{"$f":"[1]Tabulka!C248","v":"GÓRECKI"},{"$f":"[1]Tabulka!D248","v":"Vojtěch"},{"$f":"[1]Tabulka!E248","v":"1995-01-01"},{"$f":"[1]Tabulka!F248","v":"Havířov- Baník SKST"},{"$f":"[1]Tabulka!G248","v":"KA"},{"$f":"[1]Tabulka!H248","v":0},{"$f":"+[1]Tabulka!AU248","v":0},{"$f":"+[1]Tabulka!AV248","v":{"v":0,"d":"0.00"}},{"$f":"+[1]Tabulka!AW248","v":0},{"$f":"+[1]Tabulka!AX248","v":{"v":0,"d":"0.00"}},{"$f":"+[1]Tabulka!AY248","v":0},{"$f":"+[1]Tabulka!AZ248","v":{"v":0,"d":"0.00"}},{"$f":"+[1]Tabulka!BA248","v":0},{"$f":"+[1]Tabulka!BB248","v":{"v":0,"d":"0.00"}},{"$f":"+[1]Tabulka!BC248","v":0},{"$f":"+[1]Tabulka!BD248","v":{"v":0,"d":"0.00"}},{"$f":"+[1]Tabulka!BE248","v":0},{"$f":"+[1]Tabulka!BF248","v":{"v":0,"d":"0.00"}},{"$f":"+[1]Tabulka!BG248","v":0},{"$f":"+[1]Tabulka!BH248","v":{"v":0,"d":"0.00"}},{"$f":"+[1]Tabulka!BI248","v":0},{"$f":"+[1]Tabulka!BJ248","v":{"v":0,"d":"0.00"}},{"$f":"+[1]Tabulka!AP248","v":{"v":0,"d":"0.00"}},{"$f":"+[1]Tabulka!AQ248","v":{"v":0,"d":"0.00"}},{"$f":"+[1]Tabulka!BM248","v":{"v":0,"d":"0.00"}},{"$f":"+[1]Tabulka!BN248","v":0},{"$f":"+[1]Tabulka!BO248","v":{"v":0,"d":"0.00"}}]
[null,{"$f":"[1]Tabulka!C249","v":"GROMNICA"},{"$f":"[1]Tabulka!D249","v":"Václav"},{"$f":"[1]Tabulka!E249","v":"1996-03-31"},{"$f":"[1]Tabulka!F249","v":"Brušperk- Sokol TJ"},{"$f":"[1]Tabulka!G249","v":"FM"},{"$f":"[1]Tabulka!H249","v":100},{"$f":"+[1]Tabulka!AU249","v":0},{"$f":"+[1]Tabulka!AV249","v":{"v":0,"d":"0.00"}},{"$f":"+[1]Tabulka!AW249","v":0},{"$f":"+[1]Tabulka!AX249","v":{"v":0,"d":"0.00"}},{"$f":"+[1]Tabulka!AY249","v":0},{"$f":"+[1]Tabulka!AZ249","v":{"v":0,"d":"0.00"}},{"$f":"+[1]Tabulka!BA249","v":0},{"$f":"+[1]Tabulka!BB249","v":{"v":0,"d":"0.00"}},{"$f":"+[1]Tabulka!BC249","v":0},{"$f":"+[1]Tabulka!BD249","v":{"v":0,"d":"0.00"}},{"$f":"+[1]Tabulka!BE249","v":0},{"$f":"+[1]Tabulka!BF249","v":{"v":0,"d":"0.00"}},{"$f":"+[1]Tabulka!BG249","v":0},{"$f":"+[1]Tabulka!BH249","v":{"v":0,"d":"0.00"}},{"$f":"+[1]Tabulka!BI249","v":0},{"$f":"+[1]Tabulka!BJ249","v":{"v":0,"d":"0.00"}},{"$f":"+[1]Tabulka!AP249","v":{"v":6.618033659643286,"d":"6.62"}},{"$f":"+[1]Tabulka!AQ249","v":{"v":3,"d":"3.00"}},{"$f":"+[1]Tabulka!BM249","v":{"v":0,"d":"0.00"}},{"$f":"+[1]Tabulka!BN249","v":0},{"$f":"+[1]Tabulka!BO249","v":{"v":0,"d":"0.00"}}]
[null,{"$f":"[1]Tabulka!C250","v":"HANÁK"},{"$f":"[1]Tabulka!D250","v":"Vojtěch"},{"$f":"[1]Tabulka!E250","v":"2000-03-08"},{"$f":"[1]Tabulka!F250","v":"Havířov- Baník SKST"},{"$f":"[1]Tabulka!G250","v":"KA"},{"$f":"[1]Tabulka!H250","v":100},{"$f":"+[1]Tabulka!AU250","v":0},{"$f":"+[1]Tabulka!AV250","v":{"v":0,"d":"0.00"}},{"$f":"+[1]Tabulka!AW250","v":0},{"$f":"+[1]Tabulka!AX250","v":{"v":0,"d":"0.00"}},{"$f":"+[1]Tabulka!AY250","v":0},{"$f":"+[1]Tabulka!AZ250","v":{"v":0,"d":"0.00"}},{"$f":"+[1]Tabulka!BA250","v":0},{"$f":"+[1]Tabulka!BB250","v":{"v":0,"d":"0.00"}},{"$f":"+[1]Tabulka!BC250","v":0},{"$f":"+[1]Tabulka!BD250","v":{"v":0,"d":"0.00"}},{"$f":"+[1]Tabulka!BE250","v":0},{"$f":"+[1]Tabulka!BF250","v":{"v":0,"d":"0.00"}},{"$f":"+[1]Tabulka!BG250","v":0},{"$f":"+[1]Tabulka!BH250","v":{"v":0,"d":"0.00"}},{"$f":"+[1]Tabulka!BI250","v":0},{"$f":"+[1]Tabulka!BJ250","v":{"v":0,"d":"0.00"}},{"$f":"+[1]Tabulka!AP250","v":{"v":0.3406263641563522,"d":"0.34"}},{"$f":"+[1]Tabulka!AQ250","v":{"v":2,"d":"2.00"}},{"$f":"+[1]Tabulka!BM250","v":{"v":0,"d":"0.00"}},{"$f":"+[1]Tabulka!BN250","v":0},{"$f":"+[1]Tabulka!BO250","v":{"v":0,"d":"0.00"}}]
[null,{"$f":"[1]Tabulka!C251","v":"HANZELKA"},{"$f":"[1]Tabulka!D251","v":"Tomáš"},{"$f":"[1]Tabulka!E251","v":"1997-12-24"},{"$f":"[1]Tabulka!F251","v":"Nový Jičín- TJ"},{"$f":"[1]Tabulka!G251","v":"NJ"},{"$f":"[1]Tabulka!H251","v":100},{"$f":"+[1]Tabulka!AU251","v":0},{"$f":"+[1]Tabulka!AV251","v":{"v":0,"d":"0.00"}},{"$f":"+[1]Tabulka!AW251","v":0},{"$f":"+[1]Tabulka!AX251","v":{"v":0,"d":"0.00"}},{"$f":"+[1]Tabulka!AY251","v":0},{"$f":"+[1]Tabulka!AZ251","v":{"v":0,"d":"0.00"}},{"$f":"+[1]Tabulka!BA251","v":0},{"$f":"+[1]Tabulka!BB251","v":{"v":0,"d":"0.00"}},{"$f":"+[1]Tabulka!BC251","v":0},{"$f":"+[1]Tabulka!BD251","v":{"v":0,"d":"0.00"}},{"$f":"+[1]Tabulka!BE251","v":0},{"$f":"+[1]Tabulka!BF251","v":{"v":0,"d":"0.00"}},{"$f":"+[1]Tabulka!BG251","v":0},{"$f":"+[1]Tabulka!BH251","v":{"v":0,"d":"0.00"}},{"$f":"+[1]Tabulka!BI251","v":0},{"$f":"+[1]Tabulka!BJ251","v":{"v":0,"d":"0.00"}},{"$f":"+[1]Tabulka!AP251","v":{"v":3.44819669150119,"d":"3.45"}},{"$f":"+[1]Tabulka!AQ251","v":{"v":4,"d":"4.00"}},{"$f":"+[1]Tabulka!BM251","v":{"v":0,"d":"0.00"}},{"$f":"+[1]Tabulka!BN251","v":0},{"$f":"+[1]Tabulka!BO251","v":{"v":0,"d":"0.00"}}]
[null,{"$f":"[1]Tabulka!C252","v":"HOLÁŇ"},{"$f":"[1]Tabulka!D252","v":"David"},{"$f":"[1]Tabulka!E252","v":"1992-02-17"},{"$f":"[1]Tabulka!F252","v":"Nová Bělá- Sokol TJ"},{"$f":"[1]Tabulka!G252","v":"OV"},{"$f":"[1]Tabulka!H252","v":200},{"$f":"+[1]Tabulka!AU252","v":0},{"$f":"+[1]Tabulka!AV252","v":{"v":0,"d":"0.00"}},{"$f":"+[1]Tabulka!AW252","v":0},{"$f":"+[1]Tabulka!AX252","v":{"v":0,"d":"0.00"}},{"$f":"+[1]Tabulka!AY252","v":0},{"$f":"+[1]Tabulka!AZ252","v":{"v":0,"d":"0.00"}},{"$f":"+[1]Tabulka!BA252","v":0},{"$f":"+[1]Tabulka!BB252","v":{"v":0,"d":"0.00"}},{"$f":"+[1]Tabulka!BC252","v":0},{"$f":"+[1]Tabulka!BD252","v":{"v":0,"d":"0.00"}},{"$f":"+[1]Tabulka!BE252","v":0},{"$f":"+[1]Tabulka!BF252","v":{"v":0,"d":"0.00"}},{"$f":"+[1]Tabulka!BG252","v":0},{"$f":"+[1]Tabulka!BH252","v":{"v":0,"d":"0.00"}},{"$f":"+[1]Tabulka!BI252","v":0},{"$f":"+[1]Tabulka!BJ252","v":{"v":0,"d":"0.00"}},{"$f":"+[1]Tabulka!AP252","v":{"v":0,"d":"0.00"}},{"$f":"+[1]Tabulka!AQ252","v":{"v":0,"d":"0.00"}},{"$f":"+[1]Tabulka!BM252","v":{"v":0,"d":"0.00"}},{"$f":"+[1]Tabulka!BN252","v":0},{"$f":"+[1]Tabulka!BO252","v":{"v":0,"d":"0.00"}}]
[null,{"$f":"[1]Tabulka!C253","v":"HOLEČEK"},{"$f":"[1]Tabulka!D253","v":"Lukáš"},{"$f":"[1]Tabulka!E253","v":"2001-10-05"},{"$f":"[1]Tabulka!F253","v":"Frenštát pod Radhoštěm- TJ"},{"$f":"[1]Tabulka!G253","v":"NJ"},{"$f":"[1]Tabulka!H253","v":100},{"$f":"+[1]Tabulka!AU253","v":0},{"$f":"+[1]Tabulka!AV253","v":{"v":0,"d":"0.00"}},{"$f":"+[1]Tabulka!AW253","v":0},{"$f":"+[1]Tabulka!AX253","v":{"v":0,"d":"0.00"}},{"$f":"+[1]Tabulka!AY253","v":0},{"$f":"+[1]Tabulka!AZ253","v":{"v":0,"d":"0.00"}},{"$f":"+[1]Tabulka!BA253","v":0},{"$f":"+[1]Tabulka!BB253","v":{"v":0,"d":"0.00"}},{"$f":"+[1]Tabulka!BC253","v":0},{"$f":"+[1]Tabulka!BD253","v":{"v":0,"d":"0.00"}},{"$f":"+[1]Tabulka!BE253","v":0},{"$f":"+[1]Tabulka!BF253","v":{"v":0,"d":"0.00"}},{"$f":"+[1]Tabulka!BG253","v":0},{"$f":"+[1]Tabulka!BH253","v":{"v":0,"d":"0.00"}},{"$f":"+[1]Tabulka!BI253","v":0},{"$f":"+[1]Tabulka!BJ253","v":{"v":0,"d":"0.00"}},{"$f":"+[1]Tabulka!AP253","v":{"v":0.037666685966102016,"d":"0.04"}},{"$f":"+[1]Tabulka!AQ253","v":{"v":1,"d":"1.00"}},{"$f":"+[1]Tabulka!BM253","v":{"v":0,"d":"0.00"}},{"$f":"+[1]Tabulka!BN253","v":0},{"$f":"+[1]Tabulka!BO253","v":{"v":0,"d":"0.00"}}]
[null,{"$f":"[1]Tabulka!C254","v":"HOMOLA"},{"$f":"[1]Tabulka!D254","v":"Ondřej"},{"$f":"[1]Tabulka!E254","v":"1999-01-03"},{"$f":"[1]Tabulka!F254","v":"Brušperk- Sokol TJ"},{"$f":"[1]Tabulka!G254","v":"FM"},{"$f":"[1]Tabulka!H254","v":100},{"$f":"+[1]Tabulka!AU254","v":0},{"$f":"+[1]Tabulka!AV254","v":{"v":0,"d":"0.00"}},{"$f":"+[1]Tabulka!AW254","v":0},{"$f":"+[1]Tabulka!AX254","v":{"v":0,"d":"0.00"}},{"$f":"+[1]Tabulka!AY254","v":0},{"$f":"+[1]Tabulka!AZ254","v":{"v":0,"d":"0.00"}},{"$f":"+[1]Tabulka!BA254","v":0},{"$f":"+[1]Tabulka!BB254","v":{"v":0,"d":"0.00"}},{"$f":"+[1]Tabulka!BC254","v":0},{"$f":"+[1]Tabulka!BD254","v":{"v":0,"d":"0.00"}},{"$f":"+[1]Tabulka!BE254","v":0},{"$f":"+[1]Tabulka!BF254","v":{"v":0,"d":"0.00"}},{"$f":"+[1]Tabulka!BG254","v":0},{"$f":"+[1]Tabulka!BH254","v":{"v":0,"d":"0.00"}},{"$f":"+[1]Tabulka!BI254","v":0},{"$f":"+[1]Tabulka!BJ254","v":{"v":0,"d":"0.00"}},{"$f":"+[1]Tabulka!AP254","v":{"v":1.8723977452506597,"d":"1.87"}},{"$f":"+[1]Tabulka!AQ254","v":{"v":2,"d":"2.00"}},{"$f":"+[1]Tabulka!BM254","v":{"v":0,"d":"0.00"}},{"$f":"+[1]Tabulka!BN254","v":0},{"$f":"+[1]Tabulka!BO254","v":{"v":0,"d":"0.00"}}]
[null,{"$f":"[1]Tabulka!C255","v":"HRABCOVÁ"},{"$f":"[1]Tabulka!D255","v":"Anna"},{"$f":"[1]Tabulka!E255","v":"2001-11-27"},{"$f":"[1]Tabulka!F255","v":"Frýdlant nad Ostravicí- SK"},{"$f":"[1]Tabulka!G255","v":"FM"},{"$f":"[1]Tabulka!H255","v":100},{"$f":"+[1]Tabulka!AU255","v":0},{"$f":"+[1]Tabulka!AV255","v":{"v":0,"d":"0.00"}},{"$f":"+[1]Tabulka!AW255","v":0},{"$f":"+[1]Tabulka!AX255","v":{"v":0,"d":"0.00"}},{"$f":"+[1]Tabulka!AY255","v":0},{"$f":"+[1]Tabulka!AZ255","v":{"v":0,"d":"0.00"}},{"$f":"+[1]Tabulka!BA255","v":0},{"$f":"+[1]Tabulka!BB255","v":{"v":0,"d":"0.00"}},{"$f":"+[1]Tabulka!BC255","v":0},{"$f":"+[1]Tabulka!BD255","v":{"v":0,"d":"0.00"}},{"$f":"+[1]Tabulka!BE255","v":0},{"$f":"+[1]Tabulka!BF255","v":{"v":0,"d":"0.00"}},{"$f":"+[1]Tabulka!BG255","v":0},{"$f":"+[1]Tabulka!BH255","v":{"v":0,"d":"0.00"}},{"$f":"+[1]Tabulka!BI255","v":0},{"$f":"+[1]Tabulka!BJ255","v":{"v":0,"d":"0.00"}},{"$f":"+[1]Tabulka!AP255","v":{"v":0.6619285284749372,"d":"0.66"}},{"$f":"+[1]Tabulka!AQ255","v":{"v":2,"d":"2.00"}},{"$f":"+[1]Tabulka!BM255","v":{"v":0,"d":"0.00"}},{"$f":"+[1]Tabulka!BN255","v":0},{"$f":"+[1]Tabulka!BO255","v":{"v":0,"d":"0.00"}}]
[null,{"$f":"[1]Tabulka!C256","v":"HRUDOVÁ"},{"$f":"[1]Tabulka!D256","v":"Eliška"},{"$f":"[1]Tabulka!E256","v":"1996-05-16"},{"$f":"[1]Tabulka!F256","v":"Frýdlant nad Ostravicí- SK"},{"$f":"[1]Tabulka!G256","v":"FM"},{"$f":"[1]Tabulka!H256","v":100},{"$f":"+[1]Tabulka!AU256","v":0},{"$f":"+[1]Tabulka!AV256","v":{"v":0,"d":"0.00"}},{"$f":"+[1]Tabulka!AW256","v":0},{"$f":"+[1]Tabulka!AX256","v":{"v":0,"d":"0.00"}},{"$f":"+[1]Tabulka!AY256","v":0},{"$f":"+[1]Tabulka!AZ256","v":{"v":0,"d":"0.00"}},{"$f":"+[1]Tabulka!BA256","v":0},{"$f":"+[1]Tabulka!BB256","v":{"v":0,"d":"0.00"}},{"$f":"+[1]Tabulka!BC256","v":0},{"$f":"+[1]Tabulka!BD256","v":{"v":0,"d":"0.00"}},{"$f":"+[1]Tabulka!BE256","v":0},{"$f":"+[1]Tabulka!BF256","v":{"v":0,"d":"0.00"}},{"$f":"+[1]Tabulka!BG256","v":0},{"$f":"+[1]Tabulka!BH256","v":{"v":0,"d":"0.00"}},{"$f":"+[1]Tabulka!BI256","v":0},{"$f":"+[1]Tabulka!BJ256","v":{"v":0,"d":"0.00"}},{"$f":"+[1]Tabulka!AP256","v":{"v":3.1320285425518146,"d":"3.13"}},{"$f":"+[1]Tabulka!AQ256","v":{"v":2,"d":"2.00"}},{"$f":"+[1]Tabulka!BM256","v":{"v":0,"d":"0.00"}},{"$f":"+[1]Tabulka!BN256","v":0},{"$f":"+[1]Tabulka!BO256","v":{"v":0,"d":"0.00"}}]
[null,{"$f":"[1]Tabulka!C257","v":"HUČKO"},{"$f":"[1]Tabulka!D257","v":"Tomáš"},{"$f":"[1]Tabulka!E257","v":"1993-10-25"},{"$f":"[1]Tabulka!F257","v":"Karviná- KLUBsten KST"},{"$f":"[1]Tabulka!G257","v":"KA"},{"$f":"[1]Tabulka!H257","v":200},{"$f":"+[1]Tabulka!AU257","v":0},{"$f":"+[1]Tabulka!AV257","v":{"v":0,"d":"0.00"}},{"$f":"+[1]Tabulka!AW257","v":0},{"$f":"+[1]Tabulka!AX257","v":{"v":0,"d":"0.00"}},{"$f":"+[1]Tabulka!AY257","v":0},{"$f":"+[1]Tabulka!AZ257","v":{"v":0,"d":"0.00"}},{"$f":"+[1]Tabulka!BA257","v":0},{"$f":"+[1]Tabulka!BB257","v":{"v":0,"d":"0.00"}},{"$f":"+[1]Tabulka!BC257","v":0},{"$f":"+[1]Tabulka!BD257","v":{"v":0,"d":"0.00"}},{"$f":"+[1]Tabulka!BE257","v":0},{"$f":"+[1]Tabulka!BF257","v":{"v":0,"d":"0.00"}},{"$f":"+[1]Tabulka!BG257","v":0},{"$f":"+[1]Tabulka!BH257","v":{"v":0,"d":"0.00"}},{"$f":"+[1]Tabulka!BI257","v":0},{"$f":"+[1]Tabulka!BJ257","v":{"v":0,"d":"0.00"}},{"$f":"+[1]Tabulka!AP257","v":{"v":9.355372371120682,"d":"9.36"}},{"$f":"+[1]Tabulka!AQ257","v":{"v":1,"d":"1.00"}},{"$f":"+[1]Tabulka!BM257","v":{"v":0,"d":"0.00"}},{"$f":"+[1]Tabulka!BN257","v":0},{"$f":"+[1]Tabulka!BO257","v":{"v":0,"d":"0.00"}}]
[null,{"$f":"[1]Tabulka!C258","v":"HUF"},{"$f":"[1]Tabulka!D258","v":"Matouš"},{"$f":"[1]Tabulka!E258","v":"1995-01-01"},{"$f":"[1]Tabulka!F258","v":"Brušperk- Sokol TJ"},{"$f":"[1]Tabulka!G258","v":"FM"},{"$f":"[1]Tabulka!H258","v":0},{"$f":"+[1]Tabulka!AU258","v":0},{"$f":"+[1]Tabulka!AV258","v":{"v":0,"d":"0.00"}},{"$f":"+[1]Tabulka!AW258","v":0},{"$f":"+[1]Tabulka!AX258","v":{"v":0,"d":"0.00"}},{"$f":"+[1]Tabulka!AY258","v":0},{"$f":"+[1]Tabulka!AZ258","v":{"v":0,"d":"0.00"}},{"$f":"+[1]Tabulka!BA258","v":0},{"$f":"+[1]Tabulka!BB258","v":{"v":0,"d":"0.00"}},{"$f":"+[1]Tabulka!BC258","v":0},{"$f":"+[1]Tabulka!BD258","v":{"v":0,"d":"0.00"}},{"$f":"+[1]Tabulka!BE258","v":0},{"$f":"+[1]Tabulka!BF258","v":{"v":0,"d":"0.00"}},{"$f":"+[1]Tabulka!BG258","v":0},{"$f":"+[1]Tabulka!BH258","v":{"v":0,"d":"0.00"}},{"$f":"+[1]Tabulka!BI258","v":0},{"$f":"+[1]Tabulka!BJ258","v":{"v":0,"d":"0.00"}},{"$f":"+[1]Tabulka!AP258","v":{"v":0,"d":"0.00"}},{"$f":"+[1]Tabulka!AQ258","v":{"v":0,"d":"0.00"}},{"$f":"+[1]Tabulka!BM258","v":{"v":0,"d":"0.00"}},{"$f":"+[1]Tabulka!BN258","v":0},{"$f":"+[1]Tabulka!BO258","v":{"v":0,"d":"0.00"}}]
[null,{"$f":"[1]Tabulka!C259","v":"CHROMIK"},{"$f":"[1]Tabulka!D259","v":"Tomáš"},{"$f":"[1]Tabulka!E259","v":"1997-07-06"},{"$f":"[1]Tabulka!F259","v":"Frýdlant nad Ostravicí- SK"},{"$f":"[1]Tabulka!G259","v":"FM"},{"$f":"[1]Tabulka!H259","v":100},{"$f":"+[1]Tabulka!AU259","v":0},{"$f":"+[1]Tabulka!AV259","v":{"v":0,"d":"0.00"}},{"$f":"+[1]Tabulka!AW259","v":0},{"$f":"+[1]Tabulka!AX259","v":{"v":0,"d":"0.00"}},{"$f":"+[1]Tabulka!AY259","v":0},{"$f":"+[1]Tabulka!AZ259","v":{"v":0,"d":"0.00"}},{"$f":"+[1]Tabulka!BA259","v":0},{"$f":"+[1]Tabulka!BB259","v":{"v":0,"d":"0.00"}},{"$f":"+[1]Tabulka!BC259","v":0},{"$f":"+[1]Tabulka!BD259","v":{"v":0,"d":"0.00"}},{"$f":"+[1]Tabulka!BE259","v":0},{"$f":"+[1]Tabulka!BF259","v":{"v":0,"d":"0.00"}},{"$f":"+[1]Tabulka!BG259","v":0},{"$f":"+[1]Tabulka!BH259","v":{"v":0,"d":"0.00"}},{"$f":"+[1]Tabulka!BI259","v":0},{"$f":"+[1]Tabulka!BJ259","v":{"v":0,"d":"0.00"}},{"$f":"+[1]Tabulka!AP259","v":{"v":0,"d":"0.00"}},{"$f":"+[1]Tabulka!AQ259","v":{"v":0,"d":"0.00"}},{"$f":"+[1]Tabulka!BM259","v":{"v":0,"d":"0.00"}},{"$f":"+[1]Tabulka!BN259","v":0},{"$f":"+[1]Tabulka!BO259","v":{"v":0,"d":"0.00"}}]
[null,{"$f":"[1]Tabulka!C260","v":"JANÁSKOVÁ"},{"$f":"[1]Tabulka!D260","v":"Iva"},{"$f":"[1]Tabulka!E260","v":"1995-09-13"},{"$f":"[1]Tabulka!F260","v":"Ostrava- Mittal TJ"},{"$f":"[1]Tabulka!G260","v":"OV"},{"$f":"[1]Tabulka!H260","v":100},{"$f":"+[1]Tabulka!AU260","v":0},{"$f":"+[1]Tabulka!AV260","v":{"v":0,"d":"0.00"}},{"$f":"+[1]Tabulka!AW260","v":0},{"$f":"+[1]Tabulka!AX260","v":{"v":0,"d":"0.00"}},{"$f":"+[1]Tabulka!AY260","v":0},{"$f":"+[1]Tabulka!AZ260","v":{"v":0,"d":"0.00"}},{"$f":"+[1]Tabulka!BA260","v":0},{"$f":"+[1]Tabulka!BB260","v":{"v":0,"d":"0.00"}},{"$f":"+[1]Tabulka!BC260","v":0},{"$f":"+[1]Tabulka!BD260","v":{"v":0,"d":"0.00"}},{"$f":"+[1]Tabulka!BE260","v":0},{"$f":"+[1]Tabulka!BF260","v":{"v":0,"d":"0.00"}},{"$f":"+[1]Tabulka!BG260","v":0},{"$f":"+[1]Tabulka!BH260","v":{"v":0,"d":"0.00"}},{"$f":"+[1]Tabulka!BI260","v":0},{"$f":"+[1]Tabulka!BJ260","v":{"v":0,"d":"0.00"}},{"$f":"+[1]Tabulka!AP260","v":{"v":0.8963007744529867,"d":"0.90"}},{"$f":"+[1]Tabulka!AQ260","v":{"v":1,"d":"1.00"}},{"$f":"+[1]Tabulka!BM260","v":{"v":0,"d":"0.00"}},{"$f":"+[1]Tabulka!BN260","v":0},{"$f":"+[1]Tabulka!BO260","v":{"v":0,"d":"0.00"}}]
[null,{"$f":"[1]Tabulka!C261","v":"JEŽKOVÁ"},{"$f":"[1]Tabulka!D261","v":"Kateřina"},{"$f":"[1]Tabulka!E261","v":"1993-09-27"},{"$f":"[1]Tabulka!F261","v":"Kateřinky- Sokol TJ"},{"$f":"[1]Tabulka!G261","v":"OP"},{"$f":"[1]Tabulka!H261","v":200},{"$f":"+[1]Tabulka!AU261","v":0},{"$f":"+[1]Tabulka!AV261","v":{"v":0,"d":"0.00"}},{"$f":"+[1]Tabulka!AW261","v":0},{"$f":"+[1]Tabulka!AX261","v":{"v":0,"d":"0.00"}},{"$f":"+[1]Tabulka!AY261","v":0},{"$f":"+[1]Tabulka!AZ261","v":{"v":0,"d":"0.00"}},{"$f":"+[1]Tabulka!BA261","v":0},{"$f":"+[1]Tabulka!BB261","v":{"v":0,"d":"0.00"}},{"$f":"+[1]Tabulka!BC261","v":0},{"$f":"+[1]Tabulka!BD261","v":{"v":0,"d":"0.00"}},{"$f":"+[1]Tabulka!BE261","v":0},{"$f":"+[1]Tabulka!BF261","v":{"v":0,"d":"0.00"}},{"$f":"+[1]Tabulka!BG261","v":0},{"$f":"+[1]Tabulka!BH261","v":{"v":0,"d":"0.00"}},{"$f":"+[1]Tabulka!BI261","v":0},{"$f":"+[1]Tabulka!BJ261","v":{"v":0,"d":"0.00"}},{"$f":"+[1]Tabulka!AP261","v":{"v":0,"d":"0.00"}},{"$f":"+[1]Tabulka!AQ261","v":{"v":0,"d":"0.00"}},{"$f":"+[1]Tabulka!BM261","v":{"v":0,"d":"0.00"}},{"$f":"+[1]Tabulka!BN261","v":0},{"$f":"+[1]Tabulka!BO261","v":{"v":0,"d":"0.00"}}]
[null,{"$f":"[1]Tabulka!C262","v":"JEŽOWICZ"},{"$f":"[1]Tabulka!D262","v":"Filip"},{"$f":"[1]Tabulka!E262","v":"1997-01-01"},{"$f":"[1]Tabulka!F262","v":"Ostrava- Mittal TJ"},{"$f":"[1]Tabulka!G262","v":"OV"},{"$f":"[1]Tabulka!H262","v":0},{"$f":"+[1]Tabulka!AU262","v":0},{"$f":"+[1]Tabulka!AV262","v":{"v":0,"d":"0.00"}},{"$f":"+[1]Tabulka!AW262","v":0},{"$f":"+[1]Tabulka!AX262","v":{"v":0,"d":"0.00"}},{"$f":"+[1]Tabulka!AY262","v":0},{"$f":"+[1]Tabulka!AZ262","v":{"v":0,"d":"0.00"}},{"$f":"+[1]Tabulka!BA262","v":0},{"$f":"+[1]Tabulka!BB262","v":{"v":0,"d":"0.00"}},{"$f":"+[1]Tabulka!BC262","v":0},{"$f":"+[1]Tabulka!BD262","v":{"v":0,"d":"0.00"}},{"$f":"+[1]Tabulka!BE262","v":0},{"$f":"+[1]Tabulka!BF262","v":{"v":0,"d":"0.00"}},{"$f":"+[1]Tabulka!BG262","v":0},{"$f":"+[1]Tabulka!BH262","v":{"v":0,"d":"0.00"}},{"$f":"+[1]Tabulka!BI262","v":0},{"$f":"+[1]Tabulka!BJ262","v":{"v":0,"d":"0.00"}},{"$f":"+[1]Tabulka!AP262","v":{"v":0.06663873682144401,"d":"0.07"}},{"$f":"+[1]Tabulka!AQ262","v":{"v":1,"d":"1.00"}},{"$f":"+[1]Tabulka!BM262","v":{"v":0,"d":"0.00"}},{"$f":"+[1]Tabulka!BN262","v":0},{"$f":"+[1]Tabulka!BO262","v":{"v":0,"d":"0.00"}}]
[null,{"$f":"[1]Tabulka!C263","v":"JIRÁSEK"},{"$f":"[1]Tabulka!D263","v":"Jiří"},{"$f":"[1]Tabulka!E263","v":"1993-01-01"},{"$f":"[1]Tabulka!F263","v":"Havířov- Baník SKST"},{"$f":"[1]Tabulka!G263","v":"KA"},{"$f":"[1]Tabulka!H263","v":0},{"$f":"+[1]Tabulka!AU263","v":0},{"$f":"+[1]Tabulka!AV263","v":{"v":0,"d":"0.00"}},{"$f":"+[1]Tabulka!AW263","v":0},{"$f":"+[1]Tabulka!AX263","v":{"v":0,"d":"0.00"}},{"$f":"+[1]Tabulka!AY263","v":0},{"$f":"+[1]Tabulka!AZ263","v":{"v":0,"d":"0.00"}},{"$f":"+[1]Tabulka!BA263","v":0},{"$f":"+[1]Tabulka!BB263","v":{"v":0,"d":"0.00"}},{"$f":"+[1]Tabulka!BC263","v":0},{"$f":"+[1]Tabulka!BD263","v":{"v":0,"d":"0.00"}},{"$f":"+[1]Tabulka!BE263","v":0},{"$f":"+[1]Tabulka!BF263","v":{"v":0,"d":"0.00"}},{"$f":"+[1]Tabulka!BG263","v":0},{"$f":"+[1]Tabulka!BH263","v":{"v":0,"d":"0.00"}},{"$f":"+[1]Tabulka!BI263","v":0},{"$f":"+[1]Tabulka!BJ263","v":{"v":0,"d":"0.00"}},{"$f":"+[1]Tabulka!AP263","v":{"v":0,"d":"0.00"}},{"$f":"+[1]Tabulka!AQ263","v":{"v":0,"d":"0.00"}},{"$f":"+[1]Tabulka!BM263","v":{"v":0,"d":"0.00"}},{"$f":"+[1]Tabulka!BN263","v":0},{"$f":"+[1]Tabulka!BO263","v":{"v":0,"d":"0.00"}}]
[null,{"$f":"[1]Tabulka!C264","v":"JOHANES"},{"$f":"[1]Tabulka!D264","v":"Kristián"},{"$f":"[1]Tabulka!E264","v":"1996-01-01"},{"$f":"[1]Tabulka!F264","v":"Český Těšín- SKST"},{"$f":"[1]Tabulka!G264","v":"KA"},{"$f":"[1]Tabulka!H264","v":0},{"$f":"+[1]Tabulka!AU264","v":0},{"$f":"+[1]Tabulka!AV264","v":{"v":0,"d":"0.00"}},{"$f":"+[1]Tabulka!AW264","v":0},{"$f":"+[1]Tabulka!AX264","v":{"v":0,"d":"0.00"}},{"$f":"+[1]Tabulka!AY264","v":0},{"$f":"+[1]Tabulka!AZ264","v":{"v":0,"d":"0.00"}},{"$f":"+[1]Tabulka!BA264","v":0},{"$f":"+[1]Tabulka!BB264","v":{"v":0,"d":"0.00"}},{"$f":"+[1]Tabulka!BC264","v":0},{"$f":"+[1]Tabulka!BD264","v":{"v":0,"d":"0.00"}},{"$f":"+[1]Tabulka!BE264","v":0},{"$f":"+[1]Tabulka!BF264","v":{"v":0,"d":"0.00"}},{"$f":"+[1]Tabulka!BG264","v":0},{"$f":"+[1]Tabulka!BH264","v":{"v":0,"d":"0.00"}},{"$f":"+[1]Tabulka!BI264","v":0},{"$f":"+[1]Tabulka!BJ264","v":{"v":0,"d":"0.00"}},{"$f":"+[1]Tabulka!AP264","v":{"v":0,"d":"0.00"}},{"$f":"+[1]Tabulka!AQ264","v":{"v":0,"d":"0.00"}},{"$f":"+[1]Tabulka!BM264","v":{"v":0,"d":"0.00"}},{"$f":"+[1]Tabulka!BN264","v":0},{"$f":"+[1]Tabulka!BO264","v":{"v":0,"d":"0.00"}}]
[null,{"$f":"[1]Tabulka!C265","v":"JURDZINOVÁ"},{"$f":"[1]Tabulka!D265","v":"Petra"},{"$f":"[1]Tabulka!E265","v":"1996-01-07"},{"$f":"[1]Tabulka!F265","v":"Ostrava- Mittal TJ"},{"$f":"[1]Tabulka!G265","v":"OV"},{"$f":"[1]Tabulka!H265","v":100},{"$f":"+[1]Tabulka!AU265","v":0},{"$f":"+[1]Tabulka!AV265","v":{"v":0,"d":"0.00"}},{"$f":"+[1]Tabulka!AW265","v":0},{"$f":"+[1]Tabulka!AX265","v":{"v":0,"d":"0.00"}},{"$f":"+[1]Tabulka!AY265","v":0},{"$f":"+[1]Tabulka!AZ265","v":{"v":0,"d":"0.00"}},{"$f":"+[1]Tabulka!BA265","v":0},{"$f":"+[1]Tabulka!BB265","v":{"v":0,"d":"0.00"}},{"$f":"+[1]Tabulka!BC265","v":0},{"$f":"+[1]Tabulka!BD265","v":{"v":0,"d":"0.00"}},{"$f":"+[1]Tabulka!BE265","v":0},{"$f":"+[1]Tabulka!BF265","v":{"v":0,"d":"0.00"}},{"$f":"+[1]Tabulka!BG265","v":0},{"$f":"+[1]Tabulka!BH265","v":{"v":0,"d":"0.00"}},{"$f":"+[1]Tabulka!BI265","v":0},{"$f":"+[1]Tabulka!BJ265","v":{"v":0,"d":"0.00"}},{"$f":"+[1]Tabulka!AP265","v":{"v":2.0433502974765463,"d":"2.04"}},{"$f":"+[1]Tabulka!AQ265","v":{"v":1,"d":"1.00"}},{"$f":"+[1]Tabulka!BM265","v":{"v":0,"d":"0.00"}},{"$f":"+[1]Tabulka!BN265","v":0},{"$f":"+[1]Tabulka!BO265","v":{"v":0,"d":"0.00"}}]
[null,{"$f":"[1]Tabulka!C266","v":"JURGA"},{"$f":"[1]Tabulka!D266","v":"Filip"},{"$f":"[1]Tabulka!E266","v":"1997-07-03"},{"$f":"[1]Tabulka!F266","v":"Třinec- TŽ TJ"},{"$f":"[1]Tabulka!G266","v":"FM"},{"$f":"[1]Tabulka!H266","v":100},{"$f":"+[1]Tabulka!AU266","v":0},{"$f":"+[1]Tabulka!AV266","v":{"v":0,"d":"0.00"}},{"$f":"+[1]Tabulka!AW266","v":0},{"$f":"+[1]Tabulka!AX266","v":{"v":0,"d":"0.00"}},{"$f":"+[1]Tabulka!AY266","v":0},{"$f":"+[1]Tabulka!AZ266","v":{"v":0,"d":"0.00"}},{"$f":"+[1]Tabulka!BA266","v":0},{"$f":"+[1]Tabulka!BB266","v":{"v":0,"d":"0.00"}},{"$f":"+[1]Tabulka!BC266","v":0},{"$f":"+[1]Tabulka!BD266","v":{"v":0,"d":"0.00"}},{"$f":"+[1]Tabulka!BE266","v":0},{"$f":"+[1]Tabulka!BF266","v":{"v":0,"d":"0.00"}},{"$f":"+[1]Tabulka!BG266","v":0},{"$f":"+[1]Tabulka!BH266","v":{"v":0,"d":"0.00"}},{"$f":"+[1]Tabulka!BI266","v":0},{"$f":"+[1]Tabulka!BJ266","v":{"v":0,"d":"0.00"}},{"$f":"+[1]Tabulka!AP266","v":{"v":0.12561052426197886,"d":"0.13"}},{"$f":"+[1]Tabulka!AQ266","v":{"v":1,"d":"1.00"}},{"$f":"+[1]Tabulka!BM266","v":{"v":0,"d":"0.00"}},{"$f":"+[1]Tabulka!BN266","v":0},{"$f":"+[1]Tabulka!BO266","v":{"v":0,"d":"0.00"}}]
[null,{"$f":"[1]Tabulka!C267","v":"KADLEC"},{"$f":"[1]Tabulka!D267","v":"Ondřej"},{"$f":"[1]Tabulka!E267","v":"2001-05-28"},{"$f":"[1]Tabulka!F267","v":"Opava- KST Slezan "},{"$f":"[1]Tabulka!G267","v":"OP"},{"$f":"[1]Tabulka!H267","v":100},{"$f":"+[1]Tabulka!AU267","v":0},{"$f":"+[1]Tabulka!AV267","v":{"v":0,"d":"0.00"}},{"$f":"+[1]Tabulka!AW267","v":0},{"$f":"+[1]Tabulka!AX267","v":{"v":0,"d":"0.00"}},{"$f":"+[1]Tabulka!AY267","v":0},{"$f":"+[1]Tabulka!AZ267","v":{"v":0,"d":"0.00"}},{"$f":"+[1]Tabulka!BA267","v":0},{"$f":"+[1]Tabulka!BB267","v":{"v":0,"d":"0.00"}},{"$f":"+[1]Tabulka!BC267","v":0},{"$f":"+[1]Tabulka!BD267","v":{"v":0,"d":"0.00"}},{"$f":"+[1]Tabulka!BE267","v":0},{"$f":"+[1]Tabulka!BF267","v":{"v":0,"d":"0.00"}},{"$f":"+[1]Tabulka!BG267","v":0},{"$f":"+[1]Tabulka!BH267","v":{"v":0,"d":"0.00"}},{"$f":"+[1]Tabulka!BI267","v":0},{"$f":"+[1]Tabulka!BJ267","v":{"v":0,"d":"0.00"}},{"$f":"+[1]Tabulka!AP267","v":{"v":0.014554875776820351,"d":"0.01"}},{"$f":"+[1]Tabulka!AQ267","v":{"v":1,"d":"1.00"}},{"$f":"+[1]Tabulka!BM267","v":{"v":0,"d":"0.00"}},{"$f":"+[1]Tabulka!BN267","v":0},{"$f":"+[1]Tabulka!BO267","v":{"v":0,"d":"0.00"}}]
[null,{"$f":"[1]Tabulka!C268","v":"KANTOR"},{"$f":"[1]Tabulka!D268","v":"Lukáš"},{"$f":"[1]Tabulka!E268","v":"2000-01-01"},{"$f":"[1]Tabulka!F268","v":"Frenštát pod Radhoštěm- TJ"},{"$f":"[1]Tabulka!G268","v":"NJ"},{"$f":"[1]Tabulka!H268","v":100},{"$f":"+[1]Tabulka!AU268","v":0},{"$f":"+[1]Tabulka!AV268","v":{"v":0,"d":"0.00"}},{"$f":"+[1]Tabulka!AW268","v":0},{"$f":"+[1]Tabulka!AX268","v":{"v":0,"d":"0.00"}},{"$f":"+[1]Tabulka!AY268","v":0},{"$f":"+[1]Tabulka!AZ268","v":{"v":0,"d":"0.00"}},{"$f":"+[1]Tabulka!BA268","v":0},{"$f":"+[1]Tabulka!BB268","v":{"v":0,"d":"0.00"}},{"$f":"+[1]Tabulka!BC268","v":0},{"$f":"+[1]Tabulka!BD268","v":{"v":0,"d":"0.00"}},{"$f":"+[1]Tabulka!BE268","v":0},{"$f":"+[1]Tabulka!BF268","v":{"v":0,"d":"0.00"}},{"$f":"+[1]Tabulka!BG268","v":0},{"$f":"+[1]Tabulka!BH268","v":{"v":0,"d":"0.00"}},{"$f":"+[1]Tabulka!BI268","v":0},{"$f":"+[1]Tabulka!BJ268","v":{"v":0,"d":"0.00"}},{"$f":"+[1]Tabulka!AP268","v":{"v":0.04555616874002738,"d":"0.05"}},{"$f":"+[1]Tabulka!AQ268","v":{"v":1,"d":"1.00"}},{"$f":"+[1]Tabulka!BM268","v":{"v":0,"d":"0.00"}},{"$f":"+[1]Tabulka!BN268","v":0},{"$f":"+[1]Tabulka!BO268","v":{"v":0,"d":"0.00"}}]
[null,{"$f":"[1]Tabulka!C269","v":"KARÁSKOVÁ"},{"$f":"[1]Tabulka!D269","v":"Tereza"},{"$f":"[1]Tabulka!E269","v":"1993-04-14"},{"$f":"[1]Tabulka!F269","v":"Ostrava- Mittal TJ"},{"$f":"[1]Tabulka!G269","v":"OV"},{"$f":"[1]Tabulka!H269","v":200},{"$f":"+[1]Tabulka!AU269","v":0},{"$f":"+[1]Tabulka!AV269","v":{"v":0,"d":"0.00"}},{"$f":"+[1]Tabulka!AW269","v":0},{"$f":"+[1]Tabulka!AX269","v":{"v":0,"d":"0.00"}},{"$f":"+[1]Tabulka!AY269","v":0},{"$f":"+[1]Tabulka!AZ269","v":{"v":0,"d":"0.00"}},{"$f":"+[1]Tabulka!BA269","v":0},{"$f":"+[1]Tabulka!BB269","v":{"v":0,"d":"0.00"}},{"$f":"+[1]Tabulka!BC269","v":0},{"$f":"+[1]Tabulka!BD269","v":{"v":0,"d":"0.00"}},{"$f":"+[1]Tabulka!BE269","v":0},{"$f":"+[1]Tabulka!BF269","v":{"v":0,"d":"0.00"}},{"$f":"+[1]Tabulka!BG269","v":0},{"$f":"+[1]Tabulka!BH269","v":{"v":0,"d":"0.00"}},{"$f":"+[1]Tabulka!BI269","v":0},{"$f":"+[1]Tabulka!BJ269","v":{"v":0,"d":"0.00"}},{"$f":"+[1]Tabulka!AP269","v":{"v":0,"d":"0.00"}},{"$f":"+[1]Tabulka!AQ269","v":{"v":0,"d":"0.00"}},{"$f":"+[1]Tabulka!BM269","v":{"v":0,"d":"0.00"}},{"$f":"+[1]Tabulka!BN269","v":0},{"$f":"+[1]Tabulka!BO269","v":{"v":0,"d":"0.00"}}]
[null,{"$f":"[1]Tabulka!C270","v":"KAŠNÍKOVÁ"},{"$f":"[1]Tabulka!D270","v":"Denisa"},{"$f":"[1]Tabulka!E270","v":"1996-04-30"},{"$f":"[1]Tabulka!F270","v":"Havířov- Baník SKST"},{"$f":"[1]Tabulka!G270","v":"KA"},{"$f":"[1]Tabulka!H270","v":100},{"$f":"+[1]Tabulka!AU270","v":0},{"$f":"+[1]Tabulka!AV270","v":{"v":0,"d":"0.00"}},{"$f":"+[1]Tabulka!AW270","v":0},{"$f":"+[1]Tabulka!AX270","v":{"v":0,"d":"0.00"}},{"$f":"+[1]Tabulka!AY270","v":0},{"$f":"+[1]Tabulka!AZ270","v":{"v":0,"d":"0.00"}},{"$f":"+[1]Tabulka!BA270","v":0},{"$f":"+[1]Tabulka!BB270","v":{"v":0,"d":"0.00"}},{"$f":"+[1]Tabulka!BC270","v":0},{"$f":"+[1]Tabulka!BD270","v":{"v":0,"d":"0.00"}},{"$f":"+[1]Tabulka!BE270","v":0},{"$f":"+[1]Tabulka!BF270","v":{"v":0,"d":"0.00"}},{"$f":"+[1]Tabulka!BG270","v":0},{"$f":"+[1]Tabulka!BH270","v":{"v":0,"d":"0.00"}},{"$f":"+[1]Tabulka!BI270","v":0},{"$f":"+[1]Tabulka!BJ270","v":{"v":0,"d":"0.00"}},{"$f":"+[1]Tabulka!AP270","v":{"v":37.423630034302136,"d":"37.42"}},{"$f":"+[1]Tabulka!AQ270","v":{"v":4,"d":"4.00"}},{"$f":"+[1]Tabulka!BM270","v":{"v":0,"d":"0.00"}},{"$f":"+[1]Tabulka!BN270","v":0},{"$f":"+[1]Tabulka!BO270","v":{"v":0,"d":"0.00"}}]
[null,{"$f":"[1]Tabulka!C271","v":"KESSELGRUBER"},{"$f":"[1]Tabulka!D271","v":"Vít"},{"$f":"[1]Tabulka!E271","v":"2000-07-07"},{"$f":"[1]Tabulka!F271","v":"Kateřinky- Sokol TJ"},{"$f":"[1]Tabulka!G271","v":"OP"},{"$f":"[1]Tabulka!H271","v":100},{"$f":"+[1]Tabulka!AU271","v":0},{"$f":"+[1]Tabulka!AV271","v":{"v":0,"d":"0.00"}},{"$f":"+[1]Tabulka!AW271","v":0},{"$f":"+[1]Tabulka!AX271","v":{"v":0,"d":"0.00"}},{"$f":"+[1]Tabulka!AY271","v":0},{"$f":"+[1]Tabulka!AZ271","v":{"v":0,"d":"0.00"}},{"$f":"+[1]Tabulka!BA271","v":0},{"$f":"+[1]Tabulka!BB271","v":{"v":0,"d":"0.00"}},{"$f":"+[1]Tabulka!BC271","v":0},{"$f":"+[1]Tabulka!BD271","v":{"v":0,"d":"0.00"}},{"$f":"+[1]Tabulka!BE271","v":0},{"$f":"+[1]Tabulka!BF271","v":{"v":0,"d":"0.00"}},{"$f":"+[1]Tabulka!BG271","v":0},{"$f":"+[1]Tabulka!BH271","v":{"v":0,"d":"0.00"}},{"$f":"+[1]Tabulka!BI271","v":0},{"$f":"+[1]Tabulka!BJ271","v":{"v":0,"d":"0.00"}},{"$f":"+[1]Tabulka!AP271","v":{"v":0.015507380043025099,"d":"0.02"}},{"$f":"+[1]Tabulka!AQ271","v":{"v":1,"d":"1.00"}},{"$f":"+[1]Tabulka!BM271","v":{"v":0,"d":"0.00"}},{"$f":"+[1]Tabulka!BN271","v":0},{"$f":"+[1]Tabulka!BO271","v":{"v":0,"d":"0.00"}}]
[null,{"$f":"[1]Tabulka!C272","v":"KLIMEK"},{"$f":"[1]Tabulka!D272","v":"Vojtěch"},{"$f":"[1]Tabulka!E272","v":"1992-06-25"},{"$f":"[1]Tabulka!F272","v":"Ostrava- Mittal TJ"},{"$f":"[1]Tabulka!G272","v":"OV"},{"$f":"[1]Tabulka!H272","v":200},{"$f":"+[1]Tabulka!AU272","v":0},{"$f":"+[1]Tabulka!AV272","v":{"v":0,"d":"0.00"}},{"$f":"+[1]Tabulka!AW272","v":0},{"$f":"+[1]Tabulka!AX272","v":{"v":0,"d":"0.00"}},{"$f":"+[1]Tabulka!AY272","v":0},{"$f":"+[1]Tabulka!AZ272","v":{"v":0,"d":"0.00"}},{"$f":"+[1]Tabulka!BA272","v":0},{"$f":"+[1]Tabulka!BB272","v":{"v":0,"d":"0.00"}},{"$f":"+[1]Tabulka!BC272","v":0},{"$f":"+[1]Tabulka!BD272","v":{"v":0,"d":"0.00"}},{"$f":"+[1]Tabulka!BE272","v":0},{"$f":"+[1]Tabulka!BF272","v":{"v":0,"d":"0.00"}},{"$f":"+[1]Tabulka!BG272","v":0},{"$f":"+[1]Tabulka!BH272","v":{"v":0,"d":"0.00"}},{"$f":"+[1]Tabulka!BI272","v":0},{"$f":"+[1]Tabulka!BJ272","v":{"v":0,"d":"0.00"}},{"$f":"+[1]Tabulka!AP272","v":{"v":0,"d":"0.00"}},{"$f":"+[1]Tabulka!AQ272","v":{"v":0,"d":"0.00"}},{"$f":"+[1]Tabulka!BM272","v":{"v":0,"d":"0.00"}},{"$f":"+[1]Tabulka!BN272","v":0},{"$f":"+[1]Tabulka!BO272","v":{"v":0,"d":"0.00"}}]
[null,{"$f":"[1]Tabulka!C273","v":"KLUS "},{"$f":"[1]Tabulka!D273","v":"Tomáš"},{"$f":"[1]Tabulka!E273","v":"1994-08-07"},{"$f":"[1]Tabulka!F273","v":"Orlová- Slávie SK"},{"$f":"[1]Tabulka!G273","v":"KA"},{"$f":"[1]Tabulka!H273","v":100},{"$f":"+[1]Tabulka!AU273","v":0},{"$f":"+[1]Tabulka!AV273","v":{"v":0,"d":"0.00"}},{"$f":"+[1]Tabulka!AW273","v":0},{"$f":"+[1]Tabulka!AX273","v":{"v":0,"d":"0.00"}},{"$f":"+[1]Tabulka!AY273","v":0},{"$f":"+[1]Tabulka!AZ273","v":{"v":0,"d":"0.00"}},{"$f":"+[1]Tabulka!BA273","v":0},{"$f":"+[1]Tabulka!BB273","v":{"v":0,"d":"0.00"}},{"$f":"+[1]Tabulka!BC273","v":0},{"$f":"+[1]Tabulka!BD273","v":{"v":0,"d":"0.00"}},{"$f":"+[1]Tabulka!BE273","v":0},{"$f":"+[1]Tabulka!BF273","v":{"v":0,"d":"0.00"}},{"$f":"+[1]Tabulka!BG273","v":0},{"$f":"+[1]Tabulka!BH273","v":{"v":0,"d":"0.00"}},{"$f":"+[1]Tabulka!BI273","v":0},{"$f":"+[1]Tabulka!BJ273","v":{"v":0,"d":"0.00"}},{"$f":"+[1]Tabulka!AP273","v":{"v":0,"d":"0.00"}},{"$f":"+[1]Tabulka!AQ273","v":{"v":0,"d":"0.00"}},{"$f":"+[1]Tabulka!BM273","v":{"v":0,"d":"0.00"}},{"$f":"+[1]Tabulka!BN273","v":0},{"$f":"+[1]Tabulka!BO273","v":{"v":0,"d":"0.00"}}]
[null,{"$f":"[1]Tabulka!C274","v":"KNIEZEK"},{"$f":"[1]Tabulka!D274","v":"Radim"},{"$f":"[1]Tabulka!E274","v":"1996-01-01"},{"$f":"[1]Tabulka!F274","v":"Karviná- KLUBsten KST"},{"$f":"[1]Tabulka!G274","v":"KA"},{"$f":"[1]Tabulka!H274","v":0},{"$f":"+[1]Tabulka!AU274","v":0},{"$f":"+[1]Tabulka!AV274","v":{"v":0,"d":"0.00"}},{"$f":"+[1]Tabulka!AW274","v":0},{"$f":"+[1]Tabulka!AX274","v":{"v":0,"d":"0.00"}},{"$f":"+[1]Tabulka!AY274","v":0},{"$f":"+[1]Tabulka!AZ274","v":{"v":0,"d":"0.00"}},{"$f":"+[1]Tabulka!BA274","v":0},{"$f":"+[1]Tabulka!BB274","v":{"v":0,"d":"0.00"}},{"$f":"+[1]Tabulka!BC274","v":0},{"$f":"+[1]Tabulka!BD274","v":{"v":0,"d":"0.00"}},{"$f":"+[1]Tabulka!BE274","v":0},{"$f":"+[1]Tabulka!BF274","v":{"v":0,"d":"0.00"}},{"$f":"+[1]Tabulka!BG274","v":0},{"$f":"+[1]Tabulka!BH274","v":{"v":0,"d":"0.00"}},{"$f":"+[1]Tabulka!BI274","v":0},{"$f":"+[1]Tabulka!BJ274","v":{"v":0,"d":"0.00"}},{"$f":"+[1]Tabulka!AP274","v":{"v":0,"d":"0.00"}},{"$f":"+[1]Tabulka!AQ274","v":{"v":0,"d":"0.00"}},{"$f":"+[1]Tabulka!BM274","v":{"v":0,"d":"0.00"}},{"$f":"+[1]Tabulka!BN274","v":0},{"$f":"+[1]Tabulka!BO274","v":{"v":0,"d":"0.00"}}]
[null,{"$f":"[1]Tabulka!C275","v":"KOMENDER"},{"$f":"[1]Tabulka!D275","v":"Jan"},{"$f":"[1]Tabulka!E275","v":"1999-06-16"},{"$f":"[1]Tabulka!F275","v":"Fulnel- TJ"},{"$f":"[1]Tabulka!G275","v":"NJ"},{"$f":"[1]Tabulka!H275","v":100},{"$f":"+[1]Tabulka!AU275","v":0},{"$f":"+[1]Tabulka!AV275","v":{"v":0,"d":"0.00"}},{"$f":"+[1]Tabulka!AW275","v":0},{"$f":"+[1]Tabulka!AX275","v":{"v":0,"d":"0.00"}},{"$f":"+[1]Tabulka!AY275","v":0},{"$f":"+[1]Tabulka!AZ275","v":{"v":0,"d":"0.00"}},{"$f":"+[1]Tabulka!BA275","v":0},{"$f":"+[1]Tabulka!BB275","v":{"v":0,"d":"0.00"}},{"$f":"+[1]Tabulka!BC275","v":0},{"$f":"+[1]Tabulka!BD275","v":{"v":0,"d":"0.00"}},{"$f":"+[1]Tabulka!BE275","v":0},{"$f":"+[1]Tabulka!BF275","v":{"v":0,"d":"0.00"}},{"$f":"+[1]Tabulka!BG275","v":0},{"$f":"+[1]Tabulka!BH275","v":{"v":0,"d":"0.00"}},{"$f":"+[1]Tabulka!BI275","v":0},{"$f":"+[1]Tabulka!BJ275","v":{"v":0,"d":"0.00"}},{"$f":"+[1]Tabulka!AP275","v":{"v":0.051713870949175796,"d":"0.05"}},{"$f":"+[1]Tabulka!AQ275","v":{"v":1,"d":"1.00"}},{"$f":"+[1]Tabulka!BM275","v":{"v":0,"d":"0.00"}},{"$f":"+[1]Tabulka!BN275","v":0},{"$f":"+[1]Tabulka!BO275","v":{"v":0,"d":"0.00"}}]
[null,{"$f":"[1]Tabulka!C276","v":"KOŘÍNEK"},{"$f":"[1]Tabulka!D276","v":"Adam"},{"$f":"[1]Tabulka!E276","v":"1998-01-01"},{"$f":"[1]Tabulka!F276","v":"Havířov- Baník SKST"},{"$f":"[1]Tabulka!G276","v":"KA"},{"$f":"[1]Tabulka!H276","v":0},{"$f":"+[1]Tabulka!AU276","v":0},{"$f":"+[1]Tabulka!AV276","v":{"v":0,"d":"0.00"}},{"$f":"+[1]Tabulka!AW276","v":0},{"$f":"+[1]Tabulka!AX276","v":{"v":0,"d":"0.00"}},{"$f":"+[1]Tabulka!AY276","v":0},{"$f":"+[1]Tabulka!AZ276","v":{"v":0,"d":"0.00"}},{"$f":"+[1]Tabulka!BA276","v":0},{"$f":"+[1]Tabulka!BB276","v":{"v":0,"d":"0.00"}},{"$f":"+[1]Tabulka!BC276","v":0},{"$f":"+[1]Tabulka!BD276","v":{"v":0,"d":"0.00"}},{"$f":"+[1]Tabulka!BE276","v":0},{"$f":"+[1]Tabulka!BF276","v":{"v":0,"d":"0.00"}},{"$f":"+[1]Tabulka!BG276","v":0},{"$f":"+[1]Tabulka!BH276","v":{"v":0,"d":"0.00"}},{"$f":"+[1]Tabulka!BI276","v":0},{"$f":"+[1]Tabulka!BJ276","v":{"v":0,"d":"0.00"}},{"$f":"+[1]Tabulka!AP276","v":{"v":0,"d":"0.00"}},{"$f":"+[1]Tabulka!AQ276","v":{"v":0,"d":"0.00"}},{"$f":"+[1]Tabulka!BM276","v":{"v":0,"d":"0.00"}},{"$f":"+[1]Tabulka!BN276","v":0},{"$f":"+[1]Tabulka!BO276","v":{"v":0,"d":"0.00"}}]
[null,{"$f":"[1]Tabulka!C277","v":"KOSELLEK"},{"$f":"[1]Tabulka!D277","v":"Tomáš"},{"$f":"[1]Tabulka!E277","v":"1992-10-08"},{"$f":"[1]Tabulka!F277","v":"Karviná- KLUBsten KST"},{"$f":"[1]Tabulka!G277","v":"KA"},{"$f":"[1]Tabulka!H277","v":200},{"$f":"+[1]Tabulka!AU277","v":0},{"$f":"+[1]Tabulka!AV277","v":{"v":0,"d":"0.00"}},{"$f":"+[1]Tabulka!AW277","v":0},{"$f":"+[1]Tabulka!AX277","v":{"v":0,"d":"0.00"}},{"$f":"+[1]Tabulka!AY277","v":0},{"$f":"+[1]Tabulka!AZ277","v":{"v":0,"d":"0.00"}},{"$f":"+[1]Tabulka!BA277","v":0},{"$f":"+[1]Tabulka!BB277","v":{"v":0,"d":"0.00"}},{"$f":"+[1]Tabulka!BC277","v":0},{"$f":"+[1]Tabulka!BD277","v":{"v":0,"d":"0.00"}},{"$f":"+[1]Tabulka!BE277","v":0},{"$f":"+[1]Tabulka!BF277","v":{"v":0,"d":"0.00"}},{"$f":"+[1]Tabulka!BG277","v":0},{"$f":"+[1]Tabulka!BH277","v":{"v":0,"d":"0.00"}},{"$f":"+[1]Tabulka!BI277","v":0},{"$f":"+[1]Tabulka!BJ277","v":{"v":0,"d":"0.00"}},{"$f":"+[1]Tabulka!AP277","v":{"v":15.534615056655854,"d":"15.53"}},{"$f":"+[1]Tabulka!AQ277","v":{"v":1,"d":"1.00"}},{"$f":"+[1]Tabulka!BM277","v":{"v":0,"d":"0.00"}},{"$f":"+[1]Tabulka!BN277","v":0},{"$f":"+[1]Tabulka!BO277","v":{"v":0,"d":"0.00"}}]
[null,{"$f":"[1]Tabulka!C278","v":"KOTEK"},{"$f":"[1]Tabulka!D278","v":"Dominik"},{"$f":"[1]Tabulka!E278","v":"1999-05-20"},{"$f":"[1]Tabulka!F278","v":"Frýdlant nad Ostravicí- SK"},{"$f":"[1]Tabulka!G278","v":"FM"},{"$f":"[1]Tabulka!H278","v":100},{"$f":"+[1]Tabulka!AU278","v":0},{"$f":"+[1]Tabulka!AV278","v":{"v":0,"d":"0.00"}},{"$f":"+[1]Tabulka!AW278","v":0},{"$f":"+[1]Tabulka!AX278","v":{"v":0,"d":"0.00"}},{"$f":"+[1]Tabulka!AY278","v":0},{"$f":"+[1]Tabulka!AZ278","v":{"v":0,"d":"0.00"}},{"$f":"+[1]Tabulka!BA278","v":0},{"$f":"+[1]Tabulka!BB278","v":{"v":0,"d":"0.00"}},{"$f":"+[1]Tabulka!BC278","v":0},{"$f":"+[1]Tabulka!BD278","v":{"v":0,"d":"0.00"}},{"$f":"+[1]Tabulka!BE278","v":0},{"$f":"+[1]Tabulka!BF278","v":{"v":0,"d":"0.00"}},{"$f":"+[1]Tabulka!BG278","v":0},{"$f":"+[1]Tabulka!BH278","v":{"v":0,"d":"0.00"}},{"$f":"+[1]Tabulka!BI278","v":0},{"$f":"+[1]Tabulka!BJ278","v":{"v":0,"d":"0.00"}},{"$f":"+[1]Tabulka!AP278","v":{"v":14.529386798979626,"d":"14.53"}},{"$f":"+[1]Tabulka!AQ278","v":{"v":4,"d":"4.00"}},{"$f":"+[1]Tabulka!BM278","v":{"v":0,"d":"0.00"}},{"$f":"+[1]Tabulka!BN278","v":0},{"$f":"+[1]Tabulka!BO278","v":{"v":0,"d":"0.00"}}]
[null,{"$f":"[1]Tabulka!C279","v":"KOTKOVÁ"},{"$f":"[1]Tabulka!D279","v":"Daniela"},{"$f":"[1]Tabulka!E279","v":"2000-12-27"},{"$f":"[1]Tabulka!F279","v":"Frýdlant nad Ostravicí- SK"},{"$f":"[1]Tabulka!G279","v":"FM"},{"$f":"[1]Tabulka!H279","v":100},{"$f":"+[1]Tabulka!AU279","v":0},{"$f":"+[1]Tabulka!AV279","v":{"v":0,"d":"0.00"}},{"$f":"+[1]Tabulka!AW279","v":0},{"$f":"+[1]Tabulka!AX279","v":{"v":0,"d":"0.00"}},{"$f":"+[1]Tabulka!AY279","v":0},{"$f":"+[1]Tabulka!AZ279","v":{"v":0,"d":"0.00"}},{"$f":"+[1]Tabulka!BA279","v":0},{"$f":"+[1]Tabulka!BB279","v":{"v":0,"d":"0.00"}},{"$f":"+[1]Tabulka!BC279","v":0},{"$f":"+[1]Tabulka!BD279","v":{"v":0,"d":"0.00"}},{"$f":"+[1]Tabulka!BE279","v":0},{"$f":"+[1]Tabulka!BF279","v":{"v":0,"d":"0.00"}},{"$f":"+[1]Tabulka!BG279","v":0},{"$f":"+[1]Tabulka!BH279","v":{"v":0,"d":"0.00"}},{"$f":"+[1]Tabulka!BI279","v":0},{"$f":"+[1]Tabulka!BJ279","v":{"v":0,"d":"0.00"}},{"$f":"+[1]Tabulka!AP279","v":{"v":0.2593402458879803,"d":"0.26"}},{"$f":"+[1]Tabulka!AQ279","v":{"v":2,"d":"2.00"}},{"$f":"+[1]Tabulka!BM279","v":{"v":0,"d":"0.00"}},{"$f":"+[1]Tabulka!BN279","v":0},{"$f":"+[1]Tabulka!BO279","v":{"v":0,"d":"0.00"}}]
[null,{"$f":"[1]Tabulka!C280","v":"KOZELSKÝ"},{"$f":"[1]Tabulka!D280","v":"Martin"},{"$f":"[1]Tabulka!E280","v":"1998-02-11"},{"$f":"[1]Tabulka!F280","v":"Kateřinky- Sokol TJ"},{"$f":"[1]Tabulka!G280","v":"OP"},{"$f":"[1]Tabulka!H280","v":100},{"$f":"+[1]Tabulka!AU280","v":0},{"$f":"+[1]Tabulka!AV280","v":{"v":0,"d":"0.00"}},{"$f":"+[1]Tabulka!AW280","v":0},{"$f":"+[1]Tabulka!AX280","v":{"v":0,"d":"0.00"}},{"$f":"+[1]Tabulka!AY280","v":0},{"$f":"+[1]Tabulka!AZ280","v":{"v":0,"d":"0.00"}},{"$f":"+[1]Tabulka!BA280","v":0},{"$f":"+[1]Tabulka!BB280","v":{"v":0,"d":"0.00"}},{"$f":"+[1]Tabulka!BC280","v":0},{"$f":"+[1]Tabulka!BD280","v":{"v":0,"d":"0.00"}},{"$f":"+[1]Tabulka!BE280","v":0},{"$f":"+[1]Tabulka!BF280","v":{"v":0,"d":"0.00"}},{"$f":"+[1]Tabulka!BG280","v":0},{"$f":"+[1]Tabulka!BH280","v":{"v":0,"d":"0.00"}},{"$f":"+[1]Tabulka!BI280","v":0},{"$f":"+[1]Tabulka!BJ280","v":{"v":0,"d":"0.00"}},{"$f":"+[1]Tabulka!AP280","v":{"v":0.4569955226844562,"d":"0.46"}},{"$f":"+[1]Tabulka!AQ280","v":{"v":2,"d":"2.00"}},{"$f":"+[1]Tabulka!BM280","v":{"v":0,"d":"0.00"}},{"$f":"+[1]Tabulka!BN280","v":0},{"$f":"+[1]Tabulka!BO280","v":{"v":0,"d":"0.00"}}]
[null,{"$f":"[1]Tabulka!C281","v":"KRAFČÍK"},{"$f":"[1]Tabulka!D281","v":"Tomáš"},{"$f":"[1]Tabulka!E281","v":"1993-07-02"},{"$f":"[1]Tabulka!F281","v":"Karviná- KLUBsten KST"},{"$f":"[1]Tabulka!G281","v":"KA"},{"$f":"[1]Tabulka!H281","v":200},{"$f":"+[1]Tabulka!AU281","v":0},{"$f":"+[1]Tabulka!AV281","v":{"v":0,"d":"0.00"}},{"$f":"+[1]Tabulka!AW281","v":0},{"$f":"+[1]Tabulka!AX281","v":{"v":0,"d":"0.00"}},{"$f":"+[1]Tabulka!AY281","v":0},{"$f":"+[1]Tabulka!AZ281","v":{"v":0,"d":"0.00"}},{"$f":"+[1]Tabulka!BA281","v":0},{"$f":"+[1]Tabulka!BB281","v":{"v":0,"d":"0.00"}},{"$f":"+[1]Tabulka!BC281","v":0},{"$f":"+[1]Tabulka!BD281","v":{"v":0,"d":"0.00"}},{"$f":"+[1]Tabulka!BE281","v":0},{"$f":"+[1]Tabulka!BF281","v":{"v":0,"d":"0.00"}},{"$f":"+[1]Tabulka!BG281","v":0},{"$f":"+[1]Tabulka!BH281","v":{"v":0,"d":"0.00"}},{"$f":"+[1]Tabulka!BI281","v":0},{"$f":"+[1]Tabulka!BJ281","v":{"v":0,"d":"0.00"}},{"$f":"+[1]Tabulka!AP281","v":{"v":0,"d":"0.00"}},{"$f":"+[1]Tabulka!AQ281","v":{"v":0,"d":"0.00"}},{"$f":"+[1]Tabulka!BM281","v":{"v":0,"d":"0.00"}},{"$f":"+[1]Tabulka!BN281","v":0},{"$f":"+[1]Tabulka!BO281","v":{"v":0,"d":"0.00"}}]
[null,{"$f":"[1]Tabulka!C282","v":"KRATOCHVÍL"},{"$f":"[1]Tabulka!D282","v":"Michal"},{"$f":"[1]Tabulka!E282","v":"1995-04-19"},{"$f":"[1]Tabulka!F282","v":"Havířov- Baník SKST"},{"$f":"[1]Tabulka!G282","v":"KA"},{"$f":"[1]Tabulka!H282","v":100},{"$f":"+[1]Tabulka!AU282","v":0},{"$f":"+[1]Tabulka!AV282","v":{"v":0,"d":"0.00"}},{"$f":"+[1]Tabulka!AW282","v":0},{"$f":"+[1]Tabulka!AX282","v":{"v":0,"d":"0.00"}},{"$f":"+[1]Tabulka!AY282","v":0},{"$f":"+[1]Tabulka!AZ282","v":{"v":0,"d":"0.00"}},{"$f":"+[1]Tabulka!BA282","v":0},{"$f":"+[1]Tabulka!BB282","v":{"v":0,"d":"0.00"}},{"$f":"+[1]Tabulka!BC282","v":0},{"$f":"+[1]Tabulka!BD282","v":{"v":0,"d":"0.00"}},{"$f":"+[1]Tabulka!BE282","v":0},{"$f":"+[1]Tabulka!BF282","v":{"v":0,"d":"0.00"}},{"$f":"+[1]Tabulka!BG282","v":0},{"$f":"+[1]Tabulka!BH282","v":{"v":0,"d":"0.00"}},{"$f":"+[1]Tabulka!BI282","v":0},{"$f":"+[1]Tabulka!BJ282","v":{"v":0,"d":"0.00"}},{"$f":"+[1]Tabulka!AP282","v":{"v":0,"d":"0.00"}},{"$f":"+[1]Tabulka!AQ282","v":{"v":0,"d":"0.00"}},{"$f":"+[1]Tabulka!BM282","v":{"v":0,"d":"0.00"}},{"$f":"+[1]Tabulka!BN282","v":0},{"$f":"+[1]Tabulka!BO282","v":{"v":0,"d":"0.00"}}]
[null,{"$f":"[1]Tabulka!C283","v":"KRATOCHVÍL"},{"$f":"[1]Tabulka!D283","v":"Tomáš"},{"$f":"[1]Tabulka!E283","v":"1992-05-09"},{"$f":"[1]Tabulka!F283","v":"Ostrava- Mittal TJ"},{"$f":"[1]Tabulka!G283","v":"OV"},{"$f":"[1]Tabulka!H283","v":200},{"$f":"+[1]Tabulka!AU283","v":0},{"$f":"+[1]Tabulka!AV283","v":{"v":0,"d":"0.00"}},{"$f":"+[1]Tabulka!AW283","v":0},{"$f":"+[1]Tabulka!AX283","v":{"v":0,"d":"0.00"}},{"$f":"+[1]Tabulka!AY283","v":0},{"$f":"+[1]Tabulka!AZ283","v":{"v":0,"d":"0.00"}},{"$f":"+[1]Tabulka!BA283","v":0},{"$f":"+[1]Tabulka!BB283","v":{"v":0,"d":"0.00"}},{"$f":"+[1]Tabulka!BC283","v":0},{"$f":"+[1]Tabulka!BD283","v":{"v":0,"d":"0.00"}},{"$f":"+[1]Tabulka!BE283","v":0},{"$f":"+[1]Tabulka!BF283","v":{"v":0,"d":"0.00"}},{"$f":"+[1]Tabulka!BG283","v":0},{"$f":"+[1]Tabulka!BH283","v":{"v":0,"d":"0.00"}},{"$f":"+[1]Tabulka!BI283","v":0},{"$f":"+[1]Tabulka!BJ283","v":{"v":0,"d":"0.00"}},{"$f":"+[1]Tabulka!AP283","v":{"v":0,"d":"0.00"}},{"$f":"+[1]Tabulka!AQ283","v":{"v":0,"d":"0.00"}},{"$f":"+[1]Tabulka!BM283","v":{"v":0,"d":"0.00"}},{"$f":"+[1]Tabulka!BN283","v":0},{"$f":"+[1]Tabulka!BO283","v":{"v":0,"d":"0.00"}}]
[null,{"$f":"[1]Tabulka!C284","v":"KRIVÝ"},{"$f":"[1]Tabulka!D284","v":"Jan"},{"$f":"[1]Tabulka!E284","v":"1999-07-20"},{"$f":"[1]Tabulka!F284","v":"Ostrava- Mittal TJ"},{"$f":"[1]Tabulka!G284","v":"OV"},{"$f":"[1]Tabulka!H284","v":100},{"$f":"+[1]Tabulka!AU284","v":0},{"$f":"+[1]Tabulka!AV284","v":{"v":0,"d":"0.00"}},{"$f":"+[1]Tabulka!AW284","v":0},{"$f":"+[1]Tabulka!AX284","v":{"v":0,"d":"0.00"}},{"$f":"+[1]Tabulka!AY284","v":0},{"$f":"+[1]Tabulka!AZ284","v":{"v":0,"d":"0.00"}},{"$f":"+[1]Tabulka!BA284","v":0},{"$f":"+[1]Tabulka!BB284","v":{"v":0,"d":"0.00"}},{"$f":"+[1]Tabulka!BC284","v":0},{"$f":"+[1]Tabulka!BD284","v":{"v":0,"d":"0.00"}},{"$f":"+[1]Tabulka!BE284","v":0},{"$f":"+[1]Tabulka!BF284","v":{"v":0,"d":"0.00"}},{"$f":"+[1]Tabulka!BG284","v":0},{"$f":"+[1]Tabulka!BH284","v":{"v":0,"d":"0.00"}},{"$f":"+[1]Tabulka!BI284","v":0},{"$f":"+[1]Tabulka!BJ284","v":{"v":0,"d":"0.00"}},{"$f":"+[1]Tabulka!AP284","v":{"v":1.504108815610216,"d":"1.50"}},{"$f":"+[1]Tabulka!AQ284","v":{"v":3,"d":"3.00"}},{"$f":"+[1]Tabulka!BM284","v":{"v":0,"d":"0.00"}},{"$f":"+[1]Tabulka!BN284","v":0},{"$f":"+[1]Tabulka!BO284","v":{"v":0,"d":"0.00"}}]
[null,{"$f":"[1]Tabulka!C285","v":"KRYSKA"},{"$f":"[1]Tabulka!D285","v":"Dominik"},{"$f":"[1]Tabulka!E285","v":"1999-09-03"},{"$f":"[1]Tabulka!F285","v":"Dětmarovice- Sokol TJ"},{"$f":"[1]Tabulka!G285","v":"KA"},{"$f":"[1]Tabulka!H285","v":100},{"$f":"+[1]Tabulka!AU285","v":0},{"$f":"+[1]Tabulka!AV285","v":{"v":0,"d":"0.00"}},{"$f":"+[1]Tabulka!AW285","v":0},{"$f":"+[1]Tabulka!AX285","v":{"v":0,"d":"0.00"}},{"$f":"+[1]Tabulka!AY285","v":0},{"$f":"+[1]Tabulka!AZ285","v":{"v":0,"d":"0.00"}},{"$f":"+[1]Tabulka!BA285","v":0},{"$f":"+[1]Tabulka!BB285","v":{"v":0,"d":"0.00"}},{"$f":"+[1]Tabulka!BC285","v":0},{"$f":"+[1]Tabulka!BD285","v":{"v":0,"d":"0.00"}},{"$f":"+[1]Tabulka!BE285","v":0},{"$f":"+[1]Tabulka!BF285","v":{"v":0,"d":"0.00"}},{"$f":"+[1]Tabulka!BG285","v":0},{"$f":"+[1]Tabulka!BH285","v":{"v":0,"d":"0.00"}},{"$f":"+[1]Tabulka!BI285","v":0},{"$f":"+[1]Tabulka!BJ285","v":{"v":0,"d":"0.00"}},{"$f":"+[1]Tabulka!AP285","v":{"v":0,"d":"0.00"}},{"$f":"+[1]Tabulka!AQ285","v":{"v":0,"d":"0.00"}},{"$f":"+[1]Tabulka!BM285","v":{"v":0,"d":"0.00"}},{"$f":"+[1]Tabulka!BN285","v":0},{"$f":"+[1]Tabulka!BO285","v":{"v":0,"d":"0.00"}}]
[null,{"$f":"[1]Tabulka!C286","v":"KUBICA"},{"$f":"[1]Tabulka!D286","v":"Michal"},{"$f":"[1]Tabulka!E286","v":"1991-09-19"},{"$f":"[1]Tabulka!F286","v":"Karviná- Baník ČSA  TJ"},{"$f":"[1]Tabulka!G286","v":"KA"},{"$f":"[1]Tabulka!H286","v":200},{"$f":"+[1]Tabulka!AU286","v":0},{"$f":"+[1]Tabulka!AV286","v":{"v":0,"d":"0.00"}},{"$f":"+[1]Tabulka!AW286","v":0},{"$f":"+[1]Tabulka!AX286","v":{"v":0,"d":"0.00"}},{"$f":"+[1]Tabulka!AY286","v":0},{"$f":"+[1]Tabulka!AZ286","v":{"v":0,"d":"0.00"}},{"$f":"+[1]Tabulka!BA286","v":0},{"$f":"+[1]Tabulka!BB286","v":{"v":0,"d":"0.00"}},{"$f":"+[1]Tabulka!BC286","v":0},{"$f":"+[1]Tabulka!BD286","v":{"v":0,"d":"0.00"}},{"$f":"+[1]Tabulka!BE286","v":0},{"$f":"+[1]Tabulka!BF286","v":{"v":0,"d":"0.00"}},{"$f":"+[1]Tabulka!BG286","v":0},{"$f":"+[1]Tabulka!BH286","v":{"v":0,"d":"0.00"}},{"$f":"+[1]Tabulka!BI286","v":0},{"$f":"+[1]Tabulka!BJ286","v":{"v":0,"d":"0.00"}},{"$f":"+[1]Tabulka!AP286","v":{"v":0,"d":"0.00"}},{"$f":"+[1]Tabulka!AQ286","v":{"v":0,"d":"0.00"}},{"$f":"+[1]Tabulka!BM286","v":{"v":0,"d":"0.00"}},{"$f":"+[1]Tabulka!BN286","v":0},{"$f":"+[1]Tabulka!BO286","v":{"v":0,"d":"0.00"}}]
[null,{"$f":"[1]Tabulka!C287","v":"KUPEC"},{"$f":"[1]Tabulka!D287","v":"Rostislav"},{"$f":"[1]Tabulka!E287","v":"1997-05-20"},{"$f":"[1]Tabulka!F287","v":"Havířov- Baník SKST"},{"$f":"[1]Tabulka!G287","v":"KA"},{"$f":"[1]Tabulka!H287","v":100},{"$f":"+[1]Tabulka!AU287","v":0},{"$f":"+[1]Tabulka!AV287","v":{"v":0,"d":"0.00"}},{"$f":"+[1]Tabulka!AW287","v":0},{"$f":"+[1]Tabulka!AX287","v":{"v":0,"d":"0.00"}},{"$f":"+[1]Tabulka!AY287","v":0},{"$f":"+[1]Tabulka!AZ287","v":{"v":0,"d":"0.00"}},{"$f":"+[1]Tabulka!BA287","v":0},{"$f":"+[1]Tabulka!BB287","v":{"v":0,"d":"0.00"}},{"$f":"+[1]Tabulka!BC287","v":0},{"$f":"+[1]Tabulka!BD287","v":{"v":0,"d":"0.00"}},{"$f":"+[1]Tabulka!BE287","v":0},{"$f":"+[1]Tabulka!BF287","v":{"v":0,"d":"0.00"}},{"$f":"+[1]Tabulka!BG287","v":0},{"$f":"+[1]Tabulka!BH287","v":{"v":0,"d":"0.00"}},{"$f":"+[1]Tabulka!BI287","v":0},{"$f":"+[1]Tabulka!BJ287","v":{"v":0,"d":"0.00"}},{"$f":"+[1]Tabulka!AP287","v":{"v":50.64223686652953,"d":"50.64"}},{"$f":"+[1]Tabulka!AQ287","v":{"v":4,"d":"4.00"}},{"$f":"+[1]Tabulka!BM287","v":{"v":0,"d":"0.00"}},{"$f":"+[1]Tabulka!BN287","v":0},{"$f":"+[1]Tabulka!BO287","v":{"v":0,"d":"0.00"}}]
[null,{"$f":"[1]Tabulka!C288","v":"KUPEC"},{"$f":"[1]Tabulka!D288","v":"Ladislav"},{"$f":"[1]Tabulka!E288","v":"1998-08-27"},{"$f":"[1]Tabulka!F288","v":"Havířov- Baník SKST"},{"$f":"[1]Tabulka!G288","v":"KA"},{"$f":"[1]Tabulka!H288","v":100},{"$f":"+[1]Tabulka!AU288","v":0},{"$f":"+[1]Tabulka!AV288","v":{"v":0,"d":"0.00"}},{"$f":"+[1]Tabulka!AW288","v":0},{"$f":"+[1]Tabulka!AX288","v":{"v":0,"d":"0.00"}},{"$f":"+[1]Tabulka!AY288","v":0},{"$f":"+[1]Tabulka!AZ288","v":{"v":0,"d":"0.00"}},{"$f":"+[1]Tabulka!BA288","v":0},{"$f":"+[1]Tabulka!BB288","v":{"v":0,"d":"0.00"}},{"$f":"+[1]Tabulka!BC288","v":0},{"$f":"+[1]Tabulka!BD288","v":{"v":0,"d":"0.00"}},{"$f":"+[1]Tabulka!BE288","v":0},{"$f":"+[1]Tabulka!BF288","v":{"v":0,"d":"0.00"}},{"$f":"+[1]Tabulka!BG288","v":0},{"$f":"+[1]Tabulka!BH288","v":{"v":0,"d":"0.00"}},{"$f":"+[1]Tabulka!BI288","v":0},{"$f":"+[1]Tabulka!BJ288","v":{"v":0,"d":"0.00"}},{"$f":"+[1]Tabulka!AP288","v":{"v":24.889987427776536,"d":"24.89"}},{"$f":"+[1]Tabulka!AQ288","v":{"v":2,"d":"2.00"}},{"$f":"+[1]Tabulka!BM288","v":{"v":0,"d":"0.00"}},{"$f":"+[1]Tabulka!BN288","v":0},{"$f":"+[1]Tabulka!BO288","v":{"v":0,"d":"0.00"}}]
[null,{"$f":"[1]Tabulka!C289","v":"KUPKA"},{"$f":"[1]Tabulka!D289","v":"Vojtěch"},{"$f":"[1]Tabulka!E289","v":"1996-06-16"},{"$f":"[1]Tabulka!F289","v":"Ostrava- Mittal TJ"},{"$f":"[1]Tabulka!G289","v":"OV"},{"$f":"[1]Tabulka!H289","v":100},{"$f":"+[1]Tabulka!AU289","v":0},{"$f":"+[1]Tabulka!AV289","v":{"v":0,"d":"0.00"}},{"$f":"+[1]Tabulka!AW289","v":0},{"$f":"+[1]Tabulka!AX289","v":{"v":0,"d":"0.00"}},{"$f":"+[1]Tabulka!AY289","v":0},{"$f":"+[1]Tabulka!AZ289","v":{"v":0,"d":"0.00"}},{"$f":"+[1]Tabulka!BA289","v":0},{"$f":"+[1]Tabulka!BB289","v":{"v":0,"d":"0.00"}},{"$f":"+[1]Tabulka!BC289","v":0},{"$f":"+[1]Tabulka!BD289","v":{"v":0,"d":"0.00"}},{"$f":"+[1]Tabulka!BE289","v":0},{"$f":"+[1]Tabulka!BF289","v":{"v":0,"d":"0.00"}},{"$f":"+[1]Tabulka!BG289","v":0},{"$f":"+[1]Tabulka!BH289","v":{"v":0,"d":"0.00"}},{"$f":"+[1]Tabulka!BI289","v":0},{"$f":"+[1]Tabulka!BJ289","v":{"v":0,"d":"0.00"}},{"$f":"+[1]Tabulka!AP289","v":{"v":0.44296373064416694,"d":"0.44"}},{"$f":"+[1]Tabulka!AQ289","v":{"v":2,"d":"2.00"}},{"$f":"+[1]Tabulka!BM289","v":{"v":0,"d":"0.00"}},{"$f":"+[1]Tabulka!BN289","v":0},{"$f":"+[1]Tabulka!BO289","v":{"v":0,"d":"0.00"}}]
[null,{"$f":"[1]Tabulka!C290","v":"LACHKÝ"},{"$f":"[1]Tabulka!D290","v":"Petr"},{"$f":"[1]Tabulka!E290","v":"1998-01-19"},{"$f":"[1]Tabulka!F290","v":"Fulnel- TJ"},{"$f":"[1]Tabulka!G290","v":"NJ"},{"$f":"[1]Tabulka!H290","v":100},{"$f":"+[1]Tabulka!AU290","v":0},{"$f":"+[1]Tabulka!AV290","v":{"v":0,"d":"0.00"}},{"$f":"+[1]Tabulka!AW290","v":0},{"$f":"+[1]Tabulka!AX290","v":{"v":0,"d":"0.00"}},{"$f":"+[1]Tabulka!AY290","v":0},{"$f":"+[1]Tabulka!AZ290","v":{"v":0,"d":"0.00"}},{"$f":"+[1]Tabulka!BA290","v":0},{"$f":"+[1]Tabulka!BB290","v":{"v":0,"d":"0.00"}},{"$f":"+[1]Tabulka!BC290","v":0},{"$f":"+[1]Tabulka!BD290","v":{"v":0,"d":"0.00"}},{"$f":"+[1]Tabulka!BE290","v":0},{"$f":"+[1]Tabulka!BF290","v":{"v":0,"d":"0.00"}},{"$f":"+[1]Tabulka!BG290","v":0},{"$f":"+[1]Tabulka!BH290","v":{"v":0,"d":"0.00"}},{"$f":"+[1]Tabulka!BI290","v":0},{"$f":"+[1]Tabulka!BJ290","v":{"v":0,"d":"0.00"}},{"$f":"+[1]Tabulka!AP290","v":{"v":1.6494465810714054,"d":"1.65"}},{"$f":"+[1]Tabulka!AQ290","v":{"v":2,"d":"2.00"}},{"$f":"+[1]Tabulka!BM290","v":{"v":0,"d":"0.00"}},{"$f":"+[1]Tabulka!BN290","v":0},{"$f":"+[1]Tabulka!BO290","v":{"v":0,"d":"0.00"}}]
[null,{"$f":"[1]Tabulka!C291","v":"LORENC"},{"$f":"[1]Tabulka!D291","v":"Martin"},{"$f":"[1]Tabulka!E291","v":"1998-12-08"},{"$f":"[1]Tabulka!F291","v":"Frenštát pod Radhoštěm- TJ"},{"$f":"[1]Tabulka!G291","v":"NJ"},{"$f":"[1]Tabulka!H291","v":100},{"$f":"+[1]Tabulka!AU291","v":0},{"$f":"+[1]Tabulka!AV291","v":{"v":0,"d":"0.00"}},{"$f":"+[1]Tabulka!AW291","v":0},{"$f":"+[1]Tabulka!AX291","v":{"v":0,"d":"0.00"}},{"$f":"+[1]Tabulka!AY291","v":0},{"$f":"+[1]Tabulka!AZ291","v":{"v":0,"d":"0.00"}},{"$f":"+[1]Tabulka!BA291","v":0},{"$f":"+[1]Tabulka!BB291","v":{"v":0,"d":"0.00"}},{"$f":"+[1]Tabulka!BC291","v":0},{"$f":"+[1]Tabulka!BD291","v":{"v":0,"d":"0.00"}},{"$f":"+[1]Tabulka!BE291","v":0},{"$f":"+[1]Tabulka!BF291","v":{"v":0,"d":"0.00"}},{"$f":"+[1]Tabulka!BG291","v":0},{"$f":"+[1]Tabulka!BH291","v":{"v":0,"d":"0.00"}},{"$f":"+[1]Tabulka!BI291","v":0},{"$f":"+[1]Tabulka!BJ291","v":{"v":0,"d":"0.00"}},{"$f":"+[1]Tabulka!AP291","v":{"v":2.7645485600625994,"d":"2.76"}},{"$f":"+[1]Tabulka!AQ291","v":{"v":4,"d":"4.00"}},{"$f":"+[1]Tabulka!BM291","v":{"v":0,"d":"0.00"}},{"$f":"+[1]Tabulka!BN291","v":0},{"$f":"+[1]Tabulka!BO291","v":{"v":0,"d":"0.00"}}]
[null,{"$f":"[1]Tabulka!C292","v":"LOUKOTA"},{"$f":"[1]Tabulka!D292","v":"Filip"},{"$f":"[1]Tabulka!E292","v":"1993-05-16"},{"$f":"[1]Tabulka!F292","v":"Ostrava- Mittal TJ"},{"$f":"[1]Tabulka!G292","v":"OV"},{"$f":"[1]Tabulka!H292","v":200},{"$f":"+[1]Tabulka!AU292","v":0},{"$f":"+[1]Tabulka!AV292","v":{"v":0,"d":"0.00"}},{"$f":"+[1]Tabulka!AW292","v":0},{"$f":"+[1]Tabulka!AX292","v":{"v":0,"d":"0.00"}},{"$f":"+[1]Tabulka!AY292","v":0},{"$f":"+[1]Tabulka!AZ292","v":{"v":0,"d":"0.00"}},{"$f":"+[1]Tabulka!BA292","v":0},{"$f":"+[1]Tabulka!BB292","v":{"v":0,"d":"0.00"}},{"$f":"+[1]Tabulka!BC292","v":0},{"$f":"+[1]Tabulka!BD292","v":{"v":0,"d":"0.00"}},{"$f":"+[1]Tabulka!BE292","v":0},{"$f":"+[1]Tabulka!BF292","v":{"v":0,"d":"0.00"}},{"$f":"+[1]Tabulka!BG292","v":0},{"$f":"+[1]Tabulka!BH292","v":{"v":0,"d":"0.00"}},{"$f":"+[1]Tabulka!BI292","v":0},{"$f":"+[1]Tabulka!BJ292","v":{"v":0,"d":"0.00"}},{"$f":"+[1]Tabulka!AP292","v":{"v":0,"d":"0.00"}},{"$f":"+[1]Tabulka!AQ292","v":{"v":0,"d":"0.00"}},{"$f":"+[1]Tabulka!BM292","v":{"v":0,"d":"0.00"}},{"$f":"+[1]Tabulka!BN292","v":0},{"$f":"+[1]Tabulka!BO292","v":{"v":0,"d":"0.00"}}]
[null,{"$f":"[1]Tabulka!C293","v":"LUKÁŠOVÁ"},{"$f":"[1]Tabulka!D293","v":"Petra"},{"$f":"[1]Tabulka!E293","v":"1995-04-10"},{"$f":"[1]Tabulka!F293","v":"Orlová- Slávie SK"},{"$f":"[1]Tabulka!G293","v":"KA"},{"$f":"[1]Tabulka!H293","v":100},{"$f":"+[1]Tabulka!AU293","v":0},{"$f":"+[1]Tabulka!AV293","v":{"v":0,"d":"0.00"}},{"$f":"+[1]Tabulka!AW293","v":0},{"$f":"+[1]Tabulka!AX293","v":{"v":0,"d":"0.00"}},{"$f":"+[1]Tabulka!AY293","v":0},{"$f":"+[1]Tabulka!AZ293","v":{"v":0,"d":"0.00"}},{"$f":"+[1]Tabulka!BA293","v":0},{"$f":"+[1]Tabulka!BB293","v":{"v":0,"d":"0.00"}},{"$f":"+[1]Tabulka!BC293","v":0},{"$f":"+[1]Tabulka!BD293","v":{"v":0,"d":"0.00"}},{"$f":"+[1]Tabulka!BE293","v":0},{"$f":"+[1]Tabulka!BF293","v":{"v":0,"d":"0.00"}},{"$f":"+[1]Tabulka!BG293","v":0},{"$f":"+[1]Tabulka!BH293","v":{"v":0,"d":"0.00"}},{"$f":"+[1]Tabulka!BI293","v":0},{"$f":"+[1]Tabulka!BJ293","v":{"v":0,"d":"0.00"}},{"$f":"+[1]Tabulka!AP293","v":{"v":0,"d":"0.00"}},{"$f":"+[1]Tabulka!AQ293","v":{"v":0,"d":"0.00"}},{"$f":"+[1]Tabulka!BM293","v":{"v":0,"d":"0.00"}},{"$f":"+[1]Tabulka!BN293","v":0},{"$f":"+[1]Tabulka!BO293","v":{"v":0,"d":"0.00"}}]
[null,{"$f":"[1]Tabulka!C294","v":"MACKO"},{"$f":"[1]Tabulka!D294","v":"René"},{"$f":"[1]Tabulka!E294","v":"1999-01-01"},{"$f":"[1]Tabulka!F294","v":"Karviná-Lázně Darkov- Slovan VOKD TJ"},{"$f":"[1]Tabulka!G294","v":"KA"},{"$f":"[1]Tabulka!H294","v":0},{"$f":"+[1]Tabulka!AU294","v":0},{"$f":"+[1]Tabulka!AV294","v":{"v":0,"d":"0.00"}},{"$f":"+[1]Tabulka!AW294","v":0},{"$f":"+[1]Tabulka!AX294","v":{"v":0,"d":"0.00"}},{"$f":"+[1]Tabulka!AY294","v":0},{"$f":"+[1]Tabulka!AZ294","v":{"v":0,"d":"0.00"}},{"$f":"+[1]Tabulka!BA294","v":0},{"$f":"+[1]Tabulka!BB294","v":{"v":0,"d":"0.00"}},{"$f":"+[1]Tabulka!BC294","v":0},{"$f":"+[1]Tabulka!BD294","v":{"v":0,"d":"0.00"}},{"$f":"+[1]Tabulka!BE294","v":0},{"$f":"+[1]Tabulka!BF294","v":{"v":0,"d":"0.00"}},{"$f":"+[1]Tabulka!BG294","v":0},{"$f":"+[1]Tabulka!BH294","v":{"v":0,"d":"0.00"}},{"$f":"+[1]Tabulka!BI294","v":0},{"$f":"+[1]Tabulka!BJ294","v":{"v":0,"d":"0.00"}},{"$f":"+[1]Tabulka!AP294","v":{"v":0,"d":"0.00"}},{"$f":"+[1]Tabulka!AQ294","v":{"v":0,"d":"0.00"}},{"$f":"+[1]Tabulka!BM294","v":{"v":0,"d":"0.00"}},{"$f":"+[1]Tabulka!BN294","v":0},{"$f":"+[1]Tabulka!BO294","v":{"v":0,"d":"0.00"}}]
[null,{"$f":"[1]Tabulka!C295","v":"MALÉŘ"},{"$f":"[1]Tabulka!D295","v":"Jan"},{"$f":"[1]Tabulka!E295","v":"1998-01-01"},{"$f":"[1]Tabulka!F295","v":"Frenštát pod Radhoštěm- TJ"},{"$f":"[1]Tabulka!G295","v":"NJ"},{"$f":"[1]Tabulka!H295","v":0},{"$f":"+[1]Tabulka!AU295","v":0},{"$f":"+[1]Tabulka!AV295","v":{"v":0,"d":"0.00"}},{"$f":"+[1]Tabulka!AW295","v":0},{"$f":"+[1]Tabulka!AX295","v":{"v":0,"d":"0.00"}},{"$f":"+[1]Tabulka!AY295","v":0},{"$f":"+[1]Tabulka!AZ295","v":{"v":0,"d":"0.00"}},{"$f":"+[1]Tabulka!BA295","v":0},{"$f":"+[1]Tabulka!BB295","v":{"v":0,"d":"0.00"}},{"$f":"+[1]Tabulka!BC295","v":0},{"$f":"+[1]Tabulka!BD295","v":{"v":0,"d":"0.00"}},{"$f":"+[1]Tabulka!BE295","v":0},{"$f":"+[1]Tabulka!BF295","v":{"v":0,"d":"0.00"}},{"$f":"+[1]Tabulka!BG295","v":0},{"$f":"+[1]Tabulka!BH295","v":{"v":0,"d":"0.00"}},{"$f":"+[1]Tabulka!BI295","v":0},{"$f":"+[1]Tabulka!BJ295","v":{"v":0,"d":"0.00"}},{"$f":"+[1]Tabulka!AP295","v":{"v":0,"d":"0.00"}},{"$f":"+[1]Tabulka!AQ295","v":{"v":0,"d":"0.00"}},{"$f":"+[1]Tabulka!BM295","v":{"v":0,"d":"0.00"}},{"$f":"+[1]Tabulka!BN295","v":0},{"$f":"+[1]Tabulka!BO295","v":{"v":0,"d":"0.00"}}]
[null,{"$f":"[1]Tabulka!C296","v":"MARKUS"},{"$f":"[1]Tabulka!D296","v":"Adam"},{"$f":"[1]Tabulka!E296","v":"1997-10-13"},{"$f":"[1]Tabulka!F296","v":"Orlová- Siko TTC"},{"$f":"[1]Tabulka!G296","v":"KA"},{"$f":"[1]Tabulka!H296","v":30},{"$f":"+[1]Tabulka!AU296","v":0},{"$f":"+[1]Tabulka!AV296","v":{"v":0,"d":"0.00"}},{"$f":"+[1]Tabulka!AW296","v":0},{"$f":"+[1]Tabulka!AX296","v":{"v":0,"d":"0.00"}},{"$f":"+[1]Tabulka!AY296","v":0},{"$f":"+[1]Tabulka!AZ296","v":{"v":0,"d":"0.00"}},{"$f":"+[1]Tabulka!BA296","v":0},{"$f":"+[1]Tabulka!BB296","v":{"v":0,"d":"0.00"}},{"$f":"+[1]Tabulka!BC296","v":0},{"$f":"+[1]Tabulka!BD296","v":{"v":0,"d":"0.00"}},{"$f":"+[1]Tabulka!BE296","v":0},{"$f":"+[1]Tabulka!BF296","v":{"v":0,"d":"0.00"}},{"$f":"+[1]Tabulka!BG296","v":0},{"$f":"+[1]Tabulka!BH296","v":{"v":0,"d":"0.00"}},{"$f":"+[1]Tabulka!BI296","v":0},{"$f":"+[1]Tabulka!BJ296","v":{"v":0,"d":"0.00"}},{"$f":"+[1]Tabulka!AP296","v":{"v":0,"d":"0.00"}},{"$f":"+[1]Tabulka!AQ296","v":{"v":0,"d":"0.00"}},{"$f":"+[1]Tabulka!BM296","v":{"v":0,"d":"0.00"}},{"$f":"+[1]Tabulka!BN296","v":0},{"$f":"+[1]Tabulka!BO296","v":{"v":0,"d":"0.00"}}]
[null,{"$f":"[1]Tabulka!C297","v":"MARŠÁLEK"},{"$f":"[1]Tabulka!D297","v":"Patrik"},{"$f":"[1]Tabulka!E297","v":"1994-06-29"},{"$f":"[1]Tabulka!F297","v":"Frýdlant nad Ostravicí- SK"},{"$f":"[1]Tabulka!G297","v":"FM"},{"$f":"[1]Tabulka!H297","v":100},{"$f":"+[1]Tabulka!AU297","v":0},{"$f":"+[1]Tabulka!AV297","v":{"v":0,"d":"0.00"}},{"$f":"+[1]Tabulka!AW297","v":0},{"$f":"+[1]Tabulka!AX297","v":{"v":0,"d":"0.00"}},{"$f":"+[1]Tabulka!AY297","v":0},{"$f":"+[1]Tabulka!AZ297","v":{"v":0,"d":"0.00"}},{"$f":"+[1]Tabulka!BA297","v":0},{"$f":"+[1]Tabulka!BB297","v":{"v":0,"d":"0.00"}},{"$f":"+[1]Tabulka!BC297","v":0},{"$f":"+[1]Tabulka!BD297","v":{"v":0,"d":"0.00"}},{"$f":"+[1]Tabulka!BE297","v":0},{"$f":"+[1]Tabulka!BF297","v":{"v":0,"d":"0.00"}},{"$f":"+[1]Tabulka!BG297","v":0},{"$f":"+[1]Tabulka!BH297","v":{"v":0,"d":"0.00"}},{"$f":"+[1]Tabulka!BI297","v":0},{"$f":"+[1]Tabulka!BJ297","v":{"v":0,"d":"0.00"}},{"$f":"+[1]Tabulka!AP297","v":{"v":20.81040643751747,"d":"20.81"}},{"$f":"+[1]Tabulka!AQ297","v":{"v":3,"d":"3.00"}},{"$f":"+[1]Tabulka!BM297","v":{"v":0,"d":"0.00"}},{"$f":"+[1]Tabulka!BN297","v":0},{"$f":"+[1]Tabulka!BO297","v":{"v":0,"d":"0.00"}}]
[null,{"$f":"[1]Tabulka!C298","v":"MARTIŇÁK"},{"$f":"[1]Tabulka!D298","v":"Vojtěch"},{"$f":"[1]Tabulka!E298","v":"2002-05-17"},{"$f":"[1]Tabulka!F298","v":"Frenštát pod Radhoštěm- TJ"},{"$f":"[1]Tabulka!G298","v":"NJ"},{"$f":"[1]Tabulka!H298","v":100},{"$f":"+[1]Tabulka!AU298","v":0},{"$f":"+[1]Tabulka!AV298","v":{"v":0,"d":"0.00"}},{"$f":"+[1]Tabulka!AW298","v":0},{"$f":"+[1]Tabulka!AX298","v":{"v":0,"d":"0.00"}},{"$f":"+[1]Tabulka!AY298","v":0},{"$f":"+[1]Tabulka!AZ298","v":{"v":0,"d":"0.00"}},{"$f":"+[1]Tabulka!BA298","v":0},{"$f":"+[1]Tabulka!BB298","v":{"v":0,"d":"0.00"}},{"$f":"+[1]Tabulka!BC298","v":0},{"$f":"+[1]Tabulka!BD298","v":{"v":0,"d":"0.00"}},{"$f":"+[1]Tabulka!BE298","v":0},{"$f":"+[1]Tabulka!BF298","v":{"v":0,"d":"0.00"}},{"$f":"+[1]Tabulka!BG298","v":0},{"$f":"+[1]Tabulka!BH298","v":{"v":0,"d":"0.00"}},{"$f":"+[1]Tabulka!BI298","v":0},{"$f":"+[1]Tabulka!BJ298","v":{"v":0,"d":"0.00"}},{"$f":"+[1]Tabulka!AP298","v":{"v":0.6272727300160275,"d":"0.63"}},{"$f":"+[1]Tabulka!AQ298","v":{"v":4,"d":"4.00"}},{"$f":"+[1]Tabulka!BM298","v":{"v":0,"d":"0.00"}},{"$f":"+[1]Tabulka!BN298","v":0},{"$f":"+[1]Tabulka!BO298","v":{"v":0,"d":"0.00"}}]
[null,{"$f":"[1]Tabulka!C299","v":"MASNICA"},{"$f":"[1]Tabulka!D299","v":"Michal"},{"$f":"[1]Tabulka!E299","v":"1995-05-21"},{"$f":"[1]Tabulka!F299","v":"Kopřivnice- Tatra  ASK"},{"$f":"[1]Tabulka!G299","v":"NJ"},{"$f":"[1]Tabulka!H299","v":100},{"$f":"+[1]Tabulka!AU299","v":0},{"$f":"+[1]Tabulka!AV299","v":{"v":0,"d":"0.00"}},{"$f":"+[1]Tabulka!AW299","v":0},{"$f":"+[1]Tabulka!AX299","v":{"v":0,"d":"0.00"}},{"$f":"+[1]Tabulka!AY299","v":0},{"$f":"+[1]Tabulka!AZ299","v":{"v":0,"d":"0.00"}},{"$f":"+[1]Tabulka!BA299","v":0},{"$f":"+[1]Tabulka!BB299","v":{"v":0,"d":"0.00"}},{"$f":"+[1]Tabulka!BC299","v":0},{"$f":"+[1]Tabulka!BD299","v":{"v":0,"d":"0.00"}},{"$f":"+[1]Tabulka!BE299","v":0},{"$f":"+[1]Tabulka!BF299","v":{"v":0,"d":"0.00"}},{"$f":"+[1]Tabulka!BG299","v":0},{"$f":"+[1]Tabulka!BH299","v":{"v":0,"d":"0.00"}},{"$f":"+[1]Tabulka!BI299","v":0},{"$f":"+[1]Tabulka!BJ299","v":{"v":0,"d":"0.00"}},{"$f":"+[1]Tabulka!AP299","v":{"v":18.788420767074477,"d":"18.79"}},{"$f":"+[1]Tabulka!AQ299","v":{"v":1,"d":"1.00"}},{"$f":"+[1]Tabulka!BM299","v":{"v":0,"d":"0.00"}},{"$f":"+[1]Tabulka!BN299","v":0},{"$f":"+[1]Tabulka!BO299","v":{"v":0,"d":"0.00"}}]
[null,{"$f":"[1]Tabulka!C300","v":"MATĚJKA"},{"$f":"[1]Tabulka!D300","v":"Kamil"},{"$f":"[1]Tabulka!E300","v":"1994-05-07"},{"$f":"[1]Tabulka!F300","v":"Havířov- Baník SKST"},{"$f":"[1]Tabulka!G300","v":"KA"},{"$f":"[1]Tabulka!H300","v":100},{"$f":"+[1]Tabulka!AU300","v":0},{"$f":"+[1]Tabulka!AV300","v":{"v":0,"d":"0.00"}},{"$f":"+[1]Tabulka!AW300","v":0},{"$f":"+[1]Tabulka!AX300","v":{"v":0,"d":"0.00"}},{"$f":"+[1]Tabulka!AY300","v":0},{"$f":"+[1]Tabulka!AZ300","v":{"v":0,"d":"0.00"}},{"$f":"+[1]Tabulka!BA300","v":0},{"$f":"+[1]Tabulka!BB300","v":{"v":0,"d":"0.00"}},{"$f":"+[1]Tabulka!BC300","v":0},{"$f":"+[1]Tabulka!BD300","v":{"v":0,"d":"0.00"}},{"$f":"+[1]Tabulka!BE300","v":0},{"$f":"+[1]Tabulka!BF300","v":{"v":0,"d":"0.00"}},{"$f":"+[1]Tabulka!BG300","v":0},{"$f":"+[1]Tabulka!BH300","v":{"v":0,"d":"0.00"}},{"$f":"+[1]Tabulka!BI300","v":0},{"$f":"+[1]Tabulka!BJ300","v":{"v":0,"d":"0.00"}},{"$f":"+[1]Tabulka!AP300","v":{"v":0,"d":"0.00"}},{"$f":"+[1]Tabulka!AQ300","v":{"v":0,"d":"0.00"}},{"$f":"+[1]Tabulka!BM300","v":{"v":0,"d":"0.00"}},{"$f":"+[1]Tabulka!BN300","v":0},{"$f":"+[1]Tabulka!BO300","v":{"v":0,"d":"0.00"}}]
[null,{"$f":"[1]Tabulka!C301","v":"MIK"},{"$f":"[1]Tabulka!D301","v":"Patrick"},{"$f":"[1]Tabulka!E301","v":"1997-06-26"},{"$f":"[1]Tabulka!F301","v":"Nový Jičín- TJ"},{"$f":"[1]Tabulka!G301","v":"NJ"},{"$f":"[1]Tabulka!H301","v":100},{"$f":"+[1]Tabulka!AU301","v":0},{"$f":"+[1]Tabulka!AV301","v":{"v":0,"d":"0.00"}},{"$f":"+[1]Tabulka!AW301","v":0},{"$f":"+[1]Tabulka!AX301","v":{"v":0,"d":"0.00"}},{"$f":"+[1]Tabulka!AY301","v":0},{"$f":"+[1]Tabulka!AZ301","v":{"v":0,"d":"0.00"}},{"$f":"+[1]Tabulka!BA301","v":0},{"$f":"+[1]Tabulka!BB301","v":{"v":0,"d":"0.00"}},{"$f":"+[1]Tabulka!BC301","v":0},{"$f":"+[1]Tabulka!BD301","v":{"v":0,"d":"0.00"}},{"$f":"+[1]Tabulka!BE301","v":0},{"$f":"+[1]Tabulka!BF301","v":{"v":0,"d":"0.00"}},{"$f":"+[1]Tabulka!BG301","v":0},{"$f":"+[1]Tabulka!BH301","v":{"v":0,"d":"0.00"}},{"$f":"+[1]Tabulka!BI301","v":0},{"$f":"+[1]Tabulka!BJ301","v":{"v":0,"d":"0.00"}},{"$f":"+[1]Tabulka!AP301","v":{"v":9.213957998385274,"d":"9.21"}},{"$f":"+[1]Tabulka!AQ301","v":{"v":4,"d":"4.00"}},{"$f":"+[1]Tabulka!BM301","v":{"v":0,"d":"0.00"}},{"$f":"+[1]Tabulka!BN301","v":0},{"$f":"+[1]Tabulka!BO301","v":{"v":0,"d":"0.00"}}]
[null,{"$f":"[1]Tabulka!C302","v":"MIKOLAŠÍK"},{"$f":"[1]Tabulka!D302","v":"Michal"},{"$f":"[1]Tabulka!E302","v":"1999-02-02"},{"$f":"[1]Tabulka!F302","v":"Havířov- Baník SKST"},{"$f":"[1]Tabulka!G302","v":"KA"},{"$f":"[1]Tabulka!H302","v":100},{"$f":"+[1]Tabulka!AU302","v":0},{"$f":"+[1]Tabulka!AV302","v":{"v":0,"d":"0.00"}},{"$f":"+[1]Tabulka!AW302","v":0},{"$f":"+[1]Tabulka!AX302","v":{"v":0,"d":"0.00"}},{"$f":"+[1]Tabulka!AY302","v":0},{"$f":"+[1]Tabulka!AZ302","v":{"v":0,"d":"0.00"}},{"$f":"+[1]Tabulka!BA302","v":0},{"$f":"+[1]Tabulka!BB302","v":{"v":0,"d":"0.00"}},{"$f":"+[1]Tabulka!BC302","v":0},{"$f":"+[1]Tabulka!BD302","v":{"v":0,"d":"0.00"}},{"$f":"+[1]Tabulka!BE302","v":0},{"$f":"+[1]Tabulka!BF302","v":{"v":0,"d":"0.00"}},{"$f":"+[1]Tabulka!BG302","v":0},{"$f":"+[1]Tabulka!BH302","v":{"v":0,"d":"0.00"}},{"$f":"+[1]Tabulka!BI302","v":0},{"$f":"+[1]Tabulka!BJ302","v":{"v":0,"d":"0.00"}},{"$f":"+[1]Tabulka!AP302","v":{"v":7.260079385627469,"d":"7.26"}},{"$f":"+[1]Tabulka!AQ302","v":{"v":1,"d":"1.00"}},{"$f":"+[1]Tabulka!BM302","v":{"v":0,"d":"0.00"}},{"$f":"+[1]Tabulka!BN302","v":0},{"$f":"+[1]Tabulka!BO302","v":{"v":0,"d":"0.00"}}]
[null,{"$f":"[1]Tabulka!C303","v":"MIKUŠ"},{"$f":"[1]Tabulka!D303","v":"Ondřej"},{"$f":"[1]Tabulka!E303","v":"2000-02-20"},{"$f":"[1]Tabulka!F303","v":"Kateřinky- Sokol TJ"},{"$f":"[1]Tabulka!G303","v":"OP"},{"$f":"[1]Tabulka!H303","v":100},{"$f":"+[1]Tabulka!AU303","v":0},{"$f":"+[1]Tabulka!AV303","v":{"v":0,"d":"0.00"}},{"$f":"+[1]Tabulka!AW303","v":0},{"$f":"+[1]Tabulka!AX303","v":{"v":0,"d":"0.00"}},{"$f":"+[1]Tabulka!AY303","v":0},{"$f":"+[1]Tabulka!AZ303","v":{"v":0,"d":"0.00"}},{"$f":"+[1]Tabulka!BA303","v":0},{"$f":"+[1]Tabulka!BB303","v":{"v":0,"d":"0.00"}},{"$f":"+[1]Tabulka!BC303","v":0},{"$f":"+[1]Tabulka!BD303","v":{"v":0,"d":"0.00"}},{"$f":"+[1]Tabulka!BE303","v":0},{"$f":"+[1]Tabulka!BF303","v":{"v":0,"d":"0.00"}},{"$f":"+[1]Tabulka!BG303","v":0},{"$f":"+[1]Tabulka!BH303","v":{"v":0,"d":"0.00"}},{"$f":"+[1]Tabulka!BI303","v":0},{"$f":"+[1]Tabulka!BJ303","v":{"v":0,"d":"0.00"}},{"$f":"+[1]Tabulka!AP303","v":{"v":0.014554875776820351,"d":"0.01"}},{"$f":"+[1]Tabulka!AQ303","v":{"v":1,"d":"1.00"}},{"$f":"+[1]Tabulka!BM303","v":{"v":0,"d":"0.00"}},{"$f":"+[1]Tabulka!BN303","v":0},{"$f":"+[1]Tabulka!BO303","v":{"v":0,"d":"0.00"}}]
[null,{"$f":"[1]Tabulka!C304","v":"MUROŇ"},{"$f":"[1]Tabulka!D304","v":"Ondřej"},{"$f":"[1]Tabulka!E304","v":"1999-11-05"},{"$f":"[1]Tabulka!F304","v":"Kateřinky- Sokol TJ"},{"$f":"[1]Tabulka!G304","v":"OP"},{"$f":"[1]Tabulka!H304","v":100},{"$f":"+[1]Tabulka!AU304","v":0},{"$f":"+[1]Tabulka!AV304","v":{"v":0,"d":"0.00"}},{"$f":"+[1]Tabulka!AW304","v":0},{"$f":"+[1]Tabulka!AX304","v":{"v":0,"d":"0.00"}},{"$f":"+[1]Tabulka!AY304","v":0},{"$f":"+[1]Tabulka!AZ304","v":{"v":0,"d":"0.00"}},{"$f":"+[1]Tabulka!BA304","v":0},{"$f":"+[1]Tabulka!BB304","v":{"v":0,"d":"0.00"}},{"$f":"+[1]Tabulka!BC304","v":0},{"$f":"+[1]Tabulka!BD304","v":{"v":0,"d":"0.00"}},{"$f":"+[1]Tabulka!BE304","v":0},{"$f":"+[1]Tabulka!BF304","v":{"v":0,"d":"0.00"}},{"$f":"+[1]Tabulka!BG304","v":0},{"$f":"+[1]Tabulka!BH304","v":{"v":0,"d":"0.00"}},{"$f":"+[1]Tabulka!BI304","v":0},{"$f":"+[1]Tabulka!BJ304","v":{"v":0,"d":"0.00"}},{"$f":"+[1]Tabulka!AP304","v":{"v":0.3220407708686912,"d":"0.32"}},{"$f":"+[1]Tabulka!AQ304","v":{"v":3,"d":"3.00"}},{"$f":"+[1]Tabulka!BM304","v":{"v":0,"d":"0.00"}},{"$f":"+[1]Tabulka!BN304","v":0},{"$f":"+[1]Tabulka!BO304","v":{"v":0,"d":"0.00"}}]
[null,{"$f":"[1]Tabulka!C305","v":"NAPRAVIL"},{"$f":"[1]Tabulka!D305","v":"Daniel"},{"$f":"[1]Tabulka!E305","v":"1997-01-01"},{"$f":"[1]Tabulka!F305","v":"Karviná- KLUBsten KST"},{"$f":"[1]Tabulka!G305","v":"KA"},{"$f":"[1]Tabulka!H305","v":0},{"$f":"+[1]Tabulka!AU305","v":0},{"$f":"+[1]Tabulka!AV305","v":{"v":0,"d":"0.00"}},{"$f":"+[1]Tabulka!AW305","v":0},{"$f":"+[1]Tabulka!AX305","v":{"v":0,"d":"0.00"}},{"$f":"+[1]Tabulka!AY305","v":0},{"$f":"+[1]Tabulka!AZ305","v":{"v":0,"d":"0.00"}},{"$f":"+[1]Tabulka!BA305","v":0},{"$f":"+[1]Tabulka!BB305","v":{"v":0,"d":"0.00"}},{"$f":"+[1]Tabulka!BC305","v":0},{"$f":"+[1]Tabulka!BD305","v":{"v":0,"d":"0.00"}},{"$f":"+[1]Tabulka!BE305","v":0},{"$f":"+[1]Tabulka!BF305","v":{"v":0,"d":"0.00"}},{"$f":"+[1]Tabulka!BG305","v":0},{"$f":"+[1]Tabulka!BH305","v":{"v":0,"d":"0.00"}},{"$f":"+[1]Tabulka!BI305","v":0},{"$f":"+[1]Tabulka!BJ305","v":{"v":0,"d":"0.00"}},{"$f":"+[1]Tabulka!AP305","v":{"v":0,"d":"0.00"}},{"$f":"+[1]Tabulka!AQ305","v":{"v":0,"d":"0.00"}},{"$f":"+[1]Tabulka!BM305","v":{"v":0,"d":"0.00"}},{"$f":"+[1]Tabulka!BN305","v":0},{"$f":"+[1]Tabulka!BO305","v":{"v":0,"d":"0.00"}}]
[null,{"$f":"[1]Tabulka!C306","v":"NĚMEC"},{"$f":"[1]Tabulka!D306","v":"David"},{"$f":"[1]Tabulka!E306","v":"1995-03-14"},{"$f":"[1]Tabulka!F306","v":"Malenovice- BSK"},{"$f":"[1]Tabulka!G306","v":"FM"},{"$f":"[1]Tabulka!H306","v":100},{"$f":"+[1]Tabulka!AU306","v":0},{"$f":"+[1]Tabulka!AV306","v":{"v":0,"d":"0.00"}},{"$f":"+[1]Tabulka!AW306","v":0},{"$f":"+[1]Tabulka!AX306","v":{"v":0,"d":"0.00"}},{"$f":"+[1]Tabulka!AY306","v":0},{"$f":"+[1]Tabulka!AZ306","v":{"v":0,"d":"0.00"}},{"$f":"+[1]Tabulka!BA306","v":0},{"$f":"+[1]Tabulka!BB306","v":{"v":0,"d":"0.00"}},{"$f":"+[1]Tabulka!BC306","v":0},{"$f":"+[1]Tabulka!BD306","v":{"v":0,"d":"0.00"}},{"$f":"+[1]Tabulka!BE306","v":0},{"$f":"+[1]Tabulka!BF306","v":{"v":0,"d":"0.00"}},{"$f":"+[1]Tabulka!BG306","v":0},{"$f":"+[1]Tabulka!BH306","v":{"v":0,"d":"0.00"}},{"$f":"+[1]Tabulka!BI306","v":0},{"$f":"+[1]Tabulka!BJ306","v":{"v":0,"d":"0.00"}},{"$f":"+[1]Tabulka!AP306","v":{"v":16.503969177839124,"d":"16.50"}},{"$f":"+[1]Tabulka!AQ306","v":{"v":4,"d":"4.00"}},{"$f":"+[1]Tabulka!BM306","v":{"v":0,"d":"0.00"}},{"$f":"+[1]Tabulka!BN306","v":0},{"$f":"+[1]Tabulka!BO306","v":{"v":0,"d":"0.00"}}]
[null,{"$f":"[1]Tabulka!C307","v":"NEMÉTHOVÁ"},{"$f":"[1]Tabulka!D307","v":"Štěpánka"},{"$f":"[1]Tabulka!E307","v":"1999-01-01"},{"$f":"[1]Tabulka!F307","v":"Kopřivnice- Tatra  ASK"},{"$f":"[1]Tabulka!G307","v":"NJ"},{"$f":"[1]Tabulka!H307","v":0},{"$f":"+[1]Tabulka!AU307","v":0},{"$f":"+[1]Tabulka!AV307","v":{"v":0,"d":"0.00"}},{"$f":"+[1]Tabulka!AW307","v":0},{"$f":"+[1]Tabulka!AX307","v":{"v":0,"d":"0.00"}},{"$f":"+[1]Tabulka!AY307","v":0},{"$f":"+[1]Tabulka!AZ307","v":{"v":0,"d":"0.00"}},{"$f":"+[1]Tabulka!BA307","v":0},{"$f":"+[1]Tabulka!BB307","v":{"v":0,"d":"0.00"}},{"$f":"+[1]Tabulka!BC307","v":0},{"$f":"+[1]Tabulka!BD307","v":{"v":0,"d":"0.00"}},{"$f":"+[1]Tabulka!BE307","v":0},{"$f":"+[1]Tabulka!BF307","v":{"v":0,"d":"0.00"}},{"$f":"+[1]Tabulka!BG307","v":0},{"$f":"+[1]Tabulka!BH307","v":{"v":0,"d":"0.00"}},{"$f":"+[1]Tabulka!BI307","v":0},{"$f":"+[1]Tabulka!BJ307","v":{"v":0,"d":"0.00"}},{"$f":"+[1]Tabulka!AP307","v":{"v":0.014554875776820351,"d":"0.01"}},{"$f":"+[1]Tabulka!AQ307","v":{"v":1,"d":"1.00"}},{"$f":"+[1]Tabulka!BM307","v":{"v":0,"d":"0.00"}},{"$f":"+[1]Tabulka!BN307","v":0},{"$f":"+[1]Tabulka!BO307","v":{"v":0,"d":"0.00"}}]
[null,{"$f":"[1]Tabulka!C308","v":"NEPOŽITEK"},{"$f":"[1]Tabulka!D308","v":"Ondřej"},{"$f":"[1]Tabulka!E308","v":"1995-09-20"},{"$f":"[1]Tabulka!F308","v":"Karviná- KLUBsten KST"},{"$f":"[1]Tabulka!G308","v":"KA"},{"$f":"[1]Tabulka!H308","v":100},{"$f":"+[1]Tabulka!AU308","v":0},{"$f":"+[1]Tabulka!AV308","v":{"v":0,"d":"0.00"}},{"$f":"+[1]Tabulka!AW308","v":0},{"$f":"+[1]Tabulka!AX308","v":{"v":0,"d":"0.00"}},{"$f":"+[1]Tabulka!AY308","v":0},{"$f":"+[1]Tabulka!AZ308","v":{"v":0,"d":"0.00"}},{"$f":"+[1]Tabulka!BA308","v":0},{"$f":"+[1]Tabulka!BB308","v":{"v":0,"d":"0.00"}},{"$f":"+[1]Tabulka!BC308","v":0},{"$f":"+[1]Tabulka!BD308","v":{"v":0,"d":"0.00"}},{"$f":"+[1]Tabulka!BE308","v":0},{"$f":"+[1]Tabulka!BF308","v":{"v":0,"d":"0.00"}},{"$f":"+[1]Tabulka!BG308","v":0},{"$f":"+[1]Tabulka!BH308","v":{"v":0,"d":"0.00"}},{"$f":"+[1]Tabulka!BI308","v":0},{"$f":"+[1]Tabulka!BJ308","v":{"v":0,"d":"0.00"}},{"$f":"+[1]Tabulka!AP308","v":{"v":0,"d":"0.00"}},{"$f":"+[1]Tabulka!AQ308","v":{"v":0,"d":"0.00"}},{"$f":"+[1]Tabulka!BM308","v":{"v":0,"d":"0.00"}},{"$f":"+[1]Tabulka!BN308","v":0},{"$f":"+[1]Tabulka!BO308","v":{"v":0,"d":"0.00"}}]
[null,{"$f":"[1]Tabulka!C309","v":"NOVÁK"},{"$f":"[1]Tabulka!D309","v":"Martin"},{"$f":"[1]Tabulka!E309","v":"1997-02-09"},{"$f":"[1]Tabulka!F309","v":"Ostrava- SDDM"},{"$f":"[1]Tabulka!G309","v":"OV"},{"$f":"[1]Tabulka!H309","v":100},{"$f":"+[1]Tabulka!AU309","v":0},{"$f":"+[1]Tabulka!AV309","v":{"v":0,"d":"0.00"}},{"$f":"+[1]Tabulka!AW309","v":0},{"$f":"+[1]Tabulka!AX309","v":{"v":0,"d":"0.00"}},{"$f":"+[1]Tabulka!AY309","v":0},{"$f":"+[1]Tabulka!AZ309","v":{"v":0,"d":"0.00"}},{"$f":"+[1]Tabulka!BA309","v":0},{"$f":"+[1]Tabulka!BB309","v":{"v":0,"d":"0.00"}},{"$f":"+[1]Tabulka!BC309","v":0},{"$f":"+[1]Tabulka!BD309","v":{"v":0,"d":"0.00"}},{"$f":"+[1]Tabulka!BE309","v":0},{"$f":"+[1]Tabulka!BF309","v":{"v":0,"d":"0.00"}},{"$f":"+[1]Tabulka!BG309","v":0},{"$f":"+[1]Tabulka!BH309","v":{"v":0,"d":"0.00"}},{"$f":"+[1]Tabulka!BI309","v":0},{"$f":"+[1]Tabulka!BJ309","v":{"v":0,"d":"0.00"}},{"$f":"+[1]Tabulka!AP309","v":{"v":0.09747793477759878,"d":"0.10"}},{"$f":"+[1]Tabulka!AQ309","v":{"v":1,"d":"1.00"}},{"$f":"+[1]Tabulka!BM309","v":{"v":0,"d":"0.00"}},{"$f":"+[1]Tabulka!BN309","v":0},{"$f":"+[1]Tabulka!BO309","v":{"v":0,"d":"0.00"}}]
[null,{"$f":"[1]Tabulka!C310","v":"NOVÁK"},{"$f":"[1]Tabulka!D310","v":"Jiří"},{"$f":"[1]Tabulka!E310","v":"1999-01-01"},{"$f":"[1]Tabulka!F310","v":"Hrabůvka- Sokol TJ"},{"$f":"[1]Tabulka!G310","v":"OV"},{"$f":"[1]Tabulka!H310","v":0},{"$f":"+[1]Tabulka!AU310","v":0},{"$f":"+[1]Tabulka!AV310","v":{"v":0,"d":"0.00"}},{"$f":"+[1]Tabulka!AW310","v":0},{"$f":"+[1]Tabulka!AX310","v":{"v":0,"d":"0.00"}},{"$f":"+[1]Tabulka!AY310","v":0},{"$f":"+[1]Tabulka!AZ310","v":{"v":0,"d":"0.00"}},{"$f":"+[1]Tabulka!BA310","v":0},{"$f":"+[1]Tabulka!BB310","v":{"v":0,"d":"0.00"}},{"$f":"+[1]Tabulka!BC310","v":0},{"$f":"+[1]Tabulka!BD310","v":{"v":0,"d":"0.00"}},{"$f":"+[1]Tabulka!BE310","v":0},{"$f":"+[1]Tabulka!BF310","v":{"v":0,"d":"0.00"}},{"$f":"+[1]Tabulka!BG310","v":0},{"$f":"+[1]Tabulka!BH310","v":{"v":0,"d":"0.00"}},{"$f":"+[1]Tabulka!BI310","v":0},{"$f":"+[1]Tabulka!BJ310","v":{"v":0,"d":"0.00"}},{"$f":"+[1]Tabulka!AP310","v":{"v":0,"d":"0.00"}},{"$f":"+[1]Tabulka!AQ310","v":{"v":0,"d":"0.00"}},{"$f":"+[1]Tabulka!BM310","v":{"v":0,"d":"0.00"}},{"$f":"+[1]Tabulka!BN310","v":0},{"$f":"+[1]Tabulka!BO310","v":{"v":0,"d":"0.00"}}]
[null,{"$f":"[1]Tabulka!C311","v":"PALIČKA"},{"$f":"[1]Tabulka!D311","v":"Filip"},{"$f":"[1]Tabulka!E311","v":"1997-01-01"},{"$f":"[1]Tabulka!F311","v":"Nový Jičín- TJ"},{"$f":"[1]Tabulka!G311","v":"NJ"},{"$f":"[1]Tabulka!H311","v":0},{"$f":"+[1]Tabulka!AU311","v":0},{"$f":"+[1]Tabulka!AV311","v":{"v":0,"d":"0.00"}},{"$f":"+[1]Tabulka!AW311","v":0},{"$f":"+[1]Tabulka!AX311","v":{"v":0,"d":"0.00"}},{"$f":"+[1]Tabulka!AY311","v":0},{"$f":"+[1]Tabulka!AZ311","v":{"v":0,"d":"0.00"}},{"$f":"+[1]Tabulka!BA311","v":0},{"$f":"+[1]Tabulka!BB311","v":{"v":0,"d":"0.00"}},{"$f":"+[1]Tabulka!BC311","v":0},{"$f":"+[1]Tabulka!BD311","v":{"v":0,"d":"0.00"}},{"$f":"+[1]Tabulka!BE311","v":0},{"$f":"+[1]Tabulka!BF311","v":{"v":0,"d":"0.00"}},{"$f":"+[1]Tabulka!BG311","v":0},{"$f":"+[1]Tabulka!BH311","v":{"v":0,"d":"0.00"}},{"$f":"+[1]Tabulka!BI311","v":0},{"$f":"+[1]Tabulka!BJ311","v":{"v":0,"d":"0.00"}},{"$f":"+[1]Tabulka!AP311","v":{"v":0,"d":"0.00"}},{"$f":"+[1]Tabulka!AQ311","v":{"v":0,"d":"0.00"}},{"$f":"+[1]Tabulka!BM311","v":{"v":0,"d":"0.00"}},{"$f":"+[1]Tabulka!BN311","v":0},{"$f":"+[1]Tabulka!BO311","v":{"v":0,"d":"0.00"}}]
[null,{"$f":"[1]Tabulka!C312","v":"PAVLÍK"},{"$f":"[1]Tabulka!D312","v":"Tibor"},{"$f":"[1]Tabulka!E312","v":"1996-02-22"},{"$f":"[1]Tabulka!F312","v":"Ostrava- Mittal TJ"},{"$f":"[1]Tabulka!G312","v":"OV"},{"$f":"[1]Tabulka!H312","v":100},{"$f":"+[1]Tabulka!AU312","v":0},{"$f":"+[1]Tabulka!AV312","v":{"v":0,"d":"0.00"}},{"$f":"+[1]Tabulka!AW312","v":0},{"$f":"+[1]Tabulka!AX312","v":{"v":0,"d":"0.00"}},{"$f":"+[1]Tabulka!AY312","v":0},{"$f":"+[1]Tabulka!AZ312","v":{"v":0,"d":"0.00"}},{"$f":"+[1]Tabulka!BA312","v":0},{"$f":"+[1]Tabulka!BB312","v":{"v":0,"d":"0.00"}},{"$f":"+[1]Tabulka!BC312","v":0},{"$f":"+[1]Tabulka!BD312","v":{"v":0,"d":"0.00"}},{"$f":"+[1]Tabulka!BE312","v":0},{"$f":"+[1]Tabulka!BF312","v":{"v":0,"d":"0.00"}},{"$f":"+[1]Tabulka!BG312","v":0},{"$f":"+[1]Tabulka!BH312","v":{"v":0,"d":"0.00"}},{"$f":"+[1]Tabulka!BI312","v":0},{"$f":"+[1]Tabulka!BJ312","v":{"v":0,"d":"0.00"}},{"$f":"+[1]Tabulka!AP312","v":{"v":0,"d":"0.00"}},{"$f":"+[1]Tabulka!AQ312","v":{"v":0,"d":"0.00"}},{"$f":"+[1]Tabulka!BM312","v":{"v":0,"d":"0.00"}},{"$f":"+[1]Tabulka!BN312","v":0},{"$f":"+[1]Tabulka!BO312","v":{"v":0,"d":"0.00"}}]
[null,{"$f":"[1]Tabulka!C313","v":"PEČINKA"},{"$f":"[1]Tabulka!D313","v":"Ondřej"},{"$f":"[1]Tabulka!E313","v":"1998-04-10"},{"$f":"[1]Tabulka!F313","v":"Frýdlant nad Ostravicí- SK"},{"$f":"[1]Tabulka!G313","v":"FM"},{"$f":"[1]Tabulka!H313","v":100},{"$f":"+[1]Tabulka!AU313","v":0},{"$f":"+[1]Tabulka!AV313","v":{"v":0,"d":"0.00"}},{"$f":"+[1]Tabulka!AW313","v":0},{"$f":"+[1]Tabulka!AX313","v":{"v":0,"d":"0.00"}},{"$f":"+[1]Tabulka!AY313","v":0},{"$f":"+[1]Tabulka!AZ313","v":{"v":0,"d":"0.00"}},{"$f":"+[1]Tabulka!BA313","v":0},{"$f":"+[1]Tabulka!BB313","v":{"v":0,"d":"0.00"}},{"$f":"+[1]Tabulka!BC313","v":0},{"$f":"+[1]Tabulka!BD313","v":{"v":0,"d":"0.00"}},{"$f":"+[1]Tabulka!BE313","v":0},{"$f":"+[1]Tabulka!BF313","v":{"v":0,"d":"0.00"}},{"$f":"+[1]Tabulka!BG313","v":0},{"$f":"+[1]Tabulka!BH313","v":{"v":0,"d":"0.00"}},{"$f":"+[1]Tabulka!BI313","v":0},{"$f":"+[1]Tabulka!BJ313","v":{"v":0,"d":"0.00"}},{"$f":"+[1]Tabulka!AP313","v":{"v":11.769716404890683,"d":"11.77"}},{"$f":"+[1]Tabulka!AQ313","v":{"v":2,"d":"2.00"}},{"$f":"+[1]Tabulka!BM313","v":{"v":0,"d":"0.00"}},{"$f":"+[1]Tabulka!BN313","v":0},{"$f":"+[1]Tabulka!BO313","v":{"v":0,"d":"0.00"}}]
[null,{"$f":"[1]Tabulka!C314","v":"PECHA"},{"$f":"[1]Tabulka!D314","v":"Daniel"},{"$f":"[1]Tabulka!E314","v":"1997-01-01"},{"$f":"[1]Tabulka!F314","v":"Havířov- CSVČ sv. Jana Boska"},{"$f":"[1]Tabulka!G314","v":"KA"},{"$f":"[1]Tabulka!H314","v":0},{"$f":"+[1]Tabulka!AU314","v":0},{"$f":"+[1]Tabulka!AV314","v":{"v":0,"d":"0.00"}},{"$f":"+[1]Tabulka!AW314","v":0},{"$f":"+[1]Tabulka!AX314","v":{"v":0,"d":"0.00"}},{"$f":"+[1]Tabulka!AY314","v":0},{"$f":"+[1]Tabulka!AZ314","v":{"v":0,"d":"0.00"}},{"$f":"+[1]Tabulka!BA314","v":0},{"$f":"+[1]Tabulka!BB314","v":{"v":0,"d":"0.00"}},{"$f":"+[1]Tabulka!BC314","v":0},{"$f":"+[1]Tabulka!BD314","v":{"v":0,"d":"0.00"}},{"$f":"+[1]Tabulka!BE314","v":0},{"$f":"+[1]Tabulka!BF314","v":{"v":0,"d":"0.00"}},{"$f":"+[1]Tabulka!BG314","v":0},{"$f":"+[1]Tabulka!BH314","v":{"v":0,"d":"0.00"}},{"$f":"+[1]Tabulka!BI314","v":0},{"$f":"+[1]Tabulka!BJ314","v":{"v":0,"d":"0.00"}},{"$f":"+[1]Tabulka!AP314","v":{"v":0,"d":"0.00"}},{"$f":"+[1]Tabulka!AQ314","v":{"v":0,"d":"0.00"}},{"$f":"+[1]Tabulka!BM314","v":{"v":0,"d":"0.00"}},{"$f":"+[1]Tabulka!BN314","v":0},{"$f":"+[1]Tabulka!BO314","v":{"v":0,"d":"0.00"}}]
[null,{"$f":"[1]Tabulka!C315","v":"PILCH"},{"$f":"[1]Tabulka!D315","v":"Jakub"},{"$f":"[1]Tabulka!E315","v":"1999-07-17"},{"$f":"[1]Tabulka!F315","v":"Třinec- TŽ TJ"},{"$f":"[1]Tabulka!G315","v":"FM"},{"$f":"[1]Tabulka!H315","v":100},{"$f":"+[1]Tabulka!AU315","v":0},{"$f":"+[1]Tabulka!AV315","v":{"v":0,"d":"0.00"}},{"$f":"+[1]Tabulka!AW315","v":0},{"$f":"+[1]Tabulka!AX315","v":{"v":0,"d":"0.00"}},{"$f":"+[1]Tabulka!AY315","v":0},{"$f":"+[1]Tabulka!AZ315","v":{"v":0,"d":"0.00"}},{"$f":"+[1]Tabulka!BA315","v":0},{"$f":"+[1]Tabulka!BB315","v":{"v":0,"d":"0.00"}},{"$f":"+[1]Tabulka!BC315","v":0},{"$f":"+[1]Tabulka!BD315","v":{"v":0,"d":"0.00"}},{"$f":"+[1]Tabulka!BE315","v":0},{"$f":"+[1]Tabulka!BF315","v":{"v":0,"d":"0.00"}},{"$f":"+[1]Tabulka!BG315","v":0},{"$f":"+[1]Tabulka!BH315","v":{"v":0,"d":"0.00"}},{"$f":"+[1]Tabulka!BI315","v":0},{"$f":"+[1]Tabulka!BJ315","v":{"v":0,"d":"0.00"}},{"$f":"+[1]Tabulka!AP315","v":{"v":48.11907786942905,"d":"48.12"}},{"$f":"+[1]Tabulka!AQ315","v":{"v":4,"d":"4.00"}},{"$f":"+[1]Tabulka!BM315","v":{"v":0,"d":"0.00"}},{"$f":"+[1]Tabulka!BN315","v":0},{"$f":"+[1]Tabulka!BO315","v":{"v":0,"d":"0.00"}}]
[null,{"$f":"[1]Tabulka!C316","v":"PINKAVA"},{"$f":"[1]Tabulka!D316","v":"Jakub"},{"$f":"[1]Tabulka!E316","v":"1995-01-01"},{"$f":"[1]Tabulka!F316","v":"Brušperk- Sokol TJ"},{"$f":"[1]Tabulka!G316","v":"FM"},{"$f":"[1]Tabulka!H316","v":0},{"$f":"+[1]Tabulka!AU316","v":0},{"$f":"+[1]Tabulka!AV316","v":{"v":0,"d":"0.00"}},{"$f":"+[1]Tabulka!AW316","v":0},{"$f":"+[1]Tabulka!AX316","v":{"v":0,"d":"0.00"}},{"$f":"+[1]Tabulka!AY316","v":0},{"$f":"+[1]Tabulka!AZ316","v":{"v":0,"d":"0.00"}},{"$f":"+[1]Tabulka!BA316","v":0},{"$f":"+[1]Tabulka!BB316","v":{"v":0,"d":"0.00"}},{"$f":"+[1]Tabulka!BC316","v":0},{"$f":"+[1]Tabulka!BD316","v":{"v":0,"d":"0.00"}},{"$f":"+[1]Tabulka!BE316","v":0},{"$f":"+[1]Tabulka!BF316","v":{"v":0,"d":"0.00"}},{"$f":"+[1]Tabulka!BG316","v":0},{"$f":"+[1]Tabulka!BH316","v":{"v":0,"d":"0.00"}},{"$f":"+[1]Tabulka!BI316","v":0},{"$f":"+[1]Tabulka!BJ316","v":{"v":0,"d":"0.00"}},{"$f":"+[1]Tabulka!AP316","v":{"v":0,"d":"0.00"}},{"$f":"+[1]Tabulka!AQ316","v":{"v":0,"d":"0.00"}},{"$f":"+[1]Tabulka!BM316","v":{"v":0,"d":"0.00"}},{"$f":"+[1]Tabulka!BN316","v":0},{"$f":"+[1]Tabulka!BO316","v":{"v":0,"d":"0.00"}}]
[null,{"$f":"[1]Tabulka!C317","v":"PINTEŠ"},{"$f":"[1]Tabulka!D317","v":"Petr"},{"$f":"[1]Tabulka!E317","v":"1991-05-05"},{"$f":"[1]Tabulka!F317","v":"Brušperk- Sokol TJ"},{"$f":"[1]Tabulka!G317","v":"FM"},{"$f":"[1]Tabulka!H317","v":200},{"$f":"+[1]Tabulka!AU317","v":0},{"$f":"+[1]Tabulka!AV317","v":{"v":0,"d":"0.00"}},{"$f":"+[1]Tabulka!AW317","v":0},{"$f":"+[1]Tabulka!AX317","v":{"v":0,"d":"0.00"}},{"$f":"+[1]Tabulka!AY317","v":0},{"$f":"+[1]Tabulka!AZ317","v":{"v":0,"d":"0.00"}},{"$f":"+[1]Tabulka!BA317","v":0},{"$f":"+[1]Tabulka!BB317","v":{"v":0,"d":"0.00"}},{"$f":"+[1]Tabulka!BC317","v":0},{"$f":"+[1]Tabulka!BD317","v":{"v":0,"d":"0.00"}},{"$f":"+[1]Tabulka!BE317","v":0},{"$f":"+[1]Tabulka!BF317","v":{"v":0,"d":"0.00"}},{"$f":"+[1]Tabulka!BG317","v":0},{"$f":"+[1]Tabulka!BH317","v":{"v":0,"d":"0.00"}},{"$f":"+[1]Tabulka!BI317","v":0},{"$f":"+[1]Tabulka!BJ317","v":{"v":0,"d":"0.00"}},{"$f":"+[1]Tabulka!AP317","v":{"v":0,"d":"0.00"}},{"$f":"+[1]Tabulka!AQ317","v":{"v":0,"d":"0.00"}},{"$f":"+[1]Tabulka!BM317","v":{"v":0,"d":"0.00"}},{"$f":"+[1]Tabulka!BN317","v":0},{"$f":"+[1]Tabulka!BO317","v":{"v":0,"d":"0.00"}}]
[null,{"$f":"[1]Tabulka!C318","v":"PODŽORNÝ"},{"$f":"[1]Tabulka!D318","v":"Jiří"},{"$f":"[1]Tabulka!E318","v":"1997-05-19"},{"$f":"[1]Tabulka!F318","v":"Frenštát pod Radhoštěm- TJ"},{"$f":"[1]Tabulka!G318","v":"NJ"},{"$f":"[1]Tabulka!H318","v":100},{"$f":"+[1]Tabulka!AU318","v":0},{"$f":"+[1]Tabulka!AV318","v":{"v":0,"d":"0.00"}},{"$f":"+[1]Tabulka!AW318","v":0},{"$f":"+[1]Tabulka!AX318","v":{"v":0,"d":"0.00"}},{"$f":"+[1]Tabulka!AY318","v":0},{"$f":"+[1]Tabulka!AZ318","v":{"v":0,"d":"0.00"}},{"$f":"+[1]Tabulka!BA318","v":0},{"$f":"+[1]Tabulka!BB318","v":{"v":0,"d":"0.00"}},{"$f":"+[1]Tabulka!BC318","v":0},{"$f":"+[1]Tabulka!BD318","v":{"v":0,"d":"0.00"}},{"$f":"+[1]Tabulka!BE318","v":0},{"$f":"+[1]Tabulka!BF318","v":{"v":0,"d":"0.00"}},{"$f":"+[1]Tabulka!BG318","v":0},{"$f":"+[1]Tabulka!BH318","v":{"v":0,"d":"0.00"}},{"$f":"+[1]Tabulka!BI318","v":0},{"$f":"+[1]Tabulka!BJ318","v":{"v":0,"d":"0.00"}},{"$f":"+[1]Tabulka!AP318","v":{"v":0.1106537594995722,"d":"0.11"}},{"$f":"+[1]Tabulka!AQ318","v":{"v":1,"d":"1.00"}},{"$f":"+[1]Tabulka!BM318","v":{"v":0,"d":"0.00"}},{"$f":"+[1]Tabulka!BN318","v":0},{"$f":"+[1]Tabulka!BO318","v":{"v":0,"d":"0.00"}}]
[null,{"$f":"[1]Tabulka!C319","v":"POSPÍŠIL"},{"$f":"[1]Tabulka!D319","v":"Lukáš"},{"$f":"[1]Tabulka!E319","v":"1997-01-01"},{"$f":"[1]Tabulka!F319","v":"Frenštát pod Radhoštěm- TJ"},{"$f":"[1]Tabulka!G319","v":"NJ"},{"$f":"[1]Tabulka!H319","v":100},{"$f":"+[1]Tabulka!AU319","v":0},{"$f":"+[1]Tabulka!AV319","v":{"v":0,"d":"0.00"}},{"$f":"+[1]Tabulka!AW319","v":0},{"$f":"+[1]Tabulka!AX319","v":{"v":0,"d":"0.00"}},{"$f":"+[1]Tabulka!AY319","v":0},{"$f":"+[1]Tabulka!AZ319","v":{"v":0,"d":"0.00"}},{"$f":"+[1]Tabulka!BA319","v":0},{"$f":"+[1]Tabulka!BB319","v":{"v":0,"d":"0.00"}},{"$f":"+[1]Tabulka!BC319","v":0},{"$f":"+[1]Tabulka!BD319","v":{"v":0,"d":"0.00"}},{"$f":"+[1]Tabulka!BE319","v":0},{"$f":"+[1]Tabulka!BF319","v":{"v":0,"d":"0.00"}},{"$f":"+[1]Tabulka!BG319","v":0},{"$f":"+[1]Tabulka!BH319","v":{"v":0,"d":"0.00"}},{"$f":"+[1]Tabulka!BI319","v":0},{"$f":"+[1]Tabulka!BJ319","v":{"v":0,"d":"0.00"}},{"$f":"+[1]Tabulka!AP319","v":{"v":0.21021951618418483,"d":"0.21"}},{"$f":"+[1]Tabulka!AQ319","v":{"v":3,"d":"3.00"}},{"$f":"+[1]Tabulka!BM319","v":{"v":0,"d":"0.00"}},{"$f":"+[1]Tabulka!BN319","v":0},{"$f":"+[1]Tabulka!BO319","v":{"v":0,"d":"0.00"}}]
[null,{"$f":"[1]Tabulka!C320","v":"PROCHÁZKA"},{"$f":"[1]Tabulka!D320","v":"Zdeněk"},{"$f":"[1]Tabulka!E320","v":"1997-01-01"},{"$f":"[1]Tabulka!F320","v":"Paskov- Orel"},{"$f":"[1]Tabulka!G320","v":"FM"},{"$f":"[1]Tabulka!H320","v":0},{"$f":"+[1]Tabulka!AU320","v":0},{"$f":"+[1]Tabulka!AV320","v":{"v":0,"d":"0.00"}},{"$f":"+[1]Tabulka!AW320","v":0},{"$f":"+[1]Tabulka!AX320","v":{"v":0,"d":"0.00"}},{"$f":"+[1]Tabulka!AY320","v":0},{"$f":"+[1]Tabulka!AZ320","v":{"v":0,"d":"0.00"}},{"$f":"+[1]Tabulka!BA320","v":0},{"$f":"+[1]Tabulka!BB320","v":{"v":0,"d":"0.00"}},{"$f":"+[1]Tabulka!BC320","v":0},{"$f":"+[1]Tabulka!BD320","v":{"v":0,"d":"0.00"}},{"$f":"+[1]Tabulka!BE320","v":0},{"$f":"+[1]Tabulka!BF320","v":{"v":0,"d":"0.00"}},{"$f":"+[1]Tabulka!BG320","v":0},{"$f":"+[1]Tabulka!BH320","v":{"v":0,"d":"0.00"}},{"$f":"+[1]Tabulka!BI320","v":0},{"$f":"+[1]Tabulka!BJ320","v":{"v":0,"d":"0.00"}},{"$f":"+[1]Tabulka!AP320","v":{"v":0.07564611185515101,"d":"0.08"}},{"$f":"+[1]Tabulka!AQ320","v":{"v":1,"d":"1.00"}},{"$f":"+[1]Tabulka!BM320","v":{"v":0,"d":"0.00"}},{"$f":"+[1]Tabulka!BN320","v":0},{"$f":"+[1]Tabulka!BO320","v":{"v":0,"d":"0.00"}}]
[null,{"$f":"[1]Tabulka!C321","v":"RAJNOCH"},{"$f":"[1]Tabulka!D321","v":"Tomáš"},{"$f":"[1]Tabulka!E321","v":"1995-11-13"},{"$f":"[1]Tabulka!F321","v":"Nový Jičín- TJ"},{"$f":"[1]Tabulka!G321","v":"NJ"},{"$f":"[1]Tabulka!H321","v":100},{"$f":"+[1]Tabulka!AU321","v":0},{"$f":"+[1]Tabulka!AV321","v":{"v":0,"d":"0.00"}},{"$f":"+[1]Tabulka!AW321","v":0},{"$f":"+[1]Tabulka!AX321","v":{"v":0,"d":"0.00"}},{"$f":"+[1]Tabulka!AY321","v":0},{"$f":"+[1]Tabulka!AZ321","v":{"v":0,"d":"0.00"}},{"$f":"+[1]Tabulka!BA321","v":0},{"$f":"+[1]Tabulka!BB321","v":{"v":0,"d":"0.00"}},{"$f":"+[1]Tabulka!BC321","v":0},{"$f":"+[1]Tabulka!BD321","v":{"v":0,"d":"0.00"}},{"$f":"+[1]Tabulka!BE321","v":0},{"$f":"+[1]Tabulka!BF321","v":{"v":0,"d":"0.00"}},{"$f":"+[1]Tabulka!BG321","v":0},{"$f":"+[1]Tabulka!BH321","v":{"v":0,"d":"0.00"}},{"$f":"+[1]Tabulka!BI321","v":0},{"$f":"+[1]Tabulka!BJ321","v":{"v":0,"d":"0.00"}},{"$f":"+[1]Tabulka!AP321","v":{"v":6.814146122329029,"d":"6.81"}},{"$f":"+[1]Tabulka!AQ321","v":{"v":1,"d":"1.00"}},{"$f":"+[1]Tabulka!BM321","v":{"v":0,"d":"0.00"}},{"$f":"+[1]Tabulka!BN321","v":0},{"$f":"+[1]Tabulka!BO321","v":{"v":0,"d":"0.00"}}]
[null,{"$f":"[1]Tabulka!C322","v":"RIBKA"},{"$f":"[1]Tabulka!D322","v":"Filip"},{"$f":"[1]Tabulka!E322","v":"1995-06-26"},{"$f":"[1]Tabulka!F322","v":"Kateřinky- Sokol TJ"},{"$f":"[1]Tabulka!G322","v":"OP"},{"$f":"[1]Tabulka!H322","v":100},{"$f":"+[1]Tabulka!AU322","v":0},{"$f":"+[1]Tabulka!AV322","v":{"v":0,"d":"0.00"}},{"$f":"+[1]Tabulka!AW322","v":0},{"$f":"+[1]Tabulka!AX322","v":{"v":0,"d":"0.00"}},{"$f":"+[1]Tabulka!AY322","v":0},{"$f":"+[1]Tabulka!AZ322","v":{"v":0,"d":"0.00"}},{"$f":"+[1]Tabulka!BA322","v":0},{"$f":"+[1]Tabulka!BB322","v":{"v":0,"d":"0.00"}},{"$f":"+[1]Tabulka!BC322","v":0},{"$f":"+[1]Tabulka!BD322","v":{"v":0,"d":"0.00"}},{"$f":"+[1]Tabulka!BE322","v":0},{"$f":"+[1]Tabulka!BF322","v":{"v":0,"d":"0.00"}},{"$f":"+[1]Tabulka!BG322","v":0},{"$f":"+[1]Tabulka!BH322","v":{"v":0,"d":"0.00"}},{"$f":"+[1]Tabulka!BI322","v":0},{"$f":"+[1]Tabulka!BJ322","v":{"v":0,"d":"0.00"}},{"$f":"+[1]Tabulka!AP322","v":{"v":0.04555616874002738,"d":"0.05"}},{"$f":"+[1]Tabulka!AQ322","v":{"v":1,"d":"1.00"}},{"$f":"+[1]Tabulka!BM322","v":{"v":0,"d":"0.00"}},{"$f":"+[1]Tabulka!BN322","v":0},{"$f":"+[1]Tabulka!BO322","v":{"v":0,"d":"0.00"}}]
[null,{"$f":"[1]Tabulka!C323","v":"RYCHLÍK"},{"$f":"[1]Tabulka!D323","v":"Daniel"},{"$f":"[1]Tabulka!E323","v":"1996-04-22"},{"$f":"[1]Tabulka!F323","v":"Brušperk- Sokol TJ"},{"$f":"[1]Tabulka!G323","v":"FM"},{"$f":"[1]Tabulka!H323","v":100},{"$f":"+[1]Tabulka!AU323","v":0},{"$f":"+[1]Tabulka!AV323","v":{"v":0,"d":"0.00"}},{"$f":"+[1]Tabulka!AW323","v":0},{"$f":"+[1]Tabulka!AX323","v":{"v":0,"d":"0.00"}},{"$f":"+[1]Tabulka!AY323","v":0},{"$f":"+[1]Tabulka!AZ323","v":{"v":0,"d":"0.00"}},{"$f":"+[1]Tabulka!BA323","v":0},{"$f":"+[1]Tabulka!BB323","v":{"v":0,"d":"0.00"}},{"$f":"+[1]Tabulka!BC323","v":0},{"$f":"+[1]Tabulka!BD323","v":{"v":0,"d":"0.00"}},{"$f":"+[1]Tabulka!BE323","v":0},{"$f":"+[1]Tabulka!BF323","v":{"v":0,"d":"0.00"}},{"$f":"+[1]Tabulka!BG323","v":0},{"$f":"+[1]Tabulka!BH323","v":{"v":0,"d":"0.00"}},{"$f":"+[1]Tabulka!BI323","v":0},{"$f":"+[1]Tabulka!BJ323","v":{"v":0,"d":"0.00"}},{"$f":"+[1]Tabulka!AP323","v":{"v":2.6432866634517103,"d":"2.64"}},{"$f":"+[1]Tabulka!AQ323","v":{"v":2,"d":"2.00"}},{"$f":"+[1]Tabulka!BM323","v":{"v":0,"d":"0.00"}},{"$f":"+[1]Tabulka!BN323","v":0},{"$f":"+[1]Tabulka!BO323","v":{"v":0,"d":"0.00"}}]
[null,{"$f":"[1]Tabulka!C324","v":"ŘEZNÍČEK"},{"$f":"[1]Tabulka!D324","v":"Jakub"},{"$f":"[1]Tabulka!E324","v":"1993-01-19"},{"$f":"[1]Tabulka!F324","v":"Karviná- KLUBsten KST"},{"$f":"[1]Tabulka!G324","v":"KA"},{"$f":"[1]Tabulka!H324","v":0},{"$f":"+[1]Tabulka!AU324","v":0},{"$f":"+[1]Tabulka!AV324","v":{"v":0,"d":"0.00"}},{"$f":"+[1]Tabulka!AW324","v":0},{"$f":"+[1]Tabulka!AX324","v":{"v":0,"d":"0.00"}},{"$f":"+[1]Tabulka!AY324","v":0},{"$f":"+[1]Tabulka!AZ324","v":{"v":0,"d":"0.00"}},{"$f":"+[1]Tabulka!BA324","v":0},{"$f":"+[1]Tabulka!BB324","v":{"v":0,"d":"0.00"}},{"$f":"+[1]Tabulka!BC324","v":0},{"$f":"+[1]Tabulka!BD324","v":{"v":0,"d":"0.00"}},{"$f":"+[1]Tabulka!BE324","v":0},{"$f":"+[1]Tabulka!BF324","v":{"v":0,"d":"0.00"}},{"$f":"+[1]Tabulka!BG324","v":0},{"$f":"+[1]Tabulka!BH324","v":{"v":0,"d":"0.00"}},{"$f":"+[1]Tabulka!BI324","v":0},{"$f":"+[1]Tabulka!BJ324","v":{"v":0,"d":"0.00"}},{"$f":"+[1]Tabulka!AP324","v":{"v":0,"d":"0.00"}},{"$f":"+[1]Tabulka!AQ324","v":{"v":0,"d":"0.00"}},{"$f":"+[1]Tabulka!BM324","v":{"v":0,"d":"0.00"}},{"$f":"+[1]Tabulka!BN324","v":0},{"$f":"+[1]Tabulka!BO324","v":{"v":0,"d":"0.00"}}]
[null,{"$f":"[1]Tabulka!C325","v":"SEDLÁČKOVÁ"},{"$f":"[1]Tabulka!D325","v":"Lucie"},{"$f":"[1]Tabulka!E325","v":"1992-11-21"},{"$f":"[1]Tabulka!F325","v":"Brušperk- Sokol TJ"},{"$f":"[1]Tabulka!G325","v":"FM"},{"$f":"[1]Tabulka!H325","v":0},{"$f":"+[1]Tabulka!AU325","v":0},{"$f":"+[1]Tabulka!AV325","v":{"v":0,"d":"0.00"}},{"$f":"+[1]Tabulka!AW325","v":0},{"$f":"+[1]Tabulka!AX325","v":{"v":0,"d":"0.00"}},{"$f":"+[1]Tabulka!AY325","v":0},{"$f":"+[1]Tabulka!AZ325","v":{"v":0,"d":"0.00"}},{"$f":"+[1]Tabulka!BA325","v":0},{"$f":"+[1]Tabulka!BB325","v":{"v":0,"d":"0.00"}},{"$f":"+[1]Tabulka!BC325","v":0},{"$f":"+[1]Tabulka!BD325","v":{"v":0,"d":"0.00"}},{"$f":"+[1]Tabulka!BE325","v":0},{"$f":"+[1]Tabulka!BF325","v":{"v":0,"d":"0.00"}},{"$f":"+[1]Tabulka!BG325","v":0},{"$f":"+[1]Tabulka!BH325","v":{"v":0,"d":"0.00"}},{"$f":"+[1]Tabulka!BI325","v":0},{"$f":"+[1]Tabulka!BJ325","v":{"v":0,"d":"0.00"}},{"$f":"+[1]Tabulka!AP325","v":{"v":0,"d":"0.00"}},{"$f":"+[1]Tabulka!AQ325","v":{"v":0,"d":"0.00"}},{"$f":"+[1]Tabulka!BM325","v":{"v":0,"d":"0.00"}},{"$f":"+[1]Tabulka!BN325","v":0},{"$f":"+[1]Tabulka!BO325","v":{"v":0,"d":"0.00"}}]
[null,{"$f":"[1]Tabulka!C326","v":"SEKROS"},{"$f":"[1]Tabulka!D326","v":"Marek"},{"$f":"[1]Tabulka!E326","v":"1993-08-24"},{"$f":"[1]Tabulka!F326","v":"Dětmarovice- Sokol TJ"},{"$f":"[1]Tabulka!G326","v":"KA"},{"$f":"[1]Tabulka!H326","v":200},{"$f":"+[1]Tabulka!AU326","v":0},{"$f":"+[1]Tabulka!AV326","v":{"v":0,"d":"0.00"}},{"$f":"+[1]Tabulka!AW326","v":0},{"$f":"+[1]Tabulka!AX326","v":{"v":0,"d":"0.00"}},{"$f":"+[1]Tabulka!AY326","v":0},{"$f":"+[1]Tabulka!AZ326","v":{"v":0,"d":"0.00"}},{"$f":"+[1]Tabulka!BA326","v":0},{"$f":"+[1]Tabulka!BB326","v":{"v":0,"d":"0.00"}},{"$f":"+[1]Tabulka!BC326","v":0},{"$f":"+[1]Tabulka!BD326","v":{"v":0,"d":"0.00"}},{"$f":"+[1]Tabulka!BE326","v":0},{"$f":"+[1]Tabulka!BF326","v":{"v":0,"d":"0.00"}},{"$f":"+[1]Tabulka!BG326","v":0},{"$f":"+[1]Tabulka!BH326","v":{"v":0,"d":"0.00"}},{"$f":"+[1]Tabulka!BI326","v":0},{"$f":"+[1]Tabulka!BJ326","v":{"v":0,"d":"0.00"}},{"$f":"+[1]Tabulka!AP326","v":{"v":0,"d":"0.00"}},{"$f":"+[1]Tabulka!AQ326","v":{"v":0,"d":"0.00"}},{"$f":"+[1]Tabulka!BM326","v":{"v":0,"d":"0.00"}},{"$f":"+[1]Tabulka!BN326","v":0},{"$f":"+[1]Tabulka!BO326","v":{"v":0,"d":"0.00"}}]
[null,{"$f":"[1]Tabulka!C327","v":"SCHWARZ"},{"$f":"[1]Tabulka!D327","v":"Ota "},{"$f":"[1]Tabulka!E327","v":"1995-01-01"},{"$f":"[1]Tabulka!F327","v":"Kopřivnice- Tatra  ASK"},{"$f":"[1]Tabulka!G327","v":"NJ"},{"$f":"[1]Tabulka!H327","v":100},{"$f":"+[1]Tabulka!AU327","v":0},{"$f":"+[1]Tabulka!AV327","v":{"v":0,"d":"0.00"}},{"$f":"+[1]Tabulka!AW327","v":0},{"$f":"+[1]Tabulka!AX327","v":{"v":0,"d":"0.00"}},{"$f":"+[1]Tabulka!AY327","v":0},{"$f":"+[1]Tabulka!AZ327","v":{"v":0,"d":"0.00"}},{"$f":"+[1]Tabulka!BA327","v":0},{"$f":"+[1]Tabulka!BB327","v":{"v":0,"d":"0.00"}},{"$f":"+[1]Tabulka!BC327","v":0},{"$f":"+[1]Tabulka!BD327","v":{"v":0,"d":"0.00"}},{"$f":"+[1]Tabulka!BE327","v":0},{"$f":"+[1]Tabulka!BF327","v":{"v":0,"d":"0.00"}},{"$f":"+[1]Tabulka!BG327","v":0},{"$f":"+[1]Tabulka!BH327","v":{"v":0,"d":"0.00"}},{"$f":"+[1]Tabulka!BI327","v":0},{"$f":"+[1]Tabulka!BJ327","v":{"v":0,"d":"0.00"}},{"$f":"+[1]Tabulka!AP327","v":{"v":48.70361642155201,"d":"48.70"}},{"$f":"+[1]Tabulka!AQ327","v":{"v":3,"d":"3.00"}},{"$f":"+[1]Tabulka!BM327","v":{"v":0,"d":"0.00"}},{"$f":"+[1]Tabulka!BN327","v":0},{"$f":"+[1]Tabulka!BO327","v":{"v":0,"d":"0.00"}}]
[null,{"$f":"[1]Tabulka!C328","v":"SIKORA"},{"$f":"[1]Tabulka!D328","v":"Filip"},{"$f":"[1]Tabulka!E328","v":"1997-01-01"},{"$f":"[1]Tabulka!F328","v":"Orlová- Siko TTC"},{"$f":"[1]Tabulka!G328","v":"KA"},{"$f":"[1]Tabulka!H328","v":0},{"$f":"+[1]Tabulka!AU328","v":0},{"$f":"+[1]Tabulka!AV328","v":{"v":0,"d":"0.00"}},{"$f":"+[1]Tabulka!AW328","v":0},{"$f":"+[1]Tabulka!AX328","v":{"v":0,"d":"0.00"}},{"$f":"+[1]Tabulka!AY328","v":0},{"$f":"+[1]Tabulka!AZ328","v":{"v":0,"d":"0.00"}},{"$f":"+[1]Tabulka!BA328","v":0},{"$f":"+[1]Tabulka!BB328","v":{"v":0,"d":"0.00"}},{"$f":"+[1]Tabulka!BC328","v":0},{"$f":"+[1]Tabulka!BD328","v":{"v":0,"d":"0.00"}},{"$f":"+[1]Tabulka!BE328","v":0},{"$f":"+[1]Tabulka!BF328","v":{"v":0,"d":"0.00"}},{"$f":"+[1]Tabulka!BG328","v":0},{"$f":"+[1]Tabulka!BH328","v":{"v":0,"d":"0.00"}},{"$f":"+[1]Tabulka!BI328","v":0},{"$f":"+[1]Tabulka!BJ328","v":{"v":0,"d":"0.00"}},{"$f":"+[1]Tabulka!AP328","v":{"v":0,"d":"0.00"}},{"$f":"+[1]Tabulka!AQ328","v":{"v":0,"d":"0.00"}},{"$f":"+[1]Tabulka!BM328","v":{"v":0,"d":"0.00"}},{"$f":"+[1]Tabulka!BN328","v":0},{"$f":"+[1]Tabulka!BO328","v":{"v":0,"d":"0.00"}}]
[null,{"$f":"[1]Tabulka!C329","v":"SIKOROVÁ"},{"$f":"[1]Tabulka!D329","v":"Kamila"},{"$f":"[1]Tabulka!E329","v":"1997-02-07"},{"$f":"[1]Tabulka!F329","v":"Havířov- Baník SKST"},{"$f":"[1]Tabulka!G329","v":"KA"},{"$f":"[1]Tabulka!H329","v":100},{"$f":"+[1]Tabulka!AU329","v":0},{"$f":"+[1]Tabulka!AV329","v":{"v":0,"d":"0.00"}},{"$f":"+[1]Tabulka!AW329","v":0},{"$f":"+[1]Tabulka!AX329","v":{"v":0,"d":"0.00"}},{"$f":"+[1]Tabulka!AY329","v":0},{"$f":"+[1]Tabulka!AZ329","v":{"v":0,"d":"0.00"}},{"$f":"+[1]Tabulka!BA329","v":0},{"$f":"+[1]Tabulka!BB329","v":{"v":0,"d":"0.00"}},{"$f":"+[1]Tabulka!BC329","v":0},{"$f":"+[1]Tabulka!BD329","v":{"v":0,"d":"0.00"}},{"$f":"+[1]Tabulka!BE329","v":0},{"$f":"+[1]Tabulka!BF329","v":{"v":0,"d":"0.00"}},{"$f":"+[1]Tabulka!BG329","v":0},{"$f":"+[1]Tabulka!BH329","v":{"v":0,"d":"0.00"}},{"$f":"+[1]Tabulka!BI329","v":0},{"$f":"+[1]Tabulka!BJ329","v":{"v":0,"d":"0.00"}},{"$f":"+[1]Tabulka!AP329","v":{"v":6.395603258605236,"d":"6.40"}},{"$f":"+[1]Tabulka!AQ329","v":{"v":1,"d":"1.00"}},{"$f":"+[1]Tabulka!BM329","v":{"v":0,"d":"0.00"}},{"$f":"+[1]Tabulka!BN329","v":0},{"$f":"+[1]Tabulka!BO329","v":{"v":0,"d":"0.00"}}]
[null,{"$f":"[1]Tabulka!C330","v":"SLOBODNÍK"},{"$f":"[1]Tabulka!D330","v":"Martin"},{"$f":"[1]Tabulka!E330","v":"2000-01-31"},{"$f":"[1]Tabulka!F330","v":"Hrabůvka- Sokol TJ"},{"$f":"[1]Tabulka!G330","v":"OV"},{"$f":"[1]Tabulka!H330","v":100},{"$f":"+[1]Tabulka!AU330","v":0},{"$f":"+[1]Tabulka!AV330","v":{"v":0,"d":"0.00"}},{"$f":"+[1]Tabulka!AW330","v":0},{"$f":"+[1]Tabulka!AX330","v":{"v":0,"d":"0.00"}},{"$f":"+[1]Tabulka!AY330","v":0},{"$f":"+[1]Tabulka!AZ330","v":{"v":0,"d":"0.00"}},{"$f":"+[1]Tabulka!BA330","v":0},{"$f":"+[1]Tabulka!BB330","v":{"v":0,"d":"0.00"}},{"$f":"+[1]Tabulka!BC330","v":0},{"$f":"+[1]Tabulka!BD330","v":{"v":0,"d":"0.00"}},{"$f":"+[1]Tabulka!BE330","v":0},{"$f":"+[1]Tabulka!BF330","v":{"v":0,"d":"0.00"}},{"$f":"+[1]Tabulka!BG330","v":0},{"$f":"+[1]Tabulka!BH330","v":{"v":0,"d":"0.00"}},{"$f":"+[1]Tabulka!BI330","v":0},{"$f":"+[1]Tabulka!BJ330","v":{"v":0,"d":"0.00"}},{"$f":"+[1]Tabulka!AP330","v":{"v":0.32506853675442354,"d":"0.33"}},{"$f":"+[1]Tabulka!AQ330","v":{"v":1,"d":"1.00"}},{"$f":"+[1]Tabulka!BM330","v":{"v":0,"d":"0.00"}},{"$f":"+[1]Tabulka!BN330","v":0},{"$f":"+[1]Tabulka!BO330","v":{"v":0,"d":"0.00"}}]
[null,{"$f":"[1]Tabulka!C331","v":"SOUDIL"},{"$f":"[1]Tabulka!D331","v":"Adam"},{"$f":"[1]Tabulka!E331","v":"2001-10-03"},{"$f":"[1]Tabulka!F331","v":"Frenštát pod Radhoštěm- TJ"},{"$f":"[1]Tabulka!G331","v":"NJ"},{"$f":"[1]Tabulka!H331","v":100},{"$f":"+[1]Tabulka!AU331","v":0},{"$f":"+[1]Tabulka!AV331","v":{"v":0,"d":"0.00"}},{"$f":"+[1]Tabulka!AW331","v":0},{"$f":"+[1]Tabulka!AX331","v":{"v":0,"d":"0.00"}},{"$f":"+[1]Tabulka!AY331","v":0},{"$f":"+[1]Tabulka!AZ331","v":{"v":0,"d":"0.00"}},{"$f":"+[1]Tabulka!BA331","v":0},{"$f":"+[1]Tabulka!BB331","v":{"v":0,"d":"0.00"}},{"$f":"+[1]Tabulka!BC331","v":0},{"$f":"+[1]Tabulka!BD331","v":{"v":0,"d":"0.00"}},{"$f":"+[1]Tabulka!BE331","v":0},{"$f":"+[1]Tabulka!BF331","v":{"v":0,"d":"0.00"}},{"$f":"+[1]Tabulka!BG331","v":0},{"$f":"+[1]Tabulka!BH331","v":{"v":0,"d":"0.00"}},{"$f":"+[1]Tabulka!BI331","v":0},{"$f":"+[1]Tabulka!BJ331","v":{"v":0,"d":"0.00"}},{"$f":"+[1]Tabulka!AP331","v":{"v":0.23650354649247707,"d":"0.24"}},{"$f":"+[1]Tabulka!AQ331","v":{"v":3,"d":"3.00"}},{"$f":"+[1]Tabulka!BM331","v":{"v":0,"d":"0.00"}},{"$f":"+[1]Tabulka!BN331","v":0},{"$f":"+[1]Tabulka!BO331","v":{"v":0,"d":"0.00"}}]
[null,{"$f":"[1]Tabulka!C332","v":"STAVÁREK"},{"$f":"[1]Tabulka!D332","v":"Václav"},{"$f":"[1]Tabulka!E332","v":"1994-07-22"},{"$f":"[1]Tabulka!F332","v":"Frenštát pod Radhoštěm- TJ"},{"$f":"[1]Tabulka!G332","v":"NJ"},{"$f":"[1]Tabulka!H332","v":100},{"$f":"+[1]Tabulka!AU332","v":0},{"$f":"+[1]Tabulka!AV332","v":{"v":0,"d":"0.00"}},{"$f":"+[1]Tabulka!AW332","v":0},{"$f":"+[1]Tabulka!AX332","v":{"v":0,"d":"0.00"}},{"$f":"+[1]Tabulka!AY332","v":0},{"$f":"+[1]Tabulka!AZ332","v":{"v":0,"d":"0.00"}},{"$f":"+[1]Tabulka!BA332","v":0},{"$f":"+[1]Tabulka!BB332","v":{"v":0,"d":"0.00"}},{"$f":"+[1]Tabulka!BC332","v":0},{"$f":"+[1]Tabulka!BD332","v":{"v":0,"d":"0.00"}},{"$f":"+[1]Tabulka!BE332","v":0},{"$f":"+[1]Tabulka!BF332","v":{"v":0,"d":"0.00"}},{"$f":"+[1]Tabulka!BG332","v":0},{"$f":"+[1]Tabulka!BH332","v":{"v":0,"d":"0.00"}},{"$f":"+[1]Tabulka!BI332","v":0},{"$f":"+[1]Tabulka!BJ332","v":{"v":0,"d":"0.00"}},{"$f":"+[1]Tabulka!AP332","v":{"v":0.8963007744529867,"d":"0.90"}},{"$f":"+[1]Tabulka!AQ332","v":{"v":1,"d":"1.00"}},{"$f":"+[1]Tabulka!BM332","v":{"v":0,"d":"0.00"}},{"$f":"+[1]Tabulka!BN332","v":0},{"$f":"+[1]Tabulka!BO332","v":{"v":0,"d":"0.00"}}]
[null,{"$f":"[1]Tabulka!C333","v":"SVOBODA"},{"$f":"[1]Tabulka!D333","v":"Lukáš"},{"$f":"[1]Tabulka!E333","v":"1999-01-18"},{"$f":"[1]Tabulka!F333","v":"Český Těšín- SKST"},{"$f":"[1]Tabulka!G333","v":"KA"},{"$f":"[1]Tabulka!H333","v":100},{"$f":"+[1]Tabulka!AU333","v":0},{"$f":"+[1]Tabulka!AV333","v":{"v":0,"d":"0.00"}},{"$f":"+[1]Tabulka!AW333","v":0},{"$f":"+[1]Tabulka!AX333","v":{"v":0,"d":"0.00"}},{"$f":"+[1]Tabulka!AY333","v":0},{"$f":"+[1]Tabulka!AZ333","v":{"v":0,"d":"0.00"}},{"$f":"+[1]Tabulka!BA333","v":0},{"$f":"+[1]Tabulka!BB333","v":{"v":0,"d":"0.00"}},{"$f":"+[1]Tabulka!BC333","v":0},{"$f":"+[1]Tabulka!BD333","v":{"v":0,"d":"0.00"}},{"$f":"+[1]Tabulka!BE333","v":0},{"$f":"+[1]Tabulka!BF333","v":{"v":0,"d":"0.00"}},{"$f":"+[1]Tabulka!BG333","v":0},{"$f":"+[1]Tabulka!BH333","v":{"v":0,"d":"0.00"}},{"$f":"+[1]Tabulka!BI333","v":0},{"$f":"+[1]Tabulka!BJ333","v":{"v":0,"d":"0.00"}},{"$f":"+[1]Tabulka!AP333","v":{"v":0.5888865754156639,"d":"0.59"}},{"$f":"+[1]Tabulka!AQ333","v":{"v":2,"d":"2.00"}},{"$f":"+[1]Tabulka!BM333","v":{"v":0,"d":"0.00"}},{"$f":"+[1]Tabulka!BN333","v":0},{"$f":"+[1]Tabulka!BO333","v":{"v":0,"d":"0.00"}}]
[null,{"$f":"[1]Tabulka!C334","v":"SÝKORA"},{"$f":"[1]Tabulka!D334","v":"Marek"},{"$f":"[1]Tabulka!E334","v":"1997-07-29"},{"$f":"[1]Tabulka!F334","v":"Ostrava- Mittal TJ"},{"$f":"[1]Tabulka!G334","v":"OV"},{"$f":"[1]Tabulka!H334","v":100},{"$f":"+[1]Tabulka!AU334","v":0},{"$f":"+[1]Tabulka!AV334","v":{"v":0,"d":"0.00"}},{"$f":"+[1]Tabulka!AW334","v":0},{"$f":"+[1]Tabulka!AX334","v":{"v":0,"d":"0.00"}},{"$f":"+[1]Tabulka!AY334","v":0},{"$f":"+[1]Tabulka!AZ334","v":{"v":0,"d":"0.00"}},{"$f":"+[1]Tabulka!BA334","v":0},{"$f":"+[1]Tabulka!BB334","v":{"v":0,"d":"0.00"}},{"$f":"+[1]Tabulka!BC334","v":0},{"$f":"+[1]Tabulka!BD334","v":{"v":0,"d":"0.00"}},{"$f":"+[1]Tabulka!BE334","v":0},{"$f":"+[1]Tabulka!BF334","v":{"v":0,"d":"0.00"}},{"$f":"+[1]Tabulka!BG334","v":0},{"$f":"+[1]Tabulka!BH334","v":{"v":0,"d":"0.00"}},{"$f":"+[1]Tabulka!BI334","v":0},{"$f":"+[1]Tabulka!BJ334","v":{"v":0,"d":"0.00"}},{"$f":"+[1]Tabulka!AP334","v":{"v":0,"d":"0.00"}},{"$f":"+[1]Tabulka!AQ334","v":{"v":0,"d":"0.00"}},{"$f":"+[1]Tabulka!BM334","v":{"v":0,"d":"0.00"}},{"$f":"+[1]Tabulka!BN334","v":0},{"$f":"+[1]Tabulka!BO334","v":{"v":0,"d":"0.00"}}]
[null,{"$f":"[1]Tabulka!C335","v":"SZWARC"},{"$f":"[1]Tabulka!D335","v":"Matěj"},{"$f":"[1]Tabulka!E335","v":"2001-07-08"},{"$f":"[1]Tabulka!F335","v":"Třinec- TŽ TJ"},{"$f":"[1]Tabulka!G335","v":"FM"},{"$f":"[1]Tabulka!H335","v":100},{"$f":"+[1]Tabulka!AU335","v":0},{"$f":"+[1]Tabulka!AV335","v":{"v":0,"d":"0.00"}},{"$f":"+[1]Tabulka!AW335","v":0},{"$f":"+[1]Tabulka!AX335","v":{"v":0,"d":"0.00"}},{"$f":"+[1]Tabulka!AY335","v":0},{"$f":"+[1]Tabulka!AZ335","v":{"v":0,"d":"0.00"}},{"$f":"+[1]Tabulka!BA335","v":0},{"$f":"+[1]Tabulka!BB335","v":{"v":0,"d":"0.00"}},{"$f":"+[1]Tabulka!BC335","v":0},{"$f":"+[1]Tabulka!BD335","v":{"v":0,"d":"0.00"}},{"$f":"+[1]Tabulka!BE335","v":0},{"$f":"+[1]Tabulka!BF335","v":{"v":0,"d":"0.00"}},{"$f":"+[1]Tabulka!BG335","v":0},{"$f":"+[1]Tabulka!BH335","v":{"v":0,"d":"0.00"}},{"$f":"+[1]Tabulka!BI335","v":0},{"$f":"+[1]Tabulka!BJ335","v":{"v":0,"d":"0.00"}},{"$f":"+[1]Tabulka!AP335","v":{"v":0.014554875776820351,"d":"0.01"}},{"$f":"+[1]Tabulka!AQ335","v":{"v":1,"d":"1.00"}},{"$f":"+[1]Tabulka!BM335","v":{"v":0,"d":"0.00"}},{"$f":"+[1]Tabulka!BN335","v":0},{"$f":"+[1]Tabulka!BO335","v":{"v":0,"d":"0.00"}}]
[null,{"$f":"[1]Tabulka!C336","v":"ŠINDLER"},{"$f":"[1]Tabulka!D336","v":"Jaroslav"},{"$f":"[1]Tabulka!E336","v":"1997-07-14"},{"$f":"[1]Tabulka!F336","v":"Frenštát pod Radhoštěm- TJ"},{"$f":"[1]Tabulka!G336","v":"NJ"},{"$f":"[1]Tabulka!H336","v":100},{"$f":"+[1]Tabulka!AU336","v":0},{"$f":"+[1]Tabulka!AV336","v":{"v":0,"d":"0.00"}},{"$f":"+[1]Tabulka!AW336","v":0},{"$f":"+[1]Tabulka!AX336","v":{"v":0,"d":"0.00"}},{"$f":"+[1]Tabulka!AY336","v":0},{"$f":"+[1]Tabulka!AZ336","v":{"v":0,"d":"0.00"}},{"$f":"+[1]Tabulka!BA336","v":0},{"$f":"+[1]Tabulka!BB336","v":{"v":0,"d":"0.00"}},{"$f":"+[1]Tabulka!BC336","v":0},{"$f":"+[1]Tabulka!BD336","v":{"v":0,"d":"0.00"}},{"$f":"+[1]Tabulka!BE336","v":0},{"$f":"+[1]Tabulka!BF336","v":{"v":0,"d":"0.00"}},{"$f":"+[1]Tabulka!BG336","v":0},{"$f":"+[1]Tabulka!BH336","v":{"v":0,"d":"0.00"}},{"$f":"+[1]Tabulka!BI336","v":0},{"$f":"+[1]Tabulka!BJ336","v":{"v":0,"d":"0.00"}},{"$f":"+[1]Tabulka!AP336","v":{"v":2.9503848026250843,"d":"2.95"}},{"$f":"+[1]Tabulka!AQ336","v":{"v":3,"d":"3.00"}},{"$f":"+[1]Tabulka!BM336","v":{"v":0,"d":"0.00"}},{"$f":"+[1]Tabulka!BN336","v":0},{"$f":"+[1]Tabulka!BO336","v":{"v":0,"d":"0.00"}}]
[null,{"$f":"[1]Tabulka!C337","v":"ŠIRUČEK"},{"$f":"[1]Tabulka!D337","v":"Pavel"},{"$f":"[1]Tabulka!E337","v":"1992-11-20"},{"$f":"[1]Tabulka!F337","v":"Havířov- Baník SKST"},{"$f":"[1]Tabulka!G337","v":"KA"},{"$f":"[1]Tabulka!H337","v":200},{"$f":"+[1]Tabulka!AU337","v":0},{"$f":"+[1]Tabulka!AV337","v":{"v":0,"d":"0.00"}},{"$f":"+[1]Tabulka!AW337","v":0},{"$f":"+[1]Tabulka!AX337","v":{"v":0,"d":"0.00"}},{"$f":"+[1]Tabulka!AY337","v":0},{"$f":"+[1]Tabulka!AZ337","v":{"v":0,"d":"0.00"}},{"$f":"+[1]Tabulka!BA337","v":0},{"$f":"+[1]Tabulka!BB337","v":{"v":0,"d":"0.00"}},{"$f":"+[1]Tabulka!BC337","v":0},{"$f":"+[1]Tabulka!BD337","v":{"v":0,"d":"0.00"}},{"$f":"+[1]Tabulka!BE337","v":0},{"$f":"+[1]Tabulka!BF337","v":{"v":0,"d":"0.00"}},{"$f":"+[1]Tabulka!BG337","v":0},{"$f":"+[1]Tabulka!BH337","v":{"v":0,"d":"0.00"}},{"$f":"+[1]Tabulka!BI337","v":0},{"$f":"+[1]Tabulka!BJ337","v":{"v":0,"d":"0.00"}},{"$f":"+[1]Tabulka!AP337","v":{"v":0,"d":"0.00"}},{"$f":"+[1]Tabulka!AQ337","v":{"v":0,"d":"0.00"}},{"$f":"+[1]Tabulka!BM337","v":{"v":0,"d":"0.00"}},{"$f":"+[1]Tabulka!BN337","v":0},{"$f":"+[1]Tabulka!BO337","v":{"v":0,"d":"0.00"}}]
[null,{"$f":"[1]Tabulka!C338","v":"ŠLOSAR"},{"$f":"[1]Tabulka!D338","v":"Marek"},{"$f":"[1]Tabulka!E338","v":"1993-12-08"},{"$f":"[1]Tabulka!F338","v":"Frenštát pod Radhoštěm- TJ"},{"$f":"[1]Tabulka!G338","v":"NJ"},{"$f":"[1]Tabulka!H338","v":200},{"$f":"+[1]Tabulka!AU338","v":0},{"$f":"+[1]Tabulka!AV338","v":{"v":0,"d":"0.00"}},{"$f":"+[1]Tabulka!AW338","v":0},{"$f":"+[1]Tabulka!AX338","v":{"v":0,"d":"0.00"}},{"$f":"+[1]Tabulka!AY338","v":0},{"$f":"+[1]Tabulka!AZ338","v":{"v":0,"d":"0.00"}},{"$f":"+[1]Tabulka!BA338","v":0},{"$f":"+[1]Tabulka!BB338","v":{"v":0,"d":"0.00"}},{"$f":"+[1]Tabulka!BC338","v":0},{"$f":"+[1]Tabulka!BD338","v":{"v":0,"d":"0.00"}},{"$f":"+[1]Tabulka!BE338","v":0},{"$f":"+[1]Tabulka!BF338","v":{"v":0,"d":"0.00"}},{"$f":"+[1]Tabulka!BG338","v":0},{"$f":"+[1]Tabulka!BH338","v":{"v":0,"d":"0.00"}},{"$f":"+[1]Tabulka!BI338","v":0},{"$f":"+[1]Tabulka!BJ338","v":{"v":0,"d":"0.00"}},{"$f":"+[1]Tabulka!AP338","v":{"v":0,"d":"0.00"}},{"$f":"+[1]Tabulka!AQ338","v":{"v":0,"d":"0.00"}},{"$f":"+[1]Tabulka!BM338","v":{"v":0,"d":"0.00"}},{"$f":"+[1]Tabulka!BN338","v":0},{"$f":"+[1]Tabulka!BO338","v":{"v":0,"d":"0.00"}}]
[null,{"$f":"[1]Tabulka!C339","v":"ŠTEFÁNKOVÁ"},{"$f":"[1]Tabulka!D339","v":"Šarlota"},{"$f":"[1]Tabulka!E339","v":"2003-01-01"},{"$f":"[1]Tabulka!F339","v":"Frýdlant nad Ostravicí- SK"},{"$f":"[1]Tabulka!G339","v":"FM"},{"$f":"[1]Tabulka!H339","v":0},{"$f":"+[1]Tabulka!AU339","v":0},{"$f":"+[1]Tabulka!AV339","v":{"v":0,"d":"0.00"}},{"$f":"+[1]Tabulka!AW339","v":0},{"$f":"+[1]Tabulka!AX339","v":{"v":0,"d":"0.00"}},{"$f":"+[1]Tabulka!AY339","v":0},{"$f":"+[1]Tabulka!AZ339","v":{"v":0,"d":"0.00"}},{"$f":"+[1]Tabulka!BA339","v":0},{"$f":"+[1]Tabulka!BB339","v":{"v":0,"d":"0.00"}},{"$f":"+[1]Tabulka!BC339","v":0},{"$f":"+[1]Tabulka!BD339","v":{"v":0,"d":"0.00"}},{"$f":"+[1]Tabulka!BE339","v":0},{"$f":"+[1]Tabulka!BF339","v":{"v":0,"d":"0.00"}},{"$f":"+[1]Tabulka!BG339","v":0},{"$f":"+[1]Tabulka!BH339","v":{"v":0,"d":"0.00"}},{"$f":"+[1]Tabulka!BI339","v":0},{"$f":"+[1]Tabulka!BJ339","v":{"v":0,"d":"0.00"}},{"$f":"+[1]Tabulka!AP339","v":{"v":0.06254560948847007,"d":"0.06"}},{"$f":"+[1]Tabulka!AQ339","v":{"v":1,"d":"1.00"}},{"$f":"+[1]Tabulka!BM339","v":{"v":0,"d":"0.00"}},{"$f":"+[1]Tabulka!BN339","v":0},{"$f":"+[1]Tabulka!BO339","v":{"v":0,"d":"0.00"}}]
[null,{"$f":"[1]Tabulka!C340","v":"ŠTÍPAL"},{"$f":"[1]Tabulka!D340","v":"Jiří"},{"$f":"[1]Tabulka!E340","v":"1996-10-11"},{"$f":"[1]Tabulka!F340","v":"Ostrava- Mittal TJ"},{"$f":"[1]Tabulka!G340","v":"OV"},{"$f":"[1]Tabulka!H340","v":100},{"$f":"+[1]Tabulka!AU340","v":0},{"$f":"+[1]Tabulka!AV340","v":{"v":0,"d":"0.00"}},{"$f":"+[1]Tabulka!AW340","v":0},{"$f":"+[1]Tabulka!AX340","v":{"v":0,"d":"0.00"}},{"$f":"+[1]Tabulka!AY340","v":0},{"$f":"+[1]Tabulka!AZ340","v":{"v":0,"d":"0.00"}},{"$f":"+[1]Tabulka!BA340","v":0},{"$f":"+[1]Tabulka!BB340","v":{"v":0,"d":"0.00"}},{"$f":"+[1]Tabulka!BC340","v":0},{"$f":"+[1]Tabulka!BD340","v":{"v":0,"d":"0.00"}},{"$f":"+[1]Tabulka!BE340","v":0},{"$f":"+[1]Tabulka!BF340","v":{"v":0,"d":"0.00"}},{"$f":"+[1]Tabulka!BG340","v":0},{"$f":"+[1]Tabulka!BH340","v":{"v":0,"d":"0.00"}},{"$f":"+[1]Tabulka!BI340","v":0},{"$f":"+[1]Tabulka!BJ340","v":{"v":0,"d":"0.00"}},{"$f":"+[1]Tabulka!AP340","v":{"v":0.4805903340441687,"d":"0.48"}},{"$f":"+[1]Tabulka!AQ340","v":{"v":3,"d":"3.00"}},{"$f":"+[1]Tabulka!BM340","v":{"v":0,"d":"0.00"}},{"$f":"+[1]Tabulka!BN340","v":0},{"$f":"+[1]Tabulka!BO340","v":{"v":0,"d":"0.00"}}]

{"sheet":"Dorost","index":1,"n_rows":264,"n_cols":88,"rows_kept":264,"merged":[[2,1,2,6],[2,7,2,8],[2,9,2,10],[2,11,2,12],[2,13,2,14],[2,15,2,16],[2,17,2,18],[2,19,2,20],[2,21,2,22]]}
["PRŮBĚŽNÉ BODOVÉ POŘADÍ RBTM A PR KARVINÁ DOROSTU"]
[]
[null," - započítává se 5 nejlepších turnajů z 8 odehraných za poslední rok",{"$nulls":5},"KARVINÁ 17.9.2011",null,"HAVÍŘOV 24.9.2011",null,"KARVINÁ 3.12.2011",null,"HAVÍŘOV 7.1.2012",null,"HAVÍŘOV 4.2.2012",null,"KARVINÁ 19.3.2011",null,"KARVINÁ 16.4.2011",null,"KARVINÁ 14.5.2011"]
[{"$nulls":7},{"$f":"+[2]Tabulka!AU609","v":33},{"$f":"SUBTOTAL(9,I6:I300)","v":66.43500059111345},{"$f":"+[2]Tabulka!AW609","v":37},{"$f":"SUBTOTAL(9,K6:K300)","v":68.75262064778397},{"$f":"+[2]Tabulka!AY609","v":41},{"$f":"SUBTOTAL(9,M6:M300)","v":69.89072590382834},{"$f":"+[2]Tabulka!BA609","v":53},{"$f":"SUBTOTAL(9,O6:O300)","v":73.1584565825854},{"$f":"+[2]Tabulka!BC609","v":35},{"$f":"SUBTOTAL(9,Q6:Q300)","v":67.54915988470488},{"$f":"+[2]Tabulka!BE609","v":32},{"$f":"SUBTOTAL(9,S6:S300)","v":58.353517709842535},{"$f":"+[2]Tabulka!BG609","v":47},{"$f":"SUBTOTAL(9,U6:U300)","v":66.55351455656704},{"$f":"+[2]Tabulka!BI609","v":32},{"$f":"SUBTOTAL(9,W6:W300)","v":60.1703838341271},{"$f":"+[2]Tabulka!AP5","v":0},{"$f":"+[2]Tabulka!AQ5","v":0},{"$f":"+[2]Tabulka!AR5","v":0},null,{"$f":"+[2]Tabulka!AT5","v":0}]
[{"$f":"SUBTOTAL(3,A6:A265)","v":89},{"$f":"[2]Tabulka!C6","v":"Přijmení"},{"$f":"[2]Tabulka!D6","v":"jméno"},{"$f":"[2]Tabulka!E6","v":"nar."},{"$f":"[2]Tabulka!F6","v":"oddíl-klub"},{"$f":"[2]Tabulka!G6","v":"okr"},{"$f":"[2]Tabulka!H6","v":"pop"},{"$f":"+[2]Tabulka!Z6","v":"um."},{"$f":"+[2]Tabulka!AA6","v":"b."},{"$f":"+[2]Tabulka!AB6","v":"um."},{"$f":"+[2]Tabulka!AC6","v":"b."},{"$f":"+[2]Tabulka!AD6","v":"um."},{"$f":"+[2]Tabulka!AE6","v":"b."},{"$f":"+[2]Tabulka!AF6","v":"um."},{"$f":"+[2]Tabulka!AG6","v":"b."},{"$f":"+[2]Tabulka!AH6","v":"um."},{"$f":"+[2]Tabulka!AI6","v":"b."},{"$f":"+[2]Tabulka!AJ6","v":"um."},{"$f":"+[2]Tabulka!AK6","v":"b."},{"$f":"+[2]Tabulka!AL6","v":"um."},{"$f":"+[2]Tabulka!AM6","v":"b."},{"$f":"+[2]Tabulka!AN6","v":"um."},{"$f":"+[2]Tabulka!AO6","v":"b."},{"$f":"+[2]Tabulka!AP6","v":"I."},{"$f":"+[2]Tabulka!AQ6","v":"t"},{"$f":"+[2]Tabulka!AR6","v":"I.+II."},{"$f":"+[2]Tabulka!AS6","v":"t"},{"$f":"+[2]Tabulka!AT6","v":"R"},{"$nulls":6},{"$f":"[2]Tabulka!DG6","v":0},{"$f":"[2]Tabulka!DH6","v":0},{"$f":"[2]Tabulka!DI6","v":0},{"$f":"[2]Tabulka!DJ6","v":0},{"$f":"[2]Tabulka!DK6","v":0},{"$f":"[2]Tabulka!DL6","v":0},{"$f":"[2]Tabulka!DM6","v":0},{"$f":"[2]Tabulka!DN6","v":0},{"$f":"[2]Tabulka!DO6","v":0},{"$f":"[2]Tabulka!DP6","v":0},{"$f":"[2]Tabulka!DQ6","v":0},{"$f":"[2]Tabulka!DR6","v":0},{"$f":"[2]Tabulka!DS6","v":0},{"$f":"[2]Tabulka!DT6","v":0},{"$f":"[2]Tabulka!DU6","v":0},{"$f":"[2]Tabulka!DV6","v":0},{"$f":"[2]Tabulka!DW6","v":0},{"$f":"[2]Tabulka!DX6","v":0},{"$f":"[2]Tabulka!DY6","v":0},{"$f":"[2]Tabulka!DZ6","v":0},{"$f":"[2]Tabulka!EA6","v":0},{"$f":"[2]Tabulka!EB6","v":0},{"$f":"[2]Tabulka!EC6","v":0},{"$f":"[2]Tabulka!ED6","v":0},{"$f":"[2]Tabulka!EE6","v":0},{"$f":"[2]Tabulka!EF6","v":0},{"$f":"[2]Tabulka!EG6","v":0},{"$f":"[2]Tabulka!EH6","v":0},{"$f":"[2]Tabulka!EI6","v":0},{"$f":"[2]Tabulka!EJ6","v":0},{"$f":"[2]Tabulka!EK6","v":0},{"$f":"[2]Tabulka!EL6","v":0},{"$f":"[2]Tabulka!EM6","v":0},{"$f":"[2]Tabulka!EN6","v":0},{"$f":"[2]Tabulka!EO6","v":0},{"$f":"[2]Tabulka!EP6","v":0},{"$f":"[2]Tabulka!EQ6","v":0},{"$f":"[2]Tabulka!ER6","v":0},{"$f":"[2]Tabulka!ES6","v":0},{"$f":"[2]Tabulka!ET6","v":0},{"$f":"[2]Tabulka!EU6","v":0},{"$f":"[2]Tabulka!EV6","v":0},{"$f":"[2]Tabulka!EW6","v":0},{"$f":"[2]Tabulka!EX6","v":0},{"$f":"[2]Tabulka!EY6","v":0},{"$f":"[2]Tabulka!EZ6","v":0},{"$f":"[2]Tabulka!FA6","v":0},{"$f":"[2]Tabulka!FB6","v":0},{"$f":"[2]Tabulka!FC6","v":0},{"$f":"[2]Tabulka!FD6","v":0},{"$f":"[2]Tabulka!FE6","v":0},{"$f":"[2]Tabulka!FF6","v":0},{"$f":"[2]Tabulka!FG6","v":0},{"$f":"[2]Tabulka!FH6","v":0}]
[1,{"$f":"[2]Tabulka!C7","v":"ŠTĚTINA"},{"$f":"[2]Tabulka!D7","v":"Lukáš"},{"$f":"[2]Tabulka!E7","v":"1996-08-08"},{"$f":"[2]Tabulka!F7","v":"Havířov- CSVČ sv. Jana Boska"},{"$f":"[2]Tabulka!G7","v":"KA"},{"$f":"[2]Tabulka!H7","v":100},{"$f":"+[2]Tabulka!AU7","v":0},{"$f":"+[2]Tabulka!AV7","v":{"v":0,"d":"0.00"}},{"$f":"+[2]Tabulka!AW7","v":0},{"$f":"+[2]Tabulka!AX7","v":{"v":0,"d":"0.00"}},{"$f":"+[2]Tabulka!AY7","v":1},{"$f":"+[2]Tabulka!AZ7","v":{"v":4.655343691373548,"d":"4.66"}},{"$f":"+[2]Tabulka!BA7","v":3},{"$f":"+[2]Tabulka!BB7","v":{"v":4.101020071683792,"d":"4.10"}},{"$f":"+[2]Tabulka!BC7","v":1},{"$f":"+[2]Tabulka!BD7","v":{"v":4.655343691373548,"d":"4.66"}},{"$f":"+[2]Tabulka!BE7","v":0},{"$f":"+[2]Tabulka!BF7","v":{"v":0,"d":"0.00"}},{"$f":"+[2]Tabulka!BG7","v":5},{"$f":"+[2]Tabulka!BH7","v":{"v":3.6127011759664778,"d":"3.61"}},{"$f":"+[2]Tabulka!BI7","v":2},{"$f":"+[2]Tabulka!BJ7","v":{"v":4.369400178389413,"d":"4.37"}},{"$f":"+[2]Tabulka!AP7","v":{"v":3.851608154047505,"d":"3.85"}},{"$f":"+[2]Tabulka!AQ7","v":{"v":1,"d":"1.00"}},{"$f":"+[2]Tabulka!BM7","v":{"v":21.39380880878678,"d":"21.39"}},{"$f":"+[2]Tabulka!BN7","v":5},{"$f":"+[2]Tabulka!BO7","v":{"v":21.39380880878678,"d":"21.39"}}]
[2,{"$f":"[2]Tabulka!C8","v":"ZATLOUKAL"},{"$f":"[2]Tabulka!D8","v":"Martin"},{"$f":"[2]Tabulka!E8","v":"1998-10-05"},{"$f":"[2]Tabulka!F8","v":"Karviná- KLUBsten KST"},{"$f":"[2]Tabulka!G8","v":"KA"},{"$f":"[2]Tabulka!H8","v":100},{"$f":"+[2]Tabulka!AU8","v":2},{"$f":"+[2]Tabulka!AV8","v":{"v":4.369400178389413,"d":"4.37"}},{"$f":"+[2]Tabulka!AW8","v":2},{"$f":"+[2]Tabulka!AX8","v":{"v":4.369400178389413,"d":"4.37"}},{"$f":"+[2]Tabulka!AY8","v":2},{"$f":"+[2]Tabulka!AZ8","v":{"v":4.369400178389413,"d":"4.37"}},{"$f":"+[2]Tabulka!BA8","v":4},{"$f":"+[2]Tabulka!BB8","v":{"v":3.8491245804252903,"d":"3.85"}},{"$f":"+[2]Tabulka!BC8","v":2},{"$f":"+[2]Tabulka!BD8","v":{"v":4.369400178389413,"d":"4.37"}},{"$f":"+[2]Tabulka!BE8","v":4},{"$f":"+[2]Tabulka!BF8","v":{"v":3.8491245804252903,"d":"3.85"}},{"$f":"+[2]Tabulka!BG8","v":7},{"$f":"+[2]Tabulka!BH8","v":{"v":3.1825276537773326,"d":"3.18"}},{"$f":"+[2]Tabulka!BI8","v":6},{"$f":"+[2]Tabulka!BJ8","v":{"v":3.3907995218454317,"d":"3.39"}},{"$f":"+[2]Tabulka!AP8","v":{"v":23.818714401283543,"d":"23.82"}},{"$f":"+[2]Tabulka!AQ8","v":{"v":4,"d":"4.00"}},{"$f":"+[2]Tabulka!BM8","v":{"v":31.749177050030994,"d":"31.75"}},{"$f":"+[2]Tabulka!BN8","v":8},{"$f":"+[2]Tabulka!BO8","v":{"v":21.326725293982943,"d":"21.33"}}]
[3,{"$f":"[2]Tabulka!C9","v":"ŠTĚTINA"},{"$f":"[2]Tabulka!D9","v":"Ondřej"},{"$f":"[2]Tabulka!E9","v":"1996-08-08"},{"$f":"[2]Tabulka!F9","v":"Havířov- CSVČ sv. Jana Boska"},{"$f":"[2]Tabulka!G9","v":"KA"},{"$f":"[2]Tabulka!H9","v":100},{"$f":"+[2]Tabulka!AU9","v":0},{"$f":"+[2]Tabulka!AV9","v":{"v":0,"d":"0.00"}},{"$f":"+[2]Tabulka!AW9","v":0},{"$f":"+[2]Tabulka!AX9","v":{"v":0,"d":"0.00"}},{"$f":"+[2]Tabulka!AY9","v":4},{"$f":"+[2]Tabulka!AZ9","v":{"v":3.8491245804252903,"d":"3.85"}},{"$f":"+[2]Tabulka!BA9","v":7},{"$f":"+[2]Tabulka!BB9","v":{"v":3.1825276537773326,"d":"3.18"}},{"$f":"+[2]Tabulka!BC9","v":4},{"$f":"+[2]Tabulka!BD9","v":{"v":3.8491245804252903,"d":"3.85"}},{"$f":"+[2]Tabulka!BE9","v":0},{"$f":"+[2]Tabulka!BF9","v":{"v":0,"d":"0.00"}},{"$f":"+[2]Tabulka!BG9","v":1},{"$f":"+[2]Tabulka!BH9","v":{"v":4.655343691373548,"d":"4.66"}},{"$f":"+[2]Tabulka!BI9","v":3},{"$f":"+[2]Tabulka!BJ9","v":{"v":4.101020071683792,"d":"4.10"}},{"$f":"+[2]Tabulka!AP9","v":{"v":3.851608154047505,"d":"3.85"}},{"$f":"+[2]Tabulka!AQ9","v":{"v":1,"d":"1.00"}},{"$f":"+[2]Tabulka!BM9","v":{"v":19.63714057768525,"d":"19.64"}},{"$f":"+[2]Tabulka!BN9","v":5},{"$f":"+[2]Tabulka!BO9","v":{"v":19.63714057768525,"d":"19.64"}}]
[4,{"$f":"[2]Tabulka!C10","v":"SIWIEC"},{"$f":"[2]Tabulka!D10","v":"Vojtěch"},{"$f":"[2]Tabulka!E10","v":"1997-08-11"},{"$f":"[2]Tabulka!F10","v":"Karviná- KLUBsten KST"},{"$f":"[2]Tabulka!G10","v":"KA"},{"$f":"[2]Tabulka!H10","v":100},{"$f":"+[2]Tabulka!AU10","v":0},{"$f":"+[2]Tabulka!AV10","v":{"v":0,"d":"0.00"}},{"$f":"+[2]Tabulka!AW10","v":0},{"$f":"+[2]Tabulka!AX10","v":{"v":0,"d":"0.00"}},{"$f":"+[2]Tabulka!AY10","v":5},{"$f":"+[2]Tabulka!AZ10","v":{"v":3.6127011759664778,"d":"3.61"}},{"$f":"+[2]Tabulka!BA10","v":2},{"$f":"+[2]Tabulka!BB10","v":{"v":4.369400178389413,"d":"4.37"}},{"$f":"+[2]Tabulka!BC10","v":6},{"$f":"+[2]Tabulka!BD10","v":{"v":3.3907995218454317,"d":"3.39"}},{"$f":"+[2]Tabulka!BE10","v":3},{"$f":"+[2]Tabulka!BF10","v":{"v":4.101020071683792,"d":"4.10"}},{"$f":"+[2]Tabulka!BG10","v":8},{"$f":"+[2]Tabulka!BH10","v":{"v":2.987048394281082,"d":"2.99"}},{"$f":"+[2]Tabulka!BI10","v":4},{"$f":"+[2]Tabulka!BJ10","v":{"v":3.8491245804252903,"d":"3.85"}},{"$f":"+[2]Tabulka!AP10","v":{"v":1.829086510885261,"d":"1.83"}},{"$f":"+[2]Tabulka!AQ10","v":{"v":3,"d":"3.00"}},{"$f":"+[2]Tabulka!BM10","v":{"v":22.310093922591488,"d":"22.31"}},{"$f":"+[2]Tabulka!BN10","v":6},{"$f":"+[2]Tabulka!BO10","v":{"v":19.323045528310406,"d":"19.32"}}]
[5,{"$f":"[2]Tabulka!C11","v":"PREFETOVÁ"},{"$f":"[2]Tabulka!D11","v":"Lucie"},{"$f":"[2]Tabulka!E11","v":"1994-07-07"},{"$f":"[2]Tabulka!F11","v":"Karviná- KLUBsten KST"},{"$f":"[2]Tabulka!G11","v":"KA"},{"$f":"[2]Tabulka!H11","v":100},{"$f":"+[2]Tabulka!AU11","v":7},{"$f":"+[2]Tabulka!AV11","v":{"v":3.1825276537773326,"d":"3.18"}},{"$f":"+[2]Tabulka!AW11","v":1},{"$f":"+[2]Tabulka!AX11","v":{"v":4.655343691373548,"d":"4.66"}},{"$f":"+[2]Tabulka!AY11","v":6},{"$f":"+[2]Tabulka!AZ11","v":{"v":3.3907995218454317,"d":"3.39"}},{"$f":"+[2]Tabulka!BA11","v":5},{"$f":"+[2]Tabulka!BB11","v":{"v":3.6127011759664778,"d":"3.61"}},{"$f":"+[2]Tabulka!BC11","v":0},{"$f":"+[2]Tabulka!BD11","v":{"v":0,"d":"0.00"}},{"$f":"+[2]Tabulka!BE11","v":5},{"$f":"+[2]Tabulka!BF11","v":{"v":3.6127011759664778,"d":"3.61"}},{"$f":"+[2]Tabulka!BG11","v":6},{"$f":"+[2]Tabulka!BH11","v":{"v":3.3907995218454317,"d":"3.39"}},{"$f":"+[2]Tabulka!BI11","v":8},{"$f":"+[2]Tabulka!BJ11","v":{"v":2.987048394281082,"d":"2.99"}},{"$f":"+[2]Tabulka!AP11","v":{"v":5.7364518926958645,"d":"5.74"}},{"$f":"+[2]Tabulka!AQ11","v":{"v":3,"d":"3.00"}},{"$f":"+[2]Tabulka!BM11","v":{"v":24.83192113505578,"d":"24.83"}},{"$f":"+[2]Tabulka!BN11","v":7},{"$f":"+[2]Tabulka!BO11","v":{"v":18.662345086997366,"d":"18.66"}}]
[6,{"$f":"[2]Tabulka!C12","v":"PŘIBYL"},{"$f":"[2]Tabulka!D12","v":"Jan"},{"$f":"[2]Tabulka!E12","v":"2000-07-14"},{"$f":"[2]Tabulka!F12","v":"Český Těšín- SKST"},{"$f":"[2]Tabulka!G12","v":"KA"},{"$f":"[2]Tabulka!H12","v":100},{"$f":"+[2]Tabulka!AU12","v":5},{"$f":"+[2]Tabulka!AV12","v":{"v":3.6127011759664778,"d":"3.61"}},{"$f":"+[2]Tabulka!AW12","v":6},{"$f":"+[2]Tabulka!AX12","v":{"v":3.3907995218454317,"d":"3.39"}},{"$f":"+[2]Tabulka!AY12","v":3},{"$f":"+[2]Tabulka!AZ12","v":{"v":4.101020071683792,"d":"4.10"}},{"$f":"+[2]Tabulka!BA12","v":8},{"$f":"+[2]Tabulka!BB12","v":{"v":2.987048394281082,"d":"2.99"}},{"$f":"+[2]Tabulka!BC12","v":3},{"$f":"+[2]Tabulka!BD12","v":{"v":4.101020071683792,"d":"4.10"}},{"$f":"+[2]Tabulka!BE12","v":7},{"$f":"+[2]Tabulka!BF12","v":{"v":3.1825276537773326,"d":"3.18"}},{"$f":"+[2]Tabulka!BG12","v":19},{"$f":"+[2]Tabulka!BH12","v":{"v":1.4873495950244735,"d":"1.49"}},{"$f":"+[2]Tabulka!BI12","v":17},{"$f":"+[2]Tabulka!BJ12","v":{"v":1.6883905547970857,"d":"1.69"}},{"$f":"+[2]Tabulka!AP12","v":{"v":6.538322761182271,"d":"6.54"}},{"$f":"+[2]Tabulka!AQ12","v":{"v":3,"d":"3.00"}},{"$f":"+[2]Tabulka!BM12","v":{"v":24.550857039059466,"d":"24.55"}},{"$f":"+[2]Tabulka!BN12","v":8},{"$f":"+[2]Tabulka!BO12","v":{"v":18.388068494956826,"d":"18.39"}}]
["7",{"$f":"[2]Tabulka!C13","v":"ŠTÁNSKÝ"},{"$f":"[2]Tabulka!D13","v":"Dominik"},{"$f":"[2]Tabulka!E13","v":"1995-12-02"},{"$f":"[2]Tabulka!F13","v":"Český Těšín- SKST"},{"$f":"[2]Tabulka!G13","v":"KA"},{"$f":"[2]Tabulka!H13","v":100},{"$f":"+[2]Tabulka!AU13","v":0},{"$f":"+[2]Tabulka!AV13","v":{"v":0,"d":"0.00"}},{"$f":"+[2]Tabulka!AW13","v":3},{"$f":"+[2]Tabulka!AX13","v":{"v":4.101020071683792,"d":"4.10"}},{"$f":"+[2]Tabulka!AY13","v":9},{"$f":"+[2]Tabulka!AZ13","v":{"v":2.803575987529016,"d":"2.80"}},{"$f":"+[2]Tabulka!BA13","v":6},{"$f":"+[2]Tabulka!BB13","v":{"v":3.3907995218454317,"d":"3.39"}},{"$f":"+[2]Tabulka!BC13","v":5},{"$f":"+[2]Tabulka!BD13","v":{"v":3.6127011759664778,"d":"3.61"}},{"$f":"+[2]Tabulka!BE13","v":6},{"$f":"+[2]Tabulka!BF13","v":{"v":3.3907995218454317,"d":"3.39"}},{"$f":"+[2]Tabulka!BG13","v":11},{"$f":"+[2]Tabulka!BH13","v":{"v":2.4697470604914433,"d":"2.47"}},{"$f":"+[2]Tabulka!BI13","v":12},{"$f":"+[2]Tabulka!BJ13","v":{"v":2.3180486688200013,"d":"2.32"}},{"$f":"+[2]Tabulka!AP13","v":{"v":4.963200344626108,"d":"4.96"}},{"$f":"+[2]Tabulka!AQ13","v":{"v":1,"d":"1.00"}},{"$f":"+[2]Tabulka!BM13","v":{"v":22.086692008181593,"d":"22.09"}},{"$f":"+[2]Tabulka!BN13","v":7},{"$f":"+[2]Tabulka!BO13","v":{"v":17.29889627887015,"d":"17.30"}}]
["8",{"$f":"[2]Tabulka!C14","v":"KRNÁČOVÁ"},{"$f":"[2]Tabulka!D14","v":"Anna"},{"$f":"[2]Tabulka!E14","v":"1999-02-09"},{"$f":"[2]Tabulka!F14","v":"Karviná- KLUBsten KST"},{"$f":"[2]Tabulka!G14","v":"KA"},{"$f":"[2]Tabulka!H14","v":100},{"$f":"+[2]Tabulka!AU14","v":3},{"$f":"+[2]Tabulka!AV14","v":{"v":4.101020071683792,"d":"4.10"}},{"$f":"+[2]Tabulka!AW14","v":0},{"$f":"+[2]Tabulka!AX14","v":{"v":0,"d":"0.00"}},{"$f":"+[2]Tabulka!AY14","v":12},{"$f":"+[2]Tabulka!AZ14","v":{"v":2.3180486688200013,"d":"2.32"}},{"$f":"+[2]Tabulka!BA14","v":10},{"$f":"+[2]Tabulka!BB14","v":{"v":2.6313729408930584,"d":"2.63"}},{"$f":"+[2]Tabulka!BC14","v":12},{"$f":"+[2]Tabulka!BD14","v":{"v":2.3180486688200013,"d":"2.32"}},{"$f":"+[2]Tabulka!BE14","v":9},{"$f":"+[2]Tabulka!BF14","v":{"v":2.803575987529016,"d":"2.80"}},{"$f":"+[2]Tabulka!BG14","v":9},{"$f":"+[2]Tabulka!BH14","v":{"v":2.803575987529016,"d":"2.80"}},{"$f":"+[2]Tabulka!BI14","v":9},{"$f":"+[2]Tabulka!BJ14","v":{"v":2.803575987529016,"d":"2.80"}},{"$f":"+[2]Tabulka!AP14","v":{"v":3.4546490755943253,"d":"3.45"}},{"$f":"+[2]Tabulka!AQ14","v":{"v":3,"d":"3.00"}},{"$f":"+[2]Tabulka!BM14","v":{"v":19.7792183128039,"d":"19.78"}},{"$f":"+[2]Tabulka!BN14","v":7},{"$f":"+[2]Tabulka!BO14","v":{"v":15.143120975163898,"d":"15.14"}}]
[8,{"$f":"[2]Tabulka!C15","v":"MARTINKO"},{"$f":"[2]Tabulka!D15","v":"Jiří"},{"$f":"[2]Tabulka!E15","v":"1999-10-13"},{"$f":"[2]Tabulka!F15","v":"Ostrava- Mittal TJ"},{"$f":"[2]Tabulka!G15","v":"OV"},{"$f":"[2]Tabulka!H15","v":100},{"$f":"+[2]Tabulka!AU15","v":1},{"$f":"+[2]Tabulka!AV15","v":{"v":4.655343691373548,"d":"4.66"}},{"$f":"+[2]Tabulka!AW15","v":0},{"$f":"+[2]Tabulka!AX15","v":{"v":0,"d":"0.00"}},{"$f":"+[2]Tabulka!AY15","v":1},{"$f":"+[2]Tabulka!AZ15","v":{"v":4.655343691373548,"d":"4.66"}},{"$f":"+[2]Tabulka!BA15","v":0},{"$f":"+[2]Tabulka!BB15","v":{"v":0,"d":"0.00"}},{"$f":"+[2]Tabulka!BC15","v":3},{"$f":"+[2]Tabulka!BD15","v":{"v":4.101020071683792,"d":"4.10"}},{"$f":"+[2]Tabulka!BE15","v":1},{"$f":"+[2]Tabulka!BF15","v":{"v":4.655343691373548,"d":"4.66"}},{"$f":"+[2]Tabulka!BG15","v":0},{"$f":"+[2]Tabulka!BH15","v":{"v":0,"d":"0.00"}},{"$f":"+[2]Tabulka!BI15","v":0},{"$f":"+[2]Tabulka!BJ15","v":{"v":0,"d":"0.00"}},{"$f":"+[2]Tabulka!AP15","v":{"v":55.357634335809486,"d":"55.36"}},{"$f":"+[2]Tabulka!AQ15","v":{"v":3,"d":"3.00"}},{"$f":"+[2]Tabulka!BM15","v":{"v":18.067051145804438,"d":"18.07"}},{"$f":"+[2]Tabulka!BN15","v":4},{"$f":"+[2]Tabulka!BO15","v":{"v":13.966031074120643,"d":"13.97"}}]
["9",{"$f":"[2]Tabulka!C16","v":"FREJVOLT"},{"$f":"[2]Tabulka!D16","v":"Lukáš"},{"$f":"[2]Tabulka!E16","v":"2000-04-22"},{"$f":"[2]Tabulka!F16","v":"Havířov- Baník SKST"},{"$f":"[2]Tabulka!G16","v":"KA"},{"$f":"[2]Tabulka!H16","v":100},{"$f":"+[2]Tabulka!AU16","v":1},{"$f":"+[2]Tabulka!AV16","v":{"v":4.655343691373548,"d":"4.66"}},{"$f":"+[2]Tabulka!AW16","v":0},{"$f":"+[2]Tabulka!AX16","v":{"v":0,"d":"0.00"}},{"$f":"+[2]Tabulka!AY16","v":0},{"$f":"+[2]Tabulka!AZ16","v":{"v":0,"d":"0.00"}},{"$f":"+[2]Tabulka!BA16","v":1},{"$f":"+[2]Tabulka!BB16","v":{"v":4.655343691373548,"d":"4.66"}},{"$f":"+[2]Tabulka!BC16","v":0},{"$f":"+[2]Tabulka!BD16","v":{"v":0,"d":"0.00"}},{"$f":"+[2]Tabulka!BE16","v":0},{"$f":"+[2]Tabulka!BF16","v":{"v":0,"d":"0.00"}},{"$f":"+[2]Tabulka!BG16","v":0},{"$f":"+[2]Tabulka!BH16","v":{"v":0,"d":"0.00"}},{"$f":"+[2]Tabulka!BI16","v":1},{"$f":"+[2]Tabulka!BJ16","v":{"v":4.655343691373548,"d":"4.66"}},{"$f":"+[2]Tabulka!AP16","v":{"v":12.393543001092759,"d":"12.39"}},{"$f":"+[2]Tabulka!AQ16","v":{"v":2,"d":"2.00"}},{"$f":"+[2]Tabulka!BM16","v":{"v":13.966031074120643,"d":"13.97"}},{"$f":"+[2]Tabulka!BN16","v":3},{"$f":"+[2]Tabulka!BO16","v":{"v":13.966031074120643,"d":"13.97"}}]
["10",{"$f":"[2]Tabulka!C17","v":"BRANNÝ"},{"$f":"[2]Tabulka!D17","v":"Tomáš"},{"$f":"[2]Tabulka!E17","v":"2002-06-04"},{"$f":"[2]Tabulka!F17","v":"Orlová- Siko TTC"},{"$f":"[2]Tabulka!G17","v":"KA"},{"$f":"[2]Tabulka!H17","v":100},{"$f":"+[2]Tabulka!AU17","v":8},{"$f":"+[2]Tabulka!AV17","v":{"v":2.987048394281082,"d":"2.99"}},{"$f":"+[2]Tabulka!AW17","v":4},{"$f":"+[2]Tabulka!AX17","v":{"v":3.8491245804252903,"d":"3.85"}},{"$f":"+[2]Tabulka!AY17","v":13},{"$f":"+[2]Tabulka!AZ17","v":{"v":2.1756679932838794,"d":"2.18"}},{"$f":"+[2]Tabulka!BA17","v":15},{"$f":"+[2]Tabulka!BB17","v":{"v":1.91660566894571,"d":"1.92"}},{"$f":"+[2]Tabulka!BC17","v":11},{"$f":"+[2]Tabulka!BD17","v":{"v":2.4697470604914433,"d":"2.47"}},{"$f":"+[2]Tabulka!BE17","v":14},{"$f":"+[2]Tabulka!BF17","v":{"v":2.0420327151325517,"d":"2.04"}},{"$f":"+[2]Tabulka!BG17","v":16},{"$f":"+[2]Tabulka!BH17","v":{"v":1.7988826834228204,"d":"1.80"}},{"$f":"+[2]Tabulka!BI17","v":19},{"$f":"+[2]Tabulka!BJ17","v":{"v":1.4873495950244735,"d":"1.49"}},{"$f":"+[2]Tabulka!AP17","v":{"v":4.634691096734864,"d":"4.63"}},{"$f":"+[2]Tabulka!AQ17","v":{"v":3,"d":"3.00"}},{"$f":"+[2]Tabulka!BM17","v":{"v":18.72645869100725,"d":"18.73"}},{"$f":"+[2]Tabulka!BN17","v":8},{"$f":"+[2]Tabulka!BO17","v":{"v":13.523620743614245,"d":"13.52"}}]
["10",{"$f":"[2]Tabulka!C18","v":"MADUSIOK"},{"$f":"[2]Tabulka!D18","v":"Marek"},{"$f":"[2]Tabulka!E18","v":"1995-11-29"},{"$f":"[2]Tabulka!F18","v":"Ostrava- Mittal TJ"},{"$f":"[2]Tabulka!G18","v":"OV"},{"$f":"[2]Tabulka!H18","v":100},{"$f":"+[2]Tabulka!AU18","v":2},{"$f":"+[2]Tabulka!AV18","v":{"v":4.369400178389413,"d":"4.37"}},{"$f":"+[2]Tabulka!AW18","v":0},{"$f":"+[2]Tabulka!AX18","v":{"v":0,"d":"0.00"}},{"$f":"+[2]Tabulka!AY18","v":3},{"$f":"+[2]Tabulka!AZ18","v":{"v":4.101020071683792,"d":"4.10"}},{"$f":"+[2]Tabulka!BA18","v":2},{"$f":"+[2]Tabulka!BB18","v":{"v":4.369400178389413,"d":"4.37"}},{"$f":"+[2]Tabulka!BC18","v":2},{"$f":"+[2]Tabulka!BD18","v":{"v":4.369400178389413,"d":"4.37"}},{"$f":"+[2]Tabulka!BE18","v":0},{"$f":"+[2]Tabulka!BF18","v":{"v":0,"d":"0.00"}},{"$f":"+[2]Tabulka!BG18","v":0},{"$f":"+[2]Tabulka!BH18","v":{"v":0,"d":"0.00"}},{"$f":"+[2]Tabulka!BI18","v":0},{"$f":"+[2]Tabulka!BJ18","v":{"v":0,"d":"0.00"}},{"$f":"+[2]Tabulka!AP18","v":{"v":12.844308095408651,"d":"12.84"}},{"$f":"+[2]Tabulka!AQ18","v":{"v":1,"d":"1.00"}},{"$f":"+[2]Tabulka!BM18","v":{"v":17.209220606852032,"d":"17.21"}},{"$f":"+[2]Tabulka!BN18","v":4},{"$f":"+[2]Tabulka!BO18","v":{"v":13.10820053516824,"d":"13.11"}}]
["11",{"$f":"[2]Tabulka!C19","v":"ADAMCZYK"},{"$f":"[2]Tabulka!D19","v":"Jiří"},{"$f":"[2]Tabulka!E19","v":"2002-02-21"},{"$f":"[2]Tabulka!F19","v":"Dětmarovice- Sokol TJ"},{"$f":"[2]Tabulka!G19","v":"KA"},{"$f":"[2]Tabulka!H19","v":100},{"$f":"+[2]Tabulka!AU19","v":10},{"$f":"+[2]Tabulka!AV19","v":{"v":2.6313729408930584,"d":"2.63"}},{"$f":"+[2]Tabulka!AW19","v":0},{"$f":"+[2]Tabulka!AX19","v":{"v":0,"d":"0.00"}},{"$f":"+[2]Tabulka!AY19","v":8},{"$f":"+[2]Tabulka!AZ19","v":{"v":2.987048394281082,"d":"2.99"}},{"$f":"+[2]Tabulka!BA19","v":11},{"$f":"+[2]Tabulka!BB19","v":{"v":2.4697470604914433,"d":"2.47"}},{"$f":"+[2]Tabulka!BC19","v":13},{"$f":"+[2]Tabulka!BD19","v":{"v":2.1756679932838794,"d":"2.18"}},{"$f":"+[2]Tabulka!BE19","v":10},{"$f":"+[2]Tabulka!BF19","v":{"v":2.6313729408930584,"d":"2.63"}},{"$f":"+[2]Tabulka!BG19","v":13},{"$f":"+[2]Tabulka!BH19","v":{"v":2.1756679932838794,"d":"2.18"}},{"$f":"+[2]Tabulka!BI19","v":13},{"$f":"+[2]Tabulka!BJ19","v":{"v":2.1756679932838794,"d":"2.18"}},{"$f":"+[2]Tabulka!AP19","v":{"v":4.463025943167785,"d":"4.46"}},{"$f":"+[2]Tabulka!AQ19","v":{"v":4,"d":"4.00"}},{"$f":"+[2]Tabulka!BM19","v":{"v":17.24654531641028,"d":"17.25"}},{"$f":"+[2]Tabulka!BN19","v":7},{"$f":"+[2]Tabulka!BO19","v":{"v":12.89520932984252,"d":"12.90"}}]
["12",{"$f":"[2]Tabulka!C20","v":"MAZŮREK"},{"$f":"[2]Tabulka!D20","v":"Matěj"},{"$f":"[2]Tabulka!E20","v":"1999-03-26"},{"$f":"[2]Tabulka!F20","v":"Havířov- CSVČ sv. Jana Boska"},{"$f":"[2]Tabulka!G20","v":"KA"},{"$f":"[2]Tabulka!H20","v":100},{"$f":"+[2]Tabulka!AU20","v":11},{"$f":"+[2]Tabulka!AV20","v":{"v":2.4697470604914433,"d":"2.47"}},{"$f":"+[2]Tabulka!AW20","v":0},{"$f":"+[2]Tabulka!AX20","v":{"v":0,"d":"0.00"}},{"$f":"+[2]Tabulka!AY20","v":10},{"$f":"+[2]Tabulka!AZ20","v":{"v":2.6313729408930584,"d":"2.63"}},{"$f":"+[2]Tabulka!BA20","v":13},{"$f":"+[2]Tabulka!BB20","v":{"v":2.1756679932838794,"d":"2.18"}},{"$f":"+[2]Tabulka!BC20","v":7},{"$f":"+[2]Tabulka!BD20","v":{"v":3.1825276537773326,"d":"3.18"}},{"$f":"+[2]Tabulka!BE20","v":12},{"$f":"+[2]Tabulka!BF20","v":{"v":2.3180486688200013,"d":"2.32"}},{"$f":"+[2]Tabulka!BG20","v":14},{"$f":"+[2]Tabulka!BH20","v":{"v":2.0420327151325517,"d":"2.04"}},{"$f":"+[2]Tabulka!BI20","v":14},{"$f":"+[2]Tabulka!BJ20","v":{"v":2.0420327151325517,"d":"2.04"}},{"$f":"+[2]Tabulka!AP20","v":{"v":6.785974740073098,"d":"6.79"}},{"$f":"+[2]Tabulka!AQ20","v":{"v":2,"d":"2.00"}},{"$f":"+[2]Tabulka!BM20","v":{"v":16.861429747530817,"d":"16.86"}},{"$f":"+[2]Tabulka!BN20","v":7},{"$f":"+[2]Tabulka!BO20","v":{"v":12.777364317265715,"d":"12.78"}}]
["13",{"$f":"[2]Tabulka!C21","v":"SLIŽ"},{"$f":"[2]Tabulka!D21","v":"Petr"},{"$f":"[2]Tabulka!E21","v":"1997-07-19"},{"$f":"[2]Tabulka!F21","v":"Karviná- KLUBsten KST"},{"$f":"[2]Tabulka!G21","v":"KA"},{"$f":"[2]Tabulka!H21","v":100},{"$f":"+[2]Tabulka!AU21","v":0},{"$f":"+[2]Tabulka!AV21","v":{"v":0,"d":"0.00"}},{"$f":"+[2]Tabulka!AW21","v":7},{"$f":"+[2]Tabulka!AX21","v":{"v":3.1825276537773326,"d":"3.18"}},{"$f":"+[2]Tabulka!AY21","v":11},{"$f":"+[2]Tabulka!AZ21","v":{"v":2.4697470604914433,"d":"2.47"}},{"$f":"+[2]Tabulka!BA21","v":12},{"$f":"+[2]Tabulka!BB21","v":{"v":2.3180486688200013,"d":"2.32"}},{"$f":"+[2]Tabulka!BC21","v":9},{"$f":"+[2]Tabulka!BD21","v":{"v":2.803575987529016,"d":"2.80"}},{"$f":"+[2]Tabulka!BE21","v":15},{"$f":"+[2]Tabulka!BF21","v":{"v":1.91660566894571,"d":"1.92"}},{"$f":"+[2]Tabulka!BG21","v":15},{"$f":"+[2]Tabulka!BH21","v":{"v":1.91660566894571,"d":"1.92"}},{"$f":"+[2]Tabulka!BI21","v":16},{"$f":"+[2]Tabulka!BJ21","v":{"v":1.7988826834228204,"d":"1.80"}},{"$f":"+[2]Tabulka!AP21","v":{"v":6.170504754107423,"d":"6.17"}},{"$f":"+[2]Tabulka!AQ21","v":{"v":4,"d":"4.00"}},{"$f":"+[2]Tabulka!BM21","v":{"v":16.405993391932032,"d":"16.41"}},{"$f":"+[2]Tabulka!BN21","v":7},{"$f":"+[2]Tabulka!BO21","v":{"v":12.690505039563503,"d":"12.69"}}]
["12",{"$f":"[2]Tabulka!C22","v":"NOVOTNÝ"},{"$f":"[2]Tabulka!D22","v":"Pavel"},{"$f":"[2]Tabulka!E22","v":"1995-01-03"},{"$f":"[2]Tabulka!F22","v":"Ostrava- Mittal TJ"},{"$f":"[2]Tabulka!G22","v":"OV"},{"$f":"[2]Tabulka!H22","v":100},{"$f":"+[2]Tabulka!AU22","v":5},{"$f":"+[2]Tabulka!AV22","v":{"v":3.6127011759664778,"d":"3.61"}},{"$f":"+[2]Tabulka!AW22","v":0},{"$f":"+[2]Tabulka!AX22","v":{"v":0,"d":"0.00"}},{"$f":"+[2]Tabulka!AY22","v":4},{"$f":"+[2]Tabulka!AZ22","v":{"v":3.8491245804252903,"d":"3.85"}},{"$f":"+[2]Tabulka!BA22","v":1},{"$f":"+[2]Tabulka!BB22","v":{"v":4.655343691373548,"d":"4.66"}},{"$f":"+[2]Tabulka!BC22","v":4},{"$f":"+[2]Tabulka!BD22","v":{"v":3.8491245804252903,"d":"3.85"}},{"$f":"+[2]Tabulka!BE22","v":5},{"$f":"+[2]Tabulka!BF22","v":{"v":3.6127011759664778,"d":"3.61"}},{"$f":"+[2]Tabulka!BG22","v":0},{"$f":"+[2]Tabulka!BH22","v":{"v":0,"d":"0.00"}},{"$f":"+[2]Tabulka!BI22","v":0},{"$f":"+[2]Tabulka!BJ22","v":{"v":0,"d":"0.00"}},{"$f":"+[2]Tabulka!AP22","v":{"v":35.30991768172115,"d":"35.31"}},{"$f":"+[2]Tabulka!AQ22","v":{"v":3,"d":"3.00"}},{"$f":"+[2]Tabulka!BM22","v":{"v":19.578995204157085,"d":"19.58"}},{"$f":"+[2]Tabulka!BN22","v":5},{"$f":"+[2]Tabulka!BO22","v":{"v":12.353592852224129,"d":"12.35"}}]
["13",{"$f":"[2]Tabulka!C23","v":"OBERHERR"},{"$f":"[2]Tabulka!D23","v":"Jan"},{"$f":"[2]Tabulka!E23","v":"1995-09-15"},{"$f":"[2]Tabulka!F23","v":"Kravaře- SK TJ"},{"$f":"[2]Tabulka!G23","v":"OP"},{"$f":"[2]Tabulka!H23","v":100},{"$f":"+[2]Tabulka!AU23","v":4},{"$f":"+[2]Tabulka!AV23","v":{"v":3.8491245804252903,"d":"3.85"}},{"$f":"+[2]Tabulka!AW23","v":0},{"$f":"+[2]Tabulka!AX23","v":{"v":0,"d":"0.00"}},{"$f":"+[2]Tabulka!AY23","v":2},{"$f":"+[2]Tabulka!AZ23","v":{"v":4.369400178389413,"d":"4.37"}},{"$f":"+[2]Tabulka!BA23","v":4},{"$f":"+[2]Tabulka!BB23","v":{"v":3.8491245804252903,"d":"3.85"}},{"$f":"+[2]Tabulka!BC23","v":0},{"$f":"+[2]Tabulka!BD23","v":{"v":0,"d":"0.00"}},{"$f":"+[2]Tabulka!BE23","v":0},{"$f":"+[2]Tabulka!BF23","v":{"v":0,"d":"0.00"}},{"$f":"+[2]Tabulka!BG23","v":0},{"$f":"+[2]Tabulka!BH23","v":{"v":0,"d":"0.00"}},{"$f":"+[2]Tabulka!BI23","v":0},{"$f":"+[2]Tabulka!BJ23","v":{"v":0,"d":"0.00"}},{"$f":"+[2]Tabulka!AP23","v":{"v":0,"d":"0.00"}},{"$f":"+[2]Tabulka!AQ23","v":{"v":0,"d":"0.00"}},{"$f":"+[2]Tabulka!BM23","v":{"v":12.067649339239994,"d":"12.07"}},{"$f":"+[2]Tabulka!BN23","v":3},{"$f":"+[2]Tabulka!BO23","v":{"v":12.067649339239994,"d":"12.07"}}]
["14",{"$f":"[2]Tabulka!C24","v":"BLAHUT"},{"$f":"[2]Tabulka!D24","v":"Daniel"},{"$f":"[2]Tabulka!E24","v":"1994-10-23"},{"$f":"[2]Tabulka!F24","v":"Frýdlant nad Ostravicí- SK"},{"$f":"[2]Tabulka!G24","v":"FM"},{"$f":"[2]Tabulka!H24","v":100},{"$f":"+[2]Tabulka!AU24","v":0},{"$f":"+[2]Tabulka!AV24","v":{"v":0,"d":"0.00"}},{"$f":"+[2]Tabulka!AW24","v":0},{"$f":"+[2]Tabulka!AX24","v":{"v":0,"d":"0.00"}},{"$f":"+[2]Tabulka!AY24","v":0},{"$f":"+[2]Tabulka!AZ24","v":{"v":0,"d":"0.00"}},{"$f":"+[2]Tabulka!BA24","v":4},{"$f":"+[2]Tabulka!BB24","v":{"v":3.8491245804252903,"d":"3.85"}},{"$f":"+[2]Tabulka!BC24","v":5},{"$f":"+[2]Tabulka!BD24","v":{"v":3.6127011759664778,"d":"3.61"}},{"$f":"+[2]Tabulka!BE24","v":6},{"$f":"+[2]Tabulka!BF24","v":{"v":3.3907995218454317,"d":"3.39"}},{"$f":"+[2]Tabulka!BG24","v":0},{"$f":"+[2]Tabulka!BH24","v":{"v":0,"d":"0.00"}},{"$f":"+[2]Tabulka!BI24","v":0},{"$f":"+[2]Tabulka!BJ24","v":{"v":0,"d":"0.00"}},{"$f":"+[2]Tabulka!AP24","v":{"v":7.281483202199441,"d":"7.28"}},{"$f":"+[2]Tabulka!AQ24","v":{"v":3,"d":"3.00"}},{"$f":"+[2]Tabulka!BM24","v":{"v":10.8526252782372,"d":"10.85"}},{"$f":"+[2]Tabulka!BN24","v":3},{"$f":"+[2]Tabulka!BO24","v":{"v":10.8526252782372,"d":"10.85"}}]
["13",{"$f":"[2]Tabulka!C25","v":"RYBOŘ"},{"$f":"[2]Tabulka!D25","v":"Marek"},{"$f":"[2]Tabulka!E25","v":"1995-06-02"},{"$f":"[2]Tabulka!F25","v":"Kravaře- SK TJ"},{"$f":"[2]Tabulka!G25","v":"OP"},{"$f":"[2]Tabulka!H25","v":100},{"$f":"+[2]Tabulka!AU25","v":6},{"$f":"+[2]Tabulka!AV25","v":{"v":3.3907995218454317,"d":"3.39"}},{"$f":"+[2]Tabulka!AW25","v":0},{"$f":"+[2]Tabulka!AX25","v":{"v":0,"d":"0.00"}},{"$f":"+[2]Tabulka!AY25","v":6},{"$f":"+[2]Tabulka!AZ25","v":{"v":3.3907995218454317,"d":"3.39"}},{"$f":"+[2]Tabulka!BA25","v":4},{"$f":"+[2]Tabulka!BB25","v":{"v":3.8491245804252903,"d":"3.85"}},{"$f":"+[2]Tabulka!BC25","v":0},{"$f":"+[2]Tabulka!BD25","v":{"v":0,"d":"0.00"}},{"$f":"+[2]Tabulka!BE25","v":0},{"$f":"+[2]Tabulka!BF25","v":{"v":0,"d":"0.00"}},{"$f":"+[2]Tabulka!BG25","v":0},{"$f":"+[2]Tabulka!BH25","v":{"v":0,"d":"0.00"}},{"$f":"+[2]Tabulka!BI25","v":0},{"$f":"+[2]Tabulka!BJ25","v":{"v":0,"d":"0.00"}},{"$f":"+[2]Tabulka!AP25","v":{"v":0,"d":"0.00"}},{"$f":"+[2]Tabulka!AQ25","v":{"v":0,"d":"0.00"}},{"$f":"+[2]Tabulka!BM25","v":{"v":10.630723624116154,"d":"10.63"}},{"$f":"+[2]Tabulka!BN25","v":3},{"$f":"+[2]Tabulka!BO25","v":{"v":10.630723624116154,"d":"10.63"}}]
["14",{"$f":"[2]Tabulka!C26","v":"SIWIEC"},{"$f":"[2]Tabulka!D26","v":"Matěj"},{"$f":"[2]Tabulka!E26","v":"2001-04-17"},{"$f":"[2]Tabulka!F26","v":"Karviná- KLUBsten KST"},{"$f":"[2]Tabulka!G26","v":"KA"},{"$f":"[2]Tabulka!H26","v":100},{"$f":"+[2]Tabulka!AU26","v":0},{"$f":"+[2]Tabulka!AV26","v":{"v":0,"d":"0.00"}},{"$f":"+[2]Tabulka!AW26","v":0},{"$f":"+[2]Tabulka!AX26","v":{"v":0,"d":"0.00"}},{"$f":"+[2]Tabulka!AY26","v":0},{"$f":"+[2]Tabulka!AZ26","v":{"v":0,"d":"0.00"}},{"$f":"+[2]Tabulka!BA26","v":0},{"$f":"+[2]Tabulka!BB26","v":{"v":0,"d":"0.00"}},{"$f":"+[2]Tabulka!BC26","v":0},{"$f":"+[2]Tabulka!BD26","v":{"v":0,"d":"0.00"}},{"$f":"+[2]Tabulka!BE26","v":9},{"$f":"+[2]Tabulka!BF26","v":{"v":2.803575987529016,"d":"2.80"}},{"$f":"+[2]Tabulka!BG26","v":3},{"$f":"+[2]Tabulka!BH26","v":{"v":4.101020071683792,"d":"4.10"}},{"$f":"+[2]Tabulka!BI26","v":5},{"$f":"+[2]Tabulka!BJ26","v":{"v":3.6127011759664778,"d":"3.61"}},{"$f":"+[2]Tabulka!AP26","v":{"v":11.663637695897204,"d":"11.66"}},{"$f":"+[2]Tabulka!AQ26","v":{"v":3,"d":"3.00"}},{"$f":"+[2]Tabulka!BM26","v":{"v":10.517297235179287,"d":"10.52"}},{"$f":"+[2]Tabulka!BN26","v":3},{"$f":"+[2]Tabulka!BO26","v":{"v":10.517297235179287,"d":"10.52"}}]
["15",{"$f":"[2]Tabulka!C27","v":"REITZ"},{"$f":"[2]Tabulka!D27","v":"Aleš"},{"$f":"[2]Tabulka!E27","v":"1999-08-05"},{"$f":"[2]Tabulka!F27","v":"Karviná- KLUBsten KST"},{"$f":"[2]Tabulka!G27","v":"KA"},{"$f":"[2]Tabulka!H27","v":100},{"$f":"+[2]Tabulka!AU27","v":15},{"$f":"+[2]Tabulka!AV27","v":{"v":1.91660566894571,"d":"1.92"}},{"$f":"+[2]Tabulka!AW27","v":5},{"$f":"+[2]Tabulka!AX27","v":{"v":3.6127011759664778,"d":"3.61"}},{"$f":"+[2]Tabulka!AY27","v":15},{"$f":"+[2]Tabulka!AZ27","v":{"v":1.91660566894571,"d":"1.92"}},{"$f":"+[2]Tabulka!BA27","v":9},{"$f":"+[2]Tabulka!BB27","v":{"v":2.803575987529016,"d":"2.80"}},{"$f":"+[2]Tabulka!BC27","v":0},{"$f":"+[2]Tabulka!BD27","v":{"v":0,"d":"0.00"}},{"$f":"+[2]Tabulka!BE27","v":0},{"$f":"+[2]Tabulka!BF27","v":{"v":0,"d":"0.00"}},{"$f":"+[2]Tabulka!BG27","v":0},{"$f":"+[2]Tabulka!BH27","v":{"v":0,"d":"0.00"}},{"$f":"+[2]Tabulka!BI27","v":0},{"$f":"+[2]Tabulka!BJ27","v":{"v":0,"d":"0.00"}},{"$f":"+[2]Tabulka!AP27","v":{"v":0.7410781182051266,"d":"0.74"}},{"$f":"+[2]Tabulka!AQ27","v":{"v":1,"d":"1.00"}},{"$f":"+[2]Tabulka!BM27","v":{"v":10.249488501386914,"d":"10.25"}},{"$f":"+[2]Tabulka!BN27","v":4},{"$f":"+[2]Tabulka!BO27","v":{"v":10.249488501386914,"d":"10.25"}}]
["16",{"$f":"[2]Tabulka!C28","v":"RECK"},{"$f":"[2]Tabulka!D28","v":"Dominik"},{"$f":"[2]Tabulka!E28","v":"1996-07-31"},{"$f":"[2]Tabulka!F28","v":"Karviná- KLUBsten KST"},{"$f":"[2]Tabulka!G28","v":"KA"},{"$f":"[2]Tabulka!H28","v":100},{"$f":"+[2]Tabulka!AU28","v":0},{"$f":"+[2]Tabulka!AV28","v":{"v":0,"d":"0.00"}},{"$f":"+[2]Tabulka!AW28","v":0},{"$f":"+[2]Tabulka!AX28","v":{"v":0,"d":"0.00"}},{"$f":"+[2]Tabulka!AY28","v":0},{"$f":"+[2]Tabulka!AZ28","v":{"v":0,"d":"0.00"}},{"$f":"+[2]Tabulka!BA28","v":19},{"$f":"+[2]Tabulka!BB28","v":{"v":1.4873495950244735,"d":"1.49"}},{"$f":"+[2]Tabulka!BC28","v":10},{"$f":"+[2]Tabulka!BD28","v":{"v":2.6313729408930584,"d":"2.63"}},{"$f":"+[2]Tabulka!BE28","v":16},{"$f":"+[2]Tabulka!BF28","v":{"v":1.7988826834228204,"d":"1.80"}},{"$f":"+[2]Tabulka!BG28","v":12},{"$f":"+[2]Tabulka!BH28","v":{"v":2.3180486688200013,"d":"2.32"}},{"$f":"+[2]Tabulka!BI28","v":15},{"$f":"+[2]Tabulka!BJ28","v":{"v":1.91660566894571,"d":"1.92"}},{"$f":"+[2]Tabulka!AP28","v":{"v":0.4674223104763777,"d":"0.47"}},{"$f":"+[2]Tabulka!AQ28","v":{"v":2,"d":"2.00"}},{"$f":"+[2]Tabulka!BM28","v":{"v":10.152259557106063,"d":"10.15"}},{"$f":"+[2]Tabulka!BN28","v":5},{"$f":"+[2]Tabulka!BO28","v":{"v":10.152259557106065,"d":"10.15"}}]
["17",{"$f":"[2]Tabulka!C29","v":"DOMBROWSKI"},{"$f":"[2]Tabulka!D29","v":"Ondřej"},{"$f":"[2]Tabulka!E29","v":"1997-10-03"},{"$f":"[2]Tabulka!F29","v":"Orlová- Slávie SK"},{"$f":"[2]Tabulka!G29","v":"KA"},{"$f":"[2]Tabulka!H29","v":100},{"$f":"+[2]Tabulka!AU29","v":12},{"$f":"+[2]Tabulka!AV29","v":{"v":2.3180486688200013,"d":"2.32"}},{"$f":"+[2]Tabulka!AW29","v":9},{"$f":"+[2]Tabulka!AX29","v":{"v":2.803575987529016,"d":"2.80"}},{"$f":"+[2]Tabulka!AY29","v":25},{"$f":"+[2]Tabulka!AZ29","v":{"v":1.0167952208923348,"d":"1.02"}},{"$f":"+[2]Tabulka!BA29","v":25},{"$f":"+[2]Tabulka!BB29","v":{"v":1.0167952208923348,"d":"1.02"}},{"$f":"+[2]Tabulka!BC29","v":14},{"$f":"+[2]Tabulka!BD29","v":{"v":2.0420327151325517,"d":"2.04"}},{"$f":"+[2]Tabulka!BE29","v":20},{"$f":"+[2]Tabulka!BF29","v":{"v":1.3959926520290693,"d":"1.40"}},{"$f":"+[2]Tabulka!BG29","v":29},{"$f":"+[2]Tabulka!BH29","v":{"v":0.7890668302410581,"d":"0.79"}},{"$f":"+[2]Tabulka!BI29","v":24},{"$f":"+[2]Tabulka!BJ29","v":{"v":1.083336619156891,"d":"1.08"}},{"$f":"+[2]Tabulka!AP29","v":{"v":0,"d":"0.00"}},{"$f":"+[2]Tabulka!AQ29","v":{"v":0,"d":"0.00"}},{"$f":"+[2]Tabulka!BM29","v":{"v":12.465643914693255,"d":"12.47"}},{"$f":"+[2]Tabulka!BN29","v":8},{"$f":"+[2]Tabulka!BO29","v":{"v":9.642986642667527,"d":"9.64"}}]
["18",{"$f":"[2]Tabulka!C30","v":"KURIAL"},{"$f":"[2]Tabulka!D30","v":"Patrik"},{"$f":"[2]Tabulka!E30","v":"1996-01-01"},{"$f":"[2]Tabulka!F30","v":"Havířov- Baník SKST"},{"$f":"[2]Tabulka!G30","v":"KA"},{"$f":"[2]Tabulka!H30","v":100},{"$f":"+[2]Tabulka!AU30","v":0},{"$f":"+[2]Tabulka!AV30","v":{"v":0,"d":"0.00"}},{"$f":"+[2]Tabulka!AW30","v":8},{"$f":"+[2]Tabulka!AX30","v":{"v":2.987048394281082,"d":"2.99"}},{"$f":"+[2]Tabulka!AY30","v":7},{"$f":"+[2]Tabulka!AZ30","v":{"v":3.1825276537773326,"d":"3.18"}},{"$f":"+[2]Tabulka!BA30","v":20},{"$f":"+[2]Tabulka!BB30","v":{"v":1.3959926520290693,"d":"1.40"}},{"$f":"+[2]Tabulka!BC30","v":0},{"$f":"+[2]Tabulka!BD30","v":{"v":0,"d":"0.00"}},{"$f":"+[2]Tabulka!BE30","v":0},{"$f":"+[2]Tabulka!BF30","v":{"v":0,"d":"0.00"}},{"$f":"+[2]Tabulka!BG30","v":18},{"$f":"+[2]Tabulka!BH30","v":{"v":1.584685144727681,"d":"1.58"}},{"$f":"+[2]Tabulka!BI30","v":0},{"$f":"+[2]Tabulka!BJ30","v":{"v":0,"d":"0.00"}},{"$f":"+[2]Tabulka!AP30","v":{"v":0.8412476120812372,"d":"0.84"}},{"$f":"+[2]Tabulka!AQ30","v":{"v":1,"d":"1.00"}},{"$f":"+[2]Tabulka!BM30","v":{"v":9.150253844815166,"d":"9.15"}},{"$f":"+[2]Tabulka!BN30","v":4},{"$f":"+[2]Tabulka!BO30","v":{"v":9.150253844815166,"d":"9.15"}}]
["18",{"$f":"[2]Tabulka!C31","v":"KLOS"},{"$f":"[2]Tabulka!D31","v":"Patrik"},{"$f":"[2]Tabulka!E31","v":"1998-01-17"},{"$f":"[2]Tabulka!F31","v":"Ostrava- Mittal TJ"},{"$f":"[2]Tabulka!G31","v":"OV"},{"$f":"[2]Tabulka!H31","v":100},{"$f":"+[2]Tabulka!AU31","v":0},{"$f":"+[2]Tabulka!AV31","v":{"v":0,"d":"0.00"}},{"$f":"+[2]Tabulka!AW31","v":0},{"$f":"+[2]Tabulka!AX31","v":{"v":0,"d":"0.00"}},{"$f":"+[2]Tabulka!AY31","v":0},{"$f":"+[2]Tabulka!AZ31","v":{"v":0,"d":"0.00"}},{"$f":"+[2]Tabulka!BA31","v":0},{"$f":"+[2]Tabulka!BB31","v":{"v":0,"d":"0.00"}},{"$f":"+[2]Tabulka!BC31","v":1},{"$f":"+[2]Tabulka!BD31","v":{"v":4.655343691373548,"d":"4.66"}},{"$f":"+[2]Tabulka!BE31","v":2},{"$f":"+[2]Tabulka!BF31","v":{"v":4.369400178389413,"d":"4.37"}},{"$f":"+[2]Tabulka!BG31","v":0},{"$f":"+[2]Tabulka!BH31","v":{"v":0,"d":"0.00"}},{"$f":"+[2]Tabulka!BI31","v":0},{"$f":"+[2]Tabulka!BJ31","v":{"v":0,"d":"0.00"}},{"$f":"+[2]Tabulka!AP31","v":{"v":56.440784948221044,"d":"56.44"}},{"$f":"+[2]Tabulka!AQ31","v":{"v":3,"d":"3.00"}},{"$f":"+[2]Tabulka!BM31","v":{"v":9.024743869762961,"d":"9.02"}},{"$f":"+[2]Tabulka!BN31","v":2},{"$f":"+[2]Tabulka!BO31","v":{"v":9.024743869762961,"d":"9.02"}}]
["19",{"$f":"[2]Tabulka!C32","v":"GORECKI"},{"$f":"[2]Tabulka!D32","v":"Jan"},{"$f":"[2]Tabulka!E32","v":"1999-09-05"},{"$f":"[2]Tabulka!F32","v":"Havířov- Baník SKST"},{"$f":"[2]Tabulka!G32","v":"KA"},{"$f":"[2]Tabulka!H32","v":100},{"$f":"+[2]Tabulka!AU32","v":0},{"$f":"+[2]Tabulka!AV32","v":{"v":0,"d":"0.00"}},{"$f":"+[2]Tabulka!AW32","v":0},{"$f":"+[2]Tabulka!AX32","v":{"v":0,"d":"0.00"}},{"$f":"+[2]Tabulka!AY32","v":0},{"$f":"+[2]Tabulka!AZ32","v":{"v":0,"d":"0.00"}},{"$f":"+[2]Tabulka!BA32","v":0},{"$f":"+[2]Tabulka!BB32","v":{"v":0,"d":"0.00"}},{"$f":"+[2]Tabulka!BC32","v":0},{"$f":"+[2]Tabulka!BD32","v":{"v":0,"d":"0.00"}},{"$f":"+[2]Tabulka!BE32","v":1},{"$f":"+[2]Tabulka!BF32","v":{"v":4.655343691373548,"d":"4.66"}},{"$f":"+[2]Tabulka!BG32","v":4},{"$f":"+[2]Tabulka!BH32","v":{"v":3.8491245804252903,"d":"3.85"}},{"$f":"+[2]Tabulka!BI32","v":0},{"$f":"+[2]Tabulka!BJ32","v":{"v":0,"d":"0.00"}},{"$f":"+[2]Tabulka!AP32","v":{"v":14.316213984230174,"d":"14.32"}},{"$f":"+[2]Tabulka!AQ32","v":{"v":3,"d":"3.00"}},{"$f":"+[2]Tabulka!BM32","v":{"v":8.504468271798839,"d":"8.50"}},{"$f":"+[2]Tabulka!BN32","v":2},{"$f":"+[2]Tabulka!BO32","v":{"v":8.504468271798839,"d":"8.50"}}]
["20",{"$f":"[2]Tabulka!C33","v":"NAMYSLO"},{"$f":"[2]Tabulka!D33","v":"Tomáš"},{"$f":"[2]Tabulka!E33","v":"2000-05-09"},{"$f":"[2]Tabulka!F33","v":"Orlová- Slávie SK"},{"$f":"[2]Tabulka!G33","v":"KA"},{"$f":"[2]Tabulka!H33","v":100},{"$f":"+[2]Tabulka!AU33","v":18},{"$f":"+[2]Tabulka!AV33","v":{"v":1.584685144727681,"d":"1.58"}},{"$f":"+[2]Tabulka!AW33","v":11},{"$f":"+[2]Tabulka!AX33","v":{"v":2.4697470604914433,"d":"2.47"}},{"$f":"+[2]Tabulka!AY33","v":20},{"$f":"+[2]Tabulka!AZ33","v":{"v":1.3959926520290693,"d":"1.40"}},{"$f":"+[2]Tabulka!BA33","v":30},{"$f":"+[2]Tabulka!BB33","v":{"v":0.7406002601279904,"d":"0.74"}},{"$f":"+[2]Tabulka!BC33","v":15},{"$f":"+[2]Tabulka!BD33","v":{"v":1.91660566894571,"d":"1.92"}},{"$f":"+[2]Tabulka!BE33","v":26},{"$f":"+[2]Tabulka!BF33","v":{"v":0.9543409711693354,"d":"0.95"}},{"$f":"+[2]Tabulka!BG33","v":24},{"$f":"+[2]Tabulka!BH33","v":{"v":1.083336619156891,"d":"1.08"}},{"$f":"+[2]Tabulka!BI33","v":28},{"$f":"+[2]Tabulka!BJ33","v":{"v":0.8407051632402461,"d":"0.84"}},{"$f":"+[2]Tabulka!AP33","v":{"v":0,"d":"0.00"}},{"$f":"+[2]Tabulka!AQ33","v":{"v":0,"d":"0.00"}},{"$f":"+[2]Tabulka!BM33","v":{"v":10.986013539888367,"d":"10.99"}},{"$f":"+[2]Tabulka!BN33","v":8},{"$f":"+[2]Tabulka!BO33","v":{"v":8.450367145350794,"d":"8.45"}}]
["21",{"$f":"[2]Tabulka!C34","v":"KUROVSKÝ"},{"$f":"[2]Tabulka!D34","v":"Kamil"},{"$f":"[2]Tabulka!E34","v":"1999-01-14"},{"$f":"[2]Tabulka!F34","v":"Karviná- KLUBsten KST"},{"$f":"[2]Tabulka!G34","v":"KA"},{"$f":"[2]Tabulka!H34","v":100},{"$f":"+[2]Tabulka!AU34","v":9},{"$f":"+[2]Tabulka!AV34","v":{"v":2.803575987529016,"d":"2.80"}},{"$f":"+[2]Tabulka!AW34","v":12},{"$f":"+[2]Tabulka!AX34","v":{"v":2.3180486688200013,"d":"2.32"}},{"$f":"+[2]Tabulka!AY34","v":0},{"$f":"+[2]Tabulka!AZ34","v":{"v":0,"d":"0.00"}},{"$f":"+[2]Tabulka!BA34","v":26},{"$f":"+[2]Tabulka!BB34","v":{"v":0.9543409711693354,"d":"0.95"}},{"$f":"+[2]Tabulka!BC34","v":0},{"$f":"+[2]Tabulka!BD34","v":{"v":0,"d":"0.00"}},{"$f":"+[2]Tabulka!BE34","v":22},{"$f":"+[2]Tabulka!BF34","v":{"v":1.2297682545980093,"d":"1.23"}},{"$f":"+[2]Tabulka!BG34","v":27},{"$f":"+[2]Tabulka!BH34","v":{"v":0.8957228265226755,"d":"0.90"}},{"$f":"+[2]Tabulka!BI34","v":25},{"$f":"+[2]Tabulka!BJ34","v":{"v":1.0167952208923348,"d":"1.02"}},{"$f":"+[2]Tabulka!AP34","v":{"v":3.2146083404394137,"d":"3.21"}},{"$f":"+[2]Tabulka!AQ34","v":{"v":3,"d":"3.00"}},{"$f":"+[2]Tabulka!BM34","v":{"v":9.218251929531373,"d":"9.22"}},{"$f":"+[2]Tabulka!BN34","v":6},{"$f":"+[2]Tabulka!BO34","v":{"v":8.322529103008696,"d":"8.32"}}]
["22",{"$f":"[2]Tabulka!C35","v":"KAVICKÝ"},{"$f":"[2]Tabulka!D35","v":"Jan"},{"$f":"[2]Tabulka!E35","v":"1994-10-03"},{"$f":"[2]Tabulka!F35","v":"Chotěbuz- Sokol TJ"},{"$f":"[2]Tabulka!G35","v":"KA"},{"$f":"[2]Tabulka!H35","v":100},{"$f":"+[2]Tabulka!AU35","v":6},{"$f":"+[2]Tabulka!AV35","v":{"v":3.3907995218454317,"d":"3.39"}},{"$f":"+[2]Tabulka!AW35","v":0},{"$f":"+[2]Tabulka!AX35","v":{"v":0,"d":"0.00"}},{"$f":"+[2]Tabulka!AY35","v":0},{"$f":"+[2]Tabulka!AZ35","v":{"v":0,"d":"0.00"}},{"$f":"+[2]Tabulka!BA35","v":16},{"$f":"+[2]Tabulka!BB35","v":{"v":1.7988826834228204,"d":"1.80"}},{"$f":"+[2]Tabulka!BC35","v":8},{"$f":"+[2]Tabulka!BD35","v":{"v":2.987048394281082,"d":"2.99"}},{"$f":"+[2]Tabulka!BE35","v":0},{"$f":"+[2]Tabulka!BF35","v":{"v":0,"d":"0.00"}},{"$f":"+[2]Tabulka!BG35","v":0},{"$f":"+[2]Tabulka!BH35","v":{"v":0,"d":"0.00"}},{"$f":"+[2]Tabulka!BI35","v":0},{"$f":"+[2]Tabulka!BJ35","v":{"v":0,"d":"0.00"}},{"$f":"+[2]Tabulka!AP35","v":{"v":0,"d":"0.00"}},{"$f":"+[2]Tabulka!AQ35","v":{"v":0,"d":"0.00"}},{"$f":"+[2]Tabulka!BM35","v":{"v":8.176730599549334,"d":"8.18"}},{"$f":"+[2]Tabulka!BN35","v":3},{"$f":"+[2]Tabulka!BO35","v":{"v":8.176730599549334,"d":"8.18"}}]
["23",{"$f":"[2]Tabulka!C36","v":"ŠABACKÝ"},{"$f":"[2]Tabulka!D36","v":"Tomáš"},{"$f":"[2]Tabulka!E36","v":"1995-01-01"},{"$f":"[2]Tabulka!F36","v":"Bohumín- TJ"},{"$f":"[2]Tabulka!G36","v":"KA"},{"$f":"[2]Tabulka!H36","v":0},{"$f":"+[2]Tabulka!AU36","v":16},{"$f":"+[2]Tabulka!AV36","v":{"v":1.7988826834228204,"d":"1.80"}},{"$f":"+[2]Tabulka!AW36","v":15},{"$f":"+[2]Tabulka!AX36","v":{"v":1.91660566894571,"d":"1.92"}},{"$f":"+[2]Tabulka!AY36","v":14},{"$f":"+[2]Tabulka!AZ36","v":{"v":2.0420327151325517,"d":"2.04"}},{"$f":"+[2]Tabulka!BA36","v":24},{"$f":"+[2]Tabulka!BB36","v":{"v":1.083336619156891,"d":"1.08"}},{"$f":"+[2]Tabulka!BC36","v":0},{"$f":"+[2]Tabulka!BD36","v":{"v":0,"d":"0.00"}},{"$f":"+[2]Tabulka!BE36","v":24},{"$f":"+[2]Tabulka!BF36","v":{"v":1.083336619156891,"d":"1.08"}},{"$f":"+[2]Tabulka!BG36","v":0},{"$f":"+[2]Tabulka!BH36","v":{"v":0,"d":"0.00"}},{"$f":"+[2]Tabulka!BI36","v":0},{"$f":"+[2]Tabulka!BJ36","v":{"v":0,"d":"0.00"}},{"$f":"+[2]Tabulka!AP36","v":{"v":0.16643266221227387,"d":"0.17"}},{"$f":"+[2]Tabulka!AQ36","v":{"v":2,"d":"2.00"}},{"$f":"+[2]Tabulka!BM36","v":{"v":7.924194305814865,"d":"7.92"}},{"$f":"+[2]Tabulka!BN36","v":5},{"$f":"+[2]Tabulka!BO36","v":{"v":7.924194305814865,"d":"7.92"}}]
["23",{"$f":"[2]Tabulka!C37","v":"ČERNOCH"},{"$f":"[2]Tabulka!D37","v":"Václav"},{"$f":"[2]Tabulka!E37","v":"1996-11-19"},{"$f":"[2]Tabulka!F37","v":"Ostrava- Mittal TJ"},{"$f":"[2]Tabulka!G37","v":"OV"},{"$f":"[2]Tabulka!H37","v":100},{"$f":"+[2]Tabulka!AU37","v":0},{"$f":"+[2]Tabulka!AV37","v":{"v":0,"d":"0.00"}},{"$f":"+[2]Tabulka!AW37","v":0},{"$f":"+[2]Tabulka!AX37","v":{"v":0,"d":"0.00"}},{"$f":"+[2]Tabulka!AY37","v":5},{"$f":"+[2]Tabulka!AZ37","v":{"v":3.6127011759664778,"d":"3.61"}},{"$f":"+[2]Tabulka!BA37","v":3},{"$f":"+[2]Tabulka!BB37","v":{"v":4.101020071683792,"d":"4.10"}},{"$f":"+[2]Tabulka!BC37","v":0},{"$f":"+[2]Tabulka!BD37","v":{"v":0,"d":"0.00"}},{"$f":"+[2]Tabulka!BE37","v":0},{"$f":"+[2]Tabulka!BF37","v":{"v":0,"d":"0.00"}},{"$f":"+[2]Tabulka!BG37","v":0},{"$f":"+[2]Tabulka!BH37","v":{"v":0,"d":"0.00"}},{"$f":"+[2]Tabulka!BI37","v":0},{"$f":"+[2]Tabulka!BJ37","v":{"v":0,"d":"0.00"}},{"$f":"+[2]Tabulka!AP37","v":{"v":6.002768403724998,"d":"6.00"}},{"$f":"+[2]Tabulka!AQ37","v":{"v":1,"d":"1.00"}},{"$f":"+[2]Tabulka!BM37","v":{"v":7.71372124765027,"d":"7.71"}},{"$f":"+[2]Tabulka!BN37","v":2},{"$f":"+[2]Tabulka!BO37","v":{"v":7.71372124765027,"d":"7.71"}}]
["24",{"$f":"[2]Tabulka!C38","v":"SKALICKÝ"},{"$f":"[2]Tabulka!D38","v":"Jiří"},{"$f":"[2]Tabulka!E38","v":"1994-12-24"},{"$f":"[2]Tabulka!F38","v":"Vratimov- MG Odra Gas TTC"},{"$f":"[2]Tabulka!G38","v":"OV"},{"$f":"[2]Tabulka!H38","v":100},{"$f":"+[2]Tabulka!AU38","v":3},{"$f":"+[2]Tabulka!AV38","v":{"v":4.101020071683792,"d":"4.10"}},{"$f":"+[2]Tabulka!AW38","v":0},{"$f":"+[2]Tabulka!AX38","v":{"v":0,"d":"0.00"}},{"$f":"+[2]Tabulka!AY38","v":7},{"$f":"+[2]Tabulka!AZ38","v":{"v":3.1825276537773326,"d":"3.18"}},{"$f":"+[2]Tabulka!BA38","v":0},{"$f":"+[2]Tabulka!BB38","v":{"v":0,"d":"0.00"}},{"$f":"+[2]Tabulka!BC38","v":0},{"$f":"+[2]Tabulka!BD38","v":{"v":0,"d":"0.00"}},{"$f":"+[2]Tabulka!BE38","v":0},{"$f":"+[2]Tabulka!BF38","v":{"v":0,"d":"0.00"}},{"$f":"+[2]Tabulka!BG38","v":0},{"$f":"+[2]Tabulka!BH38","v":{"v":0,"d":"0.00"}},{"$f":"+[2]Tabulka!BI38","v":0},{"$f":"+[2]Tabulka!BJ38","v":{"v":0,"d":"0.00"}},{"$f":"+[2]Tabulka!AP38","v":{"v":0,"d":"0.00"}},{"$f":"+[2]Tabulka!AQ38","v":{"v":0,"d":"0.00"}},{"$f":"+[2]Tabulka!BM38","v":{"v":7.2835477254611245,"d":"7.28"}},{"$f":"+[2]Tabulka!BN38","v":2},{"$f":"+[2]Tabulka!BO38","v":{"v":7.2835477254611245,"d":"7.28"}}]
["24",{"$f":"[2]Tabulka!C39","v":"HAMALA"},{"$f":"[2]Tabulka!D39","v":"Michal"},{"$f":"[2]Tabulka!E39","v":"1996-01-01"},{"$f":"[2]Tabulka!F39","v":"Těrlicko- DDŠ"},{"$f":"[2]Tabulka!G39","v":"KA"},{"$f":"[2]Tabulka!H39","v":0},{"$f":"+[2]Tabulka!AU39","v":0},{"$f":"+[2]Tabulka!AV39","v":{"v":0,"d":"0.00"}},{"$f":"+[2]Tabulka!AW39","v":18},{"$f":"+[2]Tabulka!AX39","v":{"v":1.584685144727681,"d":"1.58"}},{"$f":"+[2]Tabulka!AY39","v":16},{"$f":"+[2]Tabulka!AZ39","v":{"v":1.7988826834228204,"d":"1.80"}},{"$f":"+[2]Tabulka!BA39","v":14},{"$f":"+[2]Tabulka!BB39","v":{"v":2.0420327151325517,"d":"2.04"}},{"$f":"+[2]Tabulka!BC39","v":17},{"$f":"+[2]Tabulka!BD39","v":{"v":1.6883905547970857,"d":"1.69"}},{"$f":"+[2]Tabulka!BE39","v":0},{"$f":"+[2]Tabulka!BF39","v":{"v":0,"d":"0.00"}},{"$f":"+[2]Tabulka!BG39","v":0},{"$f":"+[2]Tabulka!BH39","v":{"v":0,"d":"0.00"}},{"$f":"+[2]Tabulka!BI39","v":0},{"$f":"+[2]Tabulka!BJ39","v":{"v":0,"d":"0.00"}},{"$f":"+[2]Tabulka!AP39","v":{"v":0,"d":"0.00"}},{"$f":"+[2]Tabulka!AQ39","v":{"v":0,"d":"0.00"}},{"$f":"+[2]Tabulka!BM39","v":{"v":7.113991098080139,"d":"7.11"}},{"$f":"+[2]Tabulka!BN39","v":4},{"$f":"+[2]Tabulka!BO39","v":{"v":7.113991098080139,"d":"7.11"}}]
["25",{"$f":"[2]Tabulka!C40","v":"JANEČEK"},{"$f":"[2]Tabulka!D40","v":"Roman"},{"$f":"[2]Tabulka!E40","v":"1996-07-09"},{"$f":"[2]Tabulka!F40","v":"Hrabůvka- Sokol TJ"},{"$f":"[2]Tabulka!G40","v":"OV"},{"$f":"[2]Tabulka!H40","v":100},{"$f":"+[2]Tabulka!AU40","v":0},{"$f":"+[2]Tabulka!AV40","v":{"v":0,"d":"0.00"}},{"$f":"+[2]Tabulka!AW40","v":0},{"$f":"+[2]Tabulka!AX40","v":{"v":0,"d":"0.00"}},{"$f":"+[2]Tabulka!AY40","v":0},{"$f":"+[2]Tabulka!AZ40","v":{"v":0,"d":"0.00"}},{"$f":"+[2]Tabulka!BA40","v":0},{"$f":"+[2]Tabulka!BB40","v":{"v":0,"d":"0.00"}},{"$f":"+[2]Tabulka!BC40","v":5},{"$f":"+[2]Tabulka!BD40","v":{"v":3.6127011759664778,"d":"3.61"}},{"$f":"+[2]Tabulka!BE40","v":6},{"$f":"+[2]Tabulka!BF40","v":{"v":3.3907995218454317,"d":"3.39"}},{"$f":"+[2]Tabulka!BG40","v":0},{"$f":"+[2]Tabulka!BH40","v":{"v":0,"d":"0.00"}},{"$f":"+[2]Tabulka!BI40","v":0},{"$f":"+[2]Tabulka!BJ40","v":{"v":0,"d":"0.00"}},{"$f":"+[2]Tabulka!AP40","v":{"v":0,"d":"0.00"}},{"$f":"+[2]Tabulka!AQ40","v":{"v":0,"d":"0.00"}},{"$f":"+[2]Tabulka!BM40","v":{"v":7.003500697811909,"d":"7.00"}},{"$f":"+[2]Tabulka!BN40","v":2},{"$f":"+[2]Tabulka!BO40","v":{"v":7.003500697811909,"d":"7.00"}}]
["24",{"$f":"[2]Tabulka!C41","v":"SCHNEIDER"},{"$f":"[2]Tabulka!D41","v":"Ondřej"},{"$f":"[2]Tabulka!E41","v":"1997-01-23"},{"$f":"[2]Tabulka!F41","v":"Hrabůvka- Sokol TJ"},{"$f":"[2]Tabulka!G41","v":"OV"},{"$f":"[2]Tabulka!H41","v":100},{"$f":"+[2]Tabulka!AU41","v":0},{"$f":"+[2]Tabulka!AV41","v":{"v":0,"d":"0.00"}},{"$f":"+[2]Tabulka!AW41","v":0},{"$f":"+[2]Tabulka!AX41","v":{"v":0,"d":"0.00"}},{"$f":"+[2]Tabulka!AY41","v":0},{"$f":"+[2]Tabulka!AZ41","v":{"v":0,"d":"0.00"}},{"$f":"+[2]Tabulka!BA41","v":0},{"$f":"+[2]Tabulka!BB41","v":{"v":0,"d":"0.00"}},{"$f":"+[2]Tabulka!BC41","v":5},{"$f":"+[2]Tabulka!BD41","v":{"v":3.6127011759664778,"d":"3.61"}},{"$f":"+[2]Tabulka!BE41","v":6},{"$f":"+[2]Tabulka!BF41","v":{"v":3.3907995218454317,"d":"3.39"}},{"$f":"+[2]Tabulka!BG41","v":0},{"$f":"+[2]Tabulka!BH41","v":{"v":0,"d":"0.00"}},{"$f":"+[2]Tabulka!BI41","v":0},{"$f":"+[2]Tabulka!BJ41","v":{"v":0,"d":"0.00"}},{"$f":"+[2]Tabulka!AP41","v":{"v":21.985345396162632,"d":"21.99"}},{"$f":"+[2]Tabulka!AQ41","v":{"v":3,"d":"3.00"}},{"$f":"+[2]Tabulka!BM41","v":{"v":7.003500697811909,"d":"7.00"}},{"$f":"+[2]Tabulka!BN41","v":2},{"$f":"+[2]Tabulka!BO41","v":{"v":7.003500697811909,"d":"7.00"}}]
["25",{"$f":"[2]Tabulka!C42","v":"KUROVSKÝ"},{"$f":"[2]Tabulka!D42","v":"Filip"},{"$f":"[2]Tabulka!E42","v":"2001-05-29"},{"$f":"[2]Tabulka!F42","v":"Karviná- KLUBsten KST"},{"$f":"[2]Tabulka!G42","v":"KA"},{"$f":"[2]Tabulka!H42","v":100},{"$f":"+[2]Tabulka!AU42","v":0},{"$f":"+[2]Tabulka!AV42","v":{"v":0,"d":"0.00"}},{"$f":"+[2]Tabulka!AW42","v":10},{"$f":"+[2]Tabulka!AX42","v":{"v":2.6313729408930584,"d":"2.63"}},{"$f":"+[2]Tabulka!AY42","v":0},{"$f":"+[2]Tabulka!AZ42","v":{"v":0,"d":"0.00"}},{"$f":"+[2]Tabulka!BA42","v":27},{"$f":"+[2]Tabulka!BB42","v":{"v":0.8957228265226755,"d":"0.90"}},{"$f":"+[2]Tabulka!BC42","v":0},{"$f":"+[2]Tabulka!BD42","v":{"v":0,"d":"0.00"}},{"$f":"+[2]Tabulka!BE42","v":25},{"$f":"+[2]Tabulka!BF42","v":{"v":1.0167952208923348,"d":"1.02"}},{"$f":"+[2]Tabulka!BG42","v":23},{"$f":"+[2]Tabulka!BH42","v":{"v":1.1542326382851416,"d":"1.15"}},{"$f":"+[2]Tabulka!BI42","v":22},{"$f":"+[2]Tabulka!BJ42","v":{"v":1.2297682545980093,"d":"1.23"}},{"$f":"+[2]Tabulka!AP42","v":{"v":0.3602632827858444,"d":"0.36"}},{"$f":"+[2]Tabulka!AQ42","v":{"v":2,"d":"2.00"}},{"$f":"+[2]Tabulka!BM42","v":{"v":6.927891881191219,"d":"6.93"}},{"$f":"+[2]Tabulka!BN42","v":5},{"$f":"+[2]Tabulka!BO42","v":{"v":6.927891881191219,"d":"6.93"}}]
["26",{"$f":"[2]Tabulka!C43","v":"NĚMEC"},{"$f":"[2]Tabulka!D43","v":"Tomáš"},{"$f":"[2]Tabulka!E43","v":"2000-03-03"},{"$f":"[2]Tabulka!F43","v":"Orlová- Slávie SK"},{"$f":"[2]Tabulka!G43","v":"KA"},{"$f":"[2]Tabulka!H43","v":100},{"$f":"+[2]Tabulka!AU43","v":23},{"$f":"+[2]Tabulka!AV43","v":{"v":1.1542326382851416,"d":"1.15"}},{"$f":"+[2]Tabulka!AW43","v":13},{"$f":"+[2]Tabulka!AX43","v":{"v":2.1756679932838794,"d":"2.18"}},{"$f":"+[2]Tabulka!AY43","v":23},{"$f":"+[2]Tabulka!AZ43","v":{"v":1.1542326382851416,"d":"1.15"}},{"$f":"+[2]Tabulka!BA43","v":23},{"$f":"+[2]Tabulka!BB43","v":{"v":1.1542326382851416,"d":"1.15"}},{"$f":"+[2]Tabulka!BC43","v":22},{"$f":"+[2]Tabulka!BD43","v":{"v":1.2297682545980093,"d":"1.23"}},{"$f":"+[2]Tabulka!BE43","v":23},{"$f":"+[2]Tabulka!BF43","v":{"v":1.1542326382851416,"d":"1.15"}},{"$f":"+[2]Tabulka!BG43","v":32},{"$f":"+[2]Tabulka!BH43","v":{"v":0.6524151025642111,"d":"0.65"}},{"$f":"+[2]Tabulka!BI43","v":0},{"$f":"+[2]Tabulka!BJ43","v":{"v":0,"d":"0.00"}},{"$f":"+[2]Tabulka!AP43","v":{"v":0,"d":"0.00"}},{"$f":"+[2]Tabulka!AQ43","v":{"v":0,"d":"0.00"}},{"$f":"+[2]Tabulka!BM43","v":{"v":8.674781903586664,"d":"8.67"}},{"$f":"+[2]Tabulka!BN43","v":7},{"$f":"+[2]Tabulka!BO43","v":{"v":6.868134162737313,"d":"6.87"}}]
["27",{"$f":"[2]Tabulka!C44","v":"PAKIZER"},{"$f":"[2]Tabulka!D44","v":"David"},{"$f":"[2]Tabulka!E44","v":"1996-01-01"},{"$f":"[2]Tabulka!F44","v":"Havířov- CSVČ sv. Jana Boska"},{"$f":"[2]Tabulka!G44","v":"KA"},{"$f":"[2]Tabulka!H44","v":0},{"$f":"+[2]Tabulka!AU44","v":14},{"$f":"+[2]Tabulka!AV44","v":{"v":2.0420327151325517,"d":"2.04"}},{"$f":"+[2]Tabulka!AW44","v":0},{"$f":"+[2]Tabulka!AX44","v":{"v":0,"d":"0.00"}},{"$f":"+[2]Tabulka!AY44","v":0},{"$f":"+[2]Tabulka!AZ44","v":{"v":0,"d":"0.00"}},{"$f":"+[2]Tabulka!BA44","v":32},{"$f":"+[2]Tabulka!BB44","v":{"v":0.6524151025642111,"d":"0.65"}},{"$f":"+[2]Tabulka!BC44","v":16},{"$f":"+[2]Tabulka!BD44","v":{"v":1.7988826834228204,"d":"1.80"}},{"$f":"+[2]Tabulka!BE44","v":0},{"$f":"+[2]Tabulka!BF44","v":{"v":0,"d":"0.00"}},{"$f":"+[2]Tabulka!BG44","v":34},{"$f":"+[2]Tabulka!BH44","v":{"v":0.5747303761145184,"d":"0.57"}},{"$f":"+[2]Tabulka!BI44","v":18},{"$f":"+[2]Tabulka!BJ44","v":{"v":1.584685144727681,"d":"1.58"}},{"$f":"+[2]Tabulka!AP44","v":{"v":0,"d":"0.00"}},{"$f":"+[2]Tabulka!AQ44","v":{"v":0,"d":"0.00"}},{"$f":"+[2]Tabulka!BM44","v":{"v":6.652746021961782,"d":"6.65"}},{"$f":"+[2]Tabulka!BN44","v":5},{"$f":"+[2]Tabulka!BO44","v":{"v":6.652746021961782,"d":"6.65"}}]
["28",{"$f":"[2]Tabulka!C45","v":"GOLASOWSKI"},{"$f":"[2]Tabulka!D45","v":"Martin"},{"$f":"[2]Tabulka!E45","v":"1998-10-15"},{"$f":"[2]Tabulka!F45","v":"Karviná- KLUBsten KST"},{"$f":"[2]Tabulka!G45","v":"KA"},{"$f":"[2]Tabulka!H45","v":100},{"$f":"+[2]Tabulka!AU45","v":4},{"$f":"+[2]Tabulka!AV45","v":{"v":3.8491245804252903,"d":"3.85"}},{"$f":"+[2]Tabulka!AW45","v":0},{"$f":"+[2]Tabulka!AX45","v":{"v":0,"d":"0.00"}},{"$f":"+[2]Tabulka!AY45","v":0},{"$f":"+[2]Tabulka!AZ45","v":{"v":0,"d":"0.00"}},{"$f":"+[2]Tabulka!BA45","v":21},{"$f":"+[2]Tabulka!BB45","v":{"v":1.3102470939168058,"d":"1.31"}},{"$f":"+[2]Tabulka!BC45","v":0},{"$f":"+[2]Tabulka!BD45","v":{"v":0,"d":"0.00"}},{"$f":"+[2]Tabulka!BE45","v":0},{"$f":"+[2]Tabulka!BF45","v":{"v":0,"d":"0.00"}},{"$f":"+[2]Tabulka!BG45","v":21},{"$f":"+[2]Tabulka!BH45","v":{"v":1.3102470939168058,"d":"1.31"}},{"$f":"+[2]Tabulka!BI45","v":0},{"$f":"+[2]Tabulka!BJ45","v":{"v":0,"d":"0.00"}},{"$f":"+[2]Tabulka!AP45","v":{"v":0.16186231111038157,"d":"0.16"}},{"$f":"+[2]Tabulka!AQ45","v":{"v":1,"d":"1.00"}},{"$f":"+[2]Tabulka!BM45","v":{"v":6.469618768258902,"d":"6.47"}},{"$f":"+[2]Tabulka!BN45","v":3},{"$f":"+[2]Tabulka!BO45","v":{"v":6.469618768258902,"d":"6.47"}}]
["29",{"$f":"[2]Tabulka!C46","v":"ŠMAHAJ"},{"$f":"[2]Tabulka!D46","v":"Martin"},{"$f":"[2]Tabulka!E46","v":"2001-06-18"},{"$f":"[2]Tabulka!F46","v":"Karviná- KLUBsten KST"},{"$f":"[2]Tabulka!G46","v":"KA"},{"$f":"[2]Tabulka!H46","v":100},{"$f":"+[2]Tabulka!AU46","v":22},{"$f":"+[2]Tabulka!AV46","v":{"v":1.2297682545980093,"d":"1.23"}},{"$f":"+[2]Tabulka!AW46","v":21},{"$f":"+[2]Tabulka!AX46","v":{"v":1.3102470939168058,"d":"1.31"}},{"$f":"+[2]Tabulka!AY46","v":19},{"$f":"+[2]Tabulka!AZ46","v":{"v":1.4873495950244735,"d":"1.49"}},{"$f":"+[2]Tabulka!BA46","v":0},{"$f":"+[2]Tabulka!BB46","v":{"v":0,"d":"0.00"}},{"$f":"+[2]Tabulka!BC46","v":23},{"$f":"+[2]Tabulka!BD46","v":{"v":1.1542326382851416,"d":"1.15"}},{"$f":"+[2]Tabulka!BE46","v":29},{"$f":"+[2]Tabulka!BF46","v":{"v":0.7890668302410581,"d":"0.79"}},{"$f":"+[2]Tabulka!BG46","v":35},{"$f":"+[2]Tabulka!BH46","v":{"v":0.5394289174769091,"d":"0.54"}},{"$f":"+[2]Tabulka!BI46","v":27},{"$f":"+[2]Tabulka!BJ46","v":{"v":0.8957228265226755,"d":"0.90"}},{"$f":"+[2]Tabulka!AP46","v":{"v":1.0498241458703272,"d":"1.05"}},{"$f":"+[2]Tabulka!AQ46","v":{"v":2,"d":"2.00"}},{"$f":"+[2]Tabulka!BM46","v":{"v":7.4058161560650735,"d":"7.41"}},{"$f":"+[2]Tabulka!BN46","v":7},{"$f":"+[2]Tabulka!BO46","v":{"v":6.077320408347106,"d":"6.08"}}]
["30",{"$f":"[2]Tabulka!C47","v":"URBANIECOVÁ"},{"$f":"[2]Tabulka!D47","v":"Veronika"},{"$f":"[2]Tabulka!E47","v":"1998-11-19"},{"$f":"[2]Tabulka!F47","v":"Chotěbuz- Sokol TJ"},{"$f":"[2]Tabulka!G47","v":"KA"},{"$f":"[2]Tabulka!H47","v":100},{"$f":"+[2]Tabulka!AU47","v":26},{"$f":"+[2]Tabulka!AV47","v":{"v":0.9543409711693354,"d":"0.95"}},{"$f":"+[2]Tabulka!AW47","v":16},{"$f":"+[2]Tabulka!AX47","v":{"v":1.7988826834228204,"d":"1.80"}},{"$f":"+[2]Tabulka!AY47","v":0},{"$f":"+[2]Tabulka!AZ47","v":{"v":0,"d":"0.00"}},{"$f":"+[2]Tabulka!BA47","v":28},{"$f":"+[2]Tabulka!BB47","v":{"v":0.8407051632402461,"d":"0.84"}},{"$f":"+[2]Tabulka!BC47","v":24},{"$f":"+[2]Tabulka!BD47","v":{"v":1.083336619156891,"d":"1.08"}},{"$f":"+[2]Tabulka!BE47","v":27},{"$f":"+[2]Tabulka!BF47","v":{"v":0.8957228265226755,"d":"0.90"}},{"$f":"+[2]Tabulka!BG47","v":30},{"$f":"+[2]Tabulka!BH47","v":{"v":0.7406002601279904,"d":"0.74"}},{"$f":"+[2]Tabulka!BI47","v":0},{"$f":"+[2]Tabulka!BJ47","v":{"v":0,"d":"0.00"}},{"$f":"+[2]Tabulka!AP47","v":{"v":0,"d":"0.00"}},{"$f":"+[2]Tabulka!AQ47","v":{"v":0,"d":"0.00"}},{"$f":"+[2]Tabulka!BM47","v":{"v":6.313588523639959,"d":"6.31"}},{"$f":"+[2]Tabulka!BN47","v":6},{"$f":"+[2]Tabulka!BO47","v":{"v":5.572988263511968,"d":"5.57"}}]
["31",{"$f":"[2]Tabulka!C48","v":"KUČERA"},{"$f":"[2]Tabulka!D48","v":"Martin"},{"$f":"[2]Tabulka!E48","v":"1997-09-23"},{"$f":"[2]Tabulka!F48","v":"Karviná- KLUBsten KST"},{"$f":"[2]Tabulka!G48","v":"KA"},{"$f":"[2]Tabulka!H48","v":100},{"$f":"+[2]Tabulka!AU48","v":0},{"$f":"+[2]Tabulka!AV48","v":{"v":0,"d":"0.00"}},{"$f":"+[2]Tabulka!AW48","v":0},{"$f":"+[2]Tabulka!AX48","v":{"v":0,"d":"0.00"}},{"$f":"+[2]Tabulka!AY48","v":0},{"$f":"+[2]Tabulka!AZ48","v":{"v":0,"d":"0.00"}},{"$f":"+[2]Tabulka!BA48","v":0},{"$f":"+[2]Tabulka!BB48","v":{"v":0,"d":"0.00"}},{"$f":"+[2]Tabulka!BC48","v":0},{"$f":"+[2]Tabulka!BD48","v":{"v":0,"d":"0.00"}},{"$f":"+[2]Tabulka!BE48","v":0},{"$f":"+[2]Tabulka!BF48","v":{"v":0,"d":"0.00"}},{"$f":"+[2]Tabulka!BG48","v":10},{"$f":"+[2]Tabulka!BH48","v":{"v":2.6313729408930584,"d":"2.63"}},{"$f":"+[2]Tabulka!BI48","v":10},{"$f":"+[2]Tabulka!BJ48","v":{"v":2.6313729408930584,"d":"2.63"}},{"$f":"+[2]Tabulka!AP48","v":{"v":0.037666685966102016,"d":"0.04"}},{"$f":"+[2]Tabulka!AQ48","v":{"v":1,"d":"1.00"}},{"$f":"+[2]Tabulka!BM48","v":{"v":5.262745881786117,"d":"5.26"}},{"$f":"+[2]Tabulka!BN48","v":2},{"$f":"+[2]Tabulka!BO48","v":{"v":5.262745881786117,"d":"5.26"}}]
["32",{"$f":"[2]Tabulka!C49","v":"KRZYZOSZCZAK"},{"$f":"[2]Tabulka!D49","v":"Karel"},{"$f":"[2]Tabulka!E49","v":"1999-08-24"},{"$f":"[2]Tabulka!F49","v":"Dětmarovice- Sokol TJ"},{"$f":"[2]Tabulka!G49","v":"KA"},{"$f":"[2]Tabulka!H49","v":100},{"$f":"+[2]Tabulka!AU49","v":25},{"$f":"+[2]Tabulka!AV49","v":{"v":1.0167952208923348,"d":"1.02"}},{"$f":"+[2]Tabulka!AW49","v":20},{"$f":"+[2]Tabulka!AX49","v":{"v":1.3959926520290693,"d":"1.40"}},{"$f":"+[2]Tabulka!AY49","v":21},{"$f":"+[2]Tabulka!AZ49","v":{"v":1.3102470939168058,"d":"1.31"}},{"$f":"+[2]Tabulka!BA49","v":35},{"$f":"+[2]Tabulka!BB49","v":{"v":0.5394289174769091,"d":"0.54"}},{"$f":"+[2]Tabulka!BC49","v":26},{"$f":"+[2]Tabulka!BD49","v":{"v":0.9543409711693354,"d":"0.95"}},{"$f":"+[2]Tabulka!BE49","v":0},{"$f":"+[2]Tabulka!BF49","v":{"v":0,"d":"0.00"}},{"$f":"+[2]Tabulka!BG49","v":0},{"$f":"+[2]Tabulka!BH49","v":{"v":0,"d":"0.00"}},{"$f":"+[2]Tabulka!BI49","v":0},{"$f":"+[2]Tabulka!BJ49","v":{"v":0,"d":"0.00"}},{"$f":"+[2]Tabulka!AP49","v":{"v":0.09747793477759878,"d":"0.10"}},{"$f":"+[2]Tabulka!AQ49","v":{"v":1,"d":"1.00"}},{"$f":"+[2]Tabulka!BM49","v":{"v":5.216804855484455,"d":"5.22"}},{"$f":"+[2]Tabulka!BN49","v":5},{"$f":"+[2]Tabulka!BO49","v":{"v":5.216804855484455,"d":"5.22"}}]
["33",{"$f":"[2]Tabulka!C50","v":"KUNZ"},{"$f":"[2]Tabulka!D50","v":"Marek"},{"$f":"[2]Tabulka!E50","v":"2001-04-08"},{"$f":"[2]Tabulka!F50","v":"Karviná- KLUBsten KST"},{"$f":"[2]Tabulka!G50","v":"KA"},{"$f":"[2]Tabulka!H50","v":100},{"$f":"+[2]Tabulka!AU50","v":0},{"$f":"+[2]Tabulka!AV50","v":{"v":0,"d":"0.00"}},{"$f":"+[2]Tabulka!AW50","v":0},{"$f":"+[2]Tabulka!AX50","v":{"v":0,"d":"0.00"}},{"$f":"+[2]Tabulka!AY50","v":17},{"$f":"+[2]Tabulka!AZ50","v":{"v":1.6883905547970857,"d":"1.69"}},{"$f":"+[2]Tabulka!BA50","v":31},{"$f":"+[2]Tabulka!BB50","v":{"v":0.695110634842026,"d":"0.70"}},{"$f":"+[2]Tabulka!BC50","v":0},{"$f":"+[2]Tabulka!BD50","v":{"v":0,"d":"0.00"}},{"$f":"+[2]Tabulka!BE50","v":28},{"$f":"+[2]Tabulka!BF50","v":{"v":0.8407051632402461,"d":"0.84"}},{"$f":"+[2]Tabulka!BG50","v":37},{"$f":"+[2]Tabulka!BH50","v":{"v":0.4751977435991968,"d":"0.48"}},{"$f":"+[2]Tabulka!BI50","v":20},{"$f":"+[2]Tabulka!BJ50","v":{"v":1.3959926520290693,"d":"1.40"}},{"$f":"+[2]Tabulka!AP50","v":{"v":0.12561052426197886,"d":"0.13"}},{"$f":"+[2]Tabulka!AQ50","v":{"v":1,"d":"1.00"}},{"$f":"+[2]Tabulka!BM50","v":{"v":5.095396748507624,"d":"5.10"}},{"$f":"+[2]Tabulka!BN50","v":5},{"$f":"+[2]Tabulka!BO50","v":{"v":5.095396748507624,"d":"5.10"}}]
["34",{"$f":"[2]Tabulka!C51","v":"SIKORA"},{"$f":"[2]Tabulka!D51","v":"Jakub"},{"$f":"[2]Tabulka!E51","v":"2000-05-13"},{"$f":"[2]Tabulka!F51","v":"Orlová- Slávie SK"},{"$f":"[2]Tabulka!G51","v":"KA"},{"$f":"[2]Tabulka!H51","v":100},{"$f":"+[2]Tabulka!AU51","v":13},{"$f":"+[2]Tabulka!AV51","v":{"v":2.1756679932838794,"d":"2.18"}},{"$f":"+[2]Tabulka!AW51","v":0},{"$f":"+[2]Tabulka!AX51","v":{"v":0,"d":"0.00"}},{"$f":"+[2]Tabulka!AY51","v":0},{"$f":"+[2]Tabulka!AZ51","v":{"v":0,"d":"0.00"}},{"$f":"+[2]Tabulka!BA51","v":0},{"$f":"+[2]Tabulka!BB51","v":{"v":0,"d":"0.00"}},{"$f":"+[2]Tabulka!BC51","v":0},{"$f":"+[2]Tabulka!BD51","v":{"v":0,"d":"0.00"}},{"$f":"+[2]Tabulka!BE51","v":21},{"$f":"+[2]Tabulka!BF51","v":{"v":1.3102470939168058,"d":"1.31"}},{"$f":"+[2]Tabulka!BG51","v":31},{"$f":"+[2]Tabulka!BH51","v":{"v":0.695110634842026,"d":"0.70"}},{"$f":"+[2]Tabulka!BI51","v":29},{"$f":"+[2]Tabulka!BJ51","v":{"v":0.7890668302410581,"d":"0.79"}},{"$f":"+[2]Tabulka!AP51","v":{"v":0,"d":"0.00"}},{"$f":"+[2]Tabulka!AQ51","v":{"v":0,"d":"0.00"}},{"$f":"+[2]Tabulka!BM51","v":{"v":4.970092552283769,"d":"4.97"}},{"$f":"+[2]Tabulka!BN51","v":4},{"$f":"+[2]Tabulka!BO51","v":{"v":4.970092552283769,"d":"4.97"}}]
["35",{"$f":"[2]Tabulka!C52","v":"KANIA"},{"$f":"[2]Tabulka!D52","v":"Vojtěch"},{"$f":"[2]Tabulka!E52","v":"2000-03-22"},{"$f":"[2]Tabulka!F52","v":"Orlová- Siko TTC"},{"$f":"[2]Tabulka!G52","v":"KA"},{"$f":"[2]Tabulka!H52","v":100},{"$f":"+[2]Tabulka!AU52","v":24},{"$f":"+[2]Tabulka!AV52","v":{"v":1.083336619156891,"d":"1.08"}},{"$f":"+[2]Tabulka!AW52","v":22},{"$f":"+[2]Tabulka!AX52","v":{"v":1.2297682545980093,"d":"1.23"}},{"$f":"+[2]Tabulka!AY52","v":26},{"$f":"+[2]Tabulka!AZ52","v":{"v":0.9543409711693354,"d":"0.95"}},{"$f":"+[2]Tabulka!BA52","v":37},{"$f":"+[2]Tabulka!BB52","v":{"v":0.4751977435991968,"d":"0.48"}},{"$f":"+[2]Tabulka!BC52","v":28},{"$f":"+[2]Tabulka!BD52","v":{"v":0.8407051632402461,"d":"0.84"}},{"$f":"+[2]Tabulka!BE52","v":0},{"$f":"+[2]Tabulka!BF52","v":{"v":0,"d":"0.00"}},{"$f":"+[2]Tabulka!BG52","v":0},{"$f":"+[2]Tabulka!BH52","v":{"v":0,"d":"0.00"}},{"$f":"+[2]Tabulka!BI52","v":0},{"$f":"+[2]Tabulka!BJ52","v":{"v":0,"d":"0.00"}},{"$f":"+[2]Tabulka!AP52","v":{"v":0,"d":"0.00"}},{"$f":"+[2]Tabulka!AQ52","v":{"v":0,"d":"0.00"}},{"$f":"+[2]Tabulka!BM52","v":{"v":4.583348751763679,"d":"4.58"}},{"$f":"+[2]Tabulka!BN52","v":5},{"$f":"+[2]Tabulka!BO52","v":{"v":4.583348751763679,"d":"4.58"}}]
["36",{"$f":"[2]Tabulka!C53","v":"FABIAN"},{"$f":"[2]Tabulka!D53","v":"Michal"},{"$f":"[2]Tabulka!E53","v":"2000-02-04"},{"$f":"[2]Tabulka!F53","v":"Orlová- Siko TTC"},{"$f":"[2]Tabulka!G53","v":"KA"},{"$f":"[2]Tabulka!H53","v":100},{"$f":"+[2]Tabulka!AU53","v":27},{"$f":"+[2]Tabulka!AV53","v":{"v":0.8957228265226755,"d":"0.90"}},{"$f":"+[2]Tabulka!AW53","v":26},{"$f":"+[2]Tabulka!AX53","v":{"v":0.9543409711693354,"d":"0.95"}},{"$f":"+[2]Tabulka!AY53","v":24},{"$f":"+[2]Tabulka!AZ53","v":{"v":1.083336619156891,"d":"1.08"}},{"$f":"+[2]Tabulka!BA53","v":40},{"$f":"+[2]Tabulka!BB53","v":{"v":0.3929023154272488,"d":"0.39"}},{"$f":"+[2]Tabulka!BC53","v":27},{"$f":"+[2]Tabulka!BD53","v":{"v":0.8957228265226755,"d":"0.90"}},{"$f":"+[2]Tabulka!BE53","v":0},{"$f":"+[2]Tabulka!BF53","v":{"v":0,"d":"0.00"}},{"$f":"+[2]Tabulka!BG53","v":0},{"$f":"+[2]Tabulka!BH53","v":{"v":0,"d":"0.00"}},{"$f":"+[2]Tabulka!BI53","v":0},{"$f":"+[2]Tabulka!BJ53","v":{"v":0,"d":"0.00"}},{"$f":"+[2]Tabulka!AP53","v":{"v":0,"d":"0.00"}},{"$f":"+[2]Tabulka!AQ53","v":{"v":0,"d":"0.00"}},{"$f":"+[2]Tabulka!BM53","v":{"v":4.222025558798826,"d":"4.22"}},{"$f":"+[2]Tabulka!BN53","v":5},{"$f":"+[2]Tabulka!BO53","v":{"v":4.222025558798826,"d":"4.22"}}]
["37",{"$f":"[2]Tabulka!C54","v":"CHLAD"},{"$f":"[2]Tabulka!D54","v":"Petr"},{"$f":"[2]Tabulka!E54","v":"1996-04-20"},{"$f":"[2]Tabulka!F54","v":"Hrabůvka- Sokol TJ"},{"$f":"[2]Tabulka!G54","v":"OV"},{"$f":"[2]Tabulka!H54","v":100},{"$f":"+[2]Tabulka!AU54","v":0},{"$f":"+[2]Tabulka!AV54","v":{"v":0,"d":"0.00"}},{"$f":"+[2]Tabulka!AW54","v":0},{"$f":"+[2]Tabulka!AX54","v":{"v":0,"d":"0.00"}},{"$f":"+[2]Tabulka!AY54","v":0},{"$f":"+[2]Tabulka!AZ54","v":{"v":0,"d":"0.00"}},{"$f":"+[2]Tabulka!BA54","v":0},{"$f":"+[2]Tabulka!BB54","v":{"v":0,"d":"0.00"}},{"$f":"+[2]Tabulka!BC54","v":0},{"$f":"+[2]Tabulka!BD54","v":{"v":0,"d":"0.00"}},{"$f":"+[2]Tabulka!BE54","v":3},{"$f":"+[2]Tabulka!BF54","v":{"v":4.101020071683792,"d":"4.10"}},{"$f":"+[2]Tabulka!BG54","v":0},{"$f":"+[2]Tabulka!BH54","v":{"v":0,"d":"0.00"}},{"$f":"+[2]Tabulka!BI54","v":0},{"$f":"+[2]Tabulka!BJ54","v":{"v":0,"d":"0.00"}},{"$f":"+[2]Tabulka!AP54","v":{"v":53.36836367425076,"d":"53.37"}},{"$f":"+[2]Tabulka!AQ54","v":{"v":4,"d":"4.00"}},{"$f":"+[2]Tabulka!BM54","v":{"v":4.101020071683792,"d":"4.10"}},{"$f":"+[2]Tabulka!BN54","v":1},{"$f":"+[2]Tabulka!BO54","v":{"v":4.101020071683792,"d":"4.10"}}]
["37",{"$f":"[2]Tabulka!C55","v":"MARTYNEK"},{"$f":"[2]Tabulka!D55","v":"Aleš"},{"$f":"[2]Tabulka!E55","v":"1999-04-30"},{"$f":"[2]Tabulka!F55","v":"Karviná- KLUBsten KST"},{"$f":"[2]Tabulka!G55","v":"KA"},{"$f":"[2]Tabulka!H55","v":100},{"$f":"+[2]Tabulka!AU55","v":21},{"$f":"+[2]Tabulka!AV55","v":{"v":1.3102470939168058,"d":"1.31"}},{"$f":"+[2]Tabulka!AW55","v":0},{"$f":"+[2]Tabulka!AX55","v":{"v":0,"d":"0.00"}},{"$f":"+[2]Tabulka!AY55","v":18},{"$f":"+[2]Tabulka!AZ55","v":{"v":1.584685144727681,"d":"1.58"}},{"$f":"+[2]Tabulka!BA55","v":0},{"$f":"+[2]Tabulka!BB55","v":{"v":0,"d":"0.00"}},{"$f":"+[2]Tabulka!BC55","v":0},{"$f":"+[2]Tabulka!BD55","v":{"v":0,"d":"0.00"}},{"$f":"+[2]Tabulka!BE55","v":32},{"$f":"+[2]Tabulka!BF55","v":{"v":0.6524151025642111,"d":"0.65"}},{"$f":"+[2]Tabulka!BG55","v":43},{"$f":"+[2]Tabulka!BH55","v":{"v":0.32485892777785963,"d":"0.32"}},{"$f":"+[2]Tabulka!BI55","v":0},{"$f":"+[2]Tabulka!BJ55","v":{"v":0,"d":"0.00"}},{"$f":"+[2]Tabulka!AP55","v":{"v":1.0152813294193077,"d":"1.02"}},{"$f":"+[2]Tabulka!AQ55","v":{"v":2,"d":"2.00"}},{"$f":"+[2]Tabulka!BM55","v":{"v":3.8722062689865577,"d":"3.87"}},{"$f":"+[2]Tabulka!BN55","v":4},{"$f":"+[2]Tabulka!BO55","v":{"v":3.8722062689865577,"d":"3.87"}}]
[null,{"$f":"[2]Tabulka!C56","v":"AUGUSTÍN"},{"$f":"[2]Tabulka!D56","v":"Michal"},{"$f":"[2]Tabulka!E56","v":"1994-08-08"},{"$f":"[2]Tabulka!F56","v":"Vratimov- MG Odra Gas TTC"},{"$f":"[2]Tabulka!G56","v":"OV"},{"$f":"[2]Tabulka!H56","v":100},{"$f":"+[2]Tabulka!AU56","v":0},{"$f":"+[2]Tabulka!AV56","v":{"v":0,"d":"0.00"}},{"$f":"+[2]Tabulka!AW56","v":0},{"$f":"+[2]Tabulka!AX56","v":{"v":0,"d":"0.00"}},{"$f":"+[2]Tabulka!AY56","v":0},{"$f":"+[2]Tabulka!AZ56","v":{"v":0,"d":"0.00"}},{"$f":"+[2]Tabulka!BA56","v":4},{"$f":"+[2]Tabulka!BB56","v":{"v":3.8491245804252903,"d":"3.85"}},{"$f":"+[2]Tabulka!BC56","v":0},{"$f":"+[2]Tabulka!BD56","v":{"v":0,"d":"0.00"}},{"$f":"+[2]Tabulka!BE56","v":0},{"$f":"+[2]Tabulka!BF56","v":{"v":0,"d":"0.00"}},{"$f":"+[2]Tabulka!BG56","v":0},{"$f":"+[2]Tabulka!BH56","v":{"v":0,"d":"0.00"}},{"$f":"+[2]Tabulka!BI56","v":0},{"$f":"+[2]Tabulka!BJ56","v":{"v":0,"d":"0.00"}},{"$f":"+[2]Tabulka!AP56","v":{"v":0,"d":"0.00"}},{"$f":"+[2]Tabulka!AQ56","v":{"v":0,"d":"0.00"}},{"$f":"+[2]Tabulka!BM56","v":{"v":3.8491245804252903,"d":"3.85"}},{"$f":"+[2]Tabulka!BN56","v":1},{"$f":"+[2]Tabulka!BO56","v":{"v":3.8491245804252903,"d":"3.85"}}]
["37",{"$f":"[2]Tabulka!C57","v":"VELIČKA"},{"$f":"[2]Tabulka!D57","v":"Lukáš"},{"$f":"[2]Tabulka!E57","v":"1995-02-26"},{"$f":"[2]Tabulka!F57","v":"MSV Studénka- MSV TJ"},{"$f":"[2]Tabulka!G57","v":"NJ"},{"$f":"[2]Tabulka!H57","v":100},{"$f":"+[2]Tabulka!AU57","v":0},{"$f":"+[2]Tabulka!AV57","v":{"v":0,"d":"0.00"}},{"$f":"+[2]Tabulka!AW57","v":0},{"$f":"+[2]Tabulka!AX57","v":{"v":0,"d":"0.00"}},{"$f":"+[2]Tabulka!AY57","v":0},{"$f":"+[2]Tabulka!AZ57","v":{"v":0,"d":"0.00"}},{"$f":"+[2]Tabulka!BA57","v":0},{"$f":"+[2]Tabulka!BB57","v":{"v":0,"d":"0.00"}},{"$f":"+[2]Tabulka!BC57","v":0},{"$f":"+[2]Tabulka!BD57","v":{"v":0,"d":"0.00"}},{"$f":"+[2]Tabulka!BE57","v":4},{"$f":"+[2]Tabulka!BF57","v":{"v":3.8491245804252903,"d":"3.85"}},{"$f":"+[2]Tabulka!BG57","v":0},{"$f":"+[2]Tabulka!BH57","v":{"v":0,"d":"0.00"}},{"$f":"+[2]Tabulka!BI57","v":0},{"$f":"+[2]Tabulka!BJ57","v":{"v":0,"d":"0.00"}},{"$f":"+[2]Tabulka!AP57","v":{"v":2.7844284156816728,"d":"2.78"}},{"$f":"+[2]Tabulka!AQ57","v":{"v":2,"d":"2.00"}},{"$f":"+[2]Tabulka!BM57","v":{"v":3.8491245804252903,"d":"3.85"}},{"$f":"+[2]Tabulka!BN57","v":1},{"$f":"+[2]Tabulka!BO57","v":{"v":3.8491245804252903,"d":"3.85"}}]
["38",{"$f":"[2]Tabulka!C58","v":"PIESZKA"},{"$f":"[2]Tabulka!D58","v":"Lukáš"},{"$f":"[2]Tabulka!E58","v":"2000-01-01"},{"$f":"[2]Tabulka!F58","v":"Chotěbuz- Sokol TJ"},{"$f":"[2]Tabulka!G58","v":"KA"},{"$f":"[2]Tabulka!H58","v":0},{"$f":"+[2]Tabulka!AU58","v":0},{"$f":"+[2]Tabulka!AV58","v":{"v":0,"d":"0.00"}},{"$f":"+[2]Tabulka!AW58","v":22},{"$f":"+[2]Tabulka!AX58","v":{"v":1.2297682545980093,"d":"1.23"}},{"$f":"+[2]Tabulka!AY58","v":0},{"$f":"+[2]Tabulka!AZ58","v":{"v":0,"d":"0.00"}},{"$f":"+[2]Tabulka!BA58","v":34},{"$f":"+[2]Tabulka!BB58","v":{"v":0.5747303761145184,"d":"0.57"}},{"$f":"+[2]Tabulka!BC58","v":19},{"$f":"+[2]Tabulka!BD58","v":{"v":1.4873495950244735,"d":"1.49"}},{"$f":"+[2]Tabulka!BE58","v":0},{"$f":"+[2]Tabulka!BF58","v":{"v":0,"d":"0.00"}},{"$f":"+[2]Tabulka!BG58","v":40},{"$f":"+[2]Tabulka!BH58","v":{"v":0.3929023154272488,"d":"0.39"}},{"$f":"+[2]Tabulka!BI58","v":0},{"$f":"+[2]Tabulka!BJ58","v":{"v":0,"d":"0.00"}},{"$f":"+[2]Tabulka!AP58","v":{"v":0,"d":"0.00"}},{"$f":"+[2]Tabulka!AQ58","v":{"v":0,"d":"0.00"}},{"$f":"+[2]Tabulka!BM58","v":{"v":3.68475054116425,"d":"3.68"}},{"$f":"+[2]Tabulka!BN58","v":4},{"$f":"+[2]Tabulka!BO58","v":{"v":3.68475054116425,"d":"3.68"}}]
["39",{"$f":"[2]Tabulka!C59","v":"ŠČUKA"},{"$f":"[2]Tabulka!D59","v":"Ladislav"},{"$f":"[2]Tabulka!E59","v":"1999-01-01"},{"$f":"[2]Tabulka!F59","v":"Těrlicko- DDŠ"},{"$f":"[2]Tabulka!G59","v":"KA"},{"$f":"[2]Tabulka!H59","v":0},{"$f":"+[2]Tabulka!AU59","v":0},{"$f":"+[2]Tabulka!AV59","v":{"v":0,"d":"0.00"}},{"$f":"+[2]Tabulka!AW59","v":0},{"$f":"+[2]Tabulka!AX59","v":{"v":0,"d":"0.00"}},{"$f":"+[2]Tabulka!AY59","v":31},{"$f":"+[2]Tabulka!AZ59","v":{"v":0.695110634842026,"d":"0.70"}},{"$f":"+[2]Tabulka!BA59","v":22},{"$f":"+[2]Tabulka!BB59","v":{"v":1.2297682545980093,"d":"1.23"}},{"$f":"+[2]Tabulka!BC59","v":18},{"$f":"+[2]Tabulka!BD59","v":{"v":1.584685144727681,"d":"1.58"}},{"$f":"+[2]Tabulka!BE59","v":0},{"$f":"+[2]Tabulka!BF59","v":{"v":0,"d":"0.00"}},{"$f":"+[2]Tabulka!BG59","v":0},{"$f":"+[2]Tabulka!BH59","v":{"v":0,"d":"0.00"}},{"$f":"+[2]Tabulka!BI59","v":0},{"$f":"+[2]Tabulka!BJ59","v":{"v":0,"d":"0.00"}},{"$f":"+[2]Tabulka!AP59","v":{"v":0,"d":"0.00"}},{"$f":"+[2]Tabulka!AQ59","v":{"v":0,"d":"0.00"}},{"$f":"+[2]Tabulka!BM59","v":{"v":3.5095640341677163,"d":"3.51"}},{"$f":"+[2]Tabulka!BN59","v":3},{"$f":"+[2]Tabulka!BO59","v":{"v":3.5095640341677163,"d":"3.51"}}]
["38",{"$f":"[2]Tabulka!C60","v":"HORVÁTH"},{"$f":"[2]Tabulka!D60","v":"Josef"},{"$f":"[2]Tabulka!E60","v":"1995-11-17"},{"$f":"[2]Tabulka!F60","v":"Ostrava- Don Bosco SSVČ"},{"$f":"[2]Tabulka!G60","v":"OV"},{"$f":"[2]Tabulka!H60","v":100},{"$f":"+[2]Tabulka!AU60","v":6},{"$f":"+[2]Tabulka!AV60","v":{"v":3.3907995218454317,"d":"3.39"}},{"$f":"+[2]Tabulka!AW60","v":0},{"$f":"+[2]Tabulka!AX60","v":{"v":0,"d":"0.00"}},{"$f":"+[2]Tabulka!AY60","v":0},{"$f":"+[2]Tabulka!AZ60","v":{"v":0,"d":"0.00"}},{"$f":"+[2]Tabulka!BA60","v":0},{"$f":"+[2]Tabulka!BB60","v":{"v":0,"d":"0.00"}},{"$f":"+[2]Tabulka!BC60","v":0},{"$f":"+[2]Tabulka!BD60","v":{"v":0,"d":"0.00"}},{"$f":"+[2]Tabulka!BE60","v":0},{"$f":"+[2]Tabulka!BF60","v":{"v":0,"d":"0.00"}},{"$f":"+[2]Tabulka!BG60","v":0},{"$f":"+[2]Tabulka!BH60","v":{"v":0,"d":"0.00"}},{"$f":"+[2]Tabulka!BI60","v":0},{"$f":"+[2]Tabulka!BJ60","v":{"v":0,"d":"0.00"}},{"$f":"+[2]Tabulka!AP60","v":{"v":0,"d":"0.00"}},{"$f":"+[2]Tabulka!AQ60","v":{"v":0,"d":"0.00"}},{"$f":"+[2]Tabulka!BM60","v":{"v":3.3907995218454317,"d":"3.39"}},{"$f":"+[2]Tabulka!BN60","v":1},{"$f":"+[2]Tabulka!BO60","v":{"v":3.3907995218454317,"d":"3.39"}}]
["39",{"$f":"[2]Tabulka!C61","v":"KROŠČEN"},{"$f":"[2]Tabulka!D61","v":"Lukáš"},{"$f":"[2]Tabulka!E61","v":"1995-11-17"},{"$f":"[2]Tabulka!F61","v":"Ostrava- Don Bosco SSVČ"},{"$f":"[2]Tabulka!G61","v":"OV"},{"$f":"[2]Tabulka!H61","v":100},{"$f":"+[2]Tabulka!AU61","v":6},{"$f":"+[2]Tabulka!AV61","v":{"v":3.3907995218454317,"d":"3.39"}},{"$f":"+[2]Tabulka!AW61","v":0},{"$f":"+[2]Tabulka!AX61","v":{"v":0,"d":"0.00"}},{"$f":"+[2]Tabulka!AY61","v":0},{"$f":"+[2]Tabulka!AZ61","v":{"v":0,"d":"0.00"}},{"$f":"+[2]Tabulka!BA61","v":0},{"$f":"+[2]Tabulka!BB61","v":{"v":0,"d":"0.00"}},{"$f":"+[2]Tabulka!BC61","v":0},{"$f":"+[2]Tabulka!BD61","v":{"v":0,"d":"0.00"}},{"$f":"+[2]Tabulka!BE61","v":0},{"$f":"+[2]Tabulka!BF61","v":{"v":0,"d":"0.00"}},{"$f":"+[2]Tabulka!BG61","v":0},{"$f":"+[2]Tabulka!BH61","v":{"v":0,"d":"0.00"}},{"$f":"+[2]Tabulka!BI61","v":0},{"$f":"+[2]Tabulka!BJ61","v":{"v":0,"d":"0.00"}},{"$f":"+[2]Tabulka!AP61","v":{"v":0,"d":"0.00"}},{"$f":"+[2]Tabulka!AQ61","v":{"v":0,"d":"0.00"}},{"$f":"+[2]Tabulka!BM61","v":{"v":3.3907995218454317,"d":"3.39"}},{"$f":"+[2]Tabulka!BN61","v":1},{"$f":"+[2]Tabulka!BO61","v":{"v":3.3907995218454317,"d":"3.39"}}]
["40",{"$f":"[2]Tabulka!C62","v":"STAROSTKA"},{"$f":"[2]Tabulka!D62","v":"Vojtěch"},{"$f":"[2]Tabulka!E62","v":"1998-01-01"},{"$f":"[2]Tabulka!F62","v":"Orlová- Slávie SK"},{"$f":"[2]Tabulka!G62","v":"KA"},{"$f":"[2]Tabulka!H62","v":0},{"$f":"+[2]Tabulka!AU62","v":32},{"$f":"+[2]Tabulka!AV62","v":{"v":0.6524151025642111,"d":"0.65"}},{"$f":"+[2]Tabulka!AW62","v":27},{"$f":"+[2]Tabulka!AX62","v":{"v":0.8957228265226755,"d":"0.90"}},{"$f":"+[2]Tabulka!AY62","v":28},{"$f":"+[2]Tabulka!AZ62","v":{"v":0.8407051632402461,"d":"0.84"}},{"$f":"+[2]Tabulka!BA62","v":43},{"$f":"+[2]Tabulka!BB62","v":{"v":0.32485892777785963,"d":"0.32"}},{"$f":"+[2]Tabulka!BC62","v":32},{"$f":"+[2]Tabulka!BD62","v":{"v":0.6524151025642111,"d":"0.65"}},{"$f":"+[2]Tabulka!BE62","v":0},{"$f":"+[2]Tabulka!BF62","v":{"v":0,"d":"0.00"}},{"$f":"+[2]Tabulka!BG62","v":0},{"$f":"+[2]Tabulka!BH62","v":{"v":0,"d":"0.00"}},{"$f":"+[2]Tabulka!BI62","v":0},{"$f":"+[2]Tabulka!BJ62","v":{"v":0,"d":"0.00"}},{"$f":"+[2]Tabulka!AP62","v":{"v":0,"d":"0.00"}},{"$f":"+[2]Tabulka!AQ62","v":{"v":0,"d":"0.00"}},{"$f":"+[2]Tabulka!BM62","v":{"v":3.3661171226692037,"d":"3.37"}},{"$f":"+[2]Tabulka!BN62","v":5},{"$f":"+[2]Tabulka!BO62","v":{"v":3.3661171226692037,"d":"3.37"}}]
["41",{"$f":"[2]Tabulka!C63","v":"GOLASOWSKI"},{"$f":"[2]Tabulka!D63","v":"Lukáš"},{"$f":"[2]Tabulka!E63","v":"1998-10-15"},{"$f":"[2]Tabulka!F63","v":"Karviná- KLUBsten KST"},{"$f":"[2]Tabulka!G63","v":"KA"},{"$f":"[2]Tabulka!H63","v":100},{"$f":"+[2]Tabulka!AU63","v":0},{"$f":"+[2]Tabulka!AV63","v":{"v":0,"d":"0.00"}},{"$f":"+[2]Tabulka!AW63","v":0},{"$f":"+[2]Tabulka!AX63","v":{"v":0,"d":"0.00"}},{"$f":"+[2]Tabulka!AY63","v":0},{"$f":"+[2]Tabulka!AZ63","v":{"v":0,"d":"0.00"}},{"$f":"+[2]Tabulka!BA63","v":18},{"$f":"+[2]Tabulka!BB63","v":{"v":1.584685144727681,"d":"1.58"}},{"$f":"+[2]Tabulka!BC63","v":0},{"$f":"+[2]Tabulka!BD63","v":{"v":0,"d":"0.00"}},{"$f":"+[2]Tabulka!BE63","v":0},{"$f":"+[2]Tabulka!BF63","v":{"v":0,"d":"0.00"}},{"$f":"+[2]Tabulka!BG63","v":17},{"$f":"+[2]Tabulka!BH63","v":{"v":1.6883905547970857,"d":"1.69"}},{"$f":"+[2]Tabulka!BI63","v":0},{"$f":"+[2]Tabulka!BJ63","v":{"v":0,"d":"0.00"}},{"$f":"+[2]Tabulka!AP63","v":{"v":0.32506853675442354,"d":"0.33"}},{"$f":"+[2]Tabulka!AQ63","v":{"v":1,"d":"1.00"}},{"$f":"+[2]Tabulka!BM63","v":{"v":3.2730756995247665,"d":"3.27"}},{"$f":"+[2]Tabulka!BN63","v":2},{"$f":"+[2]Tabulka!BO63","v":{"v":3.2730756995247665,"d":"3.27"}}]
["42",{"$f":"[2]Tabulka!C64","v":"NOVÁK"},{"$f":"[2]Tabulka!D64","v":"Adam"},{"$f":"[2]Tabulka!E64","v":"2001-07-22"},{"$f":"[2]Tabulka!F64","v":"Karviná- KLUBsten KST"},{"$f":"[2]Tabulka!G64","v":"KA"},{"$f":"[2]Tabulka!H64","v":100},{"$f":"+[2]Tabulka!AU64","v":0},{"$f":"+[2]Tabulka!AV64","v":{"v":0,"d":"0.00"}},{"$f":"+[2]Tabulka!AW64","v":31},{"$f":"+[2]Tabulka!AX64","v":{"v":0.695110634842026,"d":"0.70"}},{"$f":"+[2]Tabulka!AY64","v":22},{"$f":"+[2]Tabulka!AZ64","v":{"v":1.2297682545980093,"d":"1.23"}},{"$f":"+[2]Tabulka!BA64","v":0},{"$f":"+[2]Tabulka!BB64","v":{"v":0,"d":"0.00"}},{"$f":"+[2]Tabulka!BC64","v":21},{"$f":"+[2]Tabulka!BD64","v":{"v":1.3102470939168058,"d":"1.31"}},{"$f":"+[2]Tabulka!BE64","v":0},{"$f":"+[2]Tabulka!BF64","v":{"v":0,"d":"0.00"}},{"$f":"+[2]Tabulka!BG64","v":0},{"$f":"+[2]Tabulka!BH64","v":{"v":0,"d":"0.00"}},{"$f":"+[2]Tabulka!BI64","v":0},{"$f":"+[2]Tabulka!BJ64","v":{"v":0,"d":"0.00"}},{"$f":"+[2]Tabulka!AP64","v":{"v":0.0914905824022211,"d":"0.09"}},{"$f":"+[2]Tabulka!AQ64","v":{"v":1,"d":"1.00"}},{"$f":"+[2]Tabulka!BM64","v":{"v":3.2351259833568413,"d":"3.24"}},{"$f":"+[2]Tabulka!BN64","v":3},{"$f":"+[2]Tabulka!BO64","v":{"v":3.2351259833568413,"d":"3.24"}}]
["42",{"$f":"[2]Tabulka!C65","v":"TRUBÁK"},{"$f":"[2]Tabulka!D65","v":"Vojtěch"},{"$f":"[2]Tabulka!E65","v":"1996-09-23"},{"$f":"[2]Tabulka!F65","v":"Kozlovice- Sokol TJ"},{"$f":"[2]Tabulka!G65","v":"FM"},{"$f":"[2]Tabulka!H65","v":100},{"$f":"+[2]Tabulka!AU65","v":0},{"$f":"+[2]Tabulka!AV65","v":{"v":0,"d":"0.00"}},{"$f":"+[2]Tabulka!AW65","v":0},{"$f":"+[2]Tabulka!AX65","v":{"v":0,"d":"0.00"}},{"$f":"+[2]Tabulka!AY65","v":13},{"$f":"+[2]Tabulka!AZ65","v":{"v":2.1756679932838794,"d":"2.18"}},{"$f":"+[2]Tabulka!BA65","v":0},{"$f":"+[2]Tabulka!BB65","v":{"v":0,"d":"0.00"}},{"$f":"+[2]Tabulka!BC65","v":0},{"$f":"+[2]Tabulka!BD65","v":{"v":0,"d":"0.00"}},{"$f":"+[2]Tabulka!BE65","v":0},{"$f":"+[2]Tabulka!BF65","v":{"v":0,"d":"0.00"}},{"$f":"+[2]Tabulka!BG65","v":25},{"$f":"+[2]Tabulka!BH65","v":{"v":1.0167952208923348,"d":"1.02"}},{"$f":"+[2]Tabulka!BI65","v":0},{"$f":"+[2]Tabulka!BJ65","v":{"v":0,"d":"0.00"}},{"$f":"+[2]Tabulka!AP65","v":{"v":0,"d":"0.00"}},{"$f":"+[2]Tabulka!AQ65","v":{"v":0,"d":"0.00"}},{"$f":"+[2]Tabulka!BM65","v":{"v":3.192463214176214,"d":"3.19"}},{"$f":"+[2]Tabulka!BN65","v":2},{"$f":"+[2]Tabulka!BO65","v":{"v":3.192463214176214,"d":"3.19"}}]
["43",{"$f":"[2]Tabulka!C66","v":"REVAJ"},{"$f":"[2]Tabulka!D66","v":"Jakub"},{"$f":"[2]Tabulka!E66","v":"1996-07-06"},{"$f":"[2]Tabulka!F66","v":"Český Těšín- SKST"},{"$f":"[2]Tabulka!G66","v":"KA"},{"$f":"[2]Tabulka!H66","v":100},{"$f":"+[2]Tabulka!AU66","v":0},{"$f":"+[2]Tabulka!AV66","v":{"v":0,"d":"0.00"}},{"$f":"+[2]Tabulka!AW66","v":0},{"$f":"+[2]Tabulka!AX66","v":{"v":0,"d":"0.00"}},{"$f":"+[2]Tabulka!AY66","v":0},{"$f":"+[2]Tabulka!AZ66","v":{"v":0,"d":"0.00"}},{"$f":"+[2]Tabulka!BA66","v":0},{"$f":"+[2]Tabulka!BB66","v":{"v":0,"d":"0.00"}},{"$f":"+[2]Tabulka!BC66","v":0},{"$f":"+[2]Tabulka!BD66","v":{"v":0,"d":"0.00"}},{"$f":"+[2]Tabulka!BE66","v":18},{"$f":"+[2]Tabulka!BF66","v":{"v":1.584685144727681,"d":"1.58"}},{"$f":"+[2]Tabulka!BG66","v":20},{"$f":"+[2]Tabulka!BH66","v":{"v":1.3959926520290693,"d":"1.40"}},{"$f":"+[2]Tabulka!BI66","v":0},{"$f":"+[2]Tabulka!BJ66","v":{"v":0,"d":"0.00"}},{"$f":"+[2]Tabulka!AP66","v":{"v":0,"d":"0.00"}},{"$f":"+[2]Tabulka!AQ66","v":{"v":0,"d":"0.00"}},{"$f":"+[2]Tabulka!BM66","v":{"v":2.9806777967567504,"d":"2.98"}},{"$f":"+[2]Tabulka!BN66","v":2},{"$f":"+[2]Tabulka!BO66","v":{"v":2.9806777967567504,"d":"2.98"}}]
["44",{"$f":"[2]Tabulka!C67","v":"KUBATKO"},{"$f":"[2]Tabulka!D67","v":"Martin"},{"$f":"[2]Tabulka!E67","v":"1994-02-03"},{"$f":"[2]Tabulka!F67","v":"Dětmarovice- Sokol TJ"},{"$f":"[2]Tabulka!G67","v":"KA"},{"$f":"[2]Tabulka!H67","v":100},{"$f":"+[2]Tabulka!AU67","v":0},{"$f":"+[2]Tabulka!AV67","v":{"v":0,"d":"0.00"}},{"$f":"+[2]Tabulka!AW67","v":0},{"$f":"+[2]Tabulka!AX67","v":{"v":0,"d":"0.00"}},{"$f":"+[2]Tabulka!AY67","v":0},{"$f":"+[2]Tabulka!AZ67","v":{"v":0,"d":"0.00"}},{"$f":"+[2]Tabulka!BA67","v":0},{"$f":"+[2]Tabulka!BB67","v":{"v":0,"d":"0.00"}},{"$f":"+[2]Tabulka!BC67","v":0},{"$f":"+[2]Tabulka!BD67","v":{"v":0,"d":"0.00"}},{"$f":"+[2]Tabulka!BE67","v":11},{"$f":"+[2]Tabulka!BF67","v":{"v":2.4697470604914433,"d":"2.47"}},{"$f":"+[2]Tabulka!BG67","v":0},{"$f":"+[2]Tabulka!BH67","v":{"v":0,"d":"0.00"}},{"$f":"+[2]Tabulka!BI67","v":0},{"$f":"+[2]Tabulka!BJ67","v":{"v":0,"d":"0.00"}},{"$f":"+[2]Tabulka!AP67","v":{"v":0,"d":"0.00"}},{"$f":"+[2]Tabulka!AQ67","v":{"v":0,"d":"0.00"}},{"$f":"+[2]Tabulka!BM67","v":{"v":2.4697470604914433,"d":"2.47"}},{"$f":"+[2]Tabulka!BN67","v":1},{"$f":"+[2]Tabulka!BO67","v":{"v":2.4697470604914433,"d":"2.47"}}]
["45",{"$f":"[2]Tabulka!C68","v":"LUKOSZ"},{"$f":"[2]Tabulka!D68","v":"Richard"},{"$f":"[2]Tabulka!E68","v":"2002-08-28"},{"$f":"[2]Tabulka!F68","v":"Orlová- Siko TTC"},{"$f":"[2]Tabulka!G68","v":"KA"},{"$f":"[2]Tabulka!H68","v":100},{"$f":"+[2]Tabulka!AU68","v":28},{"$f":"+[2]Tabulka!AV68","v":{"v":0.8407051632402461,"d":"0.84"}},{"$f":"+[2]Tabulka!AW68","v":29},{"$f":"+[2]Tabulka!AX68","v":{"v":0.7890668302410581,"d":"0.79"}},{"$f":"+[2]Tabulka!AY68","v":29},{"$f":"+[2]Tabulka!AZ68","v":{"v":0.7890668302410581,"d":"0.79"}},{"$f":"+[2]Tabulka!BA68","v":0},{"$f":"+[2]Tabulka!BB68","v":{"v":0,"d":"0.00"}},{"$f":"+[2]Tabulka!BC68","v":0},{"$f":"+[2]Tabulka!BD68","v":{"v":0,"d":"0.00"}},{"$f":"+[2]Tabulka!BE68","v":0},{"$f":"+[2]Tabulka!BF68","v":{"v":0,"d":"0.00"}},{"$f":"+[2]Tabulka!BG68","v":0},{"$f":"+[2]Tabulka!BH68","v":{"v":0,"d":"0.00"}},{"$f":"+[2]Tabulka!BI68","v":0},{"$f":"+[2]Tabulka!BJ68","v":{"v":0,"d":"0.00"}},{"$f":"+[2]Tabulka!AP68","v":{"v":0,"d":"0.00"}},{"$f":"+[2]Tabulka!AQ68","v":{"v":0,"d":"0.00"}},{"$f":"+[2]Tabulka!BM68","v":{"v":2.4188388237223624,"d":"2.42"}},{"$f":"+[2]Tabulka!BN68","v":3},{"$f":"+[2]Tabulka!BO68","v":{"v":2.4188388237223624,"d":"2.42"}}]
["46",{"$f":"[2]Tabulka!C69","v":"SIKORA"},{"$f":"[2]Tabulka!D69","v":"Robert"},{"$f":"[2]Tabulka!E69","v":"2000-01-01"},{"$f":"[2]Tabulka!F69","v":"Orlová- Siko TTC"},{"$f":"[2]Tabulka!G69","v":"KA"},{"$f":"[2]Tabulka!H69","v":0},{"$f":"+[2]Tabulka!AU69","v":0},{"$f":"+[2]Tabulka!AV69","v":{"v":0,"d":"0.00"}},{"$f":"+[2]Tabulka!AW69","v":0},{"$f":"+[2]Tabulka!AX69","v":{"v":0,"d":"0.00"}},{"$f":"+[2]Tabulka!AY69","v":34},{"$f":"+[2]Tabulka!AZ69","v":{"v":0.5747303761145184,"d":"0.57"}},{"$f":"+[2]Tabulka!BA69","v":39},{"$f":"+[2]Tabulka!BB69","v":{"v":0.4186147390428583,"d":"0.42"}},{"$f":"+[2]Tabulka!BC69","v":20},{"$f":"+[2]Tabulka!BD69","v":{"v":1.3959926520290693,"d":"1.40"}},{"$f":"+[2]Tabulka!BE69","v":0},{"$f":"+[2]Tabulka!BF69","v":{"v":0,"d":"0.00"}},{"$f":"+[2]Tabulka!BG69","v":0},{"$f":"+[2]Tabulka!BH69","v":{"v":0,"d":"0.00"}},{"$f":"+[2]Tabulka!BI69","v":0},{"$f":"+[2]Tabulka!BJ69","v":{"v":0,"d":"0.00"}},{"$f":"+[2]Tabulka!AP69","v":{"v":0,"d":"0.00"}},{"$f":"+[2]Tabulka!AQ69","v":{"v":0,"d":"0.00"}},{"$f":"+[2]Tabulka!BM69","v":{"v":2.389337767186446,"d":"2.39"}},{"$f":"+[2]Tabulka!BN69","v":3},{"$f":"+[2]Tabulka!BO69","v":{"v":2.389337767186446,"d":"2.39"}}]
["47",{"$f":"[2]Tabulka!C70","v":"PINDUR"},{"$f":"[2]Tabulka!D70","v":"Jakub"},{"$f":"[2]Tabulka!E70","v":"2000-09-17"},{"$f":"[2]Tabulka!F70","v":"Havířov- Baník SKST"},{"$f":"[2]Tabulka!G70","v":"KA"},{"$f":"[2]Tabulka!H70","v":100},{"$f":"+[2]Tabulka!AU70","v":31},{"$f":"+[2]Tabulka!AV70","v":{"v":0.695110634842026,"d":"0.70"}},{"$f":"+[2]Tabulka!AW70","v":17},{"$f":"+[2]Tabulka!AX70","v":{"v":1.6883905547970857,"d":"1.69"}},{"$f":"+[2]Tabulka!AY70","v":0},{"$f":"+[2]Tabulka!AZ70","v":{"v":0,"d":"0.00"}},{"$f":"+[2]Tabulka!BA70","v":0},{"$f":"+[2]Tabulka!BB70","v":{"v":0,"d":"0.00"}},{"$f":"+[2]Tabulka!BC70","v":0},{"$f":"+[2]Tabulka!BD70","v":{"v":0,"d":"0.00"}},{"$f":"+[2]Tabulka!BE70","v":0},{"$f":"+[2]Tabulka!BF70","v":{"v":0,"d":"0.00"}},{"$f":"+[2]Tabulka!BG70","v":0},{"$f":"+[2]Tabulka!BH70","v":{"v":0,"d":"0.00"}},{"$f":"+[2]Tabulka!BI70","v":0},{"$f":"+[2]Tabulka!BJ70","v":{"v":0,"d":"0.00"}},{"$f":"+[2]Tabulka!AP70","v":{"v":0.3866724281512815,"d":"0.39"}},{"$f":"+[2]Tabulka!AQ70","v":{"v":3,"d":"3.00"}},{"$f":"+[2]Tabulka!BM70","v":{"v":2.3835011896391114,"d":"2.38"}},{"$f":"+[2]Tabulka!BN70","v":2},{"$f":"+[2]Tabulka!BO70","v":{"v":2.3835011896391114,"d":"2.38"}}]
["48",{"$f":"[2]Tabulka!C71","v":"SLEPČÍK"},{"$f":"[2]Tabulka!D71","v":"Erik"},{"$f":"[2]Tabulka!E71","v":"1996-01-01"},{"$f":"[2]Tabulka!F71","v":"Těrlicko- DDŠ"},{"$f":"[2]Tabulka!G71","v":"KA"},{"$f":"[2]Tabulka!H71","v":0},{"$f":"+[2]Tabulka!AU71","v":0},{"$f":"+[2]Tabulka!AV71","v":{"v":0,"d":"0.00"}},{"$f":"+[2]Tabulka!AW71","v":30},{"$f":"+[2]Tabulka!AX71","v":{"v":0.7406002601279904,"d":"0.74"}},{"$f":"+[2]Tabulka!AY71","v":27},{"$f":"+[2]Tabulka!AZ71","v":{"v":0.8957228265226755,"d":"0.90"}},{"$f":"+[2]Tabulka!BA71","v":0},{"$f":"+[2]Tabulka!BB71","v":{"v":0,"d":"0.00"}},{"$f":"+[2]Tabulka!BC71","v":33},{"$f":"+[2]Tabulka!BD71","v":{"v":0.6123420427175658,"d":"0.61"}},{"$f":"+[2]Tabulka!BE71","v":0},{"$f":"+[2]Tabulka!BF71","v":{"v":0,"d":"0.00"}},{"$f":"+[2]Tabulka!BG71","v":0},{"$f":"+[2]Tabulka!BH71","v":{"v":0,"d":"0.00"}},{"$f":"+[2]Tabulka!BI71","v":0},{"$f":"+[2]Tabulka!BJ71","v":{"v":0,"d":"0.00"}},{"$f":"+[2]Tabulka!AP71","v":{"v":0,"d":"0.00"}},{"$f":"+[2]Tabulka!AQ71","v":{"v":0,"d":"0.00"}},{"$f":"+[2]Tabulka!BM71","v":{"v":2.2486651293682316,"d":"2.25"}},{"$f":"+[2]Tabulka!BN71","v":3},{"$f":"+[2]Tabulka!BO71","v":{"v":2.2486651293682316,"d":"2.25"}}]
["49",{"$f":"[2]Tabulka!C72","v":"ŠČUKA"},{"$f":"[2]Tabulka!D72","v":"Štefan"},{"$f":"[2]Tabulka!E72","v":"1996-01-01"},{"$f":"[2]Tabulka!F72","v":"Těrlicko- DDŠ"},{"$f":"[2]Tabulka!G72","v":"KA"},{"$f":"[2]Tabulka!H72","v":0},{"$f":"+[2]Tabulka!AU72","v":0},{"$f":"+[2]Tabulka!AV72","v":{"v":0,"d":"0.00"}},{"$f":"+[2]Tabulka!AW72","v":19},{"$f":"+[2]Tabulka!AX72","v":{"v":1.4873495950244735,"d":"1.49"}},{"$f":"+[2]Tabulka!AY72","v":0},{"$f":"+[2]Tabulka!AZ72","v":{"v":0,"d":"0.00"}},{"$f":"+[2]Tabulka!BA72","v":0},{"$f":"+[2]Tabulka!BB72","v":{"v":0,"d":"0.00"}},{"$f":"+[2]Tabulka!BC72","v":30},{"$f":"+[2]Tabulka!BD72","v":{"v":0.7406002601279904,"d":"0.74"}},{"$f":"+[2]Tabulka!BE72","v":0},{"$f":"+[2]Tabulka!BF72","v":{"v":0,"d":"0.00"}},{"$f":"+[2]Tabulka!BG72","v":0},{"$f":"+[2]Tabulka!BH72","v":{"v":0,"d":"0.00"}},{"$f":"+[2]Tabulka!BI72","v":0},{"$f":"+[2]Tabulka!BJ72","v":{"v":0,"d":"0.00"}},{"$f":"+[2]Tabulka!AP72","v":{"v":0,"d":"0.00"}},{"$f":"+[2]Tabulka!AQ72","v":{"v":0,"d":"0.00"}},{"$f":"+[2]Tabulka!BM72","v":{"v":2.227949855152464,"d":"2.23"}},{"$f":"+[2]Tabulka!BN72","v":2},{"$f":"+[2]Tabulka!BO72","v":{"v":2.227949855152464,"d":"2.23"}}]
["50",{"$f":"[2]Tabulka!C73","v":"RANOSZ"},{"$f":"[2]Tabulka!D73","v":"Daniel"},{"$f":"[2]Tabulka!E73","v":"1998-03-07"},{"$f":"[2]Tabulka!F73","v":"Chotěbuz- Sokol TJ"},{"$f":"[2]Tabulka!G73","v":"KA"},{"$f":"[2]Tabulka!H73","v":100},{"$f":"+[2]Tabulka!AU73","v":19},{"$f":"+[2]Tabulka!AV73","v":{"v":1.4873495950244735,"d":"1.49"}},{"$f":"+[2]Tabulka!AW73","v":0},{"$f":"+[2]Tabulka!AX73","v":{"v":0,"d":"0.00"}},{"$f":"+[2]Tabulka!AY73","v":0},{"$f":"+[2]Tabulka!AZ73","v":{"v":0,"d":"0.00"}},{"$f":"+[2]Tabulka!BA73","v":0},{"$f":"+[2]Tabulka!BB73","v":{"v":0,"d":"0.00"}},{"$f":"+[2]Tabulka!BC73","v":0},{"$f":"+[2]Tabulka!BD73","v":{"v":0,"d":"0.00"}},{"$f":"+[2]Tabulka!BE73","v":31},{"$f":"+[2]Tabulka!BF73","v":{"v":0.695110634842026,"d":"0.70"}},{"$f":"+[2]Tabulka!BG73","v":0},{"$f":"+[2]Tabulka!BH73","v":{"v":0,"d":"0.00"}},{"$f":"+[2]Tabulka!BI73","v":0},{"$f":"+[2]Tabulka!BJ73","v":{"v":0,"d":"0.00"}},{"$f":"+[2]Tabulka!AP73","v":{"v":0,"d":"0.00"}},{"$f":"+[2]Tabulka!AQ73","v":{"v":0,"d":"0.00"}},{"$f":"+[2]Tabulka!BM73","v":{"v":2.1824602298664995,"d":"2.18"}},{"$f":"+[2]Tabulka!BN73","v":2},{"$f":"+[2]Tabulka!BO73","v":{"v":2.1824602298664995,"d":"2.18"}}]
["51",{"$f":"[2]Tabulka!C74","v":"FLORKOVÁ"},{"$f":"[2]Tabulka!D74","v":"Adéla"},{"$f":"[2]Tabulka!E74","v":"2001-09-04"},{"$f":"[2]Tabulka!F74","v":"Orlová- Siko TTC"},{"$f":"[2]Tabulka!G74","v":"KA"},{"$f":"[2]Tabulka!H74","v":100},{"$f":"+[2]Tabulka!AU74","v":29},{"$f":"+[2]Tabulka!AV74","v":{"v":0.7890668302410581,"d":"0.79"}},{"$f":"+[2]Tabulka!AW74","v":28},{"$f":"+[2]Tabulka!AX74","v":{"v":0.8407051632402461,"d":"0.84"}},{"$f":"+[2]Tabulka!AY74","v":0},{"$f":"+[2]Tabulka!AZ74","v":{"v":0,"d":"0.00"}},{"$f":"+[2]Tabulka!BA74","v":38},{"$f":"+[2]Tabulka!BB74","v":{"v":0.4460098423023116,"d":"0.45"}},{"$f":"+[2]Tabulka!BC74","v":0},{"$f":"+[2]Tabulka!BD74","v":{"v":0,"d":"0.00"}},{"$f":"+[2]Tabulka!BE74","v":0},{"$f":"+[2]Tabulka!BF74","v":{"v":0,"d":"0.00"}},{"$f":"+[2]Tabulka!BG74","v":0},{"$f":"+[2]Tabulka!BH74","v":{"v":0,"d":"0.00"}},{"$f":"+[2]Tabulka!BI74","v":0},{"$f":"+[2]Tabulka!BJ74","v":{"v":0,"d":"0.00"}},{"$f":"+[2]Tabulka!AP74","v":{"v":0,"d":"0.00"}},{"$f":"+[2]Tabulka!AQ74","v":{"v":0,"d":"0.00"}},{"$f":"+[2]Tabulka!BM74","v":{"v":2.0757818357836157,"d":"2.08"}},{"$f":"+[2]Tabulka!BN74","v":3},{"$f":"+[2]Tabulka!BO74","v":{"v":2.0757818357836157,"d":"2.08"}}]
["52",{"$f":"[2]Tabulka!C75","v":"URBÁNEK"},{"$f":"[2]Tabulka!D75","v":"Filip"},{"$f":"[2]Tabulka!E75","v":"2001-05-31"},{"$f":"[2]Tabulka!F75","v":"Havířov- Baník SKST"},{"$f":"[2]Tabulka!G75","v":"KA"},{"$f":"[2]Tabulka!H75","v":100},{"$f":"+[2]Tabulka!AU75","v":0},{"$f":"+[2]Tabulka!AV75","v":{"v":0,"d":"0.00"}},{"$f":"+[2]Tabulka!AW75","v":14},{"$f":"+[2]Tabulka!AX75","v":{"v":2.0420327151325517,"d":"2.04"}},{"$f":"+[2]Tabulka!AY75","v":0},{"$f":"+[2]Tabulka!AZ75","v":{"v":0,"d":"0.00"}},{"$f":"+[2]Tabulka!BA75","v":0},{"$f":"+[2]Tabulka!BB75","v":{"v":0,"d":"0.00"}},{"$f":"+[2]Tabulka!BC75","v":0},{"$f":"+[2]Tabulka!BD75","v":{"v":0,"d":"0.00"}},{"$f":"+[2]Tabulka!BE75","v":0},{"$f":"+[2]Tabulka!BF75","v":{"v":0,"d":"0.00"}},{"$f":"+[2]Tabulka!BG75","v":0},{"$f":"+[2]Tabulka!BH75","v":{"v":0,"d":"0.00"}},{"$f":"+[2]Tabulka!BI75","v":0},{"$f":"+[2]Tabulka!BJ75","v":{"v":0,"d":"0.00"}},{"$f":"+[2]Tabulka!AP75","v":{"v":0.4731854441530813,"d":"0.47"}},{"$f":"+[2]Tabulka!AQ75","v":{"v":3,"d":"3.00"}},{"$f":"+[2]Tabulka!BM75","v":{"v":2.0420327151325517,"d":"2.04"}},{"$f":"+[2]Tabulka!BN75","v":1},{"$f":"+[2]Tabulka!BO75","v":{"v":2.0420327151325517,"d":"2.04"}}]
["53",{"$f":"[2]Tabulka!C76","v":"WILCZEK"},{"$f":"[2]Tabulka!D76","v":"Jakub"},{"$f":"[2]Tabulka!E76","v":"2004-03-30"},{"$f":"[2]Tabulka!F76","v":"Karviná- KLUBsten KST"},{"$f":"[2]Tabulka!G76","v":"KA"},{"$f":"[2]Tabulka!H76","v":100},{"$f":"+[2]Tabulka!AU76","v":0},{"$f":"+[2]Tabulka!AV76","v":{"v":0,"d":"0.00"}},{"$f":"+[2]Tabulka!AW76","v":0},{"$f":"+[2]Tabulka!AX76","v":{"v":0,"d":"0.00"}},{"$f":"+[2]Tabulka!AY76","v":30},{"$f":"+[2]Tabulka!AZ76","v":{"v":0.7406002601279904,"d":"0.74"}},{"$f":"+[2]Tabulka!BA76","v":46},{"$f":"+[2]Tabulka!BB76","v":{"v":0.26859939179086256,"d":"0.27"}},{"$f":"+[2]Tabulka!BC76","v":0},{"$f":"+[2]Tabulka!BD76","v":{"v":0,"d":"0.00"}},{"$f":"+[2]Tabulka!BE76","v":0},{"$f":"+[2]Tabulka!BF76","v":{"v":0,"d":"0.00"}},{"$f":"+[2]Tabulka!BG76","v":46},{"$f":"+[2]Tabulka!BH76","v":{"v":0.26859939179086256,"d":"0.27"}},{"$f":"+[2]Tabulka!BI76","v":32},{"$f":"+[2]Tabulka!BJ76","v":{"v":0.6524151025642111,"d":"0.65"}},{"$f":"+[2]Tabulka!AP76","v":{"v":0.312415362863701,"d":"0.31"}},{"$f":"+[2]Tabulka!AQ76","v":{"v":2,"d":"2.00"}},{"$f":"+[2]Tabulka!BM76","v":{"v":1.9302141462739264,"d":"1.93"}},{"$f":"+[2]Tabulka!BN76","v":4},{"$f":"+[2]Tabulka!BO76","v":{"v":1.9302141462739264,"d":"1.93"}}]
["54",{"$f":"[2]Tabulka!C77","v":"ŠČUKA"},{"$f":"[2]Tabulka!D77","v":"Patrik"},{"$f":"[2]Tabulka!E77","v":"1997-01-01"},{"$f":"[2]Tabulka!F77","v":"Těrlicko- DDŠ"},{"$f":"[2]Tabulka!G77","v":"KA"},{"$f":"[2]Tabulka!H77","v":0},{"$f":"+[2]Tabulka!AU77","v":0},{"$f":"+[2]Tabulka!AV77","v":{"v":0,"d":"0.00"}},{"$f":"+[2]Tabulka!AW77","v":22},{"$f":"+[2]Tabulka!AX77","v":{"v":1.2297682545980093,"d":"1.23"}},{"$f":"+[2]Tabulka!AY77","v":0},{"$f":"+[2]Tabulka!AZ77","v":{"v":0,"d":"0.00"}},{"$f":"+[2]Tabulka!BA77","v":33},{"$f":"+[2]Tabulka!BB77","v":{"v":0.6123420427175658,"d":"0.61"}},{"$f":"+[2]Tabulka!BC77","v":0},{"$f":"+[2]Tabulka!BD77","v":{"v":0,"d":"0.00"}},{"$f":"+[2]Tabulka!BE77","v":0},{"$f":"+[2]Tabulka!BF77","v":{"v":0,"d":"0.00"}},{"$f":"+[2]Tabulka!BG77","v":0},{"$f":"+[2]Tabulka!BH77","v":{"v":0,"d":"0.00"}},{"$f":"+[2]Tabulka!BI77","v":0},{"$f":"+[2]Tabulka!BJ77","v":{"v":0,"d":"0.00"}},{"$f":"+[2]Tabulka!AP77","v":{"v":0,"d":"0.00"}},{"$f":"+[2]Tabulka!AQ77","v":{"v":0,"d":"0.00"}},{"$f":"+[2]Tabulka!BM77","v":{"v":1.8421102973155752,"d":"1.84"}},{"$f":"+[2]Tabulka!BN77","v":2},{"$f":"+[2]Tabulka!BO77","v":{"v":1.8421102973155752,"d":"1.84"}}]
["55",{"$f":"[2]Tabulka!C78","v":"ENDAL"},{"$f":"[2]Tabulka!D78","v":"Sebastián"},{"$f":"[2]Tabulka!E78","v":"1999-11-10"},{"$f":"[2]Tabulka!F78","v":"Havířov- Baník SKST"},{"$f":"[2]Tabulka!G78","v":"KA"},{"$f":"[2]Tabulka!H78","v":100},{"$f":"+[2]Tabulka!AU78","v":0},{"$f":"+[2]Tabulka!AV78","v":{"v":0,"d":"0.00"}},{"$f":"+[2]Tabulka!AW78","v":0},{"$f":"+[2]Tabulka!AX78","v":{"v":0,"d":"0.00"}},{"$f":"+[2]Tabulka!AY78","v":0},{"$f":"+[2]Tabulka!AZ78","v":{"v":0,"d":"0.00"}},{"$f":"+[2]Tabulka!BA78","v":17},{"$f":"+[2]Tabulka!BB78","v":{"v":1.6883905547970857,"d":"1.69"}},{"$f":"+[2]Tabulka!BC78","v":0},{"$f":"+[2]Tabulka!BD78","v":{"v":0,"d":"0.00"}},{"$f":"+[2]Tabulka!BE78","v":0},{"$f":"+[2]Tabulka!BF78","v":{"v":0,"d":"0.00"}},{"$f":"+[2]Tabulka!BG78","v":0},{"$f":"+[2]Tabulka!BH78","v":{"v":0,"d":"0.00"}},{"$f":"+[2]Tabulka!BI78","v":0},{"$f":"+[2]Tabulka!BJ78","v":{"v":0,"d":"0.00"}},{"$f":"+[2]Tabulka!AP78","v":{"v":11.152211097404734,"d":"11.15"}},{"$f":"+[2]Tabulka!AQ78","v":{"v":4,"d":"4.00"}},{"$f":"+[2]Tabulka!BM78","v":{"v":1.6883905547970857,"d":"1.69"}},{"$f":"+[2]Tabulka!BN78","v":1},{"$f":"+[2]Tabulka!BO78","v":{"v":1.6883905547970857,"d":"1.69"}}]
["56",{"$f":"[2]Tabulka!C79","v":"MATISOVSKÝ"},{"$f":"[2]Tabulka!D79","v":"Marián"},{"$f":"[2]Tabulka!E79","v":"1995-05-03"},{"$f":"[2]Tabulka!F79","v":"Karviná- Baník ČSA  TJ"},{"$f":"[2]Tabulka!G79","v":"KA"},{"$f":"[2]Tabulka!H79","v":100},{"$f":"+[2]Tabulka!AU79","v":0},{"$f":"+[2]Tabulka!AV79","v":{"v":0,"d":"0.00"}},{"$f":"+[2]Tabulka!AW79","v":0},{"$f":"+[2]Tabulka!AX79","v":{"v":0,"d":"0.00"}},{"$f":"+[2]Tabulka!AY79","v":0},{"$f":"+[2]Tabulka!AZ79","v":{"v":0,"d":"0.00"}},{"$f":"+[2]Tabulka!BA79","v":0},{"$f":"+[2]Tabulka!BB79","v":{"v":0,"d":"0.00"}},{"$f":"+[2]Tabulka!BC79","v":0},{"$f":"+[2]Tabulka!BD79","v":{"v":0,"d":"0.00"}},{"$f":"+[2]Tabulka!BE79","v":17},{"$f":"+[2]Tabulka!BF79","v":{"v":1.6883905547970857,"d":"1.69"}},{"$f":"+[2]Tabulka!BG79","v":0},{"$f":"+[2]Tabulka!BH79","v":{"v":0,"d":"0.00"}},{"$f":"+[2]Tabulka!BI79","v":0},{"$f":"+[2]Tabulka!BJ79","v":{"v":0,"d":"0.00"}},{"$f":"+[2]Tabulka!AP79","v":{"v":0,"d":"0.00"}},{"$f":"+[2]Tabulka!AQ79","v":{"v":0,"d":"0.00"}},{"$f":"+[2]Tabulka!BM79","v":{"v":1.6883905547970857,"d":"1.69"}},{"$f":"+[2]Tabulka!BN79","v":1},{"$f":"+[2]Tabulka!BO79","v":{"v":1.6883905547970857,"d":"1.69"}}]
["57",{"$f":"[2]Tabulka!C80","v":"TRAGAN"},{"$f":"[2]Tabulka!D80","v":"nikolas"},{"$f":"[2]Tabulka!E80","v":"1995-07-16"},{"$f":"[2]Tabulka!F80","v":"Chotěbuz- Sokol TJ"},{"$f":"[2]Tabulka!G80","v":"KA"},{"$f":"[2]Tabulka!H80","v":100},{"$f":"+[2]Tabulka!AU80","v":17},{"$f":"+[2]Tabulka!AV80","v":{"v":1.6883905547970857,"d":"1.69"}},{"$f":"+[2]Tabulka!AW80","v":0},{"$f":"+[2]Tabulka!AX80","v":{"v":0,"d":"0.00"}},{"$f":"+[2]Tabulka!AY80","v":0},{"$f":"+[2]Tabulka!AZ80","v":{"v":0,"d":"0.00"}},{"$f":"+[2]Tabulka!BA80","v":0},{"$f":"+[2]Tabulka!BB80","v":{"v":0,"d":"0.00"}},{"$f":"+[2]Tabulka!BC80","v":0},{"$f":"+[2]Tabulka!BD80","v":{"v":0,"d":"0.00"}},{"$f":"+[2]Tabulka!BE80","v":0},{"$f":"+[2]Tabulka!BF80","v":{"v":0,"d":"0.00"}},{"$f":"+[2]Tabulka!BG80","v":0},{"$f":"+[2]Tabulka!BH80","v":{"v":0,"d":"0.00"}},{"$f":"+[2]Tabulka!BI80","v":0},{"$f":"+[2]Tabulka!BJ80","v":{"v":0,"d":"0.00"}},{"$f":"+[2]Tabulka!AP80","v":{"v":0,"d":"0.00"}},{"$f":"+[2]Tabulka!AQ80","v":{"v":0,"d":"0.00"}},{"$f":"+[2]Tabulka!BM80","v":{"v":1.6883905547970857,"d":"1.69"}},{"$f":"+[2]Tabulka!BN80","v":1},{"$f":"+[2]Tabulka!BO80","v":{"v":1.6883905547970857,"d":"1.69"}}]
["58",{"$f":"[2]Tabulka!C81","v":"MUŠUKA"},{"$f":"[2]Tabulka!D81","v":"Patrik"},{"$f":"[2]Tabulka!E81","v":"1996-01-01"},{"$f":"[2]Tabulka!F81","v":"Havířov- CSVČ sv. Jana Boska"},{"$f":"[2]Tabulka!G81","v":"KA"},{"$f":"[2]Tabulka!H81","v":0},{"$f":"+[2]Tabulka!AU81","v":0},{"$f":"+[2]Tabulka!AV81","v":{"v":0,"d":"0.00"}},{"$f":"+[2]Tabulka!AW81","v":0},{"$f":"+[2]Tabulka!AX81","v":{"v":0,"d":"0.00"}},{"$f":"+[2]Tabulka!AY81","v":0},{"$f":"+[2]Tabulka!AZ81","v":{"v":0,"d":"0.00"}},{"$f":"+[2]Tabulka!BA81","v":0},{"$f":"+[2]Tabulka!BB81","v":{"v":0,"d":"0.00"}},{"$f":"+[2]Tabulka!BC81","v":0},{"$f":"+[2]Tabulka!BD81","v":{"v":0,"d":"0.00"}},{"$f":"+[2]Tabulka!BE81","v":0},{"$f":"+[2]Tabulka!BF81","v":{"v":0,"d":"0.00"}},{"$f":"+[2]Tabulka!BG81","v":41},{"$f":"+[2]Tabulka!BH81","v":{"v":0.36876921682465774,"d":"0.37"}},{"$f":"+[2]Tabulka!BI81","v":21},{"$f":"+[2]Tabulka!BJ81","v":{"v":1.3102470939168058,"d":"1.31"}},{"$f":"+[2]Tabulka!AP81","v":{"v":0,"d":"0.00"}},{"$f":"+[2]Tabulka!AQ81","v":{"v":0,"d":"0.00"}},{"$f":"+[2]Tabulka!BM81","v":{"v":1.6790163107414635,"d":"1.68"}},{"$f":"+[2]Tabulka!BN81","v":2},{"$f":"+[2]Tabulka!BO81","v":{"v":1.6790163107414635,"d":"1.68"}}]
["59",{"$f":"[2]Tabulka!C82","v":"HORVATH"},{"$f":"[2]Tabulka!D82","v":"Josef"},{"$f":"[2]Tabulka!E82","v":"1996-01-01"},{"$f":"[2]Tabulka!F82","v":"Těrlicko- DDŠ"},{"$f":"[2]Tabulka!G82","v":"KA"},{"$f":"[2]Tabulka!H82","v":0},{"$f":"+[2]Tabulka!AU82","v":0},{"$f":"+[2]Tabulka!AV82","v":{"v":0,"d":"0.00"}},{"$f":"+[2]Tabulka!AW82","v":0},{"$f":"+[2]Tabulka!AX82","v":{"v":0,"d":"0.00"}},{"$f":"+[2]Tabulka!AY82","v":39},{"$f":"+[2]Tabulka!AZ82","v":{"v":0.4186147390428583,"d":"0.42"}},{"$f":"+[2]Tabulka!BA82","v":48},{"$f":"+[2]Tabulka!BB82","v":{"v":0.2366165787109441,"d":"0.24"}},{"$f":"+[2]Tabulka!BC82","v":25},{"$f":"+[2]Tabulka!BD82","v":{"v":1.0167952208923348,"d":"1.02"}},{"$f":"+[2]Tabulka!BE82","v":0},{"$f":"+[2]Tabulka!BF82","v":{"v":0,"d":"0.00"}},{"$f":"+[2]Tabulka!BG82","v":0},{"$f":"+[2]Tabulka!BH82","v":{"v":0,"d":"0.00"}},{"$f":"+[2]Tabulka!BI82","v":0},{"$f":"+[2]Tabulka!BJ82","v":{"v":0,"d":"0.00"}},{"$f":"+[2]Tabulka!AP82","v":{"v":0,"d":"0.00"}},{"$f":"+[2]Tabulka!AQ82","v":{"v":0,"d":"0.00"}},{"$f":"+[2]Tabulka!BM82","v":{"v":1.6720265386461373,"d":"1.67"}},{"$f":"+[2]Tabulka!BN82","v":3},{"$f":"+[2]Tabulka!BO82","v":{"v":1.6720265386461373,"d":"1.67"}}]
["60",{"$f":"[2]Tabulka!C83","v":"VINTROCHA"},{"$f":"[2]Tabulka!D83","v":"Richard"},{"$f":"[2]Tabulka!E83","v":"1996-01-01"},{"$f":"[2]Tabulka!F83","v":"Havířov- CSVČ sv. Jana Boska"},{"$f":"[2]Tabulka!G83","v":"KA"},{"$f":"[2]Tabulka!H83","v":0},{"$f":"+[2]Tabulka!AU83","v":0},{"$f":"+[2]Tabulka!AV83","v":{"v":0,"d":"0.00"}},{"$f":"+[2]Tabulka!AW83","v":0},{"$f":"+[2]Tabulka!AX83","v":{"v":0,"d":"0.00"}},{"$f":"+[2]Tabulka!AY83","v":0},{"$f":"+[2]Tabulka!AZ83","v":{"v":0,"d":"0.00"}},{"$f":"+[2]Tabulka!BA83","v":0},{"$f":"+[2]Tabulka!BB83","v":{"v":0,"d":"0.00"}},{"$f":"+[2]Tabulka!BC83","v":0},{"$f":"+[2]Tabulka!BD83","v":{"v":0,"d":"0.00"}},{"$f":"+[2]Tabulka!BE83","v":0},{"$f":"+[2]Tabulka!BF83","v":{"v":0,"d":"0.00"}},{"$f":"+[2]Tabulka!BG83","v":36},{"$f":"+[2]Tabulka!BH83","v":{"v":0.5062957677259255,"d":"0.51"}},{"$f":"+[2]Tabulka!BI83","v":23},{"$f":"+[2]Tabulka!BJ83","v":{"v":1.1542326382851416,"d":"1.15"}},{"$f":"+[2]Tabulka!AP83","v":{"v":0,"d":"0.00"}},{"$f":"+[2]Tabulka!AQ83","v":{"v":0,"d":"0.00"}},{"$f":"+[2]Tabulka!BM83","v":{"v":1.6605284060110672,"d":"1.66"}},{"$f":"+[2]Tabulka!BN83","v":2},{"$f":"+[2]Tabulka!BO83","v":{"v":1.6605284060110672,"d":"1.66"}}]
["61",{"$f":"[2]Tabulka!C84","v":"IŠTVÁN"},{"$f":"[2]Tabulka!D84","v":"Jakub"},{"$f":"[2]Tabulka!E84","v":"2000-01-01"},{"$f":"[2]Tabulka!F84","v":"Orlová- Slávie SK"},{"$f":"[2]Tabulka!G84","v":"KA"},{"$f":"[2]Tabulka!H84","v":0},{"$f":"+[2]Tabulka!AU84","v":0},{"$f":"+[2]Tabulka!AV84","v":{"v":0,"d":"0.00"}},{"$f":"+[2]Tabulka!AW84","v":32},{"$f":"+[2]Tabulka!AX84","v":{"v":0.6524151025642111,"d":"0.65"}},{"$f":"+[2]Tabulka!AY84","v":40},{"$f":"+[2]Tabulka!AZ84","v":{"v":0.3929023154272488,"d":"0.39"}},{"$f":"+[2]Tabulka!BA84","v":36},{"$f":"+[2]Tabulka!BB84","v":{"v":0.5062957677259255,"d":"0.51"}},{"$f":"+[2]Tabulka!BC84","v":0},{"$f":"+[2]Tabulka!BD84","v":{"v":0,"d":"0.00"}},{"$f":"+[2]Tabulka!BE84","v":0},{"$f":"+[2]Tabulka!BF84","v":{"v":0,"d":"0.00"}},{"$f":"+[2]Tabulka!BG84","v":0},{"$f":"+[2]Tabulka!BH84","v":{"v":0,"d":"0.00"}},{"$f":"+[2]Tabulka!BI84","v":0},{"$f":"+[2]Tabulka!BJ84","v":{"v":0,"d":"0.00"}},{"$f":"+[2]Tabulka!AP84","v":{"v":0,"d":"0.00"}},{"$f":"+[2]Tabulka!AQ84","v":{"v":0,"d":"0.00"}},{"$f":"+[2]Tabulka!BM84","v":{"v":1.5516131857173856,"d":"1.55"}},{"$f":"+[2]Tabulka!BN84","v":3},{"$f":"+[2]Tabulka!BO84","v":{"v":1.5516131857173856,"d":"1.55"}}]
["62",{"$f":"[2]Tabulka!C85","v":"GATNAR"},{"$f":"[2]Tabulka!D85","v":"Vojtěch"},{"$f":"[2]Tabulka!E85","v":"1995-03-21"},{"$f":"[2]Tabulka!F85","v":"Karviná- Baník ČSA  TJ"},{"$f":"[2]Tabulka!G85","v":"KA"},{"$f":"[2]Tabulka!H85","v":100},{"$f":"+[2]Tabulka!AU85","v":0},{"$f":"+[2]Tabulka!AV85","v":{"v":0,"d":"0.00"}},{"$f":"+[2]Tabulka!AW85","v":0},{"$f":"+[2]Tabulka!AX85","v":{"v":0,"d":"0.00"}},{"$f":"+[2]Tabulka!AY85","v":0},{"$f":"+[2]Tabulka!AZ85","v":{"v":0,"d":"0.00"}},{"$f":"+[2]Tabulka!BA85","v":0},{"$f":"+[2]Tabulka!BB85","v":{"v":0,"d":"0.00"}},{"$f":"+[2]Tabulka!BC85","v":0},{"$f":"+[2]Tabulka!BD85","v":{"v":0,"d":"0.00"}},{"$f":"+[2]Tabulka!BE85","v":19},{"$f":"+[2]Tabulka!BF85","v":{"v":1.4873495950244735,"d":"1.49"}},{"$f":"+[2]Tabulka!BG85","v":0},{"$f":"+[2]Tabulka!BH85","v":{"v":0,"d":"0.00"}},{"$f":"+[2]Tabulka!BI85","v":0},{"$f":"+[2]Tabulka!BJ85","v":{"v":0,"d":"0.00"}},{"$f":"+[2]Tabulka!AP85","v":{"v":0,"d":"0.00"}},{"$f":"+[2]Tabulka!AQ85","v":{"v":0,"d":"0.00"}},{"$f":"+[2]Tabulka!BM85","v":{"v":1.4873495950244735,"d":"1.49"}},{"$f":"+[2]Tabulka!BN85","v":1},{"$f":"+[2]Tabulka!BO85","v":{"v":1.4873495950244735,"d":"1.49"}}]
["63",{"$f":"[2]Tabulka!C86","v":"NIEDOBA"},{"$f":"[2]Tabulka!D86","v":"Marek"},{"$f":"[2]Tabulka!E86","v":"1999-01-01"},{"$f":"[2]Tabulka!F86","v":"Orlová- Siko TTC"},{"$f":"[2]Tabulka!G86","v":"KA"},{"$f":"[2]Tabulka!H86","v":0},{"$f":"+[2]Tabulka!AU86","v":0},{"$f":"+[2]Tabulka!AV86","v":{"v":0,"d":"0.00"}},{"$f":"+[2]Tabulka!AW86","v":0},{"$f":"+[2]Tabulka!AX86","v":{"v":0,"d":"0.00"}},{"$f":"+[2]Tabulka!AY86","v":32},{"$f":"+[2]Tabulka!AZ86","v":{"v":0.6524151025642111,"d":"0.65"}},{"$f":"+[2]Tabulka!BA86","v":29},{"$f":"+[2]Tabulka!BB86","v":{"v":0.7890668302410581,"d":"0.79"}},{"$f":"+[2]Tabulka!BC86","v":0},{"$f":"+[2]Tabulka!BD86","v":{"v":0,"d":"0.00"}},{"$f":"+[2]Tabulka!BE86","v":0},{"$f":"+[2]Tabulka!BF86","v":{"v":0,"d":"0.00"}},{"$f":"+[2]Tabulka!BG86","v":0},{"$f":"+[2]Tabulka!BH86","v":{"v":0,"d":"0.00"}},{"$f":"+[2]Tabulka!BI86","v":0},{"$f":"+[2]Tabulka!BJ86","v":{"v":0,"d":"0.00"}},{"$f":"+[2]Tabulka!AP86","v":{"v":0,"d":"0.00"}},{"$f":"+[2]Tabulka!AQ86","v":{"v":0,"d":"0.00"}},{"$f":"+[2]Tabulka!BM86","v":{"v":1.441481932805269,"d":"1.44"}},{"$f":"+[2]Tabulka!BN86","v":2},{"$f":"+[2]Tabulka!BO86","v":{"v":1.441481932805269,"d":"1.44"}}]
["64",{"$f":"[2]Tabulka!C87","v":"PIESZKA"},{"$f":"[2]Tabulka!D87","v":"Patrik"},{"$f":"[2]Tabulka!E87","v":"2000-01-01"},{"$f":"[2]Tabulka!F87","v":"Chotěbuz- Sokol TJ"},{"$f":"[2]Tabulka!G87","v":"KA"},{"$f":"[2]Tabulka!H87","v":0},{"$f":"+[2]Tabulka!AU87","v":0},{"$f":"+[2]Tabulka!AV87","v":{"v":0,"d":"0.00"}},{"$f":"+[2]Tabulka!AW87","v":0},{"$f":"+[2]Tabulka!AX87","v":{"v":0,"d":"0.00"}},{"$f":"+[2]Tabulka!AY87","v":0},{"$f":"+[2]Tabulka!AZ87","v":{"v":0,"d":"0.00"}},{"$f":"+[2]Tabulka!BA87","v":42},{"$f":"+[2]Tabulka!BB87","v":{"v":0.3461184369188376,"d":"0.35"}},{"$f":"+[2]Tabulka!BC87","v":29},{"$f":"+[2]Tabulka!BD87","v":{"v":0.7890668302410581,"d":"0.79"}},{"$f":"+[2]Tabulka!BE87","v":0},{"$f":"+[2]Tabulka!BF87","v":{"v":0,"d":"0.00"}},{"$f":"+[2]Tabulka!BG87","v":44},{"$f":"+[2]Tabulka!BH87","v":{"v":0.3049052338744021,"d":"0.30"}},{"$f":"+[2]Tabulka!BI87","v":0},{"$f":"+[2]Tabulka!BJ87","v":{"v":0,"d":"0.00"}},{"$f":"+[2]Tabulka!AP87","v":{"v":0,"d":"0.00"}},{"$f":"+[2]Tabulka!AQ87","v":{"v":0,"d":"0.00"}},{"$f":"+[2]Tabulka!BM87","v":{"v":1.4400905010342977,"d":"1.44"}},{"$f":"+[2]Tabulka!BN87","v":3},{"$f":"+[2]Tabulka!BO87","v":{"v":1.4400905010342977,"d":"1.44"}}]
["65",{"$f":"[2]Tabulka!C88","v":"RASZKA"},{"$f":"[2]Tabulka!D88","v":"Filip"},{"$f":"[2]Tabulka!E88","v":"2002-01-01"},{"$f":"[2]Tabulka!F88","v":"Orlová- Slávie SK"},{"$f":"[2]Tabulka!G88","v":"KA"},{"$f":"[2]Tabulka!H88","v":0},{"$f":"+[2]Tabulka!AU88","v":33},{"$f":"+[2]Tabulka!AV88","v":{"v":0.6123420427175658,"d":"0.61"}},{"$f":"+[2]Tabulka!AW88","v":0},{"$f":"+[2]Tabulka!AX88","v":{"v":0,"d":"0.00"}},{"$f":"+[2]Tabulka!AY88","v":0},{"$f":"+[2]Tabulka!AZ88","v":{"v":0,"d":"0.00"}},{"$f":"+[2]Tabulka!BA88","v":45},{"$f":"+[2]Tabulka!BB88","v":{"v":0.2861771485854786,"d":"0.29"}},{"$f":"+[2]Tabulka!BC88","v":35},{"$f":"+[2]Tabulka!BD88","v":{"v":0.5394289174769091,"d":"0.54"}},{"$f":"+[2]Tabulka!BE88","v":0},{"$f":"+[2]Tabulka!BF88","v":{"v":0,"d":"0.00"}},{"$f":"+[2]Tabulka!BG88","v":0},{"$f":"+[2]Tabulka!BH88","v":{"v":0,"d":"0.00"}},{"$f":"+[2]Tabulka!BI88","v":0},{"$f":"+[2]Tabulka!BJ88","v":{"v":0,"d":"0.00"}},{"$f":"+[2]Tabulka!AP88","v":{"v":0,"d":"0.00"}},{"$f":"+[2]Tabulka!AQ88","v":{"v":0,"d":"0.00"}},{"$f":"+[2]Tabulka!BM88","v":{"v":1.4379481087799535,"d":"1.44"}},{"$f":"+[2]Tabulka!BN88","v":3},{"$f":"+[2]Tabulka!BO88","v":{"v":1.4379481087799535,"d":"1.44"}}]
["66",{"$f":"[2]Tabulka!C89","v":"PAZDERA"},{"$f":"[2]Tabulka!D89","v":"Jan"},{"$f":"[2]Tabulka!E89","v":"1999-09-20"},{"$f":"[2]Tabulka!F89","v":"Karviná- KLUBsten KST"},{"$f":"[2]Tabulka!G89","v":"KA"},{"$f":"[2]Tabulka!H89","v":100},{"$f":"+[2]Tabulka!AU89","v":20},{"$f":"+[2]Tabulka!AV89","v":{"v":1.3959926520290693,"d":"1.40"}},{"$f":"+[2]Tabulka!AW89","v":0},{"$f":"+[2]Tabulka!AX89","v":{"v":0,"d":"0.00"}},{"$f":"+[2]Tabulka!AY89","v":0},{"$f":"+[2]Tabulka!AZ89","v":{"v":0,"d":"0.00"}},{"$f":"+[2]Tabulka!BA89","v":0},{"$f":"+[2]Tabulka!BB89","v":{"v":0,"d":"0.00"}},{"$f":"+[2]Tabulka!BC89","v":0},{"$f":"+[2]Tabulka!BD89","v":{"v":0,"d":"0.00"}},{"$f":"+[2]Tabulka!BE89","v":0},{"$f":"+[2]Tabulka!BF89","v":{"v":0,"d":"0.00"}},{"$f":"+[2]Tabulka!BG89","v":0},{"$f":"+[2]Tabulka!BH89","v":{"v":0,"d":"0.00"}},{"$f":"+[2]Tabulka!BI89","v":0},{"$f":"+[2]Tabulka!BJ89","v":{"v":0,"d":"0.00"}},{"$f":"+[2]Tabulka!AP89","v":{"v":0,"d":"0.00"}},{"$f":"+[2]Tabulka!AQ89","v":{"v":0,"d":"0.00"}},{"$f":"+[2]Tabulka!BM89","v":{"v":1.3959926520290693,"d":"1.40"}},{"$f":"+[2]Tabulka!BN89","v":1},{"$f":"+[2]Tabulka!BO89","v":{"v":1.3959926520290693,"d":"1.40"}}]
["67",{"$f":"[2]Tabulka!C90","v":"LARYŠ"},{"$f":"[2]Tabulka!D90","v":"Vojtěch"},{"$f":"[2]Tabulka!E90","v":"2003-10-10"},{"$f":"[2]Tabulka!F90","v":"Karviná- KLUBsten KST"},{"$f":"[2]Tabulka!G90","v":"KA"},{"$f":"[2]Tabulka!H90","v":100},{"$f":"+[2]Tabulka!AU90","v":0},{"$f":"+[2]Tabulka!AV90","v":{"v":0,"d":"0.00"}},{"$f":"+[2]Tabulka!AW90","v":0},{"$f":"+[2]Tabulka!AX90","v":{"v":0,"d":"0.00"}},{"$f":"+[2]Tabulka!AY90","v":38},{"$f":"+[2]Tabulka!AZ90","v":{"v":0.4460098423023116,"d":"0.45"}},{"$f":"+[2]Tabulka!BA90","v":0},{"$f":"+[2]Tabulka!BB90","v":{"v":0,"d":"0.00"}},{"$f":"+[2]Tabulka!BC90","v":31},{"$f":"+[2]Tabulka!BD90","v":{"v":0.695110634842026,"d":"0.70"}},{"$f":"+[2]Tabulka!BE90","v":0},{"$f":"+[2]Tabulka!BF90","v":{"v":0,"d":"0.00"}},{"$f":"+[2]Tabulka!BG90","v":47},{"$f":"+[2]Tabulka!BH90","v":{"v":0.2521013072742669,"d":"0.25"}},{"$f":"+[2]Tabulka!BI90","v":0},{"$f":"+[2]Tabulka!BJ90","v":{"v":0,"d":"0.00"}},{"$f":"+[2]Tabulka!AP90","v":{"v":0,"d":"0.00"}},{"$f":"+[2]Tabulka!AQ90","v":{"v":0,"d":"0.00"}},{"$f":"+[2]Tabulka!BM90","v":{"v":1.3932217844186043,"d":"1.39"}},{"$f":"+[2]Tabulka!BN90","v":3},{"$f":"+[2]Tabulka!BO90","v":{"v":1.3932217844186043,"d":"1.39"}}]
["68",{"$f":"[2]Tabulka!C91","v":"PRYCZEK"},{"$f":"[2]Tabulka!D91","v":"Marian"},{"$f":"[2]Tabulka!E91","v":"1997-01-01"},{"$f":"[2]Tabulka!F91","v":"Karviná-Lázně Darkov- Slovan VOKD TJ"},{"$f":"[2]Tabulka!G91","v":"KA"},{"$f":"[2]Tabulka!H91","v":0},{"$f":"+[2]Tabulka!AU91","v":0},{"$f":"+[2]Tabulka!AV91","v":{"v":0,"d":"0.00"}},{"$f":"+[2]Tabulka!AW91","v":0},{"$f":"+[2]Tabulka!AX91","v":{"v":0,"d":"0.00"}},{"$f":"+[2]Tabulka!AY91","v":0},{"$f":"+[2]Tabulka!AZ91","v":{"v":0,"d":"0.00"}},{"$f":"+[2]Tabulka!BA91","v":0},{"$f":"+[2]Tabulka!BB91","v":{"v":0,"d":"0.00"}},{"$f":"+[2]Tabulka!BC91","v":0},{"$f":"+[2]Tabulka!BD91","v":{"v":0,"d":"0.00"}},{"$f":"+[2]Tabulka!BE91","v":0},{"$f":"+[2]Tabulka!BF91","v":{"v":0,"d":"0.00"}},{"$f":"+[2]Tabulka!BG91","v":22},{"$f":"+[2]Tabulka!BH91","v":{"v":1.2297682545980093,"d":"1.23"}},{"$f":"+[2]Tabulka!BI91","v":0},{"$f":"+[2]Tabulka!BJ91","v":{"v":0,"d":"0.00"}},{"$f":"+[2]Tabulka!AP91","v":{"v":0,"d":"0.00"}},{"$f":"+[2]Tabulka!AQ91","v":{"v":0,"d":"0.00"}},{"$f":"+[2]Tabulka!BM91","v":{"v":1.2297682545980093,"d":"1.23"}},{"$f":"+[2]Tabulka!BN91","v":1},{"$f":"+[2]Tabulka!BO91","v":{"v":1.2297682545980093,"d":"1.23"}}]
["69",{"$f":"[2]Tabulka!C92","v":"BURDEK"},{"$f":"[2]Tabulka!D92","v":"Filip"},{"$f":"[2]Tabulka!E92","v":"2001-01-01"},{"$f":"[2]Tabulka!F92","v":"Dětmarovice- Sokol TJ"},{"$f":"[2]Tabulka!G92","v":"KA"},{"$f":"[2]Tabulka!H92","v":0},{"$f":"+[2]Tabulka!AU92","v":0},{"$f":"+[2]Tabulka!AV92","v":{"v":0,"d":"0.00"}},{"$f":"+[2]Tabulka!AW92","v":0},{"$f":"+[2]Tabulka!AX92","v":{"v":0,"d":"0.00"}},{"$f":"+[2]Tabulka!AY92","v":37},{"$f":"+[2]Tabulka!AZ92","v":{"v":0.4751977435991968,"d":"0.48"}},{"$f":"+[2]Tabulka!BA92","v":53},{"$f":"+[2]Tabulka!BB92","v":{"v":0.17234374841979688,"d":"0.17"}},{"$f":"+[2]Tabulka!BC92","v":34},{"$f":"+[2]Tabulka!BD92","v":{"v":0.5747303761145184,"d":"0.57"}},{"$f":"+[2]Tabulka!BE92","v":0},{"$f":"+[2]Tabulka!BF92","v":{"v":0,"d":"0.00"}},{"$f":"+[2]Tabulka!BG92","v":0},{"$f":"+[2]Tabulka!BH92","v":{"v":0,"d":"0.00"}},{"$f":"+[2]Tabulka!BI92","v":0},{"$f":"+[2]Tabulka!BJ92","v":{"v":0,"d":"0.00"}},{"$f":"+[2]Tabulka!AP92","v":{"v":0,"d":"0.00"}},{"$f":"+[2]Tabulka!AQ92","v":{"v":0,"d":"0.00"}},{"$f":"+[2]Tabulka!BM92","v":{"v":1.222271868133512,"d":"1.22"}},{"$f":"+[2]Tabulka!BN92","v":3},{"$f":"+[2]Tabulka!BO92","v":{"v":1.222271868133512,"d":"1.22"}}]
["70",{"$f":"[2]Tabulka!C93","v":"KLEIN"},{"$f":"[2]Tabulka!D93","v":"Tomáš"},{"$f":"[2]Tabulka!E93","v":"1995-01-01"},{"$f":"[2]Tabulka!F93","v":"Havířov- CSVČ sv. Jana Boska"},{"$f":"[2]Tabulka!G93","v":"KA"},{"$f":"[2]Tabulka!H93","v":0},{"$f":"+[2]Tabulka!AU93","v":0},{"$f":"+[2]Tabulka!AV93","v":{"v":0,"d":"0.00"}},{"$f":"+[2]Tabulka!AW93","v":0},{"$f":"+[2]Tabulka!AX93","v":{"v":0,"d":"0.00"}},{"$f":"+[2]Tabulka!AY93","v":0},{"$f":"+[2]Tabulka!AZ93","v":{"v":0,"d":"0.00"}},{"$f":"+[2]Tabulka!BA93","v":0},{"$f":"+[2]Tabulka!BB93","v":{"v":0,"d":"0.00"}},{"$f":"+[2]Tabulka!BC93","v":0},{"$f":"+[2]Tabulka!BD93","v":{"v":0,"d":"0.00"}},{"$f":"+[2]Tabulka!BE93","v":0},{"$f":"+[2]Tabulka!BF93","v":{"v":0,"d":"0.00"}},{"$f":"+[2]Tabulka!BG93","v":38},{"$f":"+[2]Tabulka!BH93","v":{"v":0.4460098423023116,"d":"0.45"}},{"$f":"+[2]Tabulka!BI93","v":30},{"$f":"+[2]Tabulka!BJ93","v":{"v":0.7406002601279904,"d":"0.74"}},{"$f":"+[2]Tabulka!AP93","v":{"v":0,"d":"0.00"}},{"$f":"+[2]Tabulka!AQ93","v":{"v":0,"d":"0.00"}},{"$f":"+[2]Tabulka!BM93","v":{"v":1.186610102430302,"d":"1.19"}},{"$f":"+[2]Tabulka!BN93","v":2},{"$f":"+[2]Tabulka!BO93","v":{"v":1.186610102430302,"d":"1.19"}}]
["71",{"$f":"[2]Tabulka!C94","v":"MACURÁK"},{"$f":"[2]Tabulka!D94","v":"Michal"},{"$f":"[2]Tabulka!E94","v":"2002-11-30"},{"$f":"[2]Tabulka!F94","v":"Havířov- Baník SKST"},{"$f":"[2]Tabulka!G94","v":"KA"},{"$f":"[2]Tabulka!H94","v":100},{"$f":"+[2]Tabulka!AU94","v":0},{"$f":"+[2]Tabulka!AV94","v":{"v":0,"d":"0.00"}},{"$f":"+[2]Tabulka!AW94","v":33},{"$f":"+[2]Tabulka!AX94","v":{"v":0.6123420427175658,"d":"0.61"}},{"$f":"+[2]Tabulka!AY94","v":35},{"$f":"+[2]Tabulka!AZ94","v":{"v":0.5394289174769091,"d":"0.54"}},{"$f":"+[2]Tabulka!BA94","v":0},{"$f":"+[2]Tabulka!BB94","v":{"v":0,"d":"0.00"}},{"$f":"+[2]Tabulka!BC94","v":0},{"$f":"+[2]Tabulka!BD94","v":{"v":0,"d":"0.00"}},{"$f":"+[2]Tabulka!BE94","v":0},{"$f":"+[2]Tabulka!BF94","v":{"v":0,"d":"0.00"}},{"$f":"+[2]Tabulka!BG94","v":0},{"$f":"+[2]Tabulka!BH94","v":{"v":0,"d":"0.00"}},{"$f":"+[2]Tabulka!BI94","v":0},{"$f":"+[2]Tabulka!BJ94","v":{"v":0,"d":"0.00"}},{"$f":"+[2]Tabulka!AP94","v":{"v":0,"d":"0.00"}},{"$f":"+[2]Tabulka!AQ94","v":{"v":0,"d":"0.00"}},{"$f":"+[2]Tabulka!BM94","v":{"v":1.151770960194475,"d":"1.15"}},{"$f":"+[2]Tabulka!BN94","v":2},{"$f":"+[2]Tabulka!BO94","v":{"v":1.151770960194475,"d":"1.15"}}]
["72",{"$f":"[2]Tabulka!C95","v":"GALGANÁK"},{"$f":"[2]Tabulka!D95","v":"Adam"},{"$f":"[2]Tabulka!E95","v":"2002-05-10"},{"$f":"[2]Tabulka!F95","v":"Orlová- Siko TTC"},{"$f":"[2]Tabulka!G95","v":"KA"},{"$f":"[2]Tabulka!H95","v":100},{"$f":"+[2]Tabulka!AU95","v":0},{"$f":"+[2]Tabulka!AV95","v":{"v":0,"d":"0.00"}},{"$f":"+[2]Tabulka!AW95","v":37},{"$f":"+[2]Tabulka!AX95","v":{"v":0.4751977435991968,"d":"0.48"}},{"$f":"+[2]Tabulka!AY95","v":42},{"$f":"+[2]Tabulka!AZ95","v":{"v":0.3461184369188376,"d":"0.35"}},{"$f":"+[2]Tabulka!BA95","v":49},{"$f":"+[2]Tabulka!BB95","v":{"v":0.22208296310007783,"d":"0.22"}},{"$f":"+[2]Tabulka!BC95","v":0},{"$f":"+[2]Tabulka!BD95","v":{"v":0,"d":"0.00"}},{"$f":"+[2]Tabulka!BE95","v":0},{"$f":"+[2]Tabulka!BF95","v":{"v":0,"d":"0.00"}},{"$f":"+[2]Tabulka!BG95","v":0},{"$f":"+[2]Tabulka!BH95","v":{"v":0,"d":"0.00"}},{"$f":"+[2]Tabulka!BI95","v":0},{"$f":"+[2]Tabulka!BJ95","v":{"v":0,"d":"0.00"}},{"$f":"+[2]Tabulka!AP95","v":{"v":0,"d":"0.00"}},{"$f":"+[2]Tabulka!AQ95","v":{"v":0,"d":"0.00"}},{"$f":"+[2]Tabulka!BM95","v":{"v":1.0433991436181123,"d":"1.04"}},{"$f":"+[2]Tabulka!BN95","v":3},{"$f":"+[2]Tabulka!BO95","v":{"v":1.0433991436181123,"d":"1.04"}}]
["73",{"$f":"[2]Tabulka!C96","v":"ŠTAIGER"},{"$f":"[2]Tabulka!D96","v":"David"},{"$f":"[2]Tabulka!E96","v":"1996-01-01"},{"$f":"[2]Tabulka!F96","v":"Havířov- Baník SKST"},{"$f":"[2]Tabulka!G96","v":"KA"},{"$f":"[2]Tabulka!H96","v":0},{"$f":"+[2]Tabulka!AU96","v":0},{"$f":"+[2]Tabulka!AV96","v":{"v":0,"d":"0.00"}},{"$f":"+[2]Tabulka!AW96","v":25},{"$f":"+[2]Tabulka!AX96","v":{"v":1.0167952208923348,"d":"1.02"}},{"$f":"+[2]Tabulka!AY96","v":0},{"$f":"+[2]Tabulka!AZ96","v":{"v":0,"d":"0.00"}},{"$f":"+[2]Tabulka!BA96","v":0},{"$f":"+[2]Tabulka!BB96","v":{"v":0,"d":"0.00"}},{"$f":"+[2]Tabulka!BC96","v":0},{"$f":"+[2]Tabulka!BD96","v":{"v":0,"d":"0.00"}},{"$f":"+[2]Tabulka!BE96","v":0},{"$f":"+[2]Tabulka!BF96","v":{"v":0,"d":"0.00"}},{"$f":"+[2]Tabulka!BG96","v":0},{"$f":"+[2]Tabulka!BH96","v":{"v":0,"d":"0.00"}},{"$f":"+[2]Tabulka!BI96","v":0},{"$f":"+[2]Tabulka!BJ96","v":{"v":0,"d":"0.00"}},{"$f":"+[2]Tabulka!AP96","v":{"v":0,"d":"0.00"}},{"$f":"+[2]Tabulka!AQ96","v":{"v":0,"d":"0.00"}},{"$f":"+[2]Tabulka!BM96","v":{"v":1.0167952208923348,"d":"1.02"}},{"$f":"+[2]Tabulka!BN96","v":1},{"$f":"+[2]Tabulka!BO96","v":{"v":1.0167952208923348,"d":"1.02"}}]
["74",{"$f":"[2]Tabulka!C97","v":"IŠTOK"},{"$f":"[2]Tabulka!D97","v":"Ivan"},{"$f":"[2]Tabulka!E97","v":"1995-01-01"},{"$f":"[2]Tabulka!F97","v":"Karviná-Lázně Darkov- Slovan VOKD TJ"},{"$f":"[2]Tabulka!G97","v":"KA"},{"$f":"[2]Tabulka!H97","v":0},{"$f":"+[2]Tabulka!AU97","v":0},{"$f":"+[2]Tabulka!AV97","v":{"v":0,"d":"0.00"}},{"$f":"+[2]Tabulka!AW97","v":0},{"$f":"+[2]Tabulka!AX97","v":{"v":0,"d":"0.00"}},{"$f":"+[2]Tabulka!AY97","v":0},{"$f":"+[2]Tabulka!AZ97","v":{"v":0,"d":"0.00"}},{"$f":"+[2]Tabulka!BA97","v":0},{"$f":"+[2]Tabulka!BB97","v":{"v":0,"d":"0.00"}},{"$f":"+[2]Tabulka!BC97","v":0},{"$f":"+[2]Tabulka!BD97","v":{"v":0,"d":"0.00"}},{"$f":"+[2]Tabulka!BE97","v":0},{"$f":"+[2]Tabulka!BF97","v":{"v":0,"d":"0.00"}},{"$f":"+[2]Tabulka!BG97","v":26},{"$f":"+[2]Tabulka!BH97","v":{"v":0.9543409711693354,"d":"0.95"}},{"$f":"+[2]Tabulka!BI97","v":0},{"$f":"+[2]Tabulka!BJ97","v":{"v":0,"d":"0.00"}},{"$f":"+[2]Tabulka!AP97","v":{"v":0,"d":"0.00"}},{"$f":"+[2]Tabulka!AQ97","v":{"v":0,"d":"0.00"}},{"$f":"+[2]Tabulka!BM97","v":{"v":0.9543409711693354,"d":"0.95"}},{"$f":"+[2]Tabulka!BN97","v":1},{"$f":"+[2]Tabulka!BO97","v":{"v":0.9543409711693354,"d":"0.95"}}]
["75",{"$f":"[2]Tabulka!C98","v":"SLIWKA"},{"$f":"[2]Tabulka!D98","v":"Martin"},{"$f":"[2]Tabulka!E98","v":"2000-07-18"},{"$f":"[2]Tabulka!F98","v":"Karviná- KLUBsten KST"},{"$f":"[2]Tabulka!G98","v":"KA"},{"$f":"[2]Tabulka!H98","v":100},{"$f":"+[2]Tabulka!AU98","v":0},{"$f":"+[2]Tabulka!AV98","v":{"v":0,"d":"0.00"}},{"$f":"+[2]Tabulka!AW98","v":0},{"$f":"+[2]Tabulka!AX98","v":{"v":0,"d":"0.00"}},{"$f":"+[2]Tabulka!AY98","v":0},{"$f":"+[2]Tabulka!AZ98","v":{"v":0,"d":"0.00"}},{"$f":"+[2]Tabulka!BA98","v":0},{"$f":"+[2]Tabulka!BB98","v":{"v":0,"d":"0.00"}},{"$f":"+[2]Tabulka!BC98","v":0},{"$f":"+[2]Tabulka!BD98","v":{"v":0,"d":"0.00"}},{"$f":"+[2]Tabulka!BE98","v":0},{"$f":"+[2]Tabulka!BF98","v":{"v":0,"d":"0.00"}},{"$f":"+[2]Tabulka!BG98","v":0},{"$f":"+[2]Tabulka!BH98","v":{"v":0,"d":"0.00"}},{"$f":"+[2]Tabulka!BI98","v":26},{"$f":"+[2]Tabulka!BJ98","v":{"v":0.9543409711693354,"d":"0.95"}},{"$f":"+[2]Tabulka!AP98","v":{"v":0,"d":"0.00"}},{"$f":"+[2]Tabulka!AQ98","v":{"v":0,"d":"0.00"}},{"$f":"+[2]Tabulka!BM98","v":{"v":0.9543409711693354,"d":"0.95"}},{"$f":"+[2]Tabulka!BN98","v":1},{"$f":"+[2]Tabulka!BO98","v":{"v":0.9543409711693354,"d":"0.95"}}]
["76",{"$f":"[2]Tabulka!C99","v":"WITOSZOVÁ"},{"$f":"[2]Tabulka!D99","v":"Klára"},{"$f":"[2]Tabulka!E99","v":"2003-09-25"},{"$f":"[2]Tabulka!F99","v":"Havířov- Baník SKST"},{"$f":"[2]Tabulka!G99","v":"KA"},{"$f":"[2]Tabulka!H99","v":100},{"$f":"+[2]Tabulka!AU99","v":0},{"$f":"+[2]Tabulka!AV99","v":{"v":0,"d":"0.00"}},{"$f":"+[2]Tabulka!AW99","v":34},{"$f":"+[2]Tabulka!AX99","v":{"v":0.5747303761145184,"d":"0.57"}},{"$f":"+[2]Tabulka!AY99","v":41},{"$f":"+[2]Tabulka!AZ99","v":{"v":0.36876921682465774,"d":"0.37"}},{"$f":"+[2]Tabulka!BA99","v":0},{"$f":"+[2]Tabulka!BB99","v":{"v":0,"d":"0.00"}},{"$f":"+[2]Tabulka!BC99","v":0},{"$f":"+[2]Tabulka!BD99","v":{"v":0,"d":"0.00"}},{"$f":"+[2]Tabulka!BE99","v":0},{"$f":"+[2]Tabulka!BF99","v":{"v":0,"d":"0.00"}},{"$f":"+[2]Tabulka!BG99","v":0},{"$f":"+[2]Tabulka!BH99","v":{"v":0,"d":"0.00"}},{"$f":"+[2]Tabulka!BI99","v":0},{"$f":"+[2]Tabulka!BJ99","v":{"v":0,"d":"0.00"}},{"$f":"+[2]Tabulka!AP99","v":{"v":0,"d":"0.00"}},{"$f":"+[2]Tabulka!AQ99","v":{"v":0,"d":"0.00"}},{"$f":"+[2]Tabulka!BM99","v":{"v":0.9434995929391761,"d":"0.94"}},{"$f":"+[2]Tabulka!BN99","v":2},{"$f":"+[2]Tabulka!BO99","v":{"v":0.9434995929391761,"d":"0.94"}}]
["77",{"$f":"[2]Tabulka!C100","v":"ŠČUKA"},{"$f":"[2]Tabulka!D100","v":"Radim"},{"$f":"[2]Tabulka!E100","v":"1997-01-01"},{"$f":"[2]Tabulka!F100","v":"Těrlicko- DDŠ"},{"$f":"[2]Tabulka!G100","v":"KA"},{"$f":"[2]Tabulka!H100","v":0},{"$f":"+[2]Tabulka!AU100","v":0},{"$f":"+[2]Tabulka!AV100","v":{"v":0,"d":"0.00"}},{"$f":"+[2]Tabulka!AW100","v":0},{"$f":"+[2]Tabulka!AX100","v":{"v":0,"d":"0.00"}},{"$f":"+[2]Tabulka!AY100","v":36},{"$f":"+[2]Tabulka!AZ100","v":{"v":0.5062957677259255,"d":"0.51"}},{"$f":"+[2]Tabulka!BA100","v":41},{"$f":"+[2]Tabulka!BB100","v":{"v":0.36876921682465774,"d":"0.37"}},{"$f":"+[2]Tabulka!BC100","v":0},{"$f":"+[2]Tabulka!BD100","v":{"v":0,"d":"0.00"}},{"$f":"+[2]Tabulka!BE100","v":0},{"$f":"+[2]Tabulka!BF100","v":{"v":0,"d":"0.00"}},{"$f":"+[2]Tabulka!BG100","v":0},{"$f":"+[2]Tabulka!BH100","v":{"v":0,"d":"0.00"}},{"$f":"+[2]Tabulka!BI100","v":0},{"$f":"+[2]Tabulka!BJ100","v":{"v":0,"d":"0.00"}},{"$f":"+[2]Tabulka!AP100","v":{"v":0,"d":"0.00"}},{"$f":"+[2]Tabulka!AQ100","v":{"v":0,"d":"0.00"}},{"$f":"+[2]Tabulka!BM100","v":{"v":0.8750649845505833,"d":"0.88"}},{"$f":"+[2]Tabulka!BN100","v":2},{"$f":"+[2]Tabulka!BO100","v":{"v":0.8750649845505833,"d":"0.88"}}]
["78",{"$f":"[2]Tabulka!C101","v":"IŠTOKOVÁ"},{"$f":"[2]Tabulka!D101","v":"Jana"},{"$f":"[2]Tabulka!E101","v":"1997-01-01"},{"$f":"[2]Tabulka!F101","v":"Karviná-Lázně Darkov- Slovan VOKD TJ"},{"$f":"[2]Tabulka!G101","v":"KA"},{"$f":"[2]Tabulka!H101","v":0},{"$f":"+[2]Tabulka!AU101","v":0},{"$f":"+[2]Tabulka!AV101","v":{"v":0,"d":"0.00"}},{"$f":"+[2]Tabulka!AW101","v":0},{"$f":"+[2]Tabulka!AX101","v":{"v":0,"d":"0.00"}},{"$f":"+[2]Tabulka!AY101","v":0},{"$f":"+[2]Tabulka!AZ101","v":{"v":0,"d":"0.00"}},{"$f":"+[2]Tabulka!BA101","v":0},{"$f":"+[2]Tabulka!BB101","v":{"v":0,"d":"0.00"}},{"$f":"+[2]Tabulka!BC101","v":0},{"$f":"+[2]Tabulka!BD101","v":{"v":0,"d":"0.00"}},{"$f":"+[2]Tabulka!BE101","v":0},{"$f":"+[2]Tabulka!BF101","v":{"v":0,"d":"0.00"}},{"$f":"+[2]Tabulka!BG101","v":28},{"$f":"+[2]Tabulka!BH101","v":{"v":0.8407051632402461,"d":"0.84"}},{"$f":"+[2]Tabulka!BI101","v":0},{"$f":"+[2]Tabulka!BJ101","v":{"v":0,"d":"0.00"}},{"$f":"+[2]Tabulka!AP101","v":{"v":0,"d":"0.00"}},{"$f":"+[2]Tabulka!AQ101","v":{"v":0,"d":"0.00"}},{"$f":"+[2]Tabulka!BM101","v":{"v":0.8407051632402461,"d":"0.84"}},{"$f":"+[2]Tabulka!BN101","v":1},{"$f":"+[2]Tabulka!BO101","v":{"v":0.8407051632402461,"d":"0.84"}}]
["79",{"$f":"[2]Tabulka!C102","v":"CZOLKO"},{"$f":"[2]Tabulka!D102","v":"Daniel"},{"$f":"[2]Tabulka!E102","v":"2002-06-08"},{"$f":"[2]Tabulka!F102","v":"Orlová- Siko TTC"},{"$f":"[2]Tabulka!G102","v":"KA"},{"$f":"[2]Tabulka!H102","v":100},{"$f":"+[2]Tabulka!AU102","v":0},{"$f":"+[2]Tabulka!AV102","v":{"v":0,"d":"0.00"}},{"$f":"+[2]Tabulka!AW102","v":35},{"$f":"+[2]Tabulka!AX102","v":{"v":0.5394289174769091,"d":"0.54"}},{"$f":"+[2]Tabulka!AY102","v":0},{"$f":"+[2]Tabulka!AZ102","v":{"v":0,"d":"0.00"}},{"$f":"+[2]Tabulka!BA102","v":50},{"$f":"+[2]Tabulka!BB102","v":{"v":0.20844204057046203,"d":"0.21"}},{"$f":"+[2]Tabulka!BC102","v":0},{"$f":"+[2]Tabulka!BD102","v":{"v":0,"d":"0.00"}},{"$f":"+[2]Tabulka!BE102","v":0},{"$f":"+[2]Tabulka!BF102","v":{"v":0,"d":"0.00"}},{"$f":"+[2]Tabulka!BG102","v":0},{"$f":"+[2]Tabulka!BH102","v":{"v":0,"d":"0.00"}},{"$f":"+[2]Tabulka!BI102","v":0},{"$f":"+[2]Tabulka!BJ102","v":{"v":0,"d":"0.00"}},{"$f":"+[2]Tabulka!AP102","v":{"v":0,"d":"0.00"}},{"$f":"+[2]Tabulka!AQ102","v":{"v":0,"d":"0.00"}},{"$f":"+[2]Tabulka!BM102","v":{"v":0.7478709580473711,"d":"0.75"}},{"$f":"+[2]Tabulka!BN102","v":2},{"$f":"+[2]Tabulka!BO102","v":{"v":0.7478709580473711,"d":"0.75"}}]
["80",{"$f":"[2]Tabulka!C103","v":"SUPÍK"},{"$f":"[2]Tabulka!D103","v":"Lukáš"},{"$f":"[2]Tabulka!E103","v":"1997-10-24"},{"$f":"[2]Tabulka!F103","v":"Český Těšín- SKST"},{"$f":"[2]Tabulka!G103","v":"KA"},{"$f":"[2]Tabulka!H103","v":100},{"$f":"+[2]Tabulka!AU103","v":30},{"$f":"+[2]Tabulka!AV103","v":{"v":0.7406002601279904,"d":"0.74"}},{"$f":"+[2]Tabulka!AW103","v":0},{"$f":"+[2]Tabulka!AX103","v":{"v":0,"d":"0.00"}},{"$f":"+[2]Tabulka!AY103","v":0},{"$f":"+[2]Tabulka!AZ103","v":{"v":0,"d":"0.00"}},{"$f":"+[2]Tabulka!BA103","v":0},{"$f":"+[2]Tabulka!BB103","v":{"v":0,"d":"0.00"}},{"$f":"+[2]Tabulka!BC103","v":0},{"$f":"+[2]Tabulka!BD103","v":{"v":0,"d":"0.00"}},{"$f":"+[2]Tabulka!BE103","v":0},{"$f":"+[2]Tabulka!BF103","v":{"v":0,"d":"0.00"}},{"$f":"+[2]Tabulka!BG103","v":0},{"$f":"+[2]Tabulka!BH103","v":{"v":0,"d":"0.00"}},{"$f":"+[2]Tabulka!BI103","v":0},{"$f":"+[2]Tabulka!BJ103","v":{"v":0,"d":"0.00"}},{"$f":"+[2]Tabulka!AP103","v":{"v":0,"d":"0.00"}},{"$f":"+[2]Tabulka!AQ103","v":{"v":0,"d":"0.00"}},{"$f":"+[2]Tabulka!BM103","v":{"v":0.7406002601279904,"d":"0.74"}},{"$f":"+[2]Tabulka!BN103","v":1},{"$f":"+[2]Tabulka!BO103","v":{"v":0.7406002601279904,"d":"0.74"}}]
["81",{"$f":"[2]Tabulka!C104","v":"CZOLKOVÁ"},{"$f":"[2]Tabulka!D104","v":"Adéla"},{"$f":"[2]Tabulka!E104","v":"1999-01-01"},{"$f":"[2]Tabulka!F104","v":"Orlová- Siko TTC"},{"$f":"[2]Tabulka!G104","v":"KA"},{"$f":"[2]Tabulka!H104","v":0},{"$f":"+[2]Tabulka!AU104","v":0},{"$f":"+[2]Tabulka!AV104","v":{"v":0,"d":"0.00"}},{"$f":"+[2]Tabulka!AW104","v":36},{"$f":"+[2]Tabulka!AX104","v":{"v":0.5062957677259255,"d":"0.51"}},{"$f":"+[2]Tabulka!AY104","v":0},{"$f":"+[2]Tabulka!AZ104","v":{"v":0,"d":"0.00"}},{"$f":"+[2]Tabulka!BA104","v":51},{"$f":"+[2]Tabulka!BB104","v":{"v":0.1956389795537761,"d":"0.20"}},{"$f":"+[2]Tabulka!BC104","v":0},{"$f":"+[2]Tabulka!BD104","v":{"v":0,"d":"0.00"}},{"$f":"+[2]Tabulka!BE104","v":0},{"$f":"+[2]Tabulka!BF104","v":{"v":0,"d":"0.00"}},{"$f":"+[2]Tabulka!BG104","v":0},{"$f":"+[2]Tabulka!BH104","v":{"v":0,"d":"0.00"}},{"$f":"+[2]Tabulka!BI104","v":0},{"$f":"+[2]Tabulka!BJ104","v":{"v":0,"d":"0.00"}},{"$f":"+[2]Tabulka!AP104","v":{"v":0,"d":"0.00"}},{"$f":"+[2]Tabulka!AQ104","v":{"v":0,"d":"0.00"}},{"$f":"+[2]Tabulka!BM104","v":{"v":0.7019347472797016,"d":"0.70"}},{"$f":"+[2]Tabulka!BN104","v":2},{"$f":"+[2]Tabulka!BO104","v":{"v":0.7019347472797016,"d":"0.70"}}]
["82",{"$f":"[2]Tabulka!C105","v":"RASZYK"},{"$f":"[2]Tabulka!D105","v":"Kristián"},{"$f":"[2]Tabulka!E105","v":"1999-01-01"},{"$f":"[2]Tabulka!F105","v":"Karviná- KLUBsten KST"},{"$f":"[2]Tabulka!G105","v":"KA"},{"$f":"[2]Tabulka!H105","v":0},{"$f":"+[2]Tabulka!AU105","v":0},{"$f":"+[2]Tabulka!AV105","v":{"v":0,"d":"0.00"}},{"$f":"+[2]Tabulka!AW105","v":0},{"$f":"+[2]Tabulka!AX105","v":{"v":0,"d":"0.00"}},{"$f":"+[2]Tabulka!AY105","v":0},{"$f":"+[2]Tabulka!AZ105","v":{"v":0,"d":"0.00"}},{"$f":"+[2]Tabulka!BA105","v":0},{"$f":"+[2]Tabulka!BB105","v":{"v":0,"d":"0.00"}},{"$f":"+[2]Tabulka!BC105","v":0},{"$f":"+[2]Tabulka!BD105","v":{"v":0,"d":"0.00"}},{"$f":"+[2]Tabulka!BE105","v":0},{"$f":"+[2]Tabulka!BF105","v":{"v":0,"d":"0.00"}},{"$f":"+[2]Tabulka!BG105","v":0},{"$f":"+[2]Tabulka!BH105","v":{"v":0,"d":"0.00"}},{"$f":"+[2]Tabulka!BI105","v":31},{"$f":"+[2]Tabulka!BJ105","v":{"v":0.695110634842026,"d":"0.70"}},{"$f":"+[2]Tabulka!AP105","v":{"v":0,"d":"0.00"}},{"$f":"+[2]Tabulka!AQ105","v":{"v":0,"d":"0.00"}},{"$f":"+[2]Tabulka!BM105","v":{"v":0.695110634842026,"d":"0.70"}},{"$f":"+[2]Tabulka!BN105","v":1},{"$f":"+[2]Tabulka!BO105","v":{"v":0.695110634842026,"d":"0.70"}}]
["83",{"$f":"[2]Tabulka!C106","v":"DUFEK"},{"$f":"[2]Tabulka!D106","v":"Michal"},{"$f":"[2]Tabulka!E106","v":"2002-01-01"},{"$f":"[2]Tabulka!F106","v":"Frenštát pod Radhoštěm- TJ"},{"$f":"[2]Tabulka!G106","v":"NJ"},{"$f":"[2]Tabulka!H106","v":100},{"$f":"+[2]Tabulka!AU106","v":0},{"$f":"+[2]Tabulka!AV106","v":{"v":0,"d":"0.00"}},{"$f":"+[2]Tabulka!AW106","v":0},{"$f":"+[2]Tabulka!AX106","v":{"v":0,"d":"0.00"}},{"$f":"+[2]Tabulka!AY106","v":33},{"$f":"+[2]Tabulka!AZ106","v":{"v":0.6123420427175658,"d":"0.61"}},{"$f":"+[2]Tabulka!BA106","v":0},{"$f":"+[2]Tabulka!BB106","v":{"v":0,"d":"0.00"}},{"$f":"+[2]Tabulka!BC106","v":0},{"$f":"+[2]Tabulka!BD106","v":{"v":0,"d":"0.00"}},{"$f":"+[2]Tabulka!BE106","v":0},{"$f":"+[2]Tabulka!BF106","v":{"v":0,"d":"0.00"}},{"$f":"+[2]Tabulka!BG106","v":0},{"$f":"+[2]Tabulka!BH106","v":{"v":0,"d":"0.00"}},{"$f":"+[2]Tabulka!BI106","v":0},{"$f":"+[2]Tabulka!BJ106","v":{"v":0,"d":"0.00"}},{"$f":"+[2]Tabulka!AP106","v":{"v":0.36200791074296634,"d":"0.36"}},{"$f":"+[2]Tabulka!AQ106","v":{"v":2,"d":"2.00"}},{"$f":"+[2]Tabulka!BM106","v":{"v":0.6123420427175658,"d":"0.61"}},{"$f":"+[2]Tabulka!BN106","v":1},{"$f":"+[2]Tabulka!BO106","v":{"v":0.6123420427175658,"d":"0.61"}}]
["84",{"$f":"[2]Tabulka!C107","v":"POHROM"},{"$f":"[2]Tabulka!D107","v":"Josef"},{"$f":"[2]Tabulka!E107","v":"1994-12-13"},{"$f":"[2]Tabulka!F107","v":"Český Těšín- SKST"},{"$f":"[2]Tabulka!G107","v":"KA"},{"$f":"[2]Tabulka!H107","v":100},{"$f":"+[2]Tabulka!AU107","v":0},{"$f":"+[2]Tabulka!AV107","v":{"v":0,"d":"0.00"}},{"$f":"+[2]Tabulka!AW107","v":0},{"$f":"+[2]Tabulka!AX107","v":{"v":0,"d":"0.00"}},{"$f":"+[2]Tabulka!AY107","v":0},{"$f":"+[2]Tabulka!AZ107","v":{"v":0,"d":"0.00"}},{"$f":"+[2]Tabulka!BA107","v":0},{"$f":"+[2]Tabulka!BB107","v":{"v":0,"d":"0.00"}},{"$f":"+[2]Tabulka!BC107","v":0},{"$f":"+[2]Tabulka!BD107","v":{"v":0,"d":"0.00"}},{"$f":"+[2]Tabulka!BE107","v":0},{"$f":"+[2]Tabulka!BF107","v":{"v":0,"d":"0.00"}},{"$f":"+[2]Tabulka!BG107","v":33},{"$f":"+[2]Tabulka!BH107","v":{"v":0.6123420427175658,"d":"0.61"}},{"$f":"+[2]Tabulka!BI107","v":0},{"$f":"+[2]Tabulka!BJ107","v":{"v":0,"d":"0.00"}},{"$f":"+[2]Tabulka!AP107","v":{"v":0,"d":"0.00"}},{"$f":"+[2]Tabulka!AQ107","v":{"v":0,"d":"0.00"}},{"$f":"+[2]Tabulka!BM107","v":{"v":0.6123420427175658,"d":"0.61"}},{"$f":"+[2]Tabulka!BN107","v":1},{"$f":"+[2]Tabulka!BO107","v":{"v":0.6123420427175658,"d":"0.61"}}]
["85",{"$f":"[2]Tabulka!C108","v":"SLÍŽ"},{"$f":"[2]Tabulka!D108","v":"Viktor"},{"$f":"[2]Tabulka!E108","v":"1999-01-01"},{"$f":"[2]Tabulka!F108","v":"Havířov- Baník SKST"},{"$f":"[2]Tabulka!G108","v":"KA"},{"$f":"[2]Tabulka!H108","v":0},{"$f":"+[2]Tabulka!AU108","v":0},{"$f":"+[2]Tabulka!AV108","v":{"v":0,"d":"0.00"}},{"$f":"+[2]Tabulka!AW108","v":0},{"$f":"+[2]Tabulka!AX108","v":{"v":0,"d":"0.00"}},{"$f":"+[2]Tabulka!AY108","v":0},{"$f":"+[2]Tabulka!AZ108","v":{"v":0,"d":"0.00"}},{"$f":"+[2]Tabulka!BA108","v":0},{"$f":"+[2]Tabulka!BB108","v":{"v":0,"d":"0.00"}},{"$f":"+[2]Tabulka!BC108","v":0},{"$f":"+[2]Tabulka!BD108","v":{"v":0,"d":"0.00"}},{"$f":"+[2]Tabulka!BE108","v":0},{"$f":"+[2]Tabulka!BF108","v":{"v":0,"d":"0.00"}},{"$f":"+[2]Tabulka!BG108","v":39},{"$f":"+[2]Tabulka!BH108","v":{"v":0.4186147390428583,"d":"0.42"}},{"$f":"+[2]Tabulka!BI108","v":0},{"$f":"+[2]Tabulka!BJ108","v":{"v":0,"d":"0.00"}},{"$f":"+[2]Tabulka!AP108","v":{"v":0,"d":"0.00"}},{"$f":"+[2]Tabulka!AQ108","v":{"v":0,"d":"0.00"}},{"$f":"+[2]Tabulka!BM108","v":{"v":0.4186147390428583,"d":"0.42"}},{"$f":"+[2]Tabulka!BN108","v":1},{"$f":"+[2]Tabulka!BO108","v":{"v":0.4186147390428583,"d":"0.42"}}]
["86",{"$f":"[2]Tabulka!C109","v":"TUROŇ"},{"$f":"[2]Tabulka!D109","v":"Vojtěch"},{"$f":"[2]Tabulka!E109","v":"2001-09-21"},{"$f":"[2]Tabulka!F109","v":"Český Těšín- SKST"},{"$f":"[2]Tabulka!G109","v":"KA"},{"$f":"[2]Tabulka!H109","v":100},{"$f":"+[2]Tabulka!AU109","v":0},{"$f":"+[2]Tabulka!AV109","v":{"v":0,"d":"0.00"}},{"$f":"+[2]Tabulka!AW109","v":0},{"$f":"+[2]Tabulka!AX109","v":{"v":0,"d":"0.00"}},{"$f":"+[2]Tabulka!AY109","v":0},{"$f":"+[2]Tabulka!AZ109","v":{"v":0,"d":"0.00"}},{"$f":"+[2]Tabulka!BA109","v":0},{"$f":"+[2]Tabulka!BB109","v":{"v":0,"d":"0.00"}},{"$f":"+[2]Tabulka!BC109","v":0},{"$f":"+[2]Tabulka!BD109","v":{"v":0,"d":"0.00"}},{"$f":"+[2]Tabulka!BE109","v":0},{"$f":"+[2]Tabulka!BF109","v":{"v":0,"d":"0.00"}},{"$f":"+[2]Tabulka!BG109","v":42},{"$f":"+[2]Tabulka!BH109","v":{"v":0.3461184369188376,"d":"0.35"}},{"$f":"+[2]Tabulka!BI109","v":0},{"$f":"+[2]Tabulka!BJ109","v":{"v":0,"d":"0.00"}},{"$f":"+[2]Tabulka!AP109","v":{"v":0,"d":"0.00"}},{"$f":"+[2]Tabulka!AQ109","v":{"v":0,"d":"0.00"}},{"$f":"+[2]Tabulka!BM109","v":{"v":0.3461184369188376,"d":"0.35"}},{"$f":"+[2]Tabulka!BN109","v":1},{"$f":"+[2]Tabulka!BO109","v":{"v":0.3461184369188376,"d":"0.35"}}]
["86",{"$f":"[2]Tabulka!C110","v":"SWACZYNOVÁ"},{"$f":"[2]Tabulka!D110","v":"Sára"},{"$f":"[2]Tabulka!E110","v":"1997-01-01"},{"$f":"[2]Tabulka!F110","v":"Karviná- KLUBsten KST"},{"$f":"[2]Tabulka!G110","v":"KA"},{"$f":"[2]Tabulka!H110","v":0},{"$f":"+[2]Tabulka!AU110","v":0},{"$f":"+[2]Tabulka!AV110","v":{"v":0,"d":"0.00"}},{"$f":"+[2]Tabulka!AW110","v":0},{"$f":"+[2]Tabulka!AX110","v":{"v":0,"d":"0.00"}},{"$f":"+[2]Tabulka!AY110","v":0},{"$f":"+[2]Tabulka!AZ110","v":{"v":0,"d":"0.00"}},{"$f":"+[2]Tabulka!BA110","v":44},{"$f":"+[2]Tabulka!BB110","v":{"v":0.3049052338744021,"d":"0.30"}},{"$f":"+[2]Tabulka!BC110","v":0},{"$f":"+[2]Tabulka!BD110","v":{"v":0,"d":"0.00"}},{"$f":"+[2]Tabulka!BE110","v":0},{"$f":"+[2]Tabulka!BF110","v":{"v":0,"d":"0.00"}},{"$f":"+[2]Tabulka!BG110","v":0},{"$f":"+[2]Tabulka!BH110","v":{"v":0,"d":"0.00"}},{"$f":"+[2]Tabulka!BI110","v":0},{"$f":"+[2]Tabulka!BJ110","v":{"v":0,"d":"0.00"}},{"$f":"+[2]Tabulka!AP110","v":{"v":0,"d":"0.00"}},{"$f":"+[2]Tabulka!AQ110","v":{"v":0,"d":"0.00"}},{"$f":"+[2]Tabulka!BM110","v":{"v":0.3049052338744021,"d":"0.30"}},{"$f":"+[2]Tabulka!BN110","v":1},{"$f":"+[2]Tabulka!BO110","v":{"v":0.3049052338744021,"d":"0.30"}}]
["87",{"$f":"[2]Tabulka!C111","v":"SZULCZÁN"},{"$f":"[2]Tabulka!D111","v":"Patrik"},{"$f":"[2]Tabulka!E111","v":"1994-01-01"},{"$f":"[2]Tabulka!F111","v":"Karviná-Lázně Darkov- Slovan VOKD TJ"},{"$f":"[2]Tabulka!G111","v":"KA"},{"$f":"[2]Tabulka!H111","v":0},{"$f":"+[2]Tabulka!AU111","v":0},{"$f":"+[2]Tabulka!AV111","v":{"v":0,"d":"0.00"}},{"$f":"+[2]Tabulka!AW111","v":0},{"$f":"+[2]Tabulka!AX111","v":{"v":0,"d":"0.00"}},{"$f":"+[2]Tabulka!AY111","v":0},{"$f":"+[2]Tabulka!AZ111","v":{"v":0,"d":"0.00"}},{"$f":"+[2]Tabulka!BA111","v":0},{"$f":"+[2]Tabulka!BB111","v":{"v":0,"d":"0.00"}},{"$f":"+[2]Tabulka!BC111","v":0},{"$f":"+[2]Tabulka!BD111","v":{"v":0,"d":"0.00"}},{"$f":"+[2]Tabulka!BE111","v":0},{"$f":"+[2]Tabulka!BF111","v":{"v":0,"d":"0.00"}},{"$f":"+[2]Tabulka!BG111","v":45},{"$f":"+[2]Tabulka!BH111","v":{"v":0.2861771485854786,"d":"0.29"}},{"$f":"+[2]Tabulka!BI111","v":0},{"$f":"+[2]Tabulka!BJ111","v":{"v":0,"d":"0.00"}},{"$f":"+[2]Tabulka!AP111","v":{"v":0,"d":"0.00"}},{"$f":"+[2]Tabulka!AQ111","v":{"v":0,"d":"0.00"}},{"$f":"+[2]Tabulka!BM111","v":{"v":0.2861771485854786,"d":"0.29"}},{"$f":"+[2]Tabulka!BN111","v":1},{"$f":"+[2]Tabulka!BO111","v":{"v":0.2861771485854786,"d":"0.29"}}]
["88",{"$f":"[2]Tabulka!C112","v":"STARÁ"},{"$f":"[2]Tabulka!D112","v":"Petra"},{"$f":"[2]Tabulka!E112","v":"1998-01-01"},{"$f":"[2]Tabulka!F112","v":"Český Těšín- SKST"},{"$f":"[2]Tabulka!G112","v":"KA"},{"$f":"[2]Tabulka!H112","v":0},{"$f":"+[2]Tabulka!AU112","v":0},{"$f":"+[2]Tabulka!AV112","v":{"v":0,"d":"0.00"}},{"$f":"+[2]Tabulka!AW112","v":0},{"$f":"+[2]Tabulka!AX112","v":{"v":0,"d":"0.00"}},{"$f":"+[2]Tabulka!AY112","v":0},{"$f":"+[2]Tabulka!AZ112","v":{"v":0,"d":"0.00"}},{"$f":"+[2]Tabulka!BA112","v":47},{"$f":"+[2]Tabulka!BB112","v":{"v":0.2521013072742669,"d":"0.25"}},{"$f":"+[2]Tabulka!BC112","v":0},{"$f":"+[2]Tabulka!BD112","v":{"v":0,"d":"0.00"}},{"$f":"+[2]Tabulka!BE112","v":0},{"$f":"+[2]Tabulka!BF112","v":{"v":0,"d":"0.00"}},{"$f":"+[2]Tabulka!BG112","v":0},{"$f":"+[2]Tabulka!BH112","v":{"v":0,"d":"0.00"}},{"$f":"+[2]Tabulka!BI112","v":0},{"$f":"+[2]Tabulka!BJ112","v":{"v":0,"d":"0.00"}},{"$f":"+[2]Tabulka!AP112","v":{"v":0,"d":"0.00"}},{"$f":"+[2]Tabulka!AQ112","v":{"v":0,"d":"0.00"}},{"$f":"+[2]Tabulka!BM112","v":{"v":0.2521013072742669,"d":"0.25"}},{"$f":"+[2]Tabulka!BN112","v":1},{"$f":"+[2]Tabulka!BO112","v":{"v":0.2521013072742669,"d":"0.25"}}]
["89",{"$f":"[2]Tabulka!C113","v":"REMENÍK"},{"$f":"[2]Tabulka!D113","v":"Filip"},{"$f":"[2]Tabulka!E113","v":"2000-01-01"},{"$f":"[2]Tabulka!F113","v":"Karviná- KLUBsten KST"},{"$f":"[2]Tabulka!G113","v":"KA"},{"$f":"[2]Tabulka!H113","v":100},{"$f":"+[2]Tabulka!AU113","v":0},{"$f":"+[2]Tabulka!AV113","v":{"v":0,"d":"0.00"}},{"$f":"+[2]Tabulka!AW113","v":0},{"$f":"+[2]Tabulka!AX113","v":{"v":0,"d":"0.00"}},{"$f":"+[2]Tabulka!AY113","v":0},{"$f":"+[2]Tabulka!AZ113","v":{"v":0,"d":"0.00"}},{"$f":"+[2]Tabulka!BA113","v":52},{"$f":"+[2]Tabulka!BB113","v":{"v":0.18362231638153834,"d":"0.18"}},{"$f":"+[2]Tabulka!BC113","v":0},{"$f":"+[2]Tabulka!BD113","v":{"v":0,"d":"0.00"}},{"$f":"+[2]Tabulka!BE113","v":0},{"$f":"+[2]Tabulka!BF113","v":{"v":0,"d":"0.00"}},{"$f":"+[2]Tabulka!BG113","v":0},{"$f":"+[2]Tabulka!BH113","v":{"v":0,"d":"0.00"}},{"$f":"+[2]Tabulka!BI113","v":0},{"$f":"+[2]Tabulka!BJ113","v":{"v":0,"d":"0.00"}},{"$f":"+[2]Tabulka!AP113","v":{"v":0,"d":"0.00"}},{"$f":"+[2]Tabulka!AQ113","v":{"v":0,"d":"0.00"}},{"$f":"+[2]Tabulka!BM113","v":{"v":0.18362231638153834,"d":"0.18"}},{"$f":"+[2]Tabulka!BN113","v":1},{"$f":"+[2]Tabulka!BO113","v":{"v":0.18362231638153834,"d":"0.18"}}]
["90",{"$f":"[2]Tabulka!C114","v":"ADAMČÍK"},{"$f":"[2]Tabulka!D114","v":"Vojtěch"},{"$f":"[2]Tabulka!E114","v":"1996-09-19"},{"$f":"[2]Tabulka!F114","v":"Frýdek-Místek- Slezan TJ"},{"$f":"[2]Tabulka!G114","v":"FM"},{"$f":"[2]Tabulka!H114","v":100},{"$f":"+[2]Tabulka!AU114","v":0},{"$f":"+[2]Tabulka!AV114","v":{"v":0,"d":"0.00"}},{"$f":"+[2]Tabulka!AW114","v":0},{"$f":"+[2]Tabulka!AX114","v":{"v":0,"d":"0.00"}},{"$f":"+[2]Tabulka!AY114","v":0},{"$f":"+[2]Tabulka!AZ114","v":{"v":0,"d":"0.00"}},{"$f":"+[2]Tabulka!BA114","v":0},{"$f":"+[2]Tabulka!BB114","v":{"v":0,"d":"0.00"}},{"$f":"+[2]Tabulka!BC114","v":0},{"$f":"+[2]Tabulka!BD114","v":{"v":0,"d":"0.00"}},{"$f":"+[2]Tabulka!BE114","v":0},{"$f":"+[2]Tabulka!BF114","v":{"v":0,"d":"0.00"}},{"$f":"+[2]Tabulka!BG114","v":0},{"$f":"+[2]Tabulka!BH114","v":{"v":0,"d":"0.00"}},{"$f":"+[2]Tabulka!BI114","v":0},{"$f":"+[2]Tabulka!BJ114","v":{"v":0,"d":"0.00"}},{"$f":"+[2]Tabulka!AP114","v":{"v":0.7044267416017282,"d":"0.70"}},{"$f":"+[2]Tabulka!AQ114","v":{"v":3,"d":"3.00"}},{"$f":"+[2]Tabulka!BM114","v":{"v":0,"d":"0.00"}},{"$f":"+[2]Tabulka!BN114","v":0},{"$f":"+[2]Tabulka!BO114","v":{"v":0,"d":"0.00"}}]
["91",{"$f":"[2]Tabulka!C115","v":"ADAMČÍK"},{"$f":"[2]Tabulka!D115","v":"Jiří"},{"$f":"[2]Tabulka!E115","v":"1997-09-03"},{"$f":"[2]Tabulka!F115","v":"Ostrava- Mittal TJ"},{"$f":"[2]Tabulka!G115","v":"OV"},{"$f":"[2]Tabulka!H115","v":100},{"$f":"+[2]Tabulka!AU115","v":0},{"$f":"+[2]Tabulka!AV115","v":{"v":0,"d":"0.00"}},{"$f":"+[2]Tabulka!AW115","v":0},{"$f":"+[2]Tabulka!AX115","v":{"v":0,"d":"0.00"}},{"$f":"+[2]Tabulka!AY115","v":0},{"$f":"+[2]Tabulka!AZ115","v":{"v":0,"d":"0.00"}},{"$f":"+[2]Tabulka!BA115","v":0},{"$f":"+[2]Tabulka!BB115","v":{"v":0,"d":"0.00"}},{"$f":"+[2]Tabulka!BC115","v":0},{"$f":"+[2]Tabulka!BD115","v":{"v":0,"d":"0.00"}},{"$f":"+[2]Tabulka!BE115","v":0},{"$f":"+[2]Tabulka!BF115","v":{"v":0,"d":"0.00"}},{"$f":"+[2]Tabulka!BG115","v":0},{"$f":"+[2]Tabulka!BH115","v":{"v":0,"d":"0.00"}},{"$f":"+[2]Tabulka!BI115","v":0},{"$f":"+[2]Tabulka!BJ115","v":{"v":0,"d":"0.00"}},{"$f":"+[2]Tabulka!AP115","v":{"v":0.18958698614732325,"d":"0.19"}},{"$f":"+[2]Tabulka!AQ115","v":{"v":2,"d":"2.00"}},{"$f":"+[2]Tabulka!BM115","v":{"v":0,"d":"0.00"}},{"$f":"+[2]Tabulka!BN115","v":0},{"$f":"+[2]Tabulka!BO115","v":{"v":0,"d":"0.00"}}]
[null,{"$f":"[2]Tabulka!C116","v":"ANTLOVÁ"},{"$f":"[2]Tabulka!D116","v":"Vanesa"},{"$f":"[2]Tabulka!E116","v":"1997-06-26"},{"$f":"[2]Tabulka!F116","v":"Havířov- CSVČ sv. Jana Boska"},{"$f":"[2]Tabulka!G116","v":"KA"},{"$f":"[2]Tabulka!H116","v":100},{"$f":"+[2]Tabulka!AU116","v":0},{"$f":"+[2]Tabulka!AV116","v":{"v":0,"d":"0.00"}},{"$f":"+[2]Tabulka!AW116","v":0},{"$f":"+[2]Tabulka!AX116","v":{"v":0,"d":"0.00"}},{"$f":"+[2]Tabulka!AY116","v":0},{"$f":"+[2]Tabulka!AZ116","v":{"v":0,"d":"0.00"}},{"$f":"+[2]Tabulka!BA116","v":0},{"$f":"+[2]Tabulka!BB116","v":{"v":0,"d":"0.00"}},{"$f":"+[2]Tabulka!BC116","v":0},{"$f":"+[2]Tabulka!BD116","v":{"v":0,"d":"0.00"}},{"$f":"+[2]Tabulka!BE116","v":0},{"$f":"+[2]Tabulka!BF116","v":{"v":0,"d":"0.00"}},{"$f":"+[2]Tabulka!BG116","v":0},{"$f":"+[2]Tabulka!BH116","v":{"v":0,"d":"0.00"}},{"$f":"+[2]Tabulka!BI116","v":0},{"$f":"+[2]Tabulka!BJ116","v":{"v":0,"d":"0.00"}},{"$f":"+[2]Tabulka!AP116","v":{"v":0,"d":"0.00"}},{"$f":"+[2]Tabulka!AQ116","v":{"v":0,"d":"0.00"}},{"$f":"+[2]Tabulka!BM116","v":{"v":0,"d":"0.00"}},{"$f":"+[2]Tabulka!BN116","v":0},{"$f":"+[2]Tabulka!BO116","v":{"v":0,"d":"0.00"}}]
[null,{"$f":"[2]Tabulka!C117","v":"BAJER"},{"$f":"[2]Tabulka!D117","v":"Daniel"},{"$f":"[2]Tabulka!E117","v":"1998-07-27"},{"$f":"[2]Tabulka!F117","v":"Havířov- Baník SKST"},{"$f":"[2]Tabulka!G117","v":"KA"},{"$f":"[2]Tabulka!H117","v":100},{"$f":"+[2]Tabulka!AU117","v":0},{"$f":"+[2]Tabulka!AV117","v":{"v":0,"d":"0.00"}},{"$f":"+[2]Tabulka!AW117","v":0},{"$f":"+[2]Tabulka!AX117","v":{"v":0,"d":"0.00"}},{"$f":"+[2]Tabulka!AY117","v":0},{"$f":"+[2]Tabulka!AZ117","v":{"v":0,"d":"0.00"}},{"$f":"+[2]Tabulka!BA117","v":0},{"$f":"+[2]Tabulka!BB117","v":{"v":0,"d":"0.00"}},{"$f":"+[2]Tabulka!BC117","v":0},{"$f":"+[2]Tabulka!BD117","v":{"v":0,"d":"0.00"}},{"$f":"+[2]Tabulka!BE117","v":0},{"$f":"+[2]Tabulka!BF117","v":{"v":0,"d":"0.00"}},{"$f":"+[2]Tabulka!BG117","v":0},{"$f":"+[2]Tabulka!BH117","v":{"v":0,"d":"0.00"}},{"$f":"+[2]Tabulka!BI117","v":0},{"$f":"+[2]Tabulka!BJ117","v":{"v":0,"d":"0.00"}},{"$f":"+[2]Tabulka!AP117","v":{"v":4.676421081162079,"d":"4.68"}},{"$f":"+[2]Tabulka!AQ117","v":{"v":2,"d":"2.00"}},{"$f":"+[2]Tabulka!BM117","v":{"v":0,"d":"0.00"}},{"$f":"+[2]Tabulka!BN117","v":0},{"$f":"+[2]Tabulka!BO117","v":{"v":0,"d":"0.00"}}]
["94",{"$f":"[2]Tabulka!C118","v":"BAJGER"},{"$f":"[2]Tabulka!D118","v":"Ondřej"},{"$f":"[2]Tabulka!E118","v":"1994-02-20"},{"$f":"[2]Tabulka!F118","v":"Ostrava- Mittal TJ"},{"$f":"[2]Tabulka!G118","v":"OV"},{"$f":"[2]Tabulka!H118","v":100},{"$f":"+[2]Tabulka!AU118","v":0},{"$f":"+[2]Tabulka!AV118","v":{"v":0,"d":"0.00"}},{"$f":"+[2]Tabulka!AW118","v":0},{"$f":"+[2]Tabulka!AX118","v":{"v":0,"d":"0.00"}},{"$f":"+[2]Tabulka!AY118","v":0},{"$f":"+[2]Tabulka!AZ118","v":{"v":0,"d":"0.00"}},{"$f":"+[2]Tabulka!BA118","v":0},{"$f":"+[2]Tabulka!BB118","v":{"v":0,"d":"0.00"}},{"$f":"+[2]Tabulka!BC118","v":0},{"$f":"+[2]Tabulka!BD118","v":{"v":0,"d":"0.00"}},{"$f":"+[2]Tabulka!BE118","v":0},{"$f":"+[2]Tabulka!BF118","v":{"v":0,"d":"0.00"}},{"$f":"+[2]Tabulka!BG118","v":0},{"$f":"+[2]Tabulka!BH118","v":{"v":0,"d":"0.00"}},{"$f":"+[2]Tabulka!BI118","v":0},{"$f":"+[2]Tabulka!BJ118","v":{"v":0,"d":"0.00"}},{"$f":"+[2]Tabulka!AP118","v":{"v":0,"d":"0.00"}},{"$f":"+[2]Tabulka!AQ118","v":{"v":0,"d":"0.00"}},{"$f":"+[2]Tabulka!BM118","v":{"v":0,"d":"0.00"}},{"$f":"+[2]Tabulka!BN118","v":0},{"$f":"+[2]Tabulka!BO118","v":{"v":0,"d":"0.00"}}]
["95",{"$f":"[2]Tabulka!C119","v":"BANDOLA"},{"$f":"[2]Tabulka!D119","v":"Dominik"},{"$f":"[2]Tabulka!E119","v":"1998-09-08"},{"$f":"[2]Tabulka!F119","v":"Paskov- Orel"},{"$f":"[2]Tabulka!G119","v":"FM"},{"$f":"[2]Tabulka!H119","v":100},{"$f":"+[2]Tabulka!AU119","v":0},{"$f":"+[2]Tabulka!AV119","v":{"v":0,"d":"0.00"}},{"$f":"+[2]Tabulka!AW119","v":0},{"$f":"+[2]Tabulka!AX119","v":{"v":0,"d":"0.00"}},{"$f":"+[2]Tabulka!AY119","v":0},{"$f":"+[2]Tabulka!AZ119","v":{"v":0,"d":"0.00"}},{"$f":"+[2]Tabulka!BA119","v":0},{"$f":"+[2]Tabulka!BB119","v":{"v":0,"d":"0.00"}},{"$f":"+[2]Tabulka!BC119","v":0},{"$f":"+[2]Tabulka!BD119","v":{"v":0,"d":"0.00"}},{"$f":"+[2]Tabulka!BE119","v":0},{"$f":"+[2]Tabulka!BF119","v":{"v":0,"d":"0.00"}},{"$f":"+[2]Tabulka!BG119","v":0},{"$f":"+[2]Tabulka!BH119","v":{"v":0,"d":"0.00"}},{"$f":"+[2]Tabulka!BI119","v":0},{"$f":"+[2]Tabulka!BJ119","v":{"v":0,"d":"0.00"}},{"$f":"+[2]Tabulka!AP119","v":{"v":0.22649878360744574,"d":"0.23"}},{"$f":"+[2]Tabulka!AQ119","v":{"v":2,"d":"2.00"}},{"$f":"+[2]Tabulka!BM119","v":{"v":0,"d":"0.00"}},{"$f":"+[2]Tabulka!BN119","v":0},{"$f":"+[2]Tabulka!BO119","v":{"v":0,"d":"0.00"}}]
[null,{"$f":"[2]Tabulka!C120","v":"BĚLÍK"},{"$f":"[2]Tabulka!D120","v":"Šimon"},{"$f":"[2]Tabulka!E120","v":"2004-05-13"},{"$f":"[2]Tabulka!F120","v":"Ostrava- Mittal TJ"},{"$f":"[2]Tabulka!G120","v":"OV"},{"$f":"[2]Tabulka!H120","v":100},{"$f":"+[2]Tabulka!AU120","v":0},{"$f":"+[2]Tabulka!AV120","v":{"v":0,"d":"0.00"}},{"$f":"+[2]Tabulka!AW120","v":0},{"$f":"+[2]Tabulka!AX120","v":{"v":0,"d":"0.00"}},{"$f":"+[2]Tabulka!AY120","v":0},{"$f":"+[2]Tabulka!AZ120","v":{"v":0,"d":"0.00"}},{"$f":"+[2]Tabulka!BA120","v":0},{"$f":"+[2]Tabulka!BB120","v":{"v":0,"d":"0.00"}},{"$f":"+[2]Tabulka!BC120","v":0},{"$f":"+[2]Tabulka!BD120","v":{"v":0,"d":"0.00"}},{"$f":"+[2]Tabulka!BE120","v":0},{"$f":"+[2]Tabulka!BF120","v":{"v":0,"d":"0.00"}},{"$f":"+[2]Tabulka!BG120","v":0},{"$f":"+[2]Tabulka!BH120","v":{"v":0,"d":"0.00"}},{"$f":"+[2]Tabulka!BI120","v":0},{"$f":"+[2]Tabulka!BJ120","v":{"v":0,"d":"0.00"}},{"$f":"+[2]Tabulka!AP120","v":{"v":1.503574274246855,"d":"1.50"}},{"$f":"+[2]Tabulka!AQ120","v":{"v":4,"d":"4.00"}},{"$f":"+[2]Tabulka!BM120","v":{"v":0,"d":"0.00"}},{"$f":"+[2]Tabulka!BN120","v":0},{"$f":"+[2]Tabulka!BO120","v":{"v":0,"d":"0.00"}}]
[null,{"$f":"[2]Tabulka!C121","v":"BENEŠ"},{"$f":"[2]Tabulka!D121","v":"Michal"},{"$f":"[2]Tabulka!E121","v":"1994-03-20"},{"$f":"[2]Tabulka!F121","v":"Havířov- Baník SKST"},{"$f":"[2]Tabulka!G121","v":"KA"},{"$f":"[2]Tabulka!H121","v":100},{"$f":"+[2]Tabulka!AU121","v":0},{"$f":"+[2]Tabulka!AV121","v":{"v":0,"d":"0.00"}},{"$f":"+[2]Tabulka!AW121","v":0},{"$f":"+[2]Tabulka!AX121","v":{"v":0,"d":"0.00"}},{"$f":"+[2]Tabulka!AY121","v":0},{"$f":"+[2]Tabulka!AZ121","v":{"v":0,"d":"0.00"}},{"$f":"+[2]Tabulka!BA121","v":0},{"$f":"+[2]Tabulka!BB121","v":{"v":0,"d":"0.00"}},{"$f":"+[2]Tabulka!BC121","v":0},{"$f":"+[2]Tabulka!BD121","v":{"v":0,"d":"0.00"}},{"$f":"+[2]Tabulka!BE121","v":0},{"$f":"+[2]Tabulka!BF121","v":{"v":0,"d":"0.00"}},{"$f":"+[2]Tabulka!BG121","v":0},{"$f":"+[2]Tabulka!BH121","v":{"v":0,"d":"0.00"}},{"$f":"+[2]Tabulka!BI121","v":0},{"$f":"+[2]Tabulka!BJ121","v":{"v":0,"d":"0.00"}},{"$f":"+[2]Tabulka!AP121","v":{"v":0,"d":"0.00"}},{"$f":"+[2]Tabulka!AQ121","v":{"v":0,"d":"0.00"}},{"$f":"+[2]Tabulka!BM121","v":{"v":0,"d":"0.00"}},{"$f":"+[2]Tabulka!BN121","v":0},{"$f":"+[2]Tabulka!BO121","v":{"v":0,"d":"0.00"}}]
[null,{"$f":"[2]Tabulka!C122","v":"BENEŠ"},{"$f":"[2]Tabulka!D122","v":"Radek"},{"$f":"[2]Tabulka!E122","v":"1996-12-02"},{"$f":"[2]Tabulka!F122","v":"Ostrava- Mittal TJ"},{"$f":"[2]Tabulka!G122","v":"OV"},{"$f":"[2]Tabulka!H122","v":100},{"$f":"+[2]Tabulka!AU122","v":0},{"$f":"+[2]Tabulka!AV122","v":{"v":0,"d":"0.00"}},{"$f":"+[2]Tabulka!AW122","v":0},{"$f":"+[2]Tabulka!AX122","v":{"v":0,"d":"0.00"}},{"$f":"+[2]Tabulka!AY122","v":0},{"$f":"+[2]Tabulka!AZ122","v":{"v":0,"d":"0.00"}},{"$f":"+[2]Tabulka!BA122","v":0},{"$f":"+[2]Tabulka!BB122","v":{"v":0,"d":"0.00"}},{"$f":"+[2]Tabulka!BC122","v":0},{"$f":"+[2]Tabulka!BD122","v":{"v":0,"d":"0.00"}},{"$f":"+[2]Tabulka!BE122","v":0},{"$f":"+[2]Tabulka!BF122","v":{"v":0,"d":"0.00"}},{"$f":"+[2]Tabulka!BG122","v":0},{"$f":"+[2]Tabulka!BH122","v":{"v":0,"d":"0.00"}},{"$f":"+[2]Tabulka!BI122","v":0},{"$f":"+[2]Tabulka!BJ122","v":{"v":0,"d":"0.00"}},{"$f":"+[2]Tabulka!AP122","v":{"v":34.18562200406906,"d":"34.19"}},{"$f":"+[2]Tabulka!AQ122","v":{"v":2,"d":"2.00"}},{"$f":"+[2]Tabulka!BM122","v":{"v":0,"d":"0.00"}},{"$f":"+[2]Tabulka!BN122","v":0},{"$f":"+[2]Tabulka!BO122","v":{"v":0,"d":"0.00"}}]
[null,{"$f":"[2]Tabulka!C123","v":"BLAHUT"},{"$f":"[2]Tabulka!D123","v":"Vojtěch"},{"$f":"[2]Tabulka!E123","v":"1997-07-28"},{"$f":"[2]Tabulka!F123","v":"Frýdlant nad Ostravicí- SK"},{"$f":"[2]Tabulka!G123","v":"FM"},{"$f":"[2]Tabulka!H123","v":100},{"$f":"+[2]Tabulka!AU123","v":0},{"$f":"+[2]Tabulka!AV123","v":{"v":0,"d":"0.00"}},{"$f":"+[2]Tabulka!AW123","v":0},{"$f":"+[2]Tabulka!AX123","v":{"v":0,"d":"0.00"}},{"$f":"+[2]Tabulka!AY123","v":0},{"$f":"+[2]Tabulka!AZ123","v":{"v":0,"d":"0.00"}},{"$f":"+[2]Tabulka!BA123","v":0},{"$f":"+[2]Tabulka!BB123","v":{"v":0,"d":"0.00"}},{"$f":"+[2]Tabulka!BC123","v":0},{"$f":"+[2]Tabulka!BD123","v":{"v":0,"d":"0.00"}},{"$f":"+[2]Tabulka!BE123","v":0},{"$f":"+[2]Tabulka!BF123","v":{"v":0,"d":"0.00"}},{"$f":"+[2]Tabulka!BG123","v":0},{"$f":"+[2]Tabulka!BH123","v":{"v":0,"d":"0.00"}},{"$f":"+[2]Tabulka!BI123","v":0},{"$f":"+[2]Tabulka!BJ123","v":{"v":0,"d":"0.00"}},{"$f":"+[2]Tabulka!AP123","v":{"v":14.417398904509794,"d":"14.42"}},{"$f":"+[2]Tabulka!AQ123","v":{"v":4,"d":"4.00"}},{"$f":"+[2]Tabulka!BM123","v":{"v":0,"d":"0.00"}},{"$f":"+[2]Tabulka!BN123","v":0},{"$f":"+[2]Tabulka!BO123","v":{"v":0,"d":"0.00"}}]
[null,{"$f":"[2]Tabulka!C124","v":"BOROVSKÝ"},{"$f":"[2]Tabulka!D124","v":"Šimon"},{"$f":"[2]Tabulka!E124","v":"1996-04-25"},{"$f":"[2]Tabulka!F124","v":"Kopřivnice- Tatra  ASK"},{"$f":"[2]Tabulka!G124","v":"NJ"},{"$f":"[2]Tabulka!H124","v":100},{"$f":"+[2]Tabulka!AU124","v":0},{"$f":"+[2]Tabulka!AV124","v":{"v":0,"d":"0.00"}},{"$f":"+[2]Tabulka!AW124","v":0},{"$f":"+[2]Tabulka!AX124","v":{"v":0,"d":"0.00"}},{"$f":"+[2]Tabulka!AY124","v":0},{"$f":"+[2]Tabulka!AZ124","v":{"v":0,"d":"0.00"}},{"$f":"+[2]Tabulka!BA124","v":0},{"$f":"+[2]Tabulka!BB124","v":{"v":0,"d":"0.00"}},{"$f":"+[2]Tabulka!BC124","v":0},{"$f":"+[2]Tabulka!BD124","v":{"v":0,"d":"0.00"}},{"$f":"+[2]Tabulka!BE124","v":0},{"$f":"+[2]Tabulka!BF124","v":{"v":0,"d":"0.00"}},{"$f":"+[2]Tabulka!BG124","v":0},{"$f":"+[2]Tabulka!BH124","v":{"v":0,"d":"0.00"}},{"$f":"+[2]Tabulka!BI124","v":0},{"$f":"+[2]Tabulka!BJ124","v":{"v":0,"d":"0.00"}},{"$f":"+[2]Tabulka!AP124","v":{"v":26.63581469031012,"d":"26.64"}},{"$f":"+[2]Tabulka!AQ124","v":{"v":2,"d":"2.00"}},{"$f":"+[2]Tabulka!BM124","v":{"v":0,"d":"0.00"}},{"$f":"+[2]Tabulka!BN124","v":0},{"$f":"+[2]Tabulka!BO124","v":{"v":0,"d":"0.00"}}]
[null,{"$f":"[2]Tabulka!C125","v":"CIKRYT"},{"$f":"[2]Tabulka!D125","v":"Tomáš"},{"$f":"[2]Tabulka!E125","v":"1994-03-09"},{"$f":"[2]Tabulka!F125","v":"Mořkov- TJ"},{"$f":"[2]Tabulka!G125","v":"NJ"},{"$f":"[2]Tabulka!H125","v":100},{"$f":"+[2]Tabulka!AU125","v":0},{"$f":"+[2]Tabulka!AV125","v":{"v":0,"d":"0.00"}},{"$f":"+[2]Tabulka!AW125","v":0},{"$f":"+[2]Tabulka!AX125","v":{"v":0,"d":"0.00"}},{"$f":"+[2]Tabulka!AY125","v":0},{"$f":"+[2]Tabulka!AZ125","v":{"v":0,"d":"0.00"}},{"$f":"+[2]Tabulka!BA125","v":0},{"$f":"+[2]Tabulka!BB125","v":{"v":0,"d":"0.00"}},{"$f":"+[2]Tabulka!BC125","v":0},{"$f":"+[2]Tabulka!BD125","v":{"v":0,"d":"0.00"}},{"$f":"+[2]Tabulka!BE125","v":0},{"$f":"+[2]Tabulka!BF125","v":{"v":0,"d":"0.00"}},{"$f":"+[2]Tabulka!BG125","v":0},{"$f":"+[2]Tabulka!BH125","v":{"v":0,"d":"0.00"}},{"$f":"+[2]Tabulka!BI125","v":0},{"$f":"+[2]Tabulka!BJ125","v":{"v":0,"d":"0.00"}},{"$f":"+[2]Tabulka!AP125","v":{"v":0,"d":"0.00"}},{"$f":"+[2]Tabulka!AQ125","v":{"v":0,"d":"0.00"}},{"$f":"+[2]Tabulka!BM125","v":{"v":0,"d":"0.00"}},{"$f":"+[2]Tabulka!BN125","v":0},{"$f":"+[2]Tabulka!BO125","v":{"v":0,"d":"0.00"}}]
[null,{"$f":"[2]Tabulka!C126","v":"ČECHOVÁ"},{"$f":"[2]Tabulka!D126","v":"Kateřina"},{"$f":"[2]Tabulka!E126","v":"1999-03-29"},{"$f":"[2]Tabulka!F126","v":"Frýdlant nad Ostravicí- SK"},{"$f":"[2]Tabulka!G126","v":"FM"},{"$f":"[2]Tabulka!H126","v":100},{"$f":"+[2]Tabulka!AU126","v":0},{"$f":"+[2]Tabulka!AV126","v":{"v":0,"d":"0.00"}},{"$f":"+[2]Tabulka!AW126","v":0},{"$f":"+[2]Tabulka!AX126","v":{"v":0,"d":"0.00"}},{"$f":"+[2]Tabulka!AY126","v":0},{"$f":"+[2]Tabulka!AZ126","v":{"v":0,"d":"0.00"}},{"$f":"+[2]Tabulka!BA126","v":0},{"$f":"+[2]Tabulka!BB126","v":{"v":0,"d":"0.00"}},{"$f":"+[2]Tabulka!BC126","v":0},{"$f":"+[2]Tabulka!BD126","v":{"v":0,"d":"0.00"}},{"$f":"+[2]Tabulka!BE126","v":0},{"$f":"+[2]Tabulka!BF126","v":{"v":0,"d":"0.00"}},{"$f":"+[2]Tabulka!BG126","v":0},{"$f":"+[2]Tabulka!BH126","v":{"v":0,"d":"0.00"}},{"$f":"+[2]Tabulka!BI126","v":0},{"$f":"+[2]Tabulka!BJ126","v":{"v":0,"d":"0.00"}},{"$f":"+[2]Tabulka!AP126","v":{"v":46.971129112583455,"d":"46.97"}},{"$f":"+[2]Tabulka!AQ126","v":{"v":4,"d":"4.00"}},{"$f":"+[2]Tabulka!BM126","v":{"v":0,"d":"0.00"}},{"$f":"+[2]Tabulka!BN126","v":0},{"$f":"+[2]Tabulka!BO126","v":{"v":0,"d":"0.00"}}]
[null,{"$f":"[2]Tabulka!C127","v":"DANĚK"},{"$f":"[2]Tabulka!D127","v":"Jiří"},{"$f":"[2]Tabulka!E127","v":"1994-01-01"},{"$f":"[2]Tabulka!F127","v":"Havířov- Baník SKST"},{"$f":"[2]Tabulka!G127","v":"KA"},{"$f":"[2]Tabulka!H127","v":0},{"$f":"+[2]Tabulka!AU127","v":0},{"$f":"+[2]Tabulka!AV127","v":{"v":0,"d":"0.00"}},{"$f":"+[2]Tabulka!AW127","v":0},{"$f":"+[2]Tabulka!AX127","v":{"v":0,"d":"0.00"}},{"$f":"+[2]Tabulka!AY127","v":0},{"$f":"+[2]Tabulka!AZ127","v":{"v":0,"d":"0.00"}},{"$f":"+[2]Tabulka!BA127","v":0},{"$f":"+[2]Tabulka!BB127","v":{"v":0,"d":"0.00"}},{"$f":"+[2]Tabulka!BC127","v":0},{"$f":"+[2]Tabulka!BD127","v":{"v":0,"d":"0.00"}},{"$f":"+[2]Tabulka!BE127","v":0},{"$f":"+[2]Tabulka!BF127","v":{"v":0,"d":"0.00"}},{"$f":"+[2]Tabulka!BG127","v":0},{"$f":"+[2]Tabulka!BH127","v":{"v":0,"d":"0.00"}},{"$f":"+[2]Tabulka!BI127","v":0},{"$f":"+[2]Tabulka!BJ127","v":{"v":0,"d":"0.00"}},{"$f":"+[2]Tabulka!AP127","v":{"v":0,"d":"0.00"}},{"$f":"+[2]Tabulka!AQ127","v":{"v":0,"d":"0.00"}},{"$f":"+[2]Tabulka!BM127","v":{"v":0,"d":"0.00"}},{"$f":"+[2]Tabulka!BN127","v":0},{"$f":"+[2]Tabulka!BO127","v":{"v":0,"d":"0.00"}}]
[null,{"$f":"[2]Tabulka!C128","v":"DANIŠKO"},{"$f":"[2]Tabulka!D128","v":"Daniel"},{"$f":"[2]Tabulka!E128","v":"1998-11-13"},{"$f":"[2]Tabulka!F128","v":"Nový Jičín- TJ"},{"$f":"[2]Tabulka!G128","v":"NJ"},{"$f":"[2]Tabulka!H128","v":100},{"$f":"+[2]Tabulka!AU128","v":0},{"$f":"+[2]Tabulka!AV128","v":{"v":0,"d":"0.00"}},{"$f":"+[2]Tabulka!AW128","v":0},{"$f":"+[2]Tabulka!AX128","v":{"v":0,"d":"0.00"}},{"$f":"+[2]Tabulka!AY128","v":0},{"$f":"+[2]Tabulka!AZ128","v":{"v":0,"d":"0.00"}},{"$f":"+[2]Tabulka!BA128","v":0},{"$f":"+[2]Tabulka!BB128","v":{"v":0,"d":"0.00"}},{"$f":"+[2]Tabulka!BC128","v":0},{"$f":"+[2]Tabulka!BD128","v":{"v":0,"d":"0.00"}},{"$f":"+[2]Tabulka!BE128","v":0},{"$f":"+[2]Tabulka!BF128","v":{"v":0,"d":"0.00"}},{"$f":"+[2]Tabulka!BG128","v":0},{"$f":"+[2]Tabulka!BH128","v":{"v":0,"d":"0.00"}},{"$f":"+[2]Tabulka!BI128","v":0},{"$f":"+[2]Tabulka!BJ128","v":{"v":0,"d":"0.00"}},{"$f":"+[2]Tabulka!AP128","v":{"v":0.3406263641563522,"d":"0.34"}},{"$f":"+[2]Tabulka!AQ128","v":{"v":2,"d":"2.00"}},{"$f":"+[2]Tabulka!BM128","v":{"v":0,"d":"0.00"}},{"$f":"+[2]Tabulka!BN128","v":0},{"$f":"+[2]Tabulka!BO128","v":{"v":0,"d":"0.00"}}]
[null,{"$f":"[2]Tabulka!C129","v":"DAŇOVÁ"},{"$f":"[2]Tabulka!D129","v":"Andrea"},{"$f":"[2]Tabulka!E129","v":"1997-03-28"},{"$f":"[2]Tabulka!F129","v":"Frýdlant nad Ostravicí- SK"},{"$f":"[2]Tabulka!G129","v":"FM"},{"$f":"[2]Tabulka!H129","v":100},{"$f":"+[2]Tabulka!AU129","v":0},{"$f":"+[2]Tabulka!AV129","v":{"v":0,"d":"0.00"}},{"$f":"+[2]Tabulka!AW129","v":0},{"$f":"+[2]Tabulka!AX129","v":{"v":0,"d":"0.00"}},{"$f":"+[2]Tabulka!AY129","v":0},{"$f":"+[2]Tabulka!AZ129","v":{"v":0,"d":"0.00"}},{"$f":"+[2]Tabulka!BA129","v":0},{"$f":"+[2]Tabulka!BB129","v":{"v":0,"d":"0.00"}},{"$f":"+[2]Tabulka!BC129","v":0},{"$f":"+[2]Tabulka!BD129","v":{"v":0,"d":"0.00"}},{"$f":"+[2]Tabulka!BE129","v":0},{"$f":"+[2]Tabulka!BF129","v":{"v":0,"d":"0.00"}},{"$f":"+[2]Tabulka!BG129","v":0},{"$f":"+[2]Tabulka!BH129","v":{"v":0,"d":"0.00"}},{"$f":"+[2]Tabulka!BI129","v":0},{"$f":"+[2]Tabulka!BJ129","v":{"v":0,"d":"0.00"}},{"$f":"+[2]Tabulka!AP129","v":{"v":3.403579966430057,"d":"3.40"}},{"$f":"+[2]Tabulka!AQ129","v":{"v":2,"d":"2.00"}},{"$f":"+[2]Tabulka!BM129","v":{"v":0,"d":"0.00"}},{"$f":"+[2]Tabulka!BN129","v":0},{"$f":"+[2]Tabulka!BO129","v":{"v":0,"d":"0.00"}}]
[null,{"$f":"[2]Tabulka!C130","v":"DAŇOVÁ"},{"$f":"[2]Tabulka!D130","v":"Barbora"},{"$f":"[2]Tabulka!E130","v":"1999-05-19"},{"$f":"[2]Tabulka!F130","v":"Frýdlant nad Ostravicí- SK"},{"$f":"[2]Tabulka!G130","v":"FM"},{"$f":"[2]Tabulka!H130","v":100},{"$f":"+[2]Tabulka!AU130","v":0},{"$f":"+[2]Tabulka!AV130","v":{"v":0,"d":"0.00"}},{"$f":"+[2]Tabulka!AW130","v":0},{"$f":"+[2]Tabulka!AX130","v":{"v":0,"d":"0.00"}},{"$f":"+[2]Tabulka!AY130","v":0},{"$f":"+[2]Tabulka!AZ130","v":{"v":0,"d":"0.00"}},{"$f":"+[2]Tabulka!BA130","v":0},{"$f":"+[2]Tabulka!BB130","v":{"v":0,"d":"0.00"}},{"$f":"+[2]Tabulka!BC130","v":0},{"$f":"+[2]Tabulka!BD130","v":{"v":0,"d":"0.00"}},{"$f":"+[2]Tabulka!BE130","v":0},{"$f":"+[2]Tabulka!BF130","v":{"v":0,"d":"0.00"}},{"$f":"+[2]Tabulka!BG130","v":0},{"$f":"+[2]Tabulka!BH130","v":{"v":0,"d":"0.00"}},{"$f":"+[2]Tabulka!BI130","v":0},{"$f":"+[2]Tabulka!BJ130","v":{"v":0,"d":"0.00"}},{"$f":"+[2]Tabulka!AP130","v":{"v":4.170801860934031,"d":"4.17"}},{"$f":"+[2]Tabulka!AQ130","v":{"v":3,"d":"3.00"}},{"$f":"+[2]Tabulka!BM130","v":{"v":0,"d":"0.00"}},{"$f":"+[2]Tabulka!BN130","v":0},{"$f":"+[2]Tabulka!BO130","v":{"v":0,"d":"0.00"}}]
[null,{"$f":"[2]Tabulka!C131","v":"DEMEK"},{"$f":"[2]Tabulka!D131","v":"Matyáš"},{"$f":"[2]Tabulka!E131","v":"1999-08-24"},{"$f":"[2]Tabulka!F131","v":"Mokré Lazce- KST Robot "},{"$f":"[2]Tabulka!G131","v":"OP"},{"$f":"[2]Tabulka!H131","v":100},{"$f":"+[2]Tabulka!AU131","v":0},{"$f":"+[2]Tabulka!AV131","v":{"v":0,"d":"0.00"}},{"$f":"+[2]Tabulka!AW131","v":0},{"$f":"+[2]Tabulka!AX131","v":{"v":0,"d":"0.00"}},{"$f":"+[2]Tabulka!AY131","v":0},{"$f":"+[2]Tabulka!AZ131","v":{"v":0,"d":"0.00"}},{"$f":"+[2]Tabulka!BA131","v":0},{"$f":"+[2]Tabulka!BB131","v":{"v":0,"d":"0.00"}},{"$f":"+[2]Tabulka!BC131","v":0},{"$f":"+[2]Tabulka!BD131","v":{"v":0,"d":"0.00"}},{"$f":"+[2]Tabulka!BE131","v":0},{"$f":"+[2]Tabulka!BF131","v":{"v":0,"d":"0.00"}},{"$f":"+[2]Tabulka!BG131","v":0},{"$f":"+[2]Tabulka!BH131","v":{"v":0,"d":"0.00"}},{"$f":"+[2]Tabulka!BI131","v":0},{"$f":"+[2]Tabulka!BJ131","v":{"v":0,"d":"0.00"}},{"$f":"+[2]Tabulka!AP131","v":{"v":0.7895759604406147,"d":"0.79"}},{"$f":"+[2]Tabulka!AQ131","v":{"v":1,"d":"1.00"}},{"$f":"+[2]Tabulka!BM131","v":{"v":0,"d":"0.00"}},{"$f":"+[2]Tabulka!BN131","v":0},{"$f":"+[2]Tabulka!BO131","v":{"v":0,"d":"0.00"}}]
[null,{"$f":"[2]Tabulka!C132","v":"DOHNAL"},{"$f":"[2]Tabulka!D132","v":"Patrik"},{"$f":"[2]Tabulka!E132","v":"1998-05-16"},{"$f":"[2]Tabulka!F132","v":"Fulnel- TJ"},{"$f":"[2]Tabulka!G132","v":"NJ"},{"$f":"[2]Tabulka!H132","v":100},{"$f":"+[2]Tabulka!AU132","v":0},{"$f":"+[2]Tabulka!AV132","v":{"v":0,"d":"0.00"}},{"$f":"+[2]Tabulka!AW132","v":0},{"$f":"+[2]Tabulka!AX132","v":{"v":0,"d":"0.00"}},{"$f":"+[2]Tabulka!AY132","v":0},{"$f":"+[2]Tabulka!AZ132","v":{"v":0,"d":"0.00"}},{"$f":"+[2]Tabulka!BA132","v":0},{"$f":"+[2]Tabulka!BB132","v":{"v":0,"d":"0.00"}},{"$f":"+[2]Tabulka!BC132","v":0},{"$f":"+[2]Tabulka!BD132","v":{"v":0,"d":"0.00"}},{"$f":"+[2]Tabulka!BE132","v":0},{"$f":"+[2]Tabulka!BF132","v":{"v":0,"d":"0.00"}},{"$f":"+[2]Tabulka!BG132","v":0},{"$f":"+[2]Tabulka!BH132","v":{"v":0,"d":"0.00"}},{"$f":"+[2]Tabulka!BI132","v":0},{"$f":"+[2]Tabulka!BJ132","v":{"v":0,"d":"0.00"}},{"$f":"+[2]Tabulka!AP132","v":{"v":3.807853623901711,"d":"3.81"}},{"$f":"+[2]Tabulka!AQ132","v":{"v":2,"d":"2.00"}},{"$f":"+[2]Tabulka!BM132","v":{"v":0,"d":"0.00"}},{"$f":"+[2]Tabulka!BN132","v":0},{"$f":"+[2]Tabulka!BO132","v":{"v":0,"d":"0.00"}}]
[null,{"$f":"[2]Tabulka!C133","v":"DORAZIL"},{"$f":"[2]Tabulka!D133","v":"Ondřej"},{"$f":"[2]Tabulka!E133","v":"1995-06-28"},{"$f":"[2]Tabulka!F133","v":"Nový Jičín- TJ"},{"$f":"[2]Tabulka!G133","v":"NJ"},{"$f":"[2]Tabulka!H133","v":100},{"$f":"+[2]Tabulka!AU133","v":0},{"$f":"+[2]Tabulka!AV133","v":{"v":0,"d":"0.00"}},{"$f":"+[2]Tabulka!AW133","v":0},{"$f":"+[2]Tabulka!AX133","v":{"v":0,"d":"0.00"}},{"$f":"+[2]Tabulka!AY133","v":0},{"$f":"+[2]Tabulka!AZ133","v":{"v":0,"d":"0.00"}},{"$f":"+[2]Tabulka!BA133","v":0},{"$f":"+[2]Tabulka!BB133","v":{"v":0,"d":"0.00"}},{"$f":"+[2]Tabulka!BC133","v":0},{"$f":"+[2]Tabulka!BD133","v":{"v":0,"d":"0.00"}},{"$f":"+[2]Tabulka!BE133","v":0},{"$f":"+[2]Tabulka!BF133","v":{"v":0,"d":"0.00"}},{"$f":"+[2]Tabulka!BG133","v":0},{"$f":"+[2]Tabulka!BH133","v":{"v":0,"d":"0.00"}},{"$f":"+[2]Tabulka!BI133","v":0},{"$f":"+[2]Tabulka!BJ133","v":{"v":0,"d":"0.00"}},{"$f":"+[2]Tabulka!AP133","v":{"v":0,"d":"0.00"}},{"$f":"+[2]Tabulka!AQ133","v":{"v":0,"d":"0.00"}},{"$f":"+[2]Tabulka!BM133","v":{"v":0,"d":"0.00"}},{"$f":"+[2]Tabulka!BN133","v":0},{"$f":"+[2]Tabulka!BO133","v":{"v":0,"d":"0.00"}}]
[null,{"$f":"[2]Tabulka!C134","v":"DUDYS"},{"$f":"[2]Tabulka!D134","v":"Dominik"},{"$f":"[2]Tabulka!E134","v":"2001-09-28"},{"$f":"[2]Tabulka!F134","v":"Třinec- TŽ TJ"},{"$f":"[2]Tabulka!G134","v":"FM"},{"$f":"[2]Tabulka!H134","v":100},{"$f":"+[2]Tabulka!AU134","v":0},{"$f":"+[2]Tabulka!AV134","v":{"v":0,"d":"0.00"}},{"$f":"+[2]Tabulka!AW134","v":0},{"$f":"+[2]Tabulka!AX134","v":{"v":0,"d":"0.00"}},{"$f":"+[2]Tabulka!AY134","v":0},{"$f":"+[2]Tabulka!AZ134","v":{"v":0,"d":"0.00"}},{"$f":"+[2]Tabulka!BA134","v":0},{"$f":"+[2]Tabulka!BB134","v":{"v":0,"d":"0.00"}},{"$f":"+[2]Tabulka!BC134","v":0},{"$f":"+[2]Tabulka!BD134","v":{"v":0,"d":"0.00"}},{"$f":"+[2]Tabulka!BE134","v":0},{"$f":"+[2]Tabulka!BF134","v":{"v":0,"d":"0.00"}},{"$f":"+[2]Tabulka!BG134","v":0},{"$f":"+[2]Tabulka!BH134","v":{"v":0,"d":"0.00"}},{"$f":"+[2]Tabulka!BI134","v":0},{"$f":"+[2]Tabulka!BJ134","v":{"v":0,"d":"0.00"}},{"$f":"+[2]Tabulka!AP134","v":{"v":0,"d":"0.00"}},{"$f":"+[2]Tabulka!AQ134","v":{"v":0,"d":"0.00"}},{"$f":"+[2]Tabulka!BM134","v":{"v":0,"d":"0.00"}},{"$f":"+[2]Tabulka!BN134","v":0},{"$f":"+[2]Tabulka!BO134","v":{"v":0,"d":"0.00"}}]
[null,{"$f":"[2]Tabulka!C135","v":"DVORSKÝ"},{"$f":"[2]Tabulka!D135","v":"Štěpán"},{"$f":"[2]Tabulka!E135","v":"2000-05-04"},{"$f":"[2]Tabulka!F135","v":"Frýdlant nad Ostravicí- SK"},{"$f":"[2]Tabulka!G135","v":"FM"},{"$f":"[2]Tabulka!H135","v":100},{"$f":"+[2]Tabulka!AU135","v":0},{"$f":"+[2]Tabulka!AV135","v":{"v":0,"d":"0.00"}},{"$f":"+[2]Tabulka!AW135","v":0},{"$f":"+[2]Tabulka!AX135","v":{"v":0,"d":"0.00"}},{"$f":"+[2]Tabulka!AY135","v":0},{"$f":"+[2]Tabulka!AZ135","v":{"v":0,"d":"0.00"}},{"$f":"+[2]Tabulka!BA135","v":0},{"$f":"+[2]Tabulka!BB135","v":{"v":0,"d":"0.00"}},{"$f":"+[2]Tabulka!BC135","v":0},{"$f":"+[2]Tabulka!BD135","v":{"v":0,"d":"0.00"}},{"$f":"+[2]Tabulka!BE135","v":0},{"$f":"+[2]Tabulka!BF135","v":{"v":0,"d":"0.00"}},{"$f":"+[2]Tabulka!BG135","v":0},{"$f":"+[2]Tabulka!BH135","v":{"v":0,"d":"0.00"}},{"$f":"+[2]Tabulka!BI135","v":0},{"$f":"+[2]Tabulka!BJ135","v":{"v":0,"d":"0.00"}},{"$f":"+[2]Tabulka!AP135","v":{"v":0,"d":"0.00"}},{"$f":"+[2]Tabulka!AQ135","v":{"v":0,"d":"0.00"}},{"$f":"+[2]Tabulka!BM135","v":{"v":0,"d":"0.00"}},{"$f":"+[2]Tabulka!BN135","v":0},{"$f":"+[2]Tabulka!BO135","v":{"v":0,"d":"0.00"}}]
[null,{"$f":"[2]Tabulka!C136","v":"DZIDA"},{"$f":"[2]Tabulka!D136","v":"Martin"},{"$f":"[2]Tabulka!E136","v":"2001-06-14"},{"$f":"[2]Tabulka!F136","v":"Opava- KST Slezan "},{"$f":"[2]Tabulka!G136","v":"OP"},{"$f":"[2]Tabulka!H136","v":100},{"$f":"+[2]Tabulka!AU136","v":0},{"$f":"+[2]Tabulka!AV136","v":{"v":0,"d":"0.00"}},{"$f":"+[2]Tabulka!AW136","v":0},{"$f":"+[2]Tabulka!AX136","v":{"v":0,"d":"0.00"}},{"$f":"+[2]Tabulka!AY136","v":0},{"$f":"+[2]Tabulka!AZ136","v":{"v":0,"d":"0.00"}},{"$f":"+[2]Tabulka!BA136","v":0},{"$f":"+[2]Tabulka!BB136","v":{"v":0,"d":"0.00"}},{"$f":"+[2]Tabulka!BC136","v":0},{"$f":"+[2]Tabulka!BD136","v":{"v":0,"d":"0.00"}},{"$f":"+[2]Tabulka!BE136","v":0},{"$f":"+[2]Tabulka!BF136","v":{"v":0,"d":"0.00"}},{"$f":"+[2]Tabulka!BG136","v":0},{"$f":"+[2]Tabulka!BH136","v":{"v":0,"d":"0.00"}},{"$f":"+[2]Tabulka!BI136","v":0},{"$f":"+[2]Tabulka!BJ136","v":{"v":0,"d":"0.00"}},{"$f":"+[2]Tabulka!AP136","v":{"v":2.2050406637231807,"d":"2.21"}},{"$f":"+[2]Tabulka!AQ136","v":{"v":3,"d":"3.00"}},{"$f":"+[2]Tabulka!BM136","v":{"v":0,"d":"0.00"}},{"$f":"+[2]Tabulka!BN136","v":0},{"$f":"+[2]Tabulka!BO136","v":{"v":0,"d":"0.00"}}]
[null,{"$f":"[2]Tabulka!C137","v":"FEŠAR"},{"$f":"[2]Tabulka!D137","v":"Tom "},{"$f":"[2]Tabulka!E137","v":"1999-09-09"},{"$f":"[2]Tabulka!F137","v":"Frenštát pod Radhoštěm- TJ"},{"$f":"[2]Tabulka!G137","v":"NJ"},{"$f":"[2]Tabulka!H137","v":100},{"$f":"+[2]Tabulka!AU137","v":0},{"$f":"+[2]Tabulka!AV137","v":{"v":0,"d":"0.00"}},{"$f":"+[2]Tabulka!AW137","v":0},{"$f":"+[2]Tabulka!AX137","v":{"v":0,"d":"0.00"}},{"$f":"+[2]Tabulka!AY137","v":0},{"$f":"+[2]Tabulka!AZ137","v":{"v":0,"d":"0.00"}},{"$f":"+[2]Tabulka!BA137","v":0},{"$f":"+[2]Tabulka!BB137","v":{"v":0,"d":"0.00"}},{"$f":"+[2]Tabulka!BC137","v":0},{"$f":"+[2]Tabulka!BD137","v":{"v":0,"d":"0.00"}},{"$f":"+[2]Tabulka!BE137","v":0},{"$f":"+[2]Tabulka!BF137","v":{"v":0,"d":"0.00"}},{"$f":"+[2]Tabulka!BG137","v":0},{"$f":"+[2]Tabulka!BH137","v":{"v":0,"d":"0.00"}},{"$f":"+[2]Tabulka!BI137","v":0},{"$f":"+[2]Tabulka!BJ137","v":{"v":0,"d":"0.00"}},{"$f":"+[2]Tabulka!AP137","v":{"v":3.7760576847500382,"d":"3.78"}},{"$f":"+[2]Tabulka!AQ137","v":{"v":4,"d":"4.00"}},{"$f":"+[2]Tabulka!BM137","v":{"v":0,"d":"0.00"}},{"$f":"+[2]Tabulka!BN137","v":0},{"$f":"+[2]Tabulka!BO137","v":{"v":0,"d":"0.00"}}]
[null,{"$f":"[2]Tabulka!C138","v":"FREJVOLT"},{"$f":"[2]Tabulka!D138","v":"Dominik"},{"$f":"[2]Tabulka!E138","v":"1995-05-24"},{"$f":"[2]Tabulka!F138","v":"Orlová- Siko TTC"},{"$f":"[2]Tabulka!G138","v":"KA"},{"$f":"[2]Tabulka!H138","v":100},{"$f":"+[2]Tabulka!AU138","v":0},{"$f":"+[2]Tabulka!AV138","v":{"v":0,"d":"0.00"}},{"$f":"+[2]Tabulka!AW138","v":0},{"$f":"+[2]Tabulka!AX138","v":{"v":0,"d":"0.00"}},{"$f":"+[2]Tabulka!AY138","v":0},{"$f":"+[2]Tabulka!AZ138","v":{"v":0,"d":"0.00"}},{"$f":"+[2]Tabulka!BA138","v":0},{"$f":"+[2]Tabulka!BB138","v":{"v":0,"d":"0.00"}},{"$f":"+[2]Tabulka!BC138","v":0},{"$f":"+[2]Tabulka!BD138","v":{"v":0,"d":"0.00"}},{"$f":"+[2]Tabulka!BE138","v":0},{"$f":"+[2]Tabulka!BF138","v":{"v":0,"d":"0.00"}},{"$f":"+[2]Tabulka!BG138","v":0},{"$f":"+[2]Tabulka!BH138","v":{"v":0,"d":"0.00"}},{"$f":"+[2]Tabulka!BI138","v":0},{"$f":"+[2]Tabulka!BJ138","v":{"v":0,"d":"0.00"}},{"$f":"+[2]Tabulka!AP138","v":{"v":0,"d":"0.00"}},{"$f":"+[2]Tabulka!AQ138","v":{"v":0,"d":"0.00"}},{"$f":"+[2]Tabulka!BM138","v":{"v":0,"d":"0.00"}},{"$f":"+[2]Tabulka!BN138","v":0},{"$f":"+[2]Tabulka!BO138","v":{"v":0,"d":"0.00"}}]
[null,{"$f":"[2]Tabulka!C139","v":"FRIEDEL"},{"$f":"[2]Tabulka!D139","v":"Petr"},{"$f":"[2]Tabulka!E139","v":"1999-09-06"},{"$f":"[2]Tabulka!F139","v":"Karviná- KLUBsten KST"},{"$f":"[2]Tabulka!G139","v":"KA"},{"$f":"[2]Tabulka!H139","v":100},{"$f":"+[2]Tabulka!AU139","v":0},{"$f":"+[2]Tabulka!AV139","v":{"v":0,"d":"0.00"}},{"$f":"+[2]Tabulka!AW139","v":0},{"$f":"+[2]Tabulka!AX139","v":{"v":0,"d":"0.00"}},{"$f":"+[2]Tabulka!AY139","v":0},{"$f":"+[2]Tabulka!AZ139","v":{"v":0,"d":"0.00"}},{"$f":"+[2]Tabulka!BA139","v":0},{"$f":"+[2]Tabulka!BB139","v":{"v":0,"d":"0.00"}},{"$f":"+[2]Tabulka!BC139","v":0},{"$f":"+[2]Tabulka!BD139","v":{"v":0,"d":"0.00"}},{"$f":"+[2]Tabulka!BE139","v":0},{"$f":"+[2]Tabulka!BF139","v":{"v":0,"d":"0.00"}},{"$f":"+[2]Tabulka!BG139","v":0},{"$f":"+[2]Tabulka!BH139","v":{"v":0,"d":"0.00"}},{"$f":"+[2]Tabulka!BI139","v":0},{"$f":"+[2]Tabulka!BJ139","v":{"v":0,"d":"0.00"}},{"$f":"+[2]Tabulka!AP139","v":{"v":1.119359589980833,"d":"1.12"}},{"$f":"+[2]Tabulka!AQ139","v":{"v":2,"d":"2.00"}},{"$f":"+[2]Tabulka!BM139","v":{"v":0,"d":"0.00"}},{"$f":"+[2]Tabulka!BN139","v":0},{"$f":"+[2]Tabulka!BO139","v":{"v":0,"d":"0.00"}}]
[null,{"$f":"[2]Tabulka!C140","v":"GALIA"},{"$f":"[2]Tabulka!D140","v":"Vojtěch"},{"$f":"[2]Tabulka!E140","v":"1997-01-01"},{"$f":"[2]Tabulka!F140","v":"Vratimov- MG Odra Gas TTC"},{"$f":"[2]Tabulka!G140","v":"OV"},{"$f":"[2]Tabulka!H140","v":0},{"$f":"+[2]Tabulka!AU140","v":0},{"$f":"+[2]Tabulka!AV140","v":{"v":0,"d":"0.00"}},{"$f":"+[2]Tabulka!AW140","v":0},{"$f":"+[2]Tabulka!AX140","v":{"v":0,"d":"0.00"}},{"$f":"+[2]Tabulka!AY140","v":0},{"$f":"+[2]Tabulka!AZ140","v":{"v":0,"d":"0.00"}},{"$f":"+[2]Tabulka!BA140","v":0},{"$f":"+[2]Tabulka!BB140","v":{"v":0,"d":"0.00"}},{"$f":"+[2]Tabulka!BC140","v":0},{"$f":"+[2]Tabulka!BD140","v":{"v":0,"d":"0.00"}},{"$f":"+[2]Tabulka!BE140","v":0},{"$f":"+[2]Tabulka!BF140","v":{"v":0,"d":"0.00"}},{"$f":"+[2]Tabulka!BG140","v":0},{"$f":"+[2]Tabulka!BH140","v":{"v":0,"d":"0.00"}},{"$f":"+[2]Tabulka!BI140","v":0},{"$f":"+[2]Tabulka!BJ140","v":{"v":0,"d":"0.00"}},{"$f":"+[2]Tabulka!AP140","v":{"v":0,"d":"0.00"}},{"$f":"+[2]Tabulka!AQ140","v":{"v":0,"d":"0.00"}},{"$f":"+[2]Tabulka!BM140","v":{"v":0,"d":"0.00"}},{"$f":"+[2]Tabulka!BN140","v":0},{"$f":"+[2]Tabulka!BO140","v":{"v":0,"d":"0.00"}}]
[null,{"$f":"[2]Tabulka!C141","v":"GLOS"},{"$f":"[2]Tabulka!D141","v":"Tomáš"},{"$f":"[2]Tabulka!E141","v":"1996-10-15"},{"$f":"[2]Tabulka!F141","v":"Třinec- TŽ TJ"},{"$f":"[2]Tabulka!G141","v":"FM"},{"$f":"[2]Tabulka!H141","v":100},{"$f":"+[2]Tabulka!AU141","v":0},{"$f":"+[2]Tabulka!AV141","v":{"v":0,"d":"0.00"}},{"$f":"+[2]Tabulka!AW141","v":0},{"$f":"+[2]Tabulka!AX141","v":{"v":0,"d":"0.00"}},{"$f":"+[2]Tabulka!AY141","v":0},{"$f":"+[2]Tabulka!AZ141","v":{"v":0,"d":"0.00"}},{"$f":"+[2]Tabulka!BA141","v":0},{"$f":"+[2]Tabulka!BB141","v":{"v":0,"d":"0.00"}},{"$f":"+[2]Tabulka!BC141","v":0},{"$f":"+[2]Tabulka!BD141","v":{"v":0,"d":"0.00"}},{"$f":"+[2]Tabulka!BE141","v":0},{"$f":"+[2]Tabulka!BF141","v":{"v":0,"d":"0.00"}},{"$f":"+[2]Tabulka!BG141","v":0},{"$f":"+[2]Tabulka!BH141","v":{"v":0,"d":"0.00"}},{"$f":"+[2]Tabulka!BI141","v":0},{"$f":"+[2]Tabulka!BJ141","v":{"v":0,"d":"0.00"}},{"$f":"+[2]Tabulka!AP141","v":{"v":45.22437811127093,"d":"45.22"}},{"$f":"+[2]Tabulka!AQ141","v":{"v":3,"d":"3.00"}},{"$f":"+[2]Tabulka!BM141","v":{"v":0,"d":"0.00"}},{"$f":"+[2]Tabulka!BN141","v":0},{"$f":"+[2]Tabulka!BO141","v":{"v":0,"d":"0.00"}}]
[null,{"$f":"[2]Tabulka!C142","v":"GLOS"},{"$f":"[2]Tabulka!D142","v":"Michal"},{"$f":"[2]Tabulka!E142","v":"1999-06-08"},{"$f":"[2]Tabulka!F142","v":"Třinec- TŽ TJ"},{"$f":"[2]Tabulka!G142","v":"FM"},{"$f":"[2]Tabulka!H142","v":100},{"$f":"+[2]Tabulka!AU142","v":0},{"$f":"+[2]Tabulka!AV142","v":{"v":0,"d":"0.00"}},{"$f":"+[2]Tabulka!AW142","v":0},{"$f":"+[2]Tabulka!AX142","v":{"v":0,"d":"0.00"}},{"$f":"+[2]Tabulka!AY142","v":0},{"$f":"+[2]Tabulka!AZ142","v":{"v":0,"d":"0.00"}},{"$f":"+[2]Tabulka!BA142","v":0},{"$f":"+[2]Tabulka!BB142","v":{"v":0,"d":"0.00"}},{"$f":"+[2]Tabulka!BC142","v":0},{"$f":"+[2]Tabulka!BD142","v":{"v":0,"d":"0.00"}},{"$f":"+[2]Tabulka!BE142","v":0},{"$f":"+[2]Tabulka!BF142","v":{"v":0,"d":"0.00"}},{"$f":"+[2]Tabulka!BG142","v":0},{"$f":"+[2]Tabulka!BH142","v":{"v":0,"d":"0.00"}},{"$f":"+[2]Tabulka!BI142","v":0},{"$f":"+[2]Tabulka!BJ142","v":{"v":0,"d":"0.00"}},{"$f":"+[2]Tabulka!AP142","v":{"v":33.63053712849363,"d":"33.63"}},{"$f":"+[2]Tabulka!AQ142","v":{"v":3,"d":"3.00"}},{"$f":"+[2]Tabulka!BM142","v":{"v":0,"d":"0.00"}},{"$f":"+[2]Tabulka!BN142","v":0},{"$f":"+[2]Tabulka!BO142","v":{"v":0,"d":"0.00"}}]
[null,{"$f":"[2]Tabulka!C143","v":"GOLASOWSKI"},{"$f":"[2]Tabulka!D143","v":"Tomáš"},{"$f":"[2]Tabulka!E143","v":"1997-06-24"},{"$f":"[2]Tabulka!F143","v":"Karviná- KLUBsten KST"},{"$f":"[2]Tabulka!G143","v":"KA"},{"$f":"[2]Tabulka!H143","v":100},{"$f":"+[2]Tabulka!AU143","v":0},{"$f":"+[2]Tabulka!AV143","v":{"v":0,"d":"0.00"}},{"$f":"+[2]Tabulka!AW143","v":0},{"$f":"+[2]Tabulka!AX143","v":{"v":0,"d":"0.00"}},{"$f":"+[2]Tabulka!AY143","v":0},{"$f":"+[2]Tabulka!AZ143","v":{"v":0,"d":"0.00"}},{"$f":"+[2]Tabulka!BA143","v":0},{"$f":"+[2]Tabulka!BB143","v":{"v":0,"d":"0.00"}},{"$f":"+[2]Tabulka!BC143","v":0},{"$f":"+[2]Tabulka!BD143","v":{"v":0,"d":"0.00"}},{"$f":"+[2]Tabulka!BE143","v":0},{"$f":"+[2]Tabulka!BF143","v":{"v":0,"d":"0.00"}},{"$f":"+[2]Tabulka!BG143","v":0},{"$f":"+[2]Tabulka!BH143","v":{"v":0,"d":"0.00"}},{"$f":"+[2]Tabulka!BI143","v":0},{"$f":"+[2]Tabulka!BJ143","v":{"v":0,"d":"0.00"}},{"$f":"+[2]Tabulka!AP143","v":{"v":0,"d":"0.00"}},{"$f":"+[2]Tabulka!AQ143","v":{"v":0,"d":"0.00"}},{"$f":"+[2]Tabulka!BM143","v":{"v":0,"d":"0.00"}},{"$f":"+[2]Tabulka!BN143","v":0},{"$f":"+[2]Tabulka!BO143","v":{"v":0,"d":"0.00"}}]
[null,{"$f":"[2]Tabulka!C144","v":"GROMNICA"},{"$f":"[2]Tabulka!D144","v":"Václav"},{"$f":"[2]Tabulka!E144","v":"1996-03-31"},{"$f":"[2]Tabulka!F144","v":"Brušperk- Sokol TJ"},{"$f":"[2]Tabulka!G144","v":"FM"},{"$f":"[2]Tabulka!H144","v":100},{"$f":"+[2]Tabulka!AU144","v":0},{"$f":"+[2]Tabulka!AV144","v":{"v":0,"d":"0.00"}},{"$f":"+[2]Tabulka!AW144","v":0},{"$f":"+[2]Tabulka!AX144","v":{"v":0,"d":"0.00"}},{"$f":"+[2]Tabulka!AY144","v":0},{"$f":"+[2]Tabulka!AZ144","v":{"v":0,"d":"0.00"}},{"$f":"+[2]Tabulka!BA144","v":0},{"$f":"+[2]Tabulka!BB144","v":{"v":0,"d":"0.00"}},{"$f":"+[2]Tabulka!BC144","v":0},{"$f":"+[2]Tabulka!BD144","v":{"v":0,"d":"0.00"}},{"$f":"+[2]Tabulka!BE144","v":0},{"$f":"+[2]Tabulka!BF144","v":{"v":0,"d":"0.00"}},{"$f":"+[2]Tabulka!BG144","v":0},{"$f":"+[2]Tabulka!BH144","v":{"v":0,"d":"0.00"}},{"$f":"+[2]Tabulka!BI144","v":0},{"$f":"+[2]Tabulka!BJ144","v":{"v":0,"d":"0.00"}},{"$f":"+[2]Tabulka!AP144","v":{"v":7.624056503420937,"d":"7.62"}},{"$f":"+[2]Tabulka!AQ144","v":{"v":3,"d":"3.00"}},{"$f":"+[2]Tabulka!BM144","v":{"v":0,"d":"0.00"}},{"$f":"+[2]Tabulka!BN144","v":0},{"$f":"+[2]Tabulka!BO144","v":{"v":0,"d":"0.00"}}]
[null,{"$f":"[2]Tabulka!C145","v":"HANÁK"},{"$f":"[2]Tabulka!D145","v":"Vojtěch"},{"$f":"[2]Tabulka!E145","v":"2000-03-08"},{"$f":"[2]Tabulka!F145","v":"Havířov- Baník SKST"},{"$f":"[2]Tabulka!G145","v":"KA"},{"$f":"[2]Tabulka!H145","v":100},{"$f":"+[2]Tabulka!AU145","v":0},{"$f":"+[2]Tabulka!AV145","v":{"v":0,"d":"0.00"}},{"$f":"+[2]Tabulka!AW145","v":0},{"$f":"+[2]Tabulka!AX145","v":{"v":0,"d":"0.00"}},{"$f":"+[2]Tabulka!AY145","v":0},{"$f":"+[2]Tabulka!AZ145","v":{"v":0,"d":"0.00"}},{"$f":"+[2]Tabulka!BA145","v":0},{"$f":"+[2]Tabulka!BB145","v":{"v":0,"d":"0.00"}},{"$f":"+[2]Tabulka!BC145","v":0},{"$f":"+[2]Tabulka!BD145","v":{"v":0,"d":"0.00"}},{"$f":"+[2]Tabulka!BE145","v":0},{"$f":"+[2]Tabulka!BF145","v":{"v":0,"d":"0.00"}},{"$f":"+[2]Tabulka!BG145","v":0},{"$f":"+[2]Tabulka!BH145","v":{"v":0,"d":"0.00"}},{"$f":"+[2]Tabulka!BI145","v":0},{"$f":"+[2]Tabulka!BJ145","v":{"v":0,"d":"0.00"}},{"$f":"+[2]Tabulka!AP145","v":{"v":0.4157557276132286,"d":"0.42"}},{"$f":"+[2]Tabulka!AQ145","v":{"v":2,"d":"2.00"}},{"$f":"+[2]Tabulka!BM145","v":{"v":0,"d":"0.00"}},{"$f":"+[2]Tabulka!BN145","v":0},{"$f":"+[2]Tabulka!BO145","v":{"v":0,"d":"0.00"}}]
[null,{"$f":"[2]Tabulka!C146","v":"HANZELKA"},{"$f":"[2]Tabulka!D146","v":"Tomáš"},{"$f":"[2]Tabulka!E146","v":"1997-12-24"},{"$f":"[2]Tabulka!F146","v":"Nový Jičín- TJ"},{"$f":"[2]Tabulka!G146","v":"NJ"},{"$f":"[2]Tabulka!H146","v":100},{"$f":"+[2]Tabulka!AU146","v":0},{"$f":"+[2]Tabulka!AV146","v":{"v":0,"d":"0.00"}},{"$f":"+[2]Tabulka!AW146","v":0},{"$f":"+[2]Tabulka!AX146","v":{"v":0,"d":"0.00"}},{"$f":"+[2]Tabulka!AY146","v":0},{"$f":"+[2]Tabulka!AZ146","v":{"v":0,"d":"0.00"}},{"$f":"+[2]Tabulka!BA146","v":0},{"$f":"+[2]Tabulka!BB146","v":{"v":0,"d":"0.00"}},{"$f":"+[2]Tabulka!BC146","v":0},{"$f":"+[2]Tabulka!BD146","v":{"v":0,"d":"0.00"}},{"$f":"+[2]Tabulka!BE146","v":0},{"$f":"+[2]Tabulka!BF146","v":{"v":0,"d":"0.00"}},{"$f":"+[2]Tabulka!BG146","v":0},{"$f":"+[2]Tabulka!BH146","v":{"v":0,"d":"0.00"}},{"$f":"+[2]Tabulka!BI146","v":0},{"$f":"+[2]Tabulka!BJ146","v":{"v":0,"d":"0.00"}},{"$f":"+[2]Tabulka!AP146","v":{"v":4.058342212675132,"d":"4.06"}},{"$f":"+[2]Tabulka!AQ146","v":{"v":4,"d":"4.00"}},{"$f":"+[2]Tabulka!BM146","v":{"v":0,"d":"0.00"}},{"$f":"+[2]Tabulka!BN146","v":0},{"$f":"+[2]Tabulka!BO146","v":{"v":0,"d":"0.00"}}]
[null,{"$f":"[2]Tabulka!C147","v":"HEREC"},{"$f":"[2]Tabulka!D147","v":"Lukáš"},{"$f":"[2]Tabulka!E147","v":"2000-02-24"},{"$f":"[2]Tabulka!F147","v":"Malenovice- BSK"},{"$f":"[2]Tabulka!G147","v":"FM"},{"$f":"[2]Tabulka!H147","v":100},{"$f":"+[2]Tabulka!AU147","v":0},{"$f":"+[2]Tabulka!AV147","v":{"v":0,"d":"0.00"}},{"$f":"+[2]Tabulka!AW147","v":0},{"$f":"+[2]Tabulka!AX147","v":{"v":0,"d":"0.00"}},{"$f":"+[2]Tabulka!AY147","v":0},{"$f":"+[2]Tabulka!AZ147","v":{"v":0,"d":"0.00"}},{"$f":"+[2]Tabulka!BA147","v":0},{"$f":"+[2]Tabulka!BB147","v":{"v":0,"d":"0.00"}},{"$f":"+[2]Tabulka!BC147","v":0},{"$f":"+[2]Tabulka!BD147","v":{"v":0,"d":"0.00"}},{"$f":"+[2]Tabulka!BE147","v":0},{"$f":"+[2]Tabulka!BF147","v":{"v":0,"d":"0.00"}},{"$f":"+[2]Tabulka!BG147","v":0},{"$f":"+[2]Tabulka!BH147","v":{"v":0,"d":"0.00"}},{"$f":"+[2]Tabulka!BI147","v":0},{"$f":"+[2]Tabulka!BJ147","v":{"v":0,"d":"0.00"}},{"$f":"+[2]Tabulka!AP147","v":{"v":8.305944506499046,"d":"8.31"}},{"$f":"+[2]Tabulka!AQ147","v":{"v":3,"d":"3.00"}},{"$f":"+[2]Tabulka!BM147","v":{"v":0,"d":"0.00"}},{"$f":"+[2]Tabulka!BN147","v":0},{"$f":"+[2]Tabulka!BO147","v":{"v":0,"d":"0.00"}}]
[null,{"$f":"[2]Tabulka!C148","v":"HOLEČEK"},{"$f":"[2]Tabulka!D148","v":"Lukáš"},{"$f":"[2]Tabulka!E148","v":"2001-10-05"},{"$f":"[2]Tabulka!F148","v":"Frenštát pod Radhoštěm- TJ"},{"$f":"[2]Tabulka!G148","v":"NJ"},{"$f":"[2]Tabulka!H148","v":100},{"$f":"+[2]Tabulka!AU148","v":0},{"$f":"+[2]Tabulka!AV148","v":{"v":0,"d":"0.00"}},{"$f":"+[2]Tabulka!AW148","v":0},{"$f":"+[2]Tabulka!AX148","v":{"v":0,"d":"0.00"}},{"$f":"+[2]Tabulka!AY148","v":0},{"$f":"+[2]Tabulka!AZ148","v":{"v":0,"d":"0.00"}},{"$f":"+[2]Tabulka!BA148","v":0},{"$f":"+[2]Tabulka!BB148","v":{"v":0,"d":"0.00"}},{"$f":"+[2]Tabulka!BC148","v":0},{"$f":"+[2]Tabulka!BD148","v":{"v":0,"d":"0.00"}},{"$f":"+[2]Tabulka!BE148","v":0},{"$f":"+[2]Tabulka!BF148","v":{"v":0,"d":"0.00"}},{"$f":"+[2]Tabulka!BG148","v":0},{"$f":"+[2]Tabulka!BH148","v":{"v":0,"d":"0.00"}},{"$f":"+[2]Tabulka!BI148","v":0},{"$f":"+[2]Tabulka!BJ148","v":{"v":0,"d":"0.00"}},{"$f":"+[2]Tabulka!AP148","v":{"v":0.04013167980230117,"d":"0.04"}},{"$f":"+[2]Tabulka!AQ148","v":{"v":1,"d":"1.00"}},{"$f":"+[2]Tabulka!BM148","v":{"v":0,"d":"0.00"}},{"$f":"+[2]Tabulka!BN148","v":0},{"$f":"+[2]Tabulka!BO148","v":{"v":0,"d":"0.00"}}]
[null,{"$f":"[2]Tabulka!C149","v":"HOMOLA"},{"$f":"[2]Tabulka!D149","v":"Ondřej"},{"$f":"[2]Tabulka!E149","v":"1999-01-03"},{"$f":"[2]Tabulka!F149","v":"Brušperk- Sokol TJ"},{"$f":"[2]Tabulka!G149","v":"FM"},{"$f":"[2]Tabulka!H149","v":100},{"$f":"+[2]Tabulka!AU149","v":0},{"$f":"+[2]Tabulka!AV149","v":{"v":0,"d":"0.00"}},{"$f":"+[2]Tabulka!AW149","v":0},{"$f":"+[2]Tabulka!AX149","v":{"v":0,"d":"0.00"}},{"$f":"+[2]Tabulka!AY149","v":0},{"$f":"+[2]Tabulka!AZ149","v":{"v":0,"d":"0.00"}},{"$f":"+[2]Tabulka!BA149","v":0},{"$f":"+[2]Tabulka!BB149","v":{"v":0,"d":"0.00"}},{"$f":"+[2]Tabulka!BC149","v":0},{"$f":"+[2]Tabulka!BD149","v":{"v":0,"d":"0.00"}},{"$f":"+[2]Tabulka!BE149","v":0},{"$f":"+[2]Tabulka!BF149","v":{"v":0,"d":"0.00"}},{"$f":"+[2]Tabulka!BG149","v":0},{"$f":"+[2]Tabulka!BH149","v":{"v":0,"d":"0.00"}},{"$f":"+[2]Tabulka!BI149","v":0},{"$f":"+[2]Tabulka!BJ149","v":{"v":0,"d":"0.00"}},{"$f":"+[2]Tabulka!AP149","v":{"v":2.3751445877227324,"d":"2.38"}},{"$f":"+[2]Tabulka!AQ149","v":{"v":2,"d":"2.00"}},{"$f":"+[2]Tabulka!BM149","v":{"v":0,"d":"0.00"}},{"$f":"+[2]Tabulka!BN149","v":0},{"$f":"+[2]Tabulka!BO149","v":{"v":0,"d":"0.00"}}]
[null,{"$f":"[2]Tabulka!C150","v":"HRABCOVÁ"},{"$f":"[2]Tabulka!D150","v":"Anna"},{"$f":"[2]Tabulka!E150","v":"2001-11-27"},{"$f":"[2]Tabulka!F150","v":"Frýdlant nad Ostravicí- SK"},{"$f":"[2]Tabulka!G150","v":"FM"},{"$f":"[2]Tabulka!H150","v":100},{"$f":"+[2]Tabulka!AU150","v":0},{"$f":"+[2]Tabulka!AV150","v":{"v":0,"d":"0.00"}},{"$f":"+[2]Tabulka!AW150","v":0},{"$f":"+[2]Tabulka!AX150","v":{"v":0,"d":"0.00"}},{"$f":"+[2]Tabulka!AY150","v":0},{"$f":"+[2]Tabulka!AZ150","v":{"v":0,"d":"0.00"}},{"$f":"+[2]Tabulka!BA150","v":0},{"$f":"+[2]Tabulka!BB150","v":{"v":0,"d":"0.00"}},{"$f":"+[2]Tabulka!BC150","v":0},{"$f":"+[2]Tabulka!BD150","v":{"v":0,"d":"0.00"}},{"$f":"+[2]Tabulka!BE150","v":0},{"$f":"+[2]Tabulka!BF150","v":{"v":0,"d":"0.00"}},{"$f":"+[2]Tabulka!BG150","v":0},{"$f":"+[2]Tabulka!BH150","v":{"v":0,"d":"0.00"}},{"$f":"+[2]Tabulka!BI150","v":0},{"$f":"+[2]Tabulka!BJ150","v":{"v":0,"d":"0.00"}},{"$f":"+[2]Tabulka!AP150","v":{"v":0.7753951457183117,"d":"0.78"}},{"$f":"+[2]Tabulka!AQ150","v":{"v":2,"d":"2.00"}},{"$f":"+[2]Tabulka!BM150","v":{"v":0,"d":"0.00"}},{"$f":"+[2]Tabulka!BN150","v":0},{"$f":"+[2]Tabulka!BO150","v":{"v":0,"d":"0.00"}}]
[null,{"$f":"[2]Tabulka!C151","v":"HRUDOVÁ"},{"$f":"[2]Tabulka!D151","v":"Eliška"},{"$f":"[2]Tabulka!E151","v":"1996-05-16"},{"$f":"[2]Tabulka!F151","v":"Frýdlant nad Ostravicí- SK"},{"$f":"[2]Tabulka!G151","v":"FM"},{"$f":"[2]Tabulka!H151","v":100},{"$f":"+[2]Tabulka!AU151","v":0},{"$f":"+[2]Tabulka!AV151","v":{"v":0,"d":"0.00"}},{"$f":"+[2]Tabulka!AW151","v":0},{"$f":"+[2]Tabulka!AX151","v":{"v":0,"d":"0.00"}},{"$f":"+[2]Tabulka!AY151","v":0},{"$f":"+[2]Tabulka!AZ151","v":{"v":0,"d":"0.00"}},{"$f":"+[2]Tabulka!BA151","v":0},{"$f":"+[2]Tabulka!BB151","v":{"v":0,"d":"0.00"}},{"$f":"+[2]Tabulka!BC151","v":0},{"$f":"+[2]Tabulka!BD151","v":{"v":0,"d":"0.00"}},{"$f":"+[2]Tabulka!BE151","v":0},{"$f":"+[2]Tabulka!BF151","v":{"v":0,"d":"0.00"}},{"$f":"+[2]Tabulka!BG151","v":0},{"$f":"+[2]Tabulka!BH151","v":{"v":0,"d":"0.00"}},{"$f":"+[2]Tabulka!BI151","v":0},{"$f":"+[2]Tabulka!BJ151","v":{"v":0,"d":"0.00"}},{"$f":"+[2]Tabulka!AP151","v":{"v":3.8894205623054554,"d":"3.89"}},{"$f":"+[2]Tabulka!AQ151","v":{"v":2,"d":"2.00"}},{"$f":"+[2]Tabulka!BM151","v":{"v":0,"d":"0.00"}},{"$f":"+[2]Tabulka!BN151","v":0},{"$f":"+[2]Tabulka!BO151","v":{"v":0,"d":"0.00"}}]
[null,{"$f":"[2]Tabulka!C152","v":"HUF"},{"$f":"[2]Tabulka!D152","v":"Matouš"},{"$f":"[2]Tabulka!E152","v":"1995-01-01"},{"$f":"[2]Tabulka!F152","v":"Brušperk- Sokol TJ"},{"$f":"[2]Tabulka!G152","v":"FM"},{"$f":"[2]Tabulka!H152","v":0},{"$f":"+[2]Tabulka!AU152","v":0},{"$f":"+[2]Tabulka!AV152","v":{"v":0,"d":"0.00"}},{"$f":"+[2]Tabulka!AW152","v":0},{"$f":"+[2]Tabulka!AX152","v":{"v":0,"d":"0.00"}},{"$f":"+[2]Tabulka!AY152","v":0},{"$f":"+[2]Tabulka!AZ152","v":{"v":0,"d":"0.00"}},{"$f":"+[2]Tabulka!BA152","v":0},{"$f":"+[2]Tabulka!BB152","v":{"v":0,"d":"0.00"}},{"$f":"+[2]Tabulka!BC152","v":0},{"$f":"+[2]Tabulka!BD152","v":{"v":0,"d":"0.00"}},{"$f":"+[2]Tabulka!BE152","v":0},{"$f":"+[2]Tabulka!BF152","v":{"v":0,"d":"0.00"}},{"$f":"+[2]Tabulka!BG152","v":0},{"$f":"+[2]Tabulka!BH152","v":{"v":0,"d":"0.00"}},{"$f":"+[2]Tabulka!BI152","v":0},{"$f":"+[2]Tabulka!BJ152","v":{"v":0,"d":"0.00"}},{"$f":"+[2]Tabulka!AP152","v":{"v":0,"d":"0.00"}},{"$f":"+[2]Tabulka!AQ152","v":{"v":0,"d":"0.00"}},{"$f":"+[2]Tabulka!BM152","v":{"v":0,"d":"0.00"}},{"$f":"+[2]Tabulka!BN152","v":0},{"$f":"+[2]Tabulka!BO152","v":{"v":0,"d":"0.00"}}]
[null,{"$f":"[2]Tabulka!C153","v":"JANÁSKOVÁ"},{"$f":"[2]Tabulka!D153","v":"Iva"},{"$f":"[2]Tabulka!E153","v":"1995-09-13"},{"$f":"[2]Tabulka!F153","v":"Ostrava- Mittal TJ"},{"$f":"[2]Tabulka!G153","v":"OV"},{"$f":"[2]Tabulka!H153","v":100},{"$f":"+[2]Tabulka!AU153","v":0},{"$f":"+[2]Tabulka!AV153","v":{"v":0,"d":"0.00"}},{"$f":"+[2]Tabulka!AW153","v":0},{"$f":"+[2]Tabulka!AX153","v":{"v":0,"d":"0.00"}},{"$f":"+[2]Tabulka!AY153","v":0},{"$f":"+[2]Tabulka!AZ153","v":{"v":0,"d":"0.00"}},{"$f":"+[2]Tabulka!BA153","v":0},{"$f":"+[2]Tabulka!BB153","v":{"v":0,"d":"0.00"}},{"$f":"+[2]Tabulka!BC153","v":0},{"$f":"+[2]Tabulka!BD153","v":{"v":0,"d":"0.00"}},{"$f":"+[2]Tabulka!BE153","v":0},{"$f":"+[2]Tabulka!BF153","v":{"v":0,"d":"0.00"}},{"$f":"+[2]Tabulka!BG153","v":0},{"$f":"+[2]Tabulka!BH153","v":{"v":0,"d":"0.00"}},{"$f":"+[2]Tabulka!BI153","v":0},{"$f":"+[2]Tabulka!BJ153","v":{"v":0,"d":"0.00"}},{"$f":"+[2]Tabulka!AP153","v":{"v":1.0174512884570597,"d":"1.02"}},{"$f":"+[2]Tabulka!AQ153","v":{"v":1,"d":"1.00"}},{"$f":"+[2]Tabulka!BM153","v":{"v":0,"d":"0.00"}},{"$f":"+[2]Tabulka!BN153","v":0},{"$f":"+[2]Tabulka!BO153","v":{"v":0,"d":"0.00"}}]
[null,{"$f":"[2]Tabulka!C154","v":"JEMELÍKOVÁ"},{"$f":"[2]Tabulka!D154","v":"Alice"},{"$f":"[2]Tabulka!E154","v":"1998-08-03"},{"$f":"[2]Tabulka!F154","v":"Frýdlant nad Ostravicí- SK"},{"$f":"[2]Tabulka!G154","v":"FM"},{"$f":"[2]Tabulka!H154","v":100},{"$f":"+[2]Tabulka!AU154","v":0},{"$f":"+[2]Tabulka!AV154","v":{"v":0,"d":"0.00"}},{"$f":"+[2]Tabulka!AW154","v":0},{"$f":"+[2]Tabulka!AX154","v":{"v":0,"d":"0.00"}},{"$f":"+[2]Tabulka!AY154","v":0},{"$f":"+[2]Tabulka!AZ154","v":{"v":0,"d":"0.00"}},{"$f":"+[2]Tabulka!BA154","v":0},{"$f":"+[2]Tabulka!BB154","v":{"v":0,"d":"0.00"}},{"$f":"+[2]Tabulka!BC154","v":0},{"$f":"+[2]Tabulka!BD154","v":{"v":0,"d":"0.00"}},{"$f":"+[2]Tabulka!BE154","v":0},{"$f":"+[2]Tabulka!BF154","v":{"v":0,"d":"0.00"}},{"$f":"+[2]Tabulka!BG154","v":0},{"$f":"+[2]Tabulka!BH154","v":{"v":0,"d":"0.00"}},{"$f":"+[2]Tabulka!BI154","v":0},{"$f":"+[2]Tabulka!BJ154","v":{"v":0,"d":"0.00"}},{"$f":"+[2]Tabulka!AP154","v":{"v":2.3898832854663654,"d":"2.39"}},{"$f":"+[2]Tabulka!AQ154","v":{"v":4,"d":"4.00"}},{"$f":"+[2]Tabulka!BM154","v":{"v":0,"d":"0.00"}},{"$f":"+[2]Tabulka!BN154","v":0},{"$f":"+[2]Tabulka!BO154","v":{"v":0,"d":"0.00"}}]
[null,{"$f":"[2]Tabulka!C155","v":"JEŽ"},{"$f":"[2]Tabulka!D155","v":"Dominik"},{"$f":"[2]Tabulka!E155","v":"1997-12-26"},{"$f":"[2]Tabulka!F155","v":"Nový Jičín- TJ"},{"$f":"[2]Tabulka!G155","v":"NJ"},{"$f":"[2]Tabulka!H155","v":100},{"$f":"+[2]Tabulka!AU155","v":0},{"$f":"+[2]Tabulka!AV155","v":{"v":0,"d":"0.00"}},{"$f":"+[2]Tabulka!AW155","v":0},{"$f":"+[2]Tabulka!AX155","v":{"v":0,"d":"0.00"}},{"$f":"+[2]Tabulka!AY155","v":0},{"$f":"+[2]Tabulka!AZ155","v":{"v":0,"d":"0.00"}},{"$f":"+[2]Tabulka!BA155","v":0},{"$f":"+[2]Tabulka!BB155","v":{"v":0,"d":"0.00"}},{"$f":"+[2]Tabulka!BC155","v":0},{"$f":"+[2]Tabulka!BD155","v":{"v":0,"d":"0.00"}},{"$f":"+[2]Tabulka!BE155","v":0},{"$f":"+[2]Tabulka!BF155","v":{"v":0,"d":"0.00"}},{"$f":"+[2]Tabulka!BG155","v":0},{"$f":"+[2]Tabulka!BH155","v":{"v":0,"d":"0.00"}},{"$f":"+[2]Tabulka!BI155","v":0},{"$f":"+[2]Tabulka!BJ155","v":{"v":0,"d":"0.00"}},{"$f":"+[2]Tabulka!AP155","v":{"v":18.425098388440404,"d":"18.43"}},{"$f":"+[2]Tabulka!AQ155","v":{"v":4,"d":"4.00"}},{"$f":"+[2]Tabulka!BM155","v":{"v":0,"d":"0.00"}},{"$f":"+[2]Tabulka!BN155","v":0},{"$f":"+[2]Tabulka!BO155","v":{"v":0,"d":"0.00"}}]
[null,{"$f":"[2]Tabulka!C156","v":"JEŽOWICZ"},{"$f":"[2]Tabulka!D156","v":"Filip"},{"$f":"[2]Tabulka!E156","v":"1997-01-01"},{"$f":"[2]Tabulka!F156","v":"Ostrava- Mittal TJ"},{"$f":"[2]Tabulka!G156","v":"OV"},{"$f":"[2]Tabulka!H156","v":0},{"$f":"+[2]Tabulka!AU156","v":0},{"$f":"+[2]Tabulka!AV156","v":{"v":0,"d":"0.00"}},{"$f":"+[2]Tabulka!AW156","v":0},{"$f":"+[2]Tabulka!AX156","v":{"v":0,"d":"0.00"}},{"$f":"+[2]Tabulka!AY156","v":0},{"$f":"+[2]Tabulka!AZ156","v":{"v":0,"d":"0.00"}},{"$f":"+[2]Tabulka!BA156","v":0},{"$f":"+[2]Tabulka!BB156","v":{"v":0,"d":"0.00"}},{"$f":"+[2]Tabulka!BC156","v":0},{"$f":"+[2]Tabulka!BD156","v":{"v":0,"d":"0.00"}},{"$f":"+[2]Tabulka!BE156","v":0},{"$f":"+[2]Tabulka!BF156","v":{"v":0,"d":"0.00"}},{"$f":"+[2]Tabulka!BG156","v":0},{"$f":"+[2]Tabulka!BH156","v":{"v":0,"d":"0.00"}},{"$f":"+[2]Tabulka!BI156","v":0},{"$f":"+[2]Tabulka!BJ156","v":{"v":0,"d":"0.00"}},{"$f":"+[2]Tabulka!AP156","v":{"v":0.0709997277423014,"d":"0.07"}},{"$f":"+[2]Tabulka!AQ156","v":{"v":1,"d":"1.00"}},{"$f":"+[2]Tabulka!BM156","v":{"v":0,"d":"0.00"}},{"$f":"+[2]Tabulka!BN156","v":0},{"$f":"+[2]Tabulka!BO156","v":{"v":0,"d":"0.00"}}]
[null,{"$f":"[2]Tabulka!C157","v":"JURDZINOVÁ"},{"$f":"[2]Tabulka!D157","v":"Petra"},{"$f":"[2]Tabulka!E157","v":"1996-01-07"},{"$f":"[2]Tabulka!F157","v":"Ostrava- Mittal TJ"},{"$f":"[2]Tabulka!G157","v":"OV"},{"$f":"[2]Tabulka!H157","v":100},{"$f":"+[2]Tabulka!AU157","v":0},{"$f":"+[2]Tabulka!AV157","v":{"v":0,"d":"0.00"}},{"$f":"+[2]Tabulka!AW157","v":0},{"$f":"+[2]Tabulka!AX157","v":{"v":0,"d":"0.00"}},{"$f":"+[2]Tabulka!AY157","v":0},{"$f":"+[2]Tabulka!AZ157","v":{"v":0,"d":"0.00"}},{"$f":"+[2]Tabulka!BA157","v":0},{"$f":"+[2]Tabulka!BB157","v":{"v":0,"d":"0.00"}},{"$f":"+[2]Tabulka!BC157","v":0},{"$f":"+[2]Tabulka!BD157","v":{"v":0,"d":"0.00"}},{"$f":"+[2]Tabulka!BE157","v":0},{"$f":"+[2]Tabulka!BF157","v":{"v":0,"d":"0.00"}},{"$f":"+[2]Tabulka!BG157","v":0},{"$f":"+[2]Tabulka!BH157","v":{"v":0,"d":"0.00"}},{"$f":"+[2]Tabulka!BI157","v":0},{"$f":"+[2]Tabulka!BJ157","v":{"v":0,"d":"0.00"}},{"$f":"+[2]Tabulka!AP157","v":{"v":2.3195443451507094,"d":"2.32"}},{"$f":"+[2]Tabulka!AQ157","v":{"v":1,"d":"1.00"}},{"$f":"+[2]Tabulka!BM157","v":{"v":0,"d":"0.00"}},{"$f":"+[2]Tabulka!BN157","v":0},{"$f":"+[2]Tabulka!BO157","v":{"v":0,"d":"0.00"}}]
[null,{"$f":"[2]Tabulka!C158","v":"JURGA"},{"$f":"[2]Tabulka!D158","v":"Filip"},{"$f":"[2]Tabulka!E158","v":"1997-07-03"},{"$f":"[2]Tabulka!F158","v":"Třinec- TŽ TJ"},{"$f":"[2]Tabulka!G158","v":"FM"},{"$f":"[2]Tabulka!H158","v":100},{"$f":"+[2]Tabulka!AU158","v":0},{"$f":"+[2]Tabulka!AV158","v":{"v":0,"d":"0.00"}},{"$f":"+[2]Tabulka!AW158","v":0},{"$f":"+[2]Tabulka!AX158","v":{"v":0,"d":"0.00"}},{"$f":"+[2]Tabulka!AY158","v":0},{"$f":"+[2]Tabulka!AZ158","v":{"v":0,"d":"0.00"}},{"$f":"+[2]Tabulka!BA158","v":0},{"$f":"+[2]Tabulka!BB158","v":{"v":0,"d":"0.00"}},{"$f":"+[2]Tabulka!BC158","v":0},{"$f":"+[2]Tabulka!BD158","v":{"v":0,"d":"0.00"}},{"$f":"+[2]Tabulka!BE158","v":0},{"$f":"+[2]Tabulka!BF158","v":{"v":0,"d":"0.00"}},{"$f":"+[2]Tabulka!BG158","v":0},{"$f":"+[2]Tabulka!BH158","v":{"v":0,"d":"0.00"}},{"$f":"+[2]Tabulka!BI158","v":0},{"$f":"+[2]Tabulka!BJ158","v":{"v":0,"d":"0.00"}},{"$f":"+[2]Tabulka!AP158","v":{"v":0.16186231111038157,"d":"0.16"}},{"$f":"+[2]Tabulka!AQ158","v":{"v":1,"d":"1.00"}},{"$f":"+[2]Tabulka!BM158","v":{"v":0,"d":"0.00"}},{"$f":"+[2]Tabulka!BN158","v":0},{"$f":"+[2]Tabulka!BO158","v":{"v":0,"d":"0.00"}}]
[null,{"$f":"[2]Tabulka!C159","v":"KANTOR"},{"$f":"[2]Tabulka!D159","v":"Lukáš"},{"$f":"[2]Tabulka!E159","v":"2000-01-01"},{"$f":"[2]Tabulka!F159","v":"Frenštát pod Radhoštěm- TJ"},{"$f":"[2]Tabulka!G159","v":"NJ"},{"$f":"[2]Tabulka!H159","v":100},{"$f":"+[2]Tabulka!AU159","v":0},{"$f":"+[2]Tabulka!AV159","v":{"v":0,"d":"0.00"}},{"$f":"+[2]Tabulka!AW159","v":0},{"$f":"+[2]Tabulka!AX159","v":{"v":0,"d":"0.00"}},{"$f":"+[2]Tabulka!AY159","v":0},{"$f":"+[2]Tabulka!AZ159","v":{"v":0,"d":"0.00"}},{"$f":"+[2]Tabulka!BA159","v":0},{"$f":"+[2]Tabulka!BB159","v":{"v":0,"d":"0.00"}},{"$f":"+[2]Tabulka!BC159","v":0},{"$f":"+[2]Tabulka!BD159","v":{"v":0,"d":"0.00"}},{"$f":"+[2]Tabulka!BE159","v":0},{"$f":"+[2]Tabulka!BF159","v":{"v":0,"d":"0.00"}},{"$f":"+[2]Tabulka!BG159","v":0},{"$f":"+[2]Tabulka!BH159","v":{"v":0,"d":"0.00"}},{"$f":"+[2]Tabulka!BI159","v":0},{"$f":"+[2]Tabulka!BJ159","v":{"v":0,"d":"0.00"}},{"$f":"+[2]Tabulka!AP159","v":{"v":0.0485374683225305,"d":"0.05"}},{"$f":"+[2]Tabulka!AQ159","v":{"v":1,"d":"1.00"}},{"$f":"+[2]Tabulka!BM159","v":{"v":0,"d":"0.00"}},{"$f":"+[2]Tabulka!BN159","v":0},{"$f":"+[2]Tabulka!BO159","v":{"v":0,"d":"0.00"}}]
[null,{"$f":"[2]Tabulka!C160","v":"KARČMÁŘ"},{"$f":"[2]Tabulka!D160","v":"Adam"},{"$f":"[2]Tabulka!E160","v":"1996-10-08"},{"$f":"[2]Tabulka!F160","v":"Dolní Benešov- MSA TJ"},{"$f":"[2]Tabulka!G160","v":"OP"},{"$f":"[2]Tabulka!H160","v":100},{"$f":"+[2]Tabulka!AU160","v":0},{"$f":"+[2]Tabulka!AV160","v":{"v":0,"d":"0.00"}},{"$f":"+[2]Tabulka!AW160","v":0},{"$f":"+[2]Tabulka!AX160","v":{"v":0,"d":"0.00"}},{"$f":"+[2]Tabulka!AY160","v":0},{"$f":"+[2]Tabulka!AZ160","v":{"v":0,"d":"0.00"}},{"$f":"+[2]Tabulka!BA160","v":0},{"$f":"+[2]Tabulka!BB160","v":{"v":0,"d":"0.00"}},{"$f":"+[2]Tabulka!BC160","v":0},{"$f":"+[2]Tabulka!BD160","v":{"v":0,"d":"0.00"}},{"$f":"+[2]Tabulka!BE160","v":0},{"$f":"+[2]Tabulka!BF160","v":{"v":0,"d":"0.00"}},{"$f":"+[2]Tabulka!BG160","v":0},{"$f":"+[2]Tabulka!BH160","v":{"v":0,"d":"0.00"}},{"$f":"+[2]Tabulka!BI160","v":0},{"$f":"+[2]Tabulka!BJ160","v":{"v":0,"d":"0.00"}},{"$f":"+[2]Tabulka!AP160","v":{"v":0,"d":"0.00"}},{"$f":"+[2]Tabulka!AQ160","v":{"v":0,"d":"0.00"}},{"$f":"+[2]Tabulka!BM160","v":{"v":0,"d":"0.00"}},{"$f":"+[2]Tabulka!BN160","v":0},{"$f":"+[2]Tabulka!BO160","v":{"v":0,"d":"0.00"}}]
[null,{"$f":"[2]Tabulka!C161","v":"KAŠNÍKOVÁ"},{"$f":"[2]Tabulka!D161","v":"Denisa"},{"$f":"[2]Tabulka!E161","v":"1996-04-30"},{"$f":"[2]Tabulka!F161","v":"Havířov- Baník SKST"},{"$f":"[2]Tabulka!G161","v":"KA"},{"$f":"[2]Tabulka!H161","v":100},{"$f":"+[2]Tabulka!AU161","v":0},{"$f":"+[2]Tabulka!AV161","v":{"v":0,"d":"0.00"}},{"$f":"+[2]Tabulka!AW161","v":0},{"$f":"+[2]Tabulka!AX161","v":{"v":0,"d":"0.00"}},{"$f":"+[2]Tabulka!AY161","v":0},{"$f":"+[2]Tabulka!AZ161","v":{"v":0,"d":"0.00"}},{"$f":"+[2]Tabulka!BA161","v":0},{"$f":"+[2]Tabulka!BB161","v":{"v":0,"d":"0.00"}},{"$f":"+[2]Tabulka!BC161","v":0},{"$f":"+[2]Tabulka!BD161","v":{"v":0,"d":"0.00"}},{"$f":"+[2]Tabulka!BE161","v":0},{"$f":"+[2]Tabulka!BF161","v":{"v":0,"d":"0.00"}},{"$f":"+[2]Tabulka!BG161","v":0},{"$f":"+[2]Tabulka!BH161","v":{"v":0,"d":"0.00"}},{"$f":"+[2]Tabulka!BI161","v":0},{"$f":"+[2]Tabulka!BJ161","v":{"v":0,"d":"0.00"}},{"$f":"+[2]Tabulka!AP161","v":{"v":39.35913213786172,"d":"39.36"}},{"$f":"+[2]Tabulka!AQ161","v":{"v":4,"d":"4.00"}},{"$f":"+[2]Tabulka!BM161","v":{"v":0,"d":"0.00"}},{"$f":"+[2]Tabulka!BN161","v":0},{"$f":"+[2]Tabulka!BO161","v":{"v":0,"d":"0.00"}}]
[null,{"$f":"[2]Tabulka!C162","v":"KLUS "},{"$f":"[2]Tabulka!D162","v":"Tomáš"},{"$f":"[2]Tabulka!E162","v":"1994-08-07"},{"$f":"[2]Tabulka!F162","v":"Orlová- Slávie SK"},{"$f":"[2]Tabulka!G162","v":"KA"},{"$f":"[2]Tabulka!H162","v":100},{"$f":"+[2]Tabulka!AU162","v":0},{"$f":"+[2]Tabulka!AV162","v":{"v":0,"d":"0.00"}},{"$f":"+[2]Tabulka!AW162","v":0},{"$f":"+[2]Tabulka!AX162","v":{"v":0,"d":"0.00"}},{"$f":"+[2]Tabulka!AY162","v":0},{"$f":"+[2]Tabulka!AZ162","v":{"v":0,"d":"0.00"}},{"$f":"+[2]Tabulka!BA162","v":0},{"$f":"+[2]Tabulka!BB162","v":{"v":0,"d":"0.00"}},{"$f":"+[2]Tabulka!BC162","v":0},{"$f":"+[2]Tabulka!BD162","v":{"v":0,"d":"0.00"}},{"$f":"+[2]Tabulka!BE162","v":0},{"$f":"+[2]Tabulka!BF162","v":{"v":0,"d":"0.00"}},{"$f":"+[2]Tabulka!BG162","v":0},{"$f":"+[2]Tabulka!BH162","v":{"v":0,"d":"0.00"}},{"$f":"+[2]Tabulka!BI162","v":0},{"$f":"+[2]Tabulka!BJ162","v":{"v":0,"d":"0.00"}},{"$f":"+[2]Tabulka!AP162","v":{"v":0,"d":"0.00"}},{"$f":"+[2]Tabulka!AQ162","v":{"v":0,"d":"0.00"}},{"$f":"+[2]Tabulka!BM162","v":{"v":0,"d":"0.00"}},{"$f":"+[2]Tabulka!BN162","v":0},{"$f":"+[2]Tabulka!BO162","v":{"v":0,"d":"0.00"}}]
[null,{"$f":"[2]Tabulka!C163","v":"KNIEZEK"},{"$f":"[2]Tabulka!D163","v":"Radim"},{"$f":"[2]Tabulka!E163","v":"1996-01-01"},{"$f":"[2]Tabulka!F163","v":"Karviná- KLUBsten KST"},{"$f":"[2]Tabulka!G163","v":"KA"},{"$f":"[2]Tabulka!H163","v":0},{"$f":"+[2]Tabulka!AU163","v":0},{"$f":"+[2]Tabulka!AV163","v":{"v":0,"d":"0.00"}},{"$f":"+[2]Tabulka!AW163","v":0},{"$f":"+[2]Tabulka!AX163","v":{"v":0,"d":"0.00"}},{"$f":"+[2]Tabulka!AY163","v":0},{"$f":"+[2]Tabulka!AZ163","v":{"v":0,"d":"0.00"}},{"$f":"+[2]Tabulka!BA163","v":0},{"$f":"+[2]Tabulka!BB163","v":{"v":0,"d":"0.00"}},{"$f":"+[2]Tabulka!BC163","v":0},{"$f":"+[2]Tabulka!BD163","v":{"v":0,"d":"0.00"}},{"$f":"+[2]Tabulka!BE163","v":0},{"$f":"+[2]Tabulka!BF163","v":{"v":0,"d":"0.00"}},{"$f":"+[2]Tabulka!BG163","v":0},{"$f":"+[2]Tabulka!BH163","v":{"v":0,"d":"0.00"}},{"$f":"+[2]Tabulka!BI163","v":0},{"$f":"+[2]Tabulka!BJ163","v":{"v":0,"d":"0.00"}},{"$f":"+[2]Tabulka!AP163","v":{"v":0,"d":"0.00"}},{"$f":"+[2]Tabulka!AQ163","v":{"v":0,"d":"0.00"}},{"$f":"+[2]Tabulka!BM163","v":{"v":0,"d":"0.00"}},{"$f":"+[2]Tabulka!BN163","v":0},{"$f":"+[2]Tabulka!BO163","v":{"v":0,"d":"0.00"}}]
[null,{"$f":"[2]Tabulka!C164","v":"KOBLOVSKÁ"},{"$f":"[2]Tabulka!D164","v":"Dominika"},{"$f":"[2]Tabulka!E164","v":"1998-08-30"},{"$f":"[2]Tabulka!F164","v":"Ostrava- Mittal TJ"},{"$f":"[2]Tabulka!G164","v":"OV"},{"$f":"[2]Tabulka!H164","v":100},{"$f":"+[2]Tabulka!AU164","v":0},{"$f":"+[2]Tabulka!AV164","v":{"v":0,"d":"0.00"}},{"$f":"+[2]Tabulka!AW164","v":0},{"$f":"+[2]Tabulka!AX164","v":{"v":0,"d":"0.00"}},{"$f":"+[2]Tabulka!AY164","v":0},{"$f":"+[2]Tabulka!AZ164","v":{"v":0,"d":"0.00"}},{"$f":"+[2]Tabulka!BA164","v":0},{"$f":"+[2]Tabulka!BB164","v":{"v":0,"d":"0.00"}},{"$f":"+[2]Tabulka!BC164","v":0},{"$f":"+[2]Tabulka!BD164","v":{"v":0,"d":"0.00"}},{"$f":"+[2]Tabulka!BE164","v":0},{"$f":"+[2]Tabulka!BF164","v":{"v":0,"d":"0.00"}},{"$f":"+[2]Tabulka!BG164","v":0},{"$f":"+[2]Tabulka!BH164","v":{"v":0,"d":"0.00"}},{"$f":"+[2]Tabulka!BI164","v":0},{"$f":"+[2]Tabulka!BJ164","v":{"v":0,"d":"0.00"}},{"$f":"+[2]Tabulka!AP164","v":{"v":25.501068325861162,"d":"25.50"}},{"$f":"+[2]Tabulka!AQ164","v":{"v":4,"d":"4.00"}},{"$f":"+[2]Tabulka!BM164","v":{"v":0,"d":"0.00"}},{"$f":"+[2]Tabulka!BN164","v":0},{"$f":"+[2]Tabulka!BO164","v":{"v":0,"d":"0.00"}}]
[null,{"$f":"[2]Tabulka!C165","v":"KOLONIČNÁ"},{"$f":"[2]Tabulka!D165","v":"Markéta"},{"$f":"[2]Tabulka!E165","v":"2002-12-12"},{"$f":"[2]Tabulka!F165","v":"Hrabůvka- Sokol TJ"},{"$f":"[2]Tabulka!G165","v":"OV"},{"$f":"[2]Tabulka!H165","v":100},{"$f":"+[2]Tabulka!AU165","v":0},{"$f":"+[2]Tabulka!AV165","v":{"v":0,"d":"0.00"}},{"$f":"+[2]Tabulka!AW165","v":0},{"$f":"+[2]Tabulka!AX165","v":{"v":0,"d":"0.00"}},{"$f":"+[2]Tabulka!AY165","v":0},{"$f":"+[2]Tabulka!AZ165","v":{"v":0,"d":"0.00"}},{"$f":"+[2]Tabulka!BA165","v":0},{"$f":"+[2]Tabulka!BB165","v":{"v":0,"d":"0.00"}},{"$f":"+[2]Tabulka!BC165","v":0},{"$f":"+[2]Tabulka!BD165","v":{"v":0,"d":"0.00"}},{"$f":"+[2]Tabulka!BE165","v":0},{"$f":"+[2]Tabulka!BF165","v":{"v":0,"d":"0.00"}},{"$f":"+[2]Tabulka!BG165","v":0},{"$f":"+[2]Tabulka!BH165","v":{"v":0,"d":"0.00"}},{"$f":"+[2]Tabulka!BI165","v":0},{"$f":"+[2]Tabulka!BJ165","v":{"v":0,"d":"0.00"}},{"$f":"+[2]Tabulka!AP165","v":{"v":0.7483535074025345,"d":"0.75"}},{"$f":"+[2]Tabulka!AQ165","v":{"v":2,"d":"2.00"}},{"$f":"+[2]Tabulka!BM165","v":{"v":0,"d":"0.00"}},{"$f":"+[2]Tabulka!BN165","v":0},{"$f":"+[2]Tabulka!BO165","v":{"v":0,"d":"0.00"}}]
[null,{"$f":"[2]Tabulka!C166","v":"KOMENDER"},{"$f":"[2]Tabulka!D166","v":"Jan"},{"$f":"[2]Tabulka!E166","v":"1999-06-16"},{"$f":"[2]Tabulka!F166","v":"Fulnel- TJ"},{"$f":"[2]Tabulka!G166","v":"NJ"},{"$f":"[2]Tabulka!H166","v":100},{"$f":"+[2]Tabulka!AU166","v":0},{"$f":"+[2]Tabulka!AV166","v":{"v":0,"d":"0.00"}},{"$f":"+[2]Tabulka!AW166","v":0},{"$f":"+[2]Tabulka!AX166","v":{"v":0,"d":"0.00"}},{"$f":"+[2]Tabulka!AY166","v":0},{"$f":"+[2]Tabulka!AZ166","v":{"v":0,"d":"0.00"}},{"$f":"+[2]Tabulka!BA166","v":0},{"$f":"+[2]Tabulka!BB166","v":{"v":0,"d":"0.00"}},{"$f":"+[2]Tabulka!BC166","v":0},{"$f":"+[2]Tabulka!BD166","v":{"v":0,"d":"0.00"}},{"$f":"+[2]Tabulka!BE166","v":0},{"$f":"+[2]Tabulka!BF166","v":{"v":0,"d":"0.00"}},{"$f":"+[2]Tabulka!BG166","v":0},{"$f":"+[2]Tabulka!BH166","v":{"v":0,"d":"0.00"}},{"$f":"+[2]Tabulka!BI166","v":0},{"$f":"+[2]Tabulka!BJ166","v":{"v":0,"d":"0.00"}},{"$f":"+[2]Tabulka!AP166","v":{"v":0.05509814460814429,"d":"0.06"}},{"$f":"+[2]Tabulka!AQ166","v":{"v":1,"d":"1.00"}},{"$f":"+[2]Tabulka!BM166","v":{"v":0,"d":"0.00"}},{"$f":"+[2]Tabulka!BN166","v":0},{"$f":"+[2]Tabulka!BO166","v":{"v":0,"d":"0.00"}}]
[null,{"$f":"[2]Tabulka!C167","v":"KOMÍNEK"},{"$f":"[2]Tabulka!D167","v":"Daniel"},{"$f":"[2]Tabulka!E167","v":"1998-11-18"},{"$f":"[2]Tabulka!F167","v":"Frýdek-Místek- Slezan TJ"},{"$f":"[2]Tabulka!G167","v":"FM"},{"$f":"[2]Tabulka!H167","v":100},{"$f":"+[2]Tabulka!AU167","v":0},{"$f":"+[2]Tabulka!AV167","v":{"v":0,"d":"0.00"}},{"$f":"+[2]Tabulka!AW167","v":0},{"$f":"+[2]Tabulka!AX167","v":{"v":0,"d":"0.00"}},{"$f":"+[2]Tabulka!AY167","v":0},{"$f":"+[2]Tabulka!AZ167","v":{"v":0,"d":"0.00"}},{"$f":"+[2]Tabulka!BA167","v":0},{"$f":"+[2]Tabulka!BB167","v":{"v":0,"d":"0.00"}},{"$f":"+[2]Tabulka!BC167","v":0},{"$f":"+[2]Tabulka!BD167","v":{"v":0,"d":"0.00"}},{"$f":"+[2]Tabulka!BE167","v":0},{"$f":"+[2]Tabulka!BF167","v":{"v":0,"d":"0.00"}},{"$f":"+[2]Tabulka!BG167","v":0},{"$f":"+[2]Tabulka!BH167","v":{"v":0,"d":"0.00"}},{"$f":"+[2]Tabulka!BI167","v":0},{"$f":"+[2]Tabulka!BJ167","v":{"v":0,"d":"0.00"}},{"$f":"+[2]Tabulka!AP167","v":{"v":0.5107995821879283,"d":"0.51"}},{"$f":"+[2]Tabulka!AQ167","v":{"v":3,"d":"3.00"}},{"$f":"+[2]Tabulka!BM167","v":{"v":0,"d":"0.00"}},{"$f":"+[2]Tabulka!BN167","v":0},{"$f":"+[2]Tabulka!BO167","v":{"v":0,"d":"0.00"}}]
[null,{"$f":"[2]Tabulka!C168","v":"KOŘÍNEK"},{"$f":"[2]Tabulka!D168","v":"Adam"},{"$f":"[2]Tabulka!E168","v":"1998-01-01"},{"$f":"[2]Tabulka!F168","v":"Havířov- Baník SKST"},{"$f":"[2]Tabulka!G168","v":"KA"},{"$f":"[2]Tabulka!H168","v":0},{"$f":"+[2]Tabulka!AU168","v":0},{"$f":"+[2]Tabulka!AV168","v":{"v":0,"d":"0.00"}},{"$f":"+[2]Tabulka!AW168","v":0},{"$f":"+[2]Tabulka!AX168","v":{"v":0,"d":"0.00"}},{"$f":"+[2]Tabulka!AY168","v":0},{"$f":"+[2]Tabulka!AZ168","v":{"v":0,"d":"0.00"}},{"$f":"+[2]Tabulka!BA168","v":0},{"$f":"+[2]Tabulka!BB168","v":{"v":0,"d":"0.00"}},{"$f":"+[2]Tabulka!BC168","v":0},{"$f":"+[2]Tabulka!BD168","v":{"v":0,"d":"0.00"}},{"$f":"+[2]Tabulka!BE168","v":0},{"$f":"+[2]Tabulka!BF168","v":{"v":0,"d":"0.00"}},{"$f":"+[2]Tabulka!BG168","v":0},{"$f":"+[2]Tabulka!BH168","v":{"v":0,"d":"0.00"}},{"$f":"+[2]Tabulka!BI168","v":0},{"$f":"+[2]Tabulka!BJ168","v":{"v":0,"d":"0.00"}},{"$f":"+[2]Tabulka!AP168","v":{"v":0,"d":"0.00"}},{"$f":"+[2]Tabulka!AQ168","v":{"v":0,"d":"0.00"}},{"$f":"+[2]Tabulka!BM168","v":{"v":0,"d":"0.00"}},{"$f":"+[2]Tabulka!BN168","v":0},{"$f":"+[2]Tabulka!BO168","v":{"v":0,"d":"0.00"}}]
[null,{"$f":"[2]Tabulka!C169","v":"KOTEK"},{"$f":"[2]Tabulka!D169","v":"Dominik"},{"$f":"[2]Tabulka!E169","v":"1999-05-20"},{"$f":"[2]Tabulka!F169","v":"Frýdlant nad Ostravicí- SK"},{"$f":"[2]Tabulka!G169","v":"FM"},{"$f":"[2]Tabulka!H169","v":100},{"$f":"+[2]Tabulka!AU169","v":0},{"$f":"+[2]Tabulka!AV169","v":{"v":0,"d":"0.00"}},{"$f":"+[2]Tabulka!AW169","v":0},{"$f":"+[2]Tabulka!AX169","v":{"v":0,"d":"0.00"}},{"$f":"+[2]Tabulka!AY169","v":0},{"$f":"+[2]Tabulka!AZ169","v":{"v":0,"d":"0.00"}},{"$f":"+[2]Tabulka!BA169","v":0},{"$f":"+[2]Tabulka!BB169","v":{"v":0,"d":"0.00"}},{"$f":"+[2]Tabulka!BC169","v":0},{"$f":"+[2]Tabulka!BD169","v":{"v":0,"d":"0.00"}},{"$f":"+[2]Tabulka!BE169","v":0},{"$f":"+[2]Tabulka!BF169","v":{"v":0,"d":"0.00"}},{"$f":"+[2]Tabulka!BG169","v":0},{"$f":"+[2]Tabulka!BH169","v":{"v":0,"d":"0.00"}},{"$f":"+[2]Tabulka!BI169","v":0},{"$f":"+[2]Tabulka!BJ169","v":{"v":0,"d":"0.00"}},{"$f":"+[2]Tabulka!AP169","v":{"v":15.93236707094515,"d":"15.93"}},{"$f":"+[2]Tabulka!AQ169","v":{"v":4,"d":"4.00"}},{"$f":"+[2]Tabulka!BM169","v":{"v":0,"d":"0.00"}},{"$f":"+[2]Tabulka!BN169","v":0},{"$f":"+[2]Tabulka!BO169","v":{"v":0,"d":"0.00"}}]
[null,{"$f":"[2]Tabulka!C170","v":"KOTKOVÁ"},{"$f":"[2]Tabulka!D170","v":"Daniela"},{"$f":"[2]Tabulka!E170","v":"2000-12-27"},{"$f":"[2]Tabulka!F170","v":"Frýdlant nad Ostravicí- SK"},{"$f":"[2]Tabulka!G170","v":"FM"},{"$f":"[2]Tabulka!H170","v":100},{"$f":"+[2]Tabulka!AU170","v":0},{"$f":"+[2]Tabulka!AV170","v":{"v":0,"d":"0.00"}},{"$f":"+[2]Tabulka!AW170","v":0},{"$f":"+[2]Tabulka!AX170","v":{"v":0,"d":"0.00"}},{"$f":"+[2]Tabulka!AY170","v":0},{"$f":"+[2]Tabulka!AZ170","v":{"v":0,"d":"0.00"}},{"$f":"+[2]Tabulka!BA170","v":0},{"$f":"+[2]Tabulka!BB170","v":{"v":0,"d":"0.00"}},{"$f":"+[2]Tabulka!BC170","v":0},{"$f":"+[2]Tabulka!BD170","v":{"v":0,"d":"0.00"}},{"$f":"+[2]Tabulka!BE170","v":0},{"$f":"+[2]Tabulka!BF170","v":{"v":0,"d":"0.00"}},{"$f":"+[2]Tabulka!BG170","v":0},{"$f":"+[2]Tabulka!BH170","v":{"v":0,"d":"0.00"}},{"$f":"+[2]Tabulka!BI170","v":0},{"$f":"+[2]Tabulka!BJ170","v":{"v":0,"d":"0.00"}},{"$f":"+[2]Tabulka!AP170","v":{"v":0.29806547417151336,"d":"0.30"}},{"$f":"+[2]Tabulka!AQ170","v":{"v":2,"d":"2.00"}},{"$f":"+[2]Tabulka!BM170","v":{"v":0,"d":"0.00"}},{"$f":"+[2]Tabulka!BN170","v":0},{"$f":"+[2]Tabulka!BO170","v":{"v":0,"d":"0.00"}}]
[null,{"$f":"[2]Tabulka!C171","v":"KOWAL"},{"$f":"[2]Tabulka!D171","v":"René"},{"$f":"[2]Tabulka!E171","v":"1996-07-26"},{"$f":"[2]Tabulka!F171","v":"Havířov- Baník SKST"},{"$f":"[2]Tabulka!G171","v":"KA"},{"$f":"[2]Tabulka!H171","v":100},{"$f":"+[2]Tabulka!AU171","v":0},{"$f":"+[2]Tabulka!AV171","v":{"v":0,"d":"0.00"}},{"$f":"+[2]Tabulka!AW171","v":0},{"$f":"+[2]Tabulka!AX171","v":{"v":0,"d":"0.00"}},{"$f":"+[2]Tabulka!AY171","v":0},{"$f":"+[2]Tabulka!AZ171","v":{"v":0,"d":"0.00"}},{"$f":"+[2]Tabulka!BA171","v":0},{"$f":"+[2]Tabulka!BB171","v":{"v":0,"d":"0.00"}},{"$f":"+[2]Tabulka!BC171","v":0},{"$f":"+[2]Tabulka!BD171","v":{"v":0,"d":"0.00"}},{"$f":"+[2]Tabulka!BE171","v":0},{"$f":"+[2]Tabulka!BF171","v":{"v":0,"d":"0.00"}},{"$f":"+[2]Tabulka!BG171","v":0},{"$f":"+[2]Tabulka!BH171","v":{"v":0,"d":"0.00"}},{"$f":"+[2]Tabulka!BI171","v":0},{"$f":"+[2]Tabulka!BJ171","v":{"v":0,"d":"0.00"}},{"$f":"+[2]Tabulka!AP171","v":{"v":0,"d":"0.00"}},{"$f":"+[2]Tabulka!AQ171","v":{"v":0,"d":"0.00"}},{"$f":"+[2]Tabulka!BM171","v":{"v":0,"d":"0.00"}},{"$f":"+[2]Tabulka!BN171","v":0},{"$f":"+[2]Tabulka!BO171","v":{"v":0,"d":"0.00"}}]
[null,{"$f":"[2]Tabulka!C172","v":"KOZELSKÝ"},{"$f":"[2]Tabulka!D172","v":"Martin"},{"$f":"[2]Tabulka!E172","v":"1998-02-11"},{"$f":"[2]Tabulka!F172","v":"Kateřinky- Sokol TJ"},{"$f":"[2]Tabulka!G172","v":"OP"},{"$f":"[2]Tabulka!H172","v":100},{"$f":"+[2]Tabulka!AU172","v":0},{"$f":"+[2]Tabulka!AV172","v":{"v":0,"d":"0.00"}},{"$f":"+[2]Tabulka!AW172","v":0},{"$f":"+[2]Tabulka!AX172","v":{"v":0,"d":"0.00"}},{"$f":"+[2]Tabulka!AY172","v":0},{"$f":"+[2]Tabulka!AZ172","v":{"v":0,"d":"0.00"}},{"$f":"+[2]Tabulka!BA172","v":0},{"$f":"+[2]Tabulka!BB172","v":{"v":0,"d":"0.00"}},{"$f":"+[2]Tabulka!BC172","v":0},{"$f":"+[2]Tabulka!BD172","v":{"v":0,"d":"0.00"}},{"$f":"+[2]Tabulka!BE172","v":0},{"$f":"+[2]Tabulka!BF172","v":{"v":0,"d":"0.00"}},{"$f":"+[2]Tabulka!BG172","v":0},{"$f":"+[2]Tabulka!BH172","v":{"v":0,"d":"0.00"}},{"$f":"+[2]Tabulka!BI172","v":0},{"$f":"+[2]Tabulka!BJ172","v":{"v":0,"d":"0.00"}},{"$f":"+[2]Tabulka!AP172","v":{"v":0.5367800360435906,"d":"0.54"}},{"$f":"+[2]Tabulka!AQ172","v":{"v":2,"d":"2.00"}},{"$f":"+[2]Tabulka!BM172","v":{"v":0,"d":"0.00"}},{"$f":"+[2]Tabulka!BN172","v":0},{"$f":"+[2]Tabulka!BO172","v":{"v":0,"d":"0.00"}}]
[null,{"$f":"[2]Tabulka!C173","v":"KRATOCHVÍL"},{"$f":"[2]Tabulka!D173","v":"Michal"},{"$f":"[2]Tabulka!E173","v":"1995-04-19"},{"$f":"[2]Tabulka!F173","v":"Havířov- Baník SKST"},{"$f":"[2]Tabulka!G173","v":"KA"},{"$f":"[2]Tabulka!H173","v":100},{"$f":"+[2]Tabulka!AU173","v":0},{"$f":"+[2]Tabulka!AV173","v":{"v":0,"d":"0.00"}},{"$f":"+[2]Tabulka!AW173","v":0},{"$f":"+[2]Tabulka!AX173","v":{"v":0,"d":"0.00"}},{"$f":"+[2]Tabulka!AY173","v":0},{"$f":"+[2]Tabulka!AZ173","v":{"v":0,"d":"0.00"}},{"$f":"+[2]Tabulka!BA173","v":0},{"$f":"+[2]Tabulka!BB173","v":{"v":0,"d":"0.00"}},{"$f":"+[2]Tabulka!BC173","v":0},{"$f":"+[2]Tabulka!BD173","v":{"v":0,"d":"0.00"}},{"$f":"+[2]Tabulka!BE173","v":0},{"$f":"+[2]Tabulka!BF173","v":{"v":0,"d":"0.00"}},{"$f":"+[2]Tabulka!BG173","v":0},{"$f":"+[2]Tabulka!BH173","v":{"v":0,"d":"0.00"}},{"$f":"+[2]Tabulka!BI173","v":0},{"$f":"+[2]Tabulka!BJ173","v":{"v":0,"d":"0.00"}},{"$f":"+[2]Tabulka!AP173","v":{"v":0,"d":"0.00"}},{"$f":"+[2]Tabulka!AQ173","v":{"v":0,"d":"0.00"}},{"$f":"+[2]Tabulka!BM173","v":{"v":0,"d":"0.00"}},{"$f":"+[2]Tabulka!BN173","v":0},{"$f":"+[2]Tabulka!BO173","v":{"v":0,"d":"0.00"}}]
[null,{"$f":"[2]Tabulka!C174","v":"KRIVÝ"},{"$f":"[2]Tabulka!D174","v":"Jan"},{"$f":"[2]Tabulka!E174","v":"1999-07-20"},{"$f":"[2]Tabulka!F174","v":"Ostrava- Mittal TJ"},{"$f":"[2]Tabulka!G174","v":"OV"},{"$f":"[2]Tabulka!H174","v":100},{"$f":"+[2]Tabulka!AU174","v":0},{"$f":"+[2]Tabulka!AV174","v":{"v":0,"d":"0.00"}},{"$f":"+[2]Tabulka!AW174","v":0},{"$f":"+[2]Tabulka!AX174","v":{"v":0,"d":"0.00"}},{"$f":"+[2]Tabulka!AY174","v":0},{"$f":"+[2]Tabulka!AZ174","v":{"v":0,"d":"0.00"}},{"$f":"+[2]Tabulka!BA174","v":0},{"$f":"+[2]Tabulka!BB174","v":{"v":0,"d":"0.00"}},{"$f":"+[2]Tabulka!BC174","v":0},{"$f":"+[2]Tabulka!BD174","v":{"v":0,"d":"0.00"}},{"$f":"+[2]Tabulka!BE174","v":0},{"$f":"+[2]Tabulka!BF174","v":{"v":0,"d":"0.00"}},{"$f":"+[2]Tabulka!BG174","v":0},{"$f":"+[2]Tabulka!BH174","v":{"v":0,"d":"0.00"}},{"$f":"+[2]Tabulka!BI174","v":0},{"$f":"+[2]Tabulka!BJ174","v":{"v":0,"d":"0.00"}},{"$f":"+[2]Tabulka!AP174","v":{"v":1.8102036388081866,"d":"1.81"}},{"$f":"+[2]Tabulka!AQ174","v":{"v":3,"d":"3.00"}},{"$f":"+[2]Tabulka!BM174","v":{"v":0,"d":"0.00"}},{"$f":"+[2]Tabulka!BN174","v":0},{"$f":"+[2]Tabulka!BO174","v":{"v":0,"d":"0.00"}}]
[null,{"$f":"[2]Tabulka!C175","v":"KRYSKA"},{"$f":"[2]Tabulka!D175","v":"Dominik"},{"$f":"[2]Tabulka!E175","v":"1999-09-03"},{"$f":"[2]Tabulka!F175","v":"Dětmarovice- Sokol TJ"},{"$f":"[2]Tabulka!G175","v":"KA"},{"$f":"[2]Tabulka!H175","v":100},{"$f":"+[2]Tabulka!AU175","v":0},{"$f":"+[2]Tabulka!AV175","v":{"v":0,"d":"0.00"}},{"$f":"+[2]Tabulka!AW175","v":0},{"$f":"+[2]Tabulka!AX175","v":{"v":0,"d":"0.00"}},{"$f":"+[2]Tabulka!AY175","v":0},{"$f":"+[2]Tabulka!AZ175","v":{"v":0,"d":"0.00"}},{"$f":"+[2]Tabulka!BA175","v":0},{"$f":"+[2]Tabulka!BB175","v":{"v":0,"d":"0.00"}},{"$f":"+[2]Tabulka!BC175","v":0},{"$f":"+[2]Tabulka!BD175","v":{"v":0,"d":"0.00"}},{"$f":"+[2]Tabulka!BE175","v":0},{"$f":"+[2]Tabulka!BF175","v":{"v":0,"d":"0.00"}},{"$f":"+[2]Tabulka!BG175","v":0},{"$f":"+[2]Tabulka!BH175","v":{"v":0,"d":"0.00"}},{"$f":"+[2]Tabulka!BI175","v":0},{"$f":"+[2]Tabulka!BJ175","v":{"v":0,"d":"0.00"}},{"$f":"+[2]Tabulka!AP175","v":{"v":0,"d":"0.00"}},{"$f":"+[2]Tabulka!AQ175","v":{"v":0,"d":"0.00"}},{"$f":"+[2]Tabulka!BM175","v":{"v":0,"d":"0.00"}},{"$f":"+[2]Tabulka!BN175","v":0},{"$f":"+[2]Tabulka!BO175","v":{"v":0,"d":"0.00"}}]
[null,{"$f":"[2]Tabulka!C176","v":"KUPEC"},{"$f":"[2]Tabulka!D176","v":"Rostislav"},{"$f":"[2]Tabulka!E176","v":"1997-05-20"},{"$f":"[2]Tabulka!F176","v":"Havířov- Baník SKST"},{"$f":"[2]Tabulka!G176","v":"KA"},{"$f":"[2]Tabulka!H176","v":100},{"$f":"+[2]Tabulka!AU176","v":0},{"$f":"+[2]Tabulka!AV176","v":{"v":0,"d":"0.00"}},{"$f":"+[2]Tabulka!AW176","v":0},{"$f":"+[2]Tabulka!AX176","v":{"v":0,"d":"0.00"}},{"$f":"+[2]Tabulka!AY176","v":0},{"$f":"+[2]Tabulka!AZ176","v":{"v":0,"d":"0.00"}},{"$f":"+[2]Tabulka!BA176","v":0},{"$f":"+[2]Tabulka!BB176","v":{"v":0,"d":"0.00"}},{"$f":"+[2]Tabulka!BC176","v":0},{"$f":"+[2]Tabulka!BD176","v":{"v":0,"d":"0.00"}},{"$f":"+[2]Tabulka!BE176","v":0},{"$f":"+[2]Tabulka!BF176","v":{"v":0,"d":"0.00"}},{"$f":"+[2]Tabulka!BG176","v":0},{"$f":"+[2]Tabulka!BH176","v":{"v":0,"d":"0.00"}},{"$f":"+[2]Tabulka!BI176","v":0},{"$f":"+[2]Tabulka!BJ176","v":{"v":0,"d":"0.00"}},{"$f":"+[2]Tabulka!AP176","v":{"v":51.906776855522054,"d":"51.91"}},{"$f":"+[2]Tabulka!AQ176","v":{"v":4,"d":"4.00"}},{"$f":"+[2]Tabulka!BM176","v":{"v":0,"d":"0.00"}},{"$f":"+[2]Tabulka!BN176","v":0},{"$f":"+[2]Tabulka!BO176","v":{"v":0,"d":"0.00"}}]
[null,{"$f":"[2]Tabulka!C177","v":"KUPEC"},{"$f":"[2]Tabulka!D177","v":"Ladislav"},{"$f":"[2]Tabulka!E177","v":"1998-08-27"},{"$f":"[2]Tabulka!F177","v":"Havířov- Baník SKST"},{"$f":"[2]Tabulka!G177","v":"KA"},{"$f":"[2]Tabulka!H177","v":100},{"$f":"+[2]Tabulka!AU177","v":0},{"$f":"+[2]Tabulka!AV177","v":{"v":0,"d":"0.00"}},{"$f":"+[2]Tabulka!AW177","v":0},{"$f":"+[2]Tabulka!AX177","v":{"v":0,"d":"0.00"}},{"$f":"+[2]Tabulka!AY177","v":0},{"$f":"+[2]Tabulka!AZ177","v":{"v":0,"d":"0.00"}},{"$f":"+[2]Tabulka!BA177","v":0},{"$f":"+[2]Tabulka!BB177","v":{"v":0,"d":"0.00"}},{"$f":"+[2]Tabulka!BC177","v":0},{"$f":"+[2]Tabulka!BD177","v":{"v":0,"d":"0.00"}},{"$f":"+[2]Tabulka!BE177","v":0},{"$f":"+[2]Tabulka!BF177","v":{"v":0,"d":"0.00"}},{"$f":"+[2]Tabulka!BG177","v":0},{"$f":"+[2]Tabulka!BH177","v":{"v":0,"d":"0.00"}},{"$f":"+[2]Tabulka!BI177","v":0},{"$f":"+[2]Tabulka!BJ177","v":{"v":0,"d":"0.00"}},{"$f":"+[2]Tabulka!AP177","v":{"v":25.50222433258186,"d":"25.50"}},{"$f":"+[2]Tabulka!AQ177","v":{"v":2,"d":"2.00"}},{"$f":"+[2]Tabulka!BM177","v":{"v":0,"d":"0.00"}},{"$f":"+[2]Tabulka!BN177","v":0},{"$f":"+[2]Tabulka!BO177","v":{"v":0,"d":"0.00"}}]
[null,{"$f":"[2]Tabulka!C178","v":"KUPKA"},{"$f":"[2]Tabulka!D178","v":"Vojtěch"},{"$f":"[2]Tabulka!E178","v":"1996-06-16"},{"$f":"[2]Tabulka!F178","v":"Ostrava- Mittal TJ"},{"$f":"[2]Tabulka!G178","v":"OV"},{"$f":"[2]Tabulka!H178","v":100},{"$f":"+[2]Tabulka!AU178","v":0},{"$f":"+[2]Tabulka!AV178","v":{"v":0,"d":"0.00"}},{"$f":"+[2]Tabulka!AW178","v":0},{"$f":"+[2]Tabulka!AX178","v":{"v":0,"d":"0.00"}},{"$f":"+[2]Tabulka!AY178","v":0},{"$f":"+[2]Tabulka!AZ178","v":{"v":0,"d":"0.00"}},{"$f":"+[2]Tabulka!BA178","v":0},{"$f":"+[2]Tabulka!BB178","v":{"v":0,"d":"0.00"}},{"$f":"+[2]Tabulka!BC178","v":0},{"$f":"+[2]Tabulka!BD178","v":{"v":0,"d":"0.00"}},{"$f":"+[2]Tabulka!BE178","v":0},{"$f":"+[2]Tabulka!BF178","v":{"v":0,"d":"0.00"}},{"$f":"+[2]Tabulka!BG178","v":0},{"$f":"+[2]Tabulka!BH178","v":{"v":0,"d":"0.00"}},{"$f":"+[2]Tabulka!BI178","v":0},{"$f":"+[2]Tabulka!BJ178","v":{"v":0,"d":"0.00"}},{"$f":"+[2]Tabulka!AP178","v":{"v":0.5187663523532928,"d":"0.52"}},{"$f":"+[2]Tabulka!AQ178","v":{"v":2,"d":"2.00"}},{"$f":"+[2]Tabulka!BM178","v":{"v":0,"d":"0.00"}},{"$f":"+[2]Tabulka!BN178","v":0},{"$f":"+[2]Tabulka!BO178","v":{"v":0,"d":"0.00"}}]
[null,{"$f":"[2]Tabulka!C179","v":"KURINEC"},{"$f":"[2]Tabulka!D179","v":"Martin"},{"$f":"[2]Tabulka!E179","v":"1997-01-01"},{"$f":"[2]Tabulka!F179","v":"Kravaře- SK TJ"},{"$f":"[2]Tabulka!G179","v":"OP"},{"$f":"[2]Tabulka!H179","v":0},{"$f":"+[2]Tabulka!AU179","v":0},{"$f":"+[2]Tabulka!AV179","v":{"v":0,"d":"0.00"}},{"$f":"+[2]Tabulka!AW179","v":0},{"$f":"+[2]Tabulka!AX179","v":{"v":0,"d":"0.00"}},{"$f":"+[2]Tabulka!AY179","v":0},{"$f":"+[2]Tabulka!AZ179","v":{"v":0,"d":"0.00"}},{"$f":"+[2]Tabulka!BA179","v":0},{"$f":"+[2]Tabulka!BB179","v":{"v":0,"d":"0.00"}},{"$f":"+[2]Tabulka!BC179","v":0},{"$f":"+[2]Tabulka!BD179","v":{"v":0,"d":"0.00"}},{"$f":"+[2]Tabulka!BE179","v":0},{"$f":"+[2]Tabulka!BF179","v":{"v":0,"d":"0.00"}},{"$f":"+[2]Tabulka!BG179","v":0},{"$f":"+[2]Tabulka!BH179","v":{"v":0,"d":"0.00"}},{"$f":"+[2]Tabulka!BI179","v":0},{"$f":"+[2]Tabulka!BJ179","v":{"v":0,"d":"0.00"}},{"$f":"+[2]Tabulka!AP179","v":{"v":0,"d":"0.00"}},{"$f":"+[2]Tabulka!AQ179","v":{"v":0,"d":"0.00"}},{"$f":"+[2]Tabulka!BM179","v":{"v":0,"d":"0.00"}},{"$f":"+[2]Tabulka!BN179","v":0},{"$f":"+[2]Tabulka!BO179","v":{"v":0,"d":"0.00"}}]
[null,{"$f":"[2]Tabulka!C180","v":"LACHKÝ"},{"$f":"[2]Tabulka!D180","v":"Petr"},{"$f":"[2]Tabulka!E180","v":"1998-01-19"},{"$f":"[2]Tabulka!F180","v":"Fulnel- TJ"},{"$f":"[2]Tabulka!G180","v":"NJ"},{"$f":"[2]Tabulka!H180","v":100},{"$f":"+[2]Tabulka!AU180","v":0},{"$f":"+[2]Tabulka!AV180","v":{"v":0,"d":"0.00"}},{"$f":"+[2]Tabulka!AW180","v":0},{"$f":"+[2]Tabulka!AX180","v":{"v":0,"d":"0.00"}},{"$f":"+[2]Tabulka!AY180","v":0},{"$f":"+[2]Tabulka!AZ180","v":{"v":0,"d":"0.00"}},{"$f":"+[2]Tabulka!BA180","v":0},{"$f":"+[2]Tabulka!BB180","v":{"v":0,"d":"0.00"}},{"$f":"+[2]Tabulka!BC180","v":0},{"$f":"+[2]Tabulka!BD180","v":{"v":0,"d":"0.00"}},{"$f":"+[2]Tabulka!BE180","v":0},{"$f":"+[2]Tabulka!BF180","v":{"v":0,"d":"0.00"}},{"$f":"+[2]Tabulka!BG180","v":0},{"$f":"+[2]Tabulka!BH180","v":{"v":0,"d":"0.00"}},{"$f":"+[2]Tabulka!BI180","v":0},{"$f":"+[2]Tabulka!BJ180","v":{"v":0,"d":"0.00"}},{"$f":"+[2]Tabulka!AP180","v":{"v":1.8431910110217054,"d":"1.84"}},{"$f":"+[2]Tabulka!AQ180","v":{"v":2,"d":"2.00"}},{"$f":"+[2]Tabulka!BM180","v":{"v":0,"d":"0.00"}},{"$f":"+[2]Tabulka!BN180","v":0},{"$f":"+[2]Tabulka!BO180","v":{"v":0,"d":"0.00"}}]
[null,{"$f":"[2]Tabulka!C181","v":"LORENC"},{"$f":"[2]Tabulka!D181","v":"Martin"},{"$f":"[2]Tabulka!E181","v":"1998-12-08"},{"$f":"[2]Tabulka!F181","v":"Frenštát pod Radhoštěm- TJ"},{"$f":"[2]Tabulka!G181","v":"NJ"},{"$f":"[2]Tabulka!H181","v":100},{"$f":"+[2]Tabulka!AU181","v":0},{"$f":"+[2]Tabulka!AV181","v":{"v":0,"d":"0.00"}},{"$f":"+[2]Tabulka!AW181","v":0},{"$f":"+[2]Tabulka!AX181","v":{"v":0,"d":"0.00"}},{"$f":"+[2]Tabulka!AY181","v":0},{"$f":"+[2]Tabulka!AZ181","v":{"v":0,"d":"0.00"}},{"$f":"+[2]Tabulka!BA181","v":0},{"$f":"+[2]Tabulka!BB181","v":{"v":0,"d":"0.00"}},{"$f":"+[2]Tabulka!BC181","v":0},{"$f":"+[2]Tabulka!BD181","v":{"v":0,"d":"0.00"}},{"$f":"+[2]Tabulka!BE181","v":0},{"$f":"+[2]Tabulka!BF181","v":{"v":0,"d":"0.00"}},{"$f":"+[2]Tabulka!BG181","v":0},{"$f":"+[2]Tabulka!BH181","v":{"v":0,"d":"0.00"}},{"$f":"+[2]Tabulka!BI181","v":0},{"$f":"+[2]Tabulka!BJ181","v":{"v":0,"d":"0.00"}},{"$f":"+[2]Tabulka!AP181","v":{"v":3.349999292430052,"d":"3.35"}},{"$f":"+[2]Tabulka!AQ181","v":{"v":4,"d":"4.00"}},{"$f":"+[2]Tabulka!BM181","v":{"v":0,"d":"0.00"}},{"$f":"+[2]Tabulka!BN181","v":0},{"$f":"+[2]Tabulka!BO181","v":{"v":0,"d":"0.00"}}]
[null,{"$f":"[2]Tabulka!C182","v":"LUKÁŠOVÁ"},{"$f":"[2]Tabulka!D182","v":"Petra"},{"$f":"[2]Tabulka!E182","v":"1995-04-10"},{"$f":"[2]Tabulka!F182","v":"Orlová- Slávie SK"},{"$f":"[2]Tabulka!G182","v":"KA"},{"$f":"[2]Tabulka!H182","v":100},{"$f":"+[2]Tabulka!AU182","v":0},{"$f":"+[2]Tabulka!AV182","v":{"v":0,"d":"0.00"}},{"$f":"+[2]Tabulka!AW182","v":0},{"$f":"+[2]Tabulka!AX182","v":{"v":0,"d":"0.00"}},{"$f":"+[2]Tabulka!AY182","v":0},{"$f":"+[2]Tabulka!AZ182","v":{"v":0,"d":"0.00"}},{"$f":"+[2]Tabulka!BA182","v":0},{"$f":"+[2]Tabulka!BB182","v":{"v":0,"d":"0.00"}},{"$f":"+[2]Tabulka!BC182","v":0},{"$f":"+[2]Tabulka!BD182","v":{"v":0,"d":"0.00"}},{"$f":"+[2]Tabulka!BE182","v":0},{"$f":"+[2]Tabulka!BF182","v":{"v":0,"d":"0.00"}},{"$f":"+[2]Tabulka!BG182","v":0},{"$f":"+[2]Tabulka!BH182","v":{"v":0,"d":"0.00"}},{"$f":"+[2]Tabulka!BI182","v":0},{"$f":"+[2]Tabulka!BJ182","v":{"v":0,"d":"0.00"}},{"$f":"+[2]Tabulka!AP182","v":{"v":0,"d":"0.00"}},{"$f":"+[2]Tabulka!AQ182","v":{"v":0,"d":"0.00"}},{"$f":"+[2]Tabulka!BM182","v":{"v":0,"d":"0.00"}},{"$f":"+[2]Tabulka!BN182","v":0},{"$f":"+[2]Tabulka!BO182","v":{"v":0,"d":"0.00"}}]
[null,{"$f":"[2]Tabulka!C183","v":"MACKO"},{"$f":"[2]Tabulka!D183","v":"René"},{"$f":"[2]Tabulka!E183","v":"1999-01-01"},{"$f":"[2]Tabulka!F183","v":"Karviná-Lázně Darkov- Slovan VOKD TJ"},{"$f":"[2]Tabulka!G183","v":"KA"},{"$f":"[2]Tabulka!H183","v":0},{"$f":"+[2]Tabulka!AU183","v":0},{"$f":"+[2]Tabulka!AV183","v":{"v":0,"d":"0.00"}},{"$f":"+[2]Tabulka!AW183","v":0},{"$f":"+[2]Tabulka!AX183","v":{"v":0,"d":"0.00"}},{"$f":"+[2]Tabulka!AY183","v":0},{"$f":"+[2]Tabulka!AZ183","v":{"v":0,"d":"0.00"}},{"$f":"+[2]Tabulka!BA183","v":0},{"$f":"+[2]Tabulka!BB183","v":{"v":0,"d":"0.00"}},{"$f":"+[2]Tabulka!BC183","v":0},{"$f":"+[2]Tabulka!BD183","v":{"v":0,"d":"0.00"}},{"$f":"+[2]Tabulka!BE183","v":0},{"$f":"+[2]Tabulka!BF183","v":{"v":0,"d":"0.00"}},{"$f":"+[2]Tabulka!BG183","v":0},{"$f":"+[2]Tabulka!BH183","v":{"v":0,"d":"0.00"}},{"$f":"+[2]Tabulka!BI183","v":0},{"$f":"+[2]Tabulka!BJ183","v":{"v":0,"d":"0.00"}},{"$f":"+[2]Tabulka!AP183","v":{"v":0,"d":"0.00"}},{"$f":"+[2]Tabulka!AQ183","v":{"v":0,"d":"0.00"}},{"$f":"+[2]Tabulka!BM183","v":{"v":0,"d":"0.00"}},{"$f":"+[2]Tabulka!BN183","v":0},{"$f":"+[2]Tabulka!BO183","v":{"v":0,"d":"0.00"}}]
[null,{"$f":"[2]Tabulka!C184","v":"MARŠÁLEK"},{"$f":"[2]Tabulka!D184","v":"Patrik"},{"$f":"[2]Tabulka!E184","v":"1994-06-29"},{"$f":"[2]Tabulka!F184","v":"Frýdlant nad Ostravicí- SK"},{"$f":"[2]Tabulka!G184","v":"FM"},{"$f":"[2]Tabulka!H184","v":100},{"$f":"+[2]Tabulka!AU184","v":0},{"$f":"+[2]Tabulka!AV184","v":{"v":0,"d":"0.00"}},{"$f":"+[2]Tabulka!AW184","v":0},{"$f":"+[2]Tabulka!AX184","v":{"v":0,"d":"0.00"}},{"$f":"+[2]Tabulka!AY184","v":0},{"$f":"+[2]Tabulka!AZ184","v":{"v":0,"d":"0.00"}},{"$f":"+[2]Tabulka!BA184","v":0},{"$f":"+[2]Tabulka!BB184","v":{"v":0,"d":"0.00"}},{"$f":"+[2]Tabulka!BC184","v":0},{"$f":"+[2]Tabulka!BD184","v":{"v":0,"d":"0.00"}},{"$f":"+[2]Tabulka!BE184","v":0},{"$f":"+[2]Tabulka!BF184","v":{"v":0,"d":"0.00"}},{"$f":"+[2]Tabulka!BG184","v":0},{"$f":"+[2]Tabulka!BH184","v":{"v":0,"d":"0.00"}},{"$f":"+[2]Tabulka!BI184","v":0},{"$f":"+[2]Tabulka!BJ184","v":{"v":0,"d":"0.00"}},{"$f":"+[2]Tabulka!AP184","v":{"v":22.249514260590416,"d":"22.25"}},{"$f":"+[2]Tabulka!AQ184","v":{"v":3,"d":"3.00"}},{"$f":"+[2]Tabulka!BM184","v":{"v":0,"d":"0.00"}},{"$f":"+[2]Tabulka!BN184","v":0},{"$f":"+[2]Tabulka!BO184","v":{"v":0,"d":"0.00"}}]
[null,{"$f":"[2]Tabulka!C185","v":"MARTIŇÁK"},{"$f":"[2]Tabulka!D185","v":"Vojtěch"},{"$f":"[2]Tabulka!E185","v":"2002-05-17"},{"$f":"[2]Tabulka!F185","v":"Frenštát pod Radhoštěm- TJ"},{"$f":"[2]Tabulka!G185","v":"NJ"},{"$f":"[2]Tabulka!H185","v":100},{"$f":"+[2]Tabulka!AU185","v":0},{"$f":"+[2]Tabulka!AV185","v":{"v":0,"d":"0.00"}},{"$f":"+[2]Tabulka!AW185","v":0},{"$f":"+[2]Tabulka!AX185","v":{"v":0,"d":"0.00"}},{"$f":"+[2]Tabulka!AY185","v":0},{"$f":"+[2]Tabulka!AZ185","v":{"v":0,"d":"0.00"}},{"$f":"+[2]Tabulka!BA185","v":0},{"$f":"+[2]Tabulka!BB185","v":{"v":0,"d":"0.00"}},{"$f":"+[2]Tabulka!BC185","v":0},{"$f":"+[2]Tabulka!BD185","v":{"v":0,"d":"0.00"}},{"$f":"+[2]Tabulka!BE185","v":0},{"$f":"+[2]Tabulka!BF185","v":{"v":0,"d":"0.00"}},{"$f":"+[2]Tabulka!BG185","v":0},{"$f":"+[2]Tabulka!BH185","v":{"v":0,"d":"0.00"}},{"$f":"+[2]Tabulka!BI185","v":0},{"$f":"+[2]Tabulka!BJ185","v":{"v":0,"d":"0.00"}},{"$f":"+[2]Tabulka!AP185","v":{"v":0.7074704703508371,"d":"0.71"}},{"$f":"+[2]Tabulka!AQ185","v":{"v":4,"d":"4.00"}},{"$f":"+[2]Tabulka!BM185","v":{"v":0,"d":"0.00"}},{"$f":"+[2]Tabulka!BN185","v":0},{"$f":"+[2]Tabulka!BO185","v":{"v":0,"d":"0.00"}}]
[null,{"$f":"[2]Tabulka!C186","v":"MARTINKO"},{"$f":"[2]Tabulka!D186","v":"Tomáš"},{"$f":"[2]Tabulka!E186","v":"2002-07-07"},{"$f":"[2]Tabulka!F186","v":"Ostrava- Mittal TJ"},{"$f":"[2]Tabulka!G186","v":"OV"},{"$f":"[2]Tabulka!H186","v":100},{"$f":"+[2]Tabulka!AU186","v":0},{"$f":"+[2]Tabulka!AV186","v":{"v":0,"d":"0.00"}},{"$f":"+[2]Tabulka!AW186","v":0},{"$f":"+[2]Tabulka!AX186","v":{"v":0,"d":"0.00"}},{"$f":"+[2]Tabulka!AY186","v":0},{"$f":"+[2]Tabulka!AZ186","v":{"v":0,"d":"0.00"}},{"$f":"+[2]Tabulka!BA186","v":0},{"$f":"+[2]Tabulka!BB186","v":{"v":0,"d":"0.00"}},{"$f":"+[2]Tabulka!BC186","v":0},{"$f":"+[2]Tabulka!BD186","v":{"v":0,"d":"0.00"}},{"$f":"+[2]Tabulka!BE186","v":0},{"$f":"+[2]Tabulka!BF186","v":{"v":0,"d":"0.00"}},{"$f":"+[2]Tabulka!BG186","v":0},{"$f":"+[2]Tabulka!BH186","v":{"v":0,"d":"0.00"}},{"$f":"+[2]Tabulka!BI186","v":0},{"$f":"+[2]Tabulka!BJ186","v":{"v":0,"d":"0.00"}},{"$f":"+[2]Tabulka!AP186","v":{"v":15.59659145823658,"d":"15.60"}},{"$f":"+[2]Tabulka!AQ186","v":{"v":3,"d":"3.00"}},{"$f":"+[2]Tabulka!BM186","v":{"v":0,"d":"0.00"}},{"$f":"+[2]Tabulka!BN186","v":0},{"$f":"+[2]Tabulka!BO186","v":{"v":0,"d":"0.00"}}]
[null,{"$f":"[2]Tabulka!C187","v":"MASNICA"},{"$f":"[2]Tabulka!D187","v":"Michal"},{"$f":"[2]Tabulka!E187","v":"1995-05-21"},{"$f":"[2]Tabulka!F187","v":"Kopřivnice- Tatra  ASK"},{"$f":"[2]Tabulka!G187","v":"NJ"},{"$f":"[2]Tabulka!H187","v":100},{"$f":"+[2]Tabulka!AU187","v":0},{"$f":"+[2]Tabulka!AV187","v":{"v":0,"d":"0.00"}},{"$f":"+[2]Tabulka!AW187","v":0},{"$f":"+[2]Tabulka!AX187","v":{"v":0,"d":"0.00"}},{"$f":"+[2]Tabulka!AY187","v":0},{"$f":"+[2]Tabulka!AZ187","v":{"v":0,"d":"0.00"}},{"$f":"+[2]Tabulka!BA187","v":0},{"$f":"+[2]Tabulka!BB187","v":{"v":0,"d":"0.00"}},{"$f":"+[2]Tabulka!BC187","v":0},{"$f":"+[2]Tabulka!BD187","v":{"v":0,"d":"0.00"}},{"$f":"+[2]Tabulka!BE187","v":0},{"$f":"+[2]Tabulka!BF187","v":{"v":0,"d":"0.00"}},{"$f":"+[2]Tabulka!BG187","v":0},{"$f":"+[2]Tabulka!BH187","v":{"v":0,"d":"0.00"}},{"$f":"+[2]Tabulka!BI187","v":0},{"$f":"+[2]Tabulka!BJ187","v":{"v":0,"d":"0.00"}},{"$f":"+[2]Tabulka!AP187","v":{"v":18.788420767074477,"d":"18.79"}},{"$f":"+[2]Tabulka!AQ187","v":{"v":1,"d":"1.00"}},{"$f":"+[2]Tabulka!BM187","v":{"v":0,"d":"0.00"}},{"$f":"+[2]Tabulka!BN187","v":0},{"$f":"+[2]Tabulka!BO187","v":{"v":0,"d":"0.00"}}]
[null,{"$f":"[2]Tabulka!C188","v":"MATĚJKA"},{"$f":"[2]Tabulka!D188","v":"Kamil"},{"$f":"[2]Tabulka!E188","v":"1994-05-07"},{"$f":"[2]Tabulka!F188","v":"Havířov- Baník SKST"},{"$f":"[2]Tabulka!G188","v":"KA"},{"$f":"[2]Tabulka!H188","v":100},{"$f":"+[2]Tabulka!AU188","v":0},{"$f":"+[2]Tabulka!AV188","v":{"v":0,"d":"0.00"}},{"$f":"+[2]Tabulka!AW188","v":0},{"$f":"+[2]Tabulka!AX188","v":{"v":0,"d":"0.00"}},{"$f":"+[2]Tabulka!AY188","v":0},{"$f":"+[2]Tabulka!AZ188","v":{"v":0,"d":"0.00"}},{"$f":"+[2]Tabulka!BA188","v":0},{"$f":"+[2]Tabulka!BB188","v":{"v":0,"d":"0.00"}},{"$f":"+[2]Tabulka!BC188","v":0},{"$f":"+[2]Tabulka!BD188","v":{"v":0,"d":"0.00"}},{"$f":"+[2]Tabulka!BE188","v":0},{"$f":"+[2]Tabulka!BF188","v":{"v":0,"d":"0.00"}},{"$f":"+[2]Tabulka!BG188","v":0},{"$f":"+[2]Tabulka!BH188","v":{"v":0,"d":"0.00"}},{"$f":"+[2]Tabulka!BI188","v":0},{"$f":"+[2]Tabulka!BJ188","v":{"v":0,"d":"0.00"}},{"$f":"+[2]Tabulka!AP188","v":{"v":0,"d":"0.00"}},{"$f":"+[2]Tabulka!AQ188","v":{"v":0,"d":"0.00"}},{"$f":"+[2]Tabulka!BM188","v":{"v":0,"d":"0.00"}},{"$f":"+[2]Tabulka!BN188","v":0},{"$f":"+[2]Tabulka!BO188","v":{"v":0,"d":"0.00"}}]
[null,{"$f":"[2]Tabulka!C189","v":"MAZŮCH"},{"$f":"[2]Tabulka!D189","v":"Filip"},{"$f":"[2]Tabulka!E189","v":"2000-01-01"},{"$f":"[2]Tabulka!F189","v":"Ostrava - Zábřeh- Domik"},{"$f":"[2]Tabulka!G189","v":"OV"},{"$f":"[2]Tabulka!H189","v":0},{"$f":"+[2]Tabulka!AU189","v":0},{"$f":"+[2]Tabulka!AV189","v":{"v":0,"d":"0.00"}},{"$f":"+[2]Tabulka!AW189","v":0},{"$f":"+[2]Tabulka!AX189","v":{"v":0,"d":"0.00"}},{"$f":"+[2]Tabulka!AY189","v":0},{"$f":"+[2]Tabulka!AZ189","v":{"v":0,"d":"0.00"}},{"$f":"+[2]Tabulka!BA189","v":0},{"$f":"+[2]Tabulka!BB189","v":{"v":0,"d":"0.00"}},{"$f":"+[2]Tabulka!BC189","v":0},{"$f":"+[2]Tabulka!BD189","v":{"v":0,"d":"0.00"}},{"$f":"+[2]Tabulka!BE189","v":0},{"$f":"+[2]Tabulka!BF189","v":{"v":0,"d":"0.00"}},{"$f":"+[2]Tabulka!BG189","v":0},{"$f":"+[2]Tabulka!BH189","v":{"v":0,"d":"0.00"}},{"$f":"+[2]Tabulka!BI189","v":0},{"$f":"+[2]Tabulka!BJ189","v":{"v":0,"d":"0.00"}},{"$f":"+[2]Tabulka!AP189","v":{"v":0,"d":"0.00"}},{"$f":"+[2]Tabulka!AQ189","v":{"v":0,"d":"0.00"}},{"$f":"+[2]Tabulka!BM189","v":{"v":0,"d":"0.00"}},{"$f":"+[2]Tabulka!BN189","v":0},{"$f":"+[2]Tabulka!BO189","v":{"v":0,"d":"0.00"}}]
[null,{"$f":"[2]Tabulka!C190","v":"MAZUR"},{"$f":"[2]Tabulka!D190","v":"Jan"},{"$f":"[2]Tabulka!E190","v":"1997-01-01"},{"$f":"[2]Tabulka!F190","v":"Hradec nad Moravicí- FIT SPORT KLUB "},{"$f":"[2]Tabulka!G190","v":"OP"},{"$f":"[2]Tabulka!H190","v":0},{"$f":"+[2]Tabulka!AU190","v":0},{"$f":"+[2]Tabulka!AV190","v":{"v":0,"d":"0.00"}},{"$f":"+[2]Tabulka!AW190","v":0},{"$f":"+[2]Tabulka!AX190","v":{"v":0,"d":"0.00"}},{"$f":"+[2]Tabulka!AY190","v":0},{"$f":"+[2]Tabulka!AZ190","v":{"v":0,"d":"0.00"}},{"$f":"+[2]Tabulka!BA190","v":0},{"$f":"+[2]Tabulka!BB190","v":{"v":0,"d":"0.00"}},{"$f":"+[2]Tabulka!BC190","v":0},{"$f":"+[2]Tabulka!BD190","v":{"v":0,"d":"0.00"}},{"$f":"+[2]Tabulka!BE190","v":0},{"$f":"+[2]Tabulka!BF190","v":{"v":0,"d":"0.00"}},{"$f":"+[2]Tabulka!BG190","v":0},{"$f":"+[2]Tabulka!BH190","v":{"v":0,"d":"0.00"}},{"$f":"+[2]Tabulka!BI190","v":0},{"$f":"+[2]Tabulka!BJ190","v":{"v":0,"d":"0.00"}},{"$f":"+[2]Tabulka!AP190","v":{"v":0,"d":"0.00"}},{"$f":"+[2]Tabulka!AQ190","v":{"v":0,"d":"0.00"}},{"$f":"+[2]Tabulka!BM190","v":{"v":0,"d":"0.00"}},{"$f":"+[2]Tabulka!BN190","v":0},{"$f":"+[2]Tabulka!BO190","v":{"v":0,"d":"0.00"}}]
[null,{"$f":"[2]Tabulka!C191","v":"MERENDA"},{"$f":"[2]Tabulka!D191","v":"David"},{"$f":"[2]Tabulka!E191","v":"1999-01-01"},{"$f":"[2]Tabulka!F191","v":"Kopřivnice- Tatra  ASK"},{"$f":"[2]Tabulka!G191","v":"NJ"},{"$f":"[2]Tabulka!H191","v":0},{"$f":"+[2]Tabulka!AU191","v":0},{"$f":"+[2]Tabulka!AV191","v":{"v":0,"d":"0.00"}},{"$f":"+[2]Tabulka!AW191","v":0},{"$f":"+[2]Tabulka!AX191","v":{"v":0,"d":"0.00"}},{"$f":"+[2]Tabulka!AY191","v":0},{"$f":"+[2]Tabulka!AZ191","v":{"v":0,"d":"0.00"}},{"$f":"+[2]Tabulka!BA191","v":0},{"$f":"+[2]Tabulka!BB191","v":{"v":0,"d":"0.00"}},{"$f":"+[2]Tabulka!BC191","v":0},{"$f":"+[2]Tabulka!BD191","v":{"v":0,"d":"0.00"}},{"$f":"+[2]Tabulka!BE191","v":0},{"$f":"+[2]Tabulka!BF191","v":{"v":0,"d":"0.00"}},{"$f":"+[2]Tabulka!BG191","v":0},{"$f":"+[2]Tabulka!BH191","v":{"v":0,"d":"0.00"}},{"$f":"+[2]Tabulka!BI191","v":0},{"$f":"+[2]Tabulka!BJ191","v":{"v":0,"d":"0.00"}},{"$f":"+[2]Tabulka!AP191","v":{"v":0,"d":"0.00"}},{"$f":"+[2]Tabulka!AQ191","v":{"v":0,"d":"0.00"}},{"$f":"+[2]Tabulka!BM191","v":{"v":0,"d":"0.00"}},{"$f":"+[2]Tabulka!BN191","v":0},{"$f":"+[2]Tabulka!BO191","v":{"v":0,"d":"0.00"}}]
[null,{"$f":"[2]Tabulka!C192","v":"MIK"},{"$f":"[2]Tabulka!D192","v":"Patrick"},{"$f":"[2]Tabulka!E192","v":"1997-06-26"},{"$f":"[2]Tabulka!F192","v":"Nový Jičín- TJ"},{"$f":"[2]Tabulka!G192","v":"NJ"},{"$f":"[2]Tabulka!H192","v":100},{"$f":"+[2]Tabulka!AU192","v":0},{"$f":"+[2]Tabulka!AV192","v":{"v":0,"d":"0.00"}},{"$f":"+[2]Tabulka!AW192","v":0},{"$f":"+[2]Tabulka!AX192","v":{"v":0,"d":"0.00"}},{"$f":"+[2]Tabulka!AY192","v":0},{"$f":"+[2]Tabulka!AZ192","v":{"v":0,"d":"0.00"}},{"$f":"+[2]Tabulka!BA192","v":0},{"$f":"+[2]Tabulka!BB192","v":{"v":0,"d":"0.00"}},{"$f":"+[2]Tabulka!BC192","v":0},{"$f":"+[2]Tabulka!BD192","v":{"v":0,"d":"0.00"}},{"$f":"+[2]Tabulka!BE192","v":0},{"$f":"+[2]Tabulka!BF192","v":{"v":0,"d":"0.00"}},{"$f":"+[2]Tabulka!BG192","v":0},{"$f":"+[2]Tabulka!BH192","v":{"v":0,"d":"0.00"}},{"$f":"+[2]Tabulka!BI192","v":0},{"$f":"+[2]Tabulka!BJ192","v":{"v":0,"d":"0.00"}},{"$f":"+[2]Tabulka!AP192","v":{"v":10.656994905395473,"d":"10.66"}},{"$f":"+[2]Tabulka!AQ192","v":{"v":4,"d":"4.00"}},{"$f":"+[2]Tabulka!BM192","v":{"v":0,"d":"0.00"}},{"$f":"+[2]Tabulka!BN192","v":0},{"$f":"+[2]Tabulka!BO192","v":{"v":0,"d":"0.00"}}]
[null,{"$f":"[2]Tabulka!C193","v":"MIKOLAŠÍK"},{"$f":"[2]Tabulka!D193","v":"Michal"},{"$f":"[2]Tabulka!E193","v":"1999-02-02"},{"$f":"[2]Tabulka!F193","v":"Havířov- Baník SKST"},{"$f":"[2]Tabulka!G193","v":"KA"},{"$f":"[2]Tabulka!H193","v":100},{"$f":"+[2]Tabulka!AU193","v":0},{"$f":"+[2]Tabulka!AV193","v":{"v":0,"d":"0.00"}},{"$f":"+[2]Tabulka!AW193","v":0},{"$f":"+[2]Tabulka!AX193","v":{"v":0,"d":"0.00"}},{"$f":"+[2]Tabulka!AY193","v":0},{"$f":"+[2]Tabulka!AZ193","v":{"v":0,"d":"0.00"}},{"$f":"+[2]Tabulka!BA193","v":0},{"$f":"+[2]Tabulka!BB193","v":{"v":0,"d":"0.00"}},{"$f":"+[2]Tabulka!BC193","v":0},{"$f":"+[2]Tabulka!BD193","v":{"v":0,"d":"0.00"}},{"$f":"+[2]Tabulka!BE193","v":0},{"$f":"+[2]Tabulka!BF193","v":{"v":0,"d":"0.00"}},{"$f":"+[2]Tabulka!BG193","v":0},{"$f":"+[2]Tabulka!BH193","v":{"v":0,"d":"0.00"}},{"$f":"+[2]Tabulka!BI193","v":0},{"$f":"+[2]Tabulka!BJ193","v":{"v":0,"d":"0.00"}},{"$f":"+[2]Tabulka!AP193","v":{"v":7.260079385627469,"d":"7.26"}},{"$f":"+[2]Tabulka!AQ193","v":{"v":1,"d":"1.00"}},{"$f":"+[2]Tabulka!BM193","v":{"v":0,"d":"0.00"}},{"$f":"+[2]Tabulka!BN193","v":0},{"$f":"+[2]Tabulka!BO193","v":{"v":0,"d":"0.00"}}]
[null,{"$f":"[2]Tabulka!C194","v":"MIKULEC"},{"$f":"[2]Tabulka!D194","v":"Vojtěch"},{"$f":"[2]Tabulka!E194","v":"1997-02-21"},{"$f":"[2]Tabulka!F194","v":"Nový Jičín- TJ"},{"$f":"[2]Tabulka!G194","v":"NJ"},{"$f":"[2]Tabulka!H194","v":100},{"$f":"+[2]Tabulka!AU194","v":0},{"$f":"+[2]Tabulka!AV194","v":{"v":0,"d":"0.00"}},{"$f":"+[2]Tabulka!AW194","v":0},{"$f":"+[2]Tabulka!AX194","v":{"v":0,"d":"0.00"}},{"$f":"+[2]Tabulka!AY194","v":0},{"$f":"+[2]Tabulka!AZ194","v":{"v":0,"d":"0.00"}},{"$f":"+[2]Tabulka!BA194","v":0},{"$f":"+[2]Tabulka!BB194","v":{"v":0,"d":"0.00"}},{"$f":"+[2]Tabulka!BC194","v":0},{"$f":"+[2]Tabulka!BD194","v":{"v":0,"d":"0.00"}},{"$f":"+[2]Tabulka!BE194","v":0},{"$f":"+[2]Tabulka!BF194","v":{"v":0,"d":"0.00"}},{"$f":"+[2]Tabulka!BG194","v":0},{"$f":"+[2]Tabulka!BH194","v":{"v":0,"d":"0.00"}},{"$f":"+[2]Tabulka!BI194","v":0},{"$f":"+[2]Tabulka!BJ194","v":{"v":0,"d":"0.00"}},{"$f":"+[2]Tabulka!AP194","v":{"v":0,"d":"0.00"}},{"$f":"+[2]Tabulka!AQ194","v":{"v":0,"d":"0.00"}},{"$f":"+[2]Tabulka!BM194","v":{"v":0,"d":"0.00"}},{"$f":"+[2]Tabulka!BN194","v":0},{"$f":"+[2]Tabulka!BO194","v":{"v":0,"d":"0.00"}}]
[null,{"$f":"[2]Tabulka!C195","v":"MLÝNEK"},{"$f":"[2]Tabulka!D195","v":"Patrik"},{"$f":"[2]Tabulka!E195","v":"1997-04-12"},{"$f":"[2]Tabulka!F195","v":"Frýdek-Místek- Slezan TJ"},{"$f":"[2]Tabulka!G195","v":"FM"},{"$f":"[2]Tabulka!H195","v":100},{"$f":"+[2]Tabulka!AU195","v":0},{"$f":"+[2]Tabulka!AV195","v":{"v":0,"d":"0.00"}},{"$f":"+[2]Tabulka!AW195","v":0},{"$f":"+[2]Tabulka!AX195","v":{"v":0,"d":"0.00"}},{"$f":"+[2]Tabulka!AY195","v":0},{"$f":"+[2]Tabulka!AZ195","v":{"v":0,"d":"0.00"}},{"$f":"+[2]Tabulka!BA195","v":0},{"$f":"+[2]Tabulka!BB195","v":{"v":0,"d":"0.00"}},{"$f":"+[2]Tabulka!BC195","v":0},{"$f":"+[2]Tabulka!BD195","v":{"v":0,"d":"0.00"}},{"$f":"+[2]Tabulka!BE195","v":0},{"$f":"+[2]Tabulka!BF195","v":{"v":0,"d":"0.00"}},{"$f":"+[2]Tabulka!BG195","v":0},{"$f":"+[2]Tabulka!BH195","v":{"v":0,"d":"0.00"}},{"$f":"+[2]Tabulka!BI195","v":0},{"$f":"+[2]Tabulka!BJ195","v":{"v":0,"d":"0.00"}},{"$f":"+[2]Tabulka!AP195","v":{"v":0,"d":"0.00"}},{"$f":"+[2]Tabulka!AQ195","v":{"v":0,"d":"0.00"}},{"$f":"+[2]Tabulka!BM195","v":{"v":0,"d":"0.00"}},{"$f":"+[2]Tabulka!BN195","v":0},{"$f":"+[2]Tabulka!BO195","v":{"v":0,"d":"0.00"}}]
[null,{"$f":"[2]Tabulka!C196","v":"MOHELNÍK"},{"$f":"[2]Tabulka!D196","v":"Radek"},{"$f":"[2]Tabulka!E196","v":"1996-11-20"},{"$f":"[2]Tabulka!F196","v":"Darkovice- KST"},{"$f":"[2]Tabulka!G196","v":"OP"},{"$f":"[2]Tabulka!H196","v":100},{"$f":"+[2]Tabulka!AU196","v":0},{"$f":"+[2]Tabulka!AV196","v":{"v":0,"d":"0.00"}},{"$f":"+[2]Tabulka!AW196","v":0},{"$f":"+[2]Tabulka!AX196","v":{"v":0,"d":"0.00"}},{"$f":"+[2]Tabulka!AY196","v":0},{"$f":"+[2]Tabulka!AZ196","v":{"v":0,"d":"0.00"}},{"$f":"+[2]Tabulka!BA196","v":0},{"$f":"+[2]Tabulka!BB196","v":{"v":0,"d":"0.00"}},{"$f":"+[2]Tabulka!BC196","v":0},{"$f":"+[2]Tabulka!BD196","v":{"v":0,"d":"0.00"}},{"$f":"+[2]Tabulka!BE196","v":0},{"$f":"+[2]Tabulka!BF196","v":{"v":0,"d":"0.00"}},{"$f":"+[2]Tabulka!BG196","v":0},{"$f":"+[2]Tabulka!BH196","v":{"v":0,"d":"0.00"}},{"$f":"+[2]Tabulka!BI196","v":0},{"$f":"+[2]Tabulka!BJ196","v":{"v":0,"d":"0.00"}},{"$f":"+[2]Tabulka!AP196","v":{"v":6.521576752158127,"d":"6.52"}},{"$f":"+[2]Tabulka!AQ196","v":{"v":3,"d":"3.00"}},{"$f":"+[2]Tabulka!BM196","v":{"v":0,"d":"0.00"}},{"$f":"+[2]Tabulka!BN196","v":0},{"$f":"+[2]Tabulka!BO196","v":{"v":0,"d":"0.00"}}]
[null,{"$f":"[2]Tabulka!C197","v":"MORAVEC"},{"$f":"[2]Tabulka!D197","v":"Michal"},{"$f":"[2]Tabulka!E197","v":"1998-01-26"},{"$f":"[2]Tabulka!F197","v":"Darkovice- KST"},{"$f":"[2]Tabulka!G197","v":"OP"},{"$f":"[2]Tabulka!H197","v":100},{"$f":"+[2]Tabulka!AU197","v":0},{"$f":"+[2]Tabulka!AV197","v":{"v":0,"d":"0.00"}},{"$f":"+[2]Tabulka!AW197","v":0},{"$f":"+[2]Tabulka!AX197","v":{"v":0,"d":"0.00"}},{"$f":"+[2]Tabulka!AY197","v":0},{"$f":"+[2]Tabulka!AZ197","v":{"v":0,"d":"0.00"}},{"$f":"+[2]Tabulka!BA197","v":0},{"$f":"+[2]Tabulka!BB197","v":{"v":0,"d":"0.00"}},{"$f":"+[2]Tabulka!BC197","v":0},{"$f":"+[2]Tabulka!BD197","v":{"v":0,"d":"0.00"}},{"$f":"+[2]Tabulka!BE197","v":0},{"$f":"+[2]Tabulka!BF197","v":{"v":0,"d":"0.00"}},{"$f":"+[2]Tabulka!BG197","v":0},{"$f":"+[2]Tabulka!BH197","v":{"v":0,"d":"0.00"}},{"$f":"+[2]Tabulka!BI197","v":0},{"$f":"+[2]Tabulka!BJ197","v":{"v":0,"d":"0.00"}},{"$f":"+[2]Tabulka!AP197","v":{"v":31.474179038469572,"d":"31.47"}},{"$f":"+[2]Tabulka!AQ197","v":{"v":4,"d":"4.00"}},{"$f":"+[2]Tabulka!BM197","v":{"v":0,"d":"0.00"}},{"$f":"+[2]Tabulka!BN197","v":0},{"$f":"+[2]Tabulka!BO197","v":{"v":0,"d":"0.00"}}]
[null,{"$f":"[2]Tabulka!C198","v":"MORYS"},{"$f":"[2]Tabulka!D198","v":"Patrik"},{"$f":"[2]Tabulka!E198","v":"1999-01-01"},{"$f":"[2]Tabulka!F198","v":"Ostrava- Domik"},{"$f":"[2]Tabulka!G198","v":"OV"},{"$f":"[2]Tabulka!H198","v":0},{"$f":"+[2]Tabulka!AU198","v":0},{"$f":"+[2]Tabulka!AV198","v":{"v":0,"d":"0.00"}},{"$f":"+[2]Tabulka!AW198","v":0},{"$f":"+[2]Tabulka!AX198","v":{"v":0,"d":"0.00"}},{"$f":"+[2]Tabulka!AY198","v":0},{"$f":"+[2]Tabulka!AZ198","v":{"v":0,"d":"0.00"}},{"$f":"+[2]Tabulka!BA198","v":0},{"$f":"+[2]Tabulka!BB198","v":{"v":0,"d":"0.00"}},{"$f":"+[2]Tabulka!BC198","v":0},{"$f":"+[2]Tabulka!BD198","v":{"v":0,"d":"0.00"}},{"$f":"+[2]Tabulka!BE198","v":0},{"$f":"+[2]Tabulka!BF198","v":{"v":0,"d":"0.00"}},{"$f":"+[2]Tabulka!BG198","v":0},{"$f":"+[2]Tabulka!BH198","v":{"v":0,"d":"0.00"}},{"$f":"+[2]Tabulka!BI198","v":0},{"$f":"+[2]Tabulka!BJ198","v":{"v":0,"d":"0.00"}},{"$f":"+[2]Tabulka!AP198","v":{"v":0,"d":"0.00"}},{"$f":"+[2]Tabulka!AQ198","v":{"v":0,"d":"0.00"}},{"$f":"+[2]Tabulka!BM198","v":{"v":0,"d":"0.00"}},{"$f":"+[2]Tabulka!BN198","v":0},{"$f":"+[2]Tabulka!BO198","v":{"v":0,"d":"0.00"}}]
[null,{"$f":"[2]Tabulka!C199","v":"MUROŇ"},{"$f":"[2]Tabulka!D199","v":"Ondřej"},{"$f":"[2]Tabulka!E199","v":"1999-11-05"},{"$f":"[2]Tabulka!F199","v":"Kateřinky- Sokol TJ"},{"$f":"[2]Tabulka!G199","v":"OP"},{"$f":"[2]Tabulka!H199","v":100},{"$f":"+[2]Tabulka!AU199","v":0},{"$f":"+[2]Tabulka!AV199","v":{"v":0,"d":"0.00"}},{"$f":"+[2]Tabulka!AW199","v":0},{"$f":"+[2]Tabulka!AX199","v":{"v":0,"d":"0.00"}},{"$f":"+[2]Tabulka!AY199","v":0},{"$f":"+[2]Tabulka!AZ199","v":{"v":0,"d":"0.00"}},{"$f":"+[2]Tabulka!BA199","v":0},{"$f":"+[2]Tabulka!BB199","v":{"v":0,"d":"0.00"}},{"$f":"+[2]Tabulka!BC199","v":0},{"$f":"+[2]Tabulka!BD199","v":{"v":0,"d":"0.00"}},{"$f":"+[2]Tabulka!BE199","v":0},{"$f":"+[2]Tabulka!BF199","v":{"v":0,"d":"0.00"}},{"$f":"+[2]Tabulka!BG199","v":0},{"$f":"+[2]Tabulka!BH199","v":{"v":0,"d":"0.00"}},{"$f":"+[2]Tabulka!BI199","v":0},{"$f":"+[2]Tabulka!BJ199","v":{"v":0,"d":"0.00"}},{"$f":"+[2]Tabulka!AP199","v":{"v":0.36695836482918964,"d":"0.37"}},{"$f":"+[2]Tabulka!AQ199","v":{"v":2,"d":"2.00"}},{"$f":"+[2]Tabulka!BM199","v":{"v":0,"d":"0.00"}},{"$f":"+[2]Tabulka!BN199","v":0},{"$f":"+[2]Tabulka!BO199","v":{"v":0,"d":"0.00"}}]
[null,{"$f":"[2]Tabulka!C200","v":"NAPRAVIL"},{"$f":"[2]Tabulka!D200","v":"Daniel"},{"$f":"[2]Tabulka!E200","v":"1997-01-01"},{"$f":"[2]Tabulka!F200","v":"Karviná- KLUBsten KST"},{"$f":"[2]Tabulka!G200","v":"KA"},{"$f":"[2]Tabulka!H200","v":0},{"$f":"+[2]Tabulka!AU200","v":0},{"$f":"+[2]Tabulka!AV200","v":{"v":0,"d":"0.00"}},{"$f":"+[2]Tabulka!AW200","v":0},{"$f":"+[2]Tabulka!AX200","v":{"v":0,"d":"0.00"}},{"$f":"+[2]Tabulka!AY200","v":0},{"$f":"+[2]Tabulka!AZ200","v":{"v":0,"d":"0.00"}},{"$f":"+[2]Tabulka!BA200","v":0},{"$f":"+[2]Tabulka!BB200","v":{"v":0,"d":"0.00"}},{"$f":"+[2]Tabulka!BC200","v":0},{"$f":"+[2]Tabulka!BD200","v":{"v":0,"d":"0.00"}},{"$f":"+[2]Tabulka!BE200","v":0},{"$f":"+[2]Tabulka!BF200","v":{"v":0,"d":"0.00"}},{"$f":"+[2]Tabulka!BG200","v":0},{"$f":"+[2]Tabulka!BH200","v":{"v":0,"d":"0.00"}},{"$f":"+[2]Tabulka!BI200","v":0},{"$f":"+[2]Tabulka!BJ200","v":{"v":0,"d":"0.00"}},{"$f":"+[2]Tabulka!AP200","v":{"v":0,"d":"0.00"}},{"$f":"+[2]Tabulka!AQ200","v":{"v":0,"d":"0.00"}},{"$f":"+[2]Tabulka!BM200","v":{"v":0,"d":"0.00"}},{"$f":"+[2]Tabulka!BN200","v":0},{"$f":"+[2]Tabulka!BO200","v":{"v":0,"d":"0.00"}}]
[null,{"$f":"[2]Tabulka!C201","v":"NĚMEC"},{"$f":"[2]Tabulka!D201","v":"David"},{"$f":"[2]Tabulka!E201","v":"1995-03-14"},{"$f":"[2]Tabulka!F201","v":"Malenovice- BSK"},{"$f":"[2]Tabulka!G201","v":"FM"},{"$f":"[2]Tabulka!H201","v":100},{"$f":"+[2]Tabulka!AU201","v":0},{"$f":"+[2]Tabulka!AV201","v":{"v":0,"d":"0.00"}},{"$f":"+[2]Tabulka!AW201","v":0},{"$f":"+[2]Tabulka!AX201","v":{"v":0,"d":"0.00"}},{"$f":"+[2]Tabulka!AY201","v":0},{"$f":"+[2]Tabulka!AZ201","v":{"v":0,"d":"0.00"}},{"$f":"+[2]Tabulka!BA201","v":0},{"$f":"+[2]Tabulka!BB201","v":{"v":0,"d":"0.00"}},{"$f":"+[2]Tabulka!BC201","v":0},{"$f":"+[2]Tabulka!BD201","v":{"v":0,"d":"0.00"}},{"$f":"+[2]Tabulka!BE201","v":0},{"$f":"+[2]Tabulka!BF201","v":{"v":0,"d":"0.00"}},{"$f":"+[2]Tabulka!BG201","v":0},{"$f":"+[2]Tabulka!BH201","v":{"v":0,"d":"0.00"}},{"$f":"+[2]Tabulka!BI201","v":0},{"$f":"+[2]Tabulka!BJ201","v":{"v":0,"d":"0.00"}},{"$f":"+[2]Tabulka!AP201","v":{"v":18.16666152269776,"d":"18.17"}},{"$f":"+[2]Tabulka!AQ201","v":{"v":4,"d":"4.00"}},{"$f":"+[2]Tabulka!BM201","v":{"v":0,"d":"0.00"}},{"$f":"+[2]Tabulka!BN201","v":0},{"$f":"+[2]Tabulka!BO201","v":{"v":0,"d":"0.00"}}]
[null,{"$f":"[2]Tabulka!C202","v":"NOVÁK"},{"$f":"[2]Tabulka!D202","v":"Michal"},{"$f":"[2]Tabulka!E202","v":"2000-01-06"},{"$f":"[2]Tabulka!F202","v":"Ostrava- Mittal TJ"},{"$f":"[2]Tabulka!G202","v":"OV"},{"$f":"[2]Tabulka!H202","v":100},{"$f":"+[2]Tabulka!AU202","v":0},{"$f":"+[2]Tabulka!AV202","v":{"v":0,"d":"0.00"}},{"$f":"+[2]Tabulka!AW202","v":0},{"$f":"+[2]Tabulka!AX202","v":{"v":0,"d":"0.00"}},{"$f":"+[2]Tabulka!AY202","v":0},{"$f":"+[2]Tabulka!AZ202","v":{"v":0,"d":"0.00"}},{"$f":"+[2]Tabulka!BA202","v":0},{"$f":"+[2]Tabulka!BB202","v":{"v":0,"d":"0.00"}},{"$f":"+[2]Tabulka!BC202","v":0},{"$f":"+[2]Tabulka!BD202","v":{"v":0,"d":"0.00"}},{"$f":"+[2]Tabulka!BE202","v":0},{"$f":"+[2]Tabulka!BF202","v":{"v":0,"d":"0.00"}},{"$f":"+[2]Tabulka!BG202","v":0},{"$f":"+[2]Tabulka!BH202","v":{"v":0,"d":"0.00"}},{"$f":"+[2]Tabulka!BI202","v":0},{"$f":"+[2]Tabulka!BJ202","v":{"v":0,"d":"0.00"}},{"$f":"+[2]Tabulka!AP202","v":{"v":0.12561052426197886,"d":"0.13"}},{"$f":"+[2]Tabulka!AQ202","v":{"v":1,"d":"1.00"}},{"$f":"+[2]Tabulka!BM202","v":{"v":0,"d":"0.00"}},{"$f":"+[2]Tabulka!BN202","v":0},{"$f":"+[2]Tabulka!BO202","v":{"v":0,"d":"0.00"}}]
[null,{"$f":"[2]Tabulka!C203","v":"NOVÁK"},{"$f":"[2]Tabulka!D203","v":"Martin"},{"$f":"[2]Tabulka!E203","v":"1997-02-09"},{"$f":"[2]Tabulka!F203","v":"Ostrava- SDDM"},{"$f":"[2]Tabulka!G203","v":"OV"},{"$f":"[2]Tabulka!H203","v":100},{"$f":"+[2]Tabulka!AU203","v":0},{"$f":"+[2]Tabulka!AV203","v":{"v":0,"d":"0.00"}},{"$f":"+[2]Tabulka!AW203","v":0},{"$f":"+[2]Tabulka!AX203","v":{"v":0,"d":"0.00"}},{"$f":"+[2]Tabulka!AY203","v":0},{"$f":"+[2]Tabulka!AZ203","v":{"v":0,"d":"0.00"}},{"$f":"+[2]Tabulka!BA203","v":0},{"$f":"+[2]Tabulka!BB203","v":{"v":0,"d":"0.00"}},{"$f":"+[2]Tabulka!BC203","v":0},{"$f":"+[2]Tabulka!BD203","v":{"v":0,"d":"0.00"}},{"$f":"+[2]Tabulka!BE203","v":0},{"$f":"+[2]Tabulka!BF203","v":{"v":0,"d":"0.00"}},{"$f":"+[2]Tabulka!BG203","v":0},{"$f":"+[2]Tabulka!BH203","v":{"v":0,"d":"0.00"}},{"$f":"+[2]Tabulka!BI203","v":0},{"$f":"+[2]Tabulka!BJ203","v":{"v":0,"d":"0.00"}},{"$f":"+[2]Tabulka!AP203","v":{"v":0.13383076345016154,"d":"0.13"}},{"$f":"+[2]Tabulka!AQ203","v":{"v":1,"d":"1.00"}},{"$f":"+[2]Tabulka!BM203","v":{"v":0,"d":"0.00"}},{"$f":"+[2]Tabulka!BN203","v":0},{"$f":"+[2]Tabulka!BO203","v":{"v":0,"d":"0.00"}}]
[null,{"$f":"[2]Tabulka!C204","v":"OBORNÝ"},{"$f":"[2]Tabulka!D204","v":"Dominik"},{"$f":"[2]Tabulka!E204","v":"1999-05-10"},{"$f":"[2]Tabulka!F204","v":"Hrabůvka- Sokol TJ"},{"$f":"[2]Tabulka!G204","v":"OV"},{"$f":"[2]Tabulka!H204","v":100},{"$f":"+[2]Tabulka!AU204","v":0},{"$f":"+[2]Tabulka!AV204","v":{"v":0,"d":"0.00"}},{"$f":"+[2]Tabulka!AW204","v":0},{"$f":"+[2]Tabulka!AX204","v":{"v":0,"d":"0.00"}},{"$f":"+[2]Tabulka!AY204","v":0},{"$f":"+[2]Tabulka!AZ204","v":{"v":0,"d":"0.00"}},{"$f":"+[2]Tabulka!BA204","v":0},{"$f":"+[2]Tabulka!BB204","v":{"v":0,"d":"0.00"}},{"$f":"+[2]Tabulka!BC204","v":0},{"$f":"+[2]Tabulka!BD204","v":{"v":0,"d":"0.00"}},{"$f":"+[2]Tabulka!BE204","v":0},{"$f":"+[2]Tabulka!BF204","v":{"v":0,"d":"0.00"}},{"$f":"+[2]Tabulka!BG204","v":0},{"$f":"+[2]Tabulka!BH204","v":{"v":0,"d":"0.00"}},{"$f":"+[2]Tabulka!BI204","v":0},{"$f":"+[2]Tabulka!BJ204","v":{"v":0,"d":"0.00"}},{"$f":"+[2]Tabulka!AP204","v":{"v":1.7487137908955863,"d":"1.75"}},{"$f":"+[2]Tabulka!AQ204","v":{"v":4,"d":"4.00"}},{"$f":"+[2]Tabulka!BM204","v":{"v":0,"d":"0.00"}},{"$f":"+[2]Tabulka!BN204","v":0},{"$f":"+[2]Tabulka!BO204","v":{"v":0,"d":"0.00"}}]
[null,{"$f":"[2]Tabulka!C205","v":"ONDERKA"},{"$f":"[2]Tabulka!D205","v":"František"},{"$f":"[2]Tabulka!E205","v":"2002-02-27"},{"$f":"[2]Tabulka!F205","v":"Opava- KST Slezan "},{"$f":"[2]Tabulka!G205","v":"OP"},{"$f":"[2]Tabulka!H205","v":100},{"$f":"+[2]Tabulka!AU205","v":0},{"$f":"+[2]Tabulka!AV205","v":{"v":0,"d":"0.00"}},{"$f":"+[2]Tabulka!AW205","v":0},{"$f":"+[2]Tabulka!AX205","v":{"v":0,"d":"0.00"}},{"$f":"+[2]Tabulka!AY205","v":0},{"$f":"+[2]Tabulka!AZ205","v":{"v":0,"d":"0.00"}},{"$f":"+[2]Tabulka!BA205","v":0},{"$f":"+[2]Tabulka!BB205","v":{"v":0,"d":"0.00"}},{"$f":"+[2]Tabulka!BC205","v":0},{"$f":"+[2]Tabulka!BD205","v":{"v":0,"d":"0.00"}},{"$f":"+[2]Tabulka!BE205","v":0},{"$f":"+[2]Tabulka!BF205","v":{"v":0,"d":"0.00"}},{"$f":"+[2]Tabulka!BG205","v":0},{"$f":"+[2]Tabulka!BH205","v":{"v":0,"d":"0.00"}},{"$f":"+[2]Tabulka!BI205","v":0},{"$f":"+[2]Tabulka!BJ205","v":{"v":0,"d":"0.00"}},{"$f":"+[2]Tabulka!AP205","v":{"v":2.4079995206805775,"d":"2.41"}},{"$f":"+[2]Tabulka!AQ205","v":{"v":3,"d":"3.00"}},{"$f":"+[2]Tabulka!BM205","v":{"v":0,"d":"0.00"}},{"$f":"+[2]Tabulka!BN205","v":0},{"$f":"+[2]Tabulka!BO205","v":{"v":0,"d":"0.00"}}]
[null,{"$f":"[2]Tabulka!C206","v":"PALETOVÁ"},{"$f":"[2]Tabulka!D206","v":"Barbora"},{"$f":"[2]Tabulka!E206","v":"2001-07-14"},{"$f":"[2]Tabulka!F206","v":"Děhylov- Sokol TJ"},{"$f":"[2]Tabulka!G206","v":"OP"},{"$f":"[2]Tabulka!H206","v":100},{"$f":"+[2]Tabulka!AU206","v":0},{"$f":"+[2]Tabulka!AV206","v":{"v":0,"d":"0.00"}},{"$f":"+[2]Tabulka!AW206","v":0},{"$f":"+[2]Tabulka!AX206","v":{"v":0,"d":"0.00"}},{"$f":"+[2]Tabulka!AY206","v":0},{"$f":"+[2]Tabulka!AZ206","v":{"v":0,"d":"0.00"}},{"$f":"+[2]Tabulka!BA206","v":0},{"$f":"+[2]Tabulka!BB206","v":{"v":0,"d":"0.00"}},{"$f":"+[2]Tabulka!BC206","v":0},{"$f":"+[2]Tabulka!BD206","v":{"v":0,"d":"0.00"}},{"$f":"+[2]Tabulka!BE206","v":0},{"$f":"+[2]Tabulka!BF206","v":{"v":0,"d":"0.00"}},{"$f":"+[2]Tabulka!BG206","v":0},{"$f":"+[2]Tabulka!BH206","v":{"v":0,"d":"0.00"}},{"$f":"+[2]Tabulka!BI206","v":0},{"$f":"+[2]Tabulka!BJ206","v":{"v":0,"d":"0.00"}},{"$f":"+[2]Tabulka!AP206","v":{"v":1.1127122091913286,"d":"1.11"}},{"$f":"+[2]Tabulka!AQ206","v":{"v":3,"d":"3.00"}},{"$f":"+[2]Tabulka!BM206","v":{"v":0,"d":"0.00"}},{"$f":"+[2]Tabulka!BN206","v":0},{"$f":"+[2]Tabulka!BO206","v":{"v":0,"d":"0.00"}}]
[null,{"$f":"[2]Tabulka!C207","v":"PALICA"},{"$f":"[2]Tabulka!D207","v":"Jiří"},{"$f":"[2]Tabulka!E207","v":"1999-06-17"},{"$f":"[2]Tabulka!F207","v":"Frýdek-Místek- Slezan TJ"},{"$f":"[2]Tabulka!G207","v":"FM"},{"$f":"[2]Tabulka!H207","v":100},{"$f":"+[2]Tabulka!AU207","v":0},{"$f":"+[2]Tabulka!AV207","v":{"v":0,"d":"0.00"}},{"$f":"+[2]Tabulka!AW207","v":0},{"$f":"+[2]Tabulka!AX207","v":{"v":0,"d":"0.00"}},{"$f":"+[2]Tabulka!AY207","v":0},{"$f":"+[2]Tabulka!AZ207","v":{"v":0,"d":"0.00"}},{"$f":"+[2]Tabulka!BA207","v":0},{"$f":"+[2]Tabulka!BB207","v":{"v":0,"d":"0.00"}},{"$f":"+[2]Tabulka!BC207","v":0},{"$f":"+[2]Tabulka!BD207","v":{"v":0,"d":"0.00"}},{"$f":"+[2]Tabulka!BE207","v":0},{"$f":"+[2]Tabulka!BF207","v":{"v":0,"d":"0.00"}},{"$f":"+[2]Tabulka!BG207","v":0},{"$f":"+[2]Tabulka!BH207","v":{"v":0,"d":"0.00"}},{"$f":"+[2]Tabulka!BI207","v":0},{"$f":"+[2]Tabulka!BJ207","v":{"v":0,"d":"0.00"}},{"$f":"+[2]Tabulka!AP207","v":{"v":0.1106537594995722,"d":"0.11"}},{"$f":"+[2]Tabulka!AQ207","v":{"v":1,"d":"1.00"}},{"$f":"+[2]Tabulka!BM207","v":{"v":0,"d":"0.00"}},{"$f":"+[2]Tabulka!BN207","v":0},{"$f":"+[2]Tabulka!BO207","v":{"v":0,"d":"0.00"}}]
[null,{"$f":"[2]Tabulka!C208","v":"PALIČKA"},{"$f":"[2]Tabulka!D208","v":"Filip"},{"$f":"[2]Tabulka!E208","v":"1997-01-01"},{"$f":"[2]Tabulka!F208","v":"Nový Jičín- TJ"},{"$f":"[2]Tabulka!G208","v":"NJ"},{"$f":"[2]Tabulka!H208","v":0},{"$f":"+[2]Tabulka!AU208","v":0},{"$f":"+[2]Tabulka!AV208","v":{"v":0,"d":"0.00"}},{"$f":"+[2]Tabulka!AW208","v":0},{"$f":"+[2]Tabulka!AX208","v":{"v":0,"d":"0.00"}},{"$f":"+[2]Tabulka!AY208","v":0},{"$f":"+[2]Tabulka!AZ208","v":{"v":0,"d":"0.00"}},{"$f":"+[2]Tabulka!BA208","v":0},{"$f":"+[2]Tabulka!BB208","v":{"v":0,"d":"0.00"}},{"$f":"+[2]Tabulka!BC208","v":0},{"$f":"+[2]Tabulka!BD208","v":{"v":0,"d":"0.00"}},{"$f":"+[2]Tabulka!BE208","v":0},{"$f":"+[2]Tabulka!BF208","v":{"v":0,"d":"0.00"}},{"$f":"+[2]Tabulka!BG208","v":0},{"$f":"+[2]Tabulka!BH208","v":{"v":0,"d":"0.00"}},{"$f":"+[2]Tabulka!BI208","v":0},{"$f":"+[2]Tabulka!BJ208","v":{"v":0,"d":"0.00"}},{"$f":"+[2]Tabulka!AP208","v":{"v":0,"d":"0.00"}},{"$f":"+[2]Tabulka!AQ208","v":{"v":0,"d":"0.00"}},{"$f":"+[2]Tabulka!BM208","v":{"v":0,"d":"0.00"}},{"$f":"+[2]Tabulka!BN208","v":0},{"$f":"+[2]Tabulka!BO208","v":{"v":0,"d":"0.00"}}]
[null,{"$f":"[2]Tabulka!C209","v":"PAVLÍK"},{"$f":"[2]Tabulka!D209","v":"Tibor"},{"$f":"[2]Tabulka!E209","v":"1996-02-22"},{"$f":"[2]Tabulka!F209","v":"Ostrava- Mittal TJ"},{"$f":"[2]Tabulka!G209","v":"OV"},{"$f":"[2]Tabulka!H209","v":100},{"$f":"+[2]Tabulka!AU209","v":0},{"$f":"+[2]Tabulka!AV209","v":{"v":0,"d":"0.00"}},{"$f":"+[2]Tabulka!AW209","v":0},{"$f":"+[2]Tabulka!AX209","v":{"v":0,"d":"0.00"}},{"$f":"+[2]Tabulka!AY209","v":0},{"$f":"+[2]Tabulka!AZ209","v":{"v":0,"d":"0.00"}},{"$f":"+[2]Tabulka!BA209","v":0},{"$f":"+[2]Tabulka!BB209","v":{"v":0,"d":"0.00"}},{"$f":"+[2]Tabulka!BC209","v":0},{"$f":"+[2]Tabulka!BD209","v":{"v":0,"d":"0.00"}},{"$f":"+[2]Tabulka!BE209","v":0},{"$f":"+[2]Tabulka!BF209","v":{"v":0,"d":"0.00"}},{"$f":"+[2]Tabulka!BG209","v":0},{"$f":"+[2]Tabulka!BH209","v":{"v":0,"d":"0.00"}},{"$f":"+[2]Tabulka!BI209","v":0},{"$f":"+[2]Tabulka!BJ209","v":{"v":0,"d":"0.00"}},{"$f":"+[2]Tabulka!AP209","v":{"v":0,"d":"0.00"}},{"$f":"+[2]Tabulka!AQ209","v":{"v":0,"d":"0.00"}},{"$f":"+[2]Tabulka!BM209","v":{"v":0,"d":"0.00"}},{"$f":"+[2]Tabulka!BN209","v":0},{"$f":"+[2]Tabulka!BO209","v":{"v":0,"d":"0.00"}}]
[null,{"$f":"[2]Tabulka!C210","v":"PEČINKA"},{"$f":"[2]Tabulka!D210","v":"Ondřej"},{"$f":"[2]Tabulka!E210","v":"1998-04-10"},{"$f":"[2]Tabulka!F210","v":"Frýdlant nad Ostravicí- SK"},{"$f":"[2]Tabulka!G210","v":"FM"},{"$f":"[2]Tabulka!H210","v":100},{"$f":"+[2]Tabulka!AU210","v":0},{"$f":"+[2]Tabulka!AV210","v":{"v":0,"d":"0.00"}},{"$f":"+[2]Tabulka!AW210","v":0},{"$f":"+[2]Tabulka!AX210","v":{"v":0,"d":"0.00"}},{"$f":"+[2]Tabulka!AY210","v":0},{"$f":"+[2]Tabulka!AZ210","v":{"v":0,"d":"0.00"}},{"$f":"+[2]Tabulka!BA210","v":0},{"$f":"+[2]Tabulka!BB210","v":{"v":0,"d":"0.00"}},{"$f":"+[2]Tabulka!BC210","v":0},{"$f":"+[2]Tabulka!BD210","v":{"v":0,"d":"0.00"}},{"$f":"+[2]Tabulka!BE210","v":0},{"$f":"+[2]Tabulka!BF210","v":{"v":0,"d":"0.00"}},{"$f":"+[2]Tabulka!BG210","v":0},{"$f":"+[2]Tabulka!BH210","v":{"v":0,"d":"0.00"}},{"$f":"+[2]Tabulka!BI210","v":0},{"$f":"+[2]Tabulka!BJ210","v":{"v":0,"d":"0.00"}},{"$f":"+[2]Tabulka!AP210","v":{"v":12.53995348967104,"d":"12.54"}},{"$f":"+[2]Tabulka!AQ210","v":{"v":2,"d":"2.00"}},{"$f":"+[2]Tabulka!BM210","v":{"v":0,"d":"0.00"}},{"$f":"+[2]Tabulka!BN210","v":0},{"$f":"+[2]Tabulka!BO210","v":{"v":0,"d":"0.00"}}]
[null,{"$f":"[2]Tabulka!C211","v":"PECHA"},{"$f":"[2]Tabulka!D211","v":"Daniel"},{"$f":"[2]Tabulka!E211","v":"1997-01-01"},{"$f":"[2]Tabulka!F211","v":"Havířov- CSVČ sv. Jana Boska"},{"$f":"[2]Tabulka!G211","v":"KA"},{"$f":"[2]Tabulka!H211","v":0},{"$f":"+[2]Tabulka!AU211","v":0},{"$f":"+[2]Tabulka!AV211","v":{"v":0,"d":"0.00"}},{"$f":"+[2]Tabulka!AW211","v":0},{"$f":"+[2]Tabulka!AX211","v":{"v":0,"d":"0.00"}},{"$f":"+[2]Tabulka!AY211","v":0},{"$f":"+[2]Tabulka!AZ211","v":{"v":0,"d":"0.00"}},{"$f":"+[2]Tabulka!BA211","v":0},{"$f":"+[2]Tabulka!BB211","v":{"v":0,"d":"0.00"}},{"$f":"+[2]Tabulka!BC211","v":0},{"$f":"+[2]Tabulka!BD211","v":{"v":0,"d":"0.00"}},{"$f":"+[2]Tabulka!BE211","v":0},{"$f":"+[2]Tabulka!BF211","v":{"v":0,"d":"0.00"}},{"$f":"+[2]Tabulka!BG211","v":0},{"$f":"+[2]Tabulka!BH211","v":{"v":0,"d":"0.00"}},{"$f":"+[2]Tabulka!BI211","v":0},{"$f":"+[2]Tabulka!BJ211","v":{"v":0,"d":"0.00"}},{"$f":"+[2]Tabulka!AP211","v":{"v":0,"d":"0.00"}},{"$f":"+[2]Tabulka!AQ211","v":{"v":0,"d":"0.00"}},{"$f":"+[2]Tabulka!BM211","v":{"v":0,"d":"0.00"}},{"$f":"+[2]Tabulka!BN211","v":0},{"$f":"+[2]Tabulka!BO211","v":{"v":0,"d":"0.00"}}]
[null,{"$f":"[2]Tabulka!C212","v":"PETROVOVÁ"},{"$f":"[2]Tabulka!D212","v":"Nikita"},{"$f":"[2]Tabulka!E212","v":"1999-09-26"},{"$f":"[2]Tabulka!F212","v":"Frýdlant nad Ostravicí- SK"},{"$f":"[2]Tabulka!G212","v":"FM"},{"$f":"[2]Tabulka!H212","v":100},{"$f":"+[2]Tabulka!AU212","v":0},{"$f":"+[2]Tabulka!AV212","v":{"v":0,"d":"0.00"}},{"$f":"+[2]Tabulka!AW212","v":0},{"$f":"+[2]Tabulka!AX212","v":{"v":0,"d":"0.00"}},{"$f":"+[2]Tabulka!AY212","v":0},{"$f":"+[2]Tabulka!AZ212","v":{"v":0,"d":"0.00"}},{"$f":"+[2]Tabulka!BA212","v":0},{"$f":"+[2]Tabulka!BB212","v":{"v":0,"d":"0.00"}},{"$f":"+[2]Tabulka!BC212","v":0},{"$f":"+[2]Tabulka!BD212","v":{"v":0,"d":"0.00"}},{"$f":"+[2]Tabulka!BE212","v":0},{"$f":"+[2]Tabulka!BF212","v":{"v":0,"d":"0.00"}},{"$f":"+[2]Tabulka!BG212","v":0},{"$f":"+[2]Tabulka!BH212","v":{"v":0,"d":"0.00"}},{"$f":"+[2]Tabulka!BI212","v":0},{"$f":"+[2]Tabulka!BJ212","v":{"v":0,"d":"0.00"}},{"$f":"+[2]Tabulka!AP212","v":{"v":4.372219449837039,"d":"4.37"}},{"$f":"+[2]Tabulka!AQ212","v":{"v":1,"d":"1.00"}},{"$f":"+[2]Tabulka!BM212","v":{"v":0,"d":"0.00"}},{"$f":"+[2]Tabulka!BN212","v":0},{"$f":"+[2]Tabulka!BO212","v":{"v":0,"d":"0.00"}}]
[null,{"$f":"[2]Tabulka!C213","v":"PILCH"},{"$f":"[2]Tabulka!D213","v":"Jakub"},{"$f":"[2]Tabulka!E213","v":"1999-07-17"},{"$f":"[2]Tabulka!F213","v":"Třinec- TŽ TJ"},{"$f":"[2]Tabulka!G213","v":"FM"},{"$f":"[2]Tabulka!H213","v":100},{"$f":"+[2]Tabulka!AU213","v":0},{"$f":"+[2]Tabulka!AV213","v":{"v":0,"d":"0.00"}},{"$f":"+[2]Tabulka!AW213","v":0},{"$f":"+[2]Tabulka!AX213","v":{"v":0,"d":"0.00"}},{"$f":"+[2]Tabulka!AY213","v":0},{"$f":"+[2]Tabulka!AZ213","v":{"v":0,"d":"0.00"}},{"$f":"+[2]Tabulka!BA213","v":0},{"$f":"+[2]Tabulka!BB213","v":{"v":0,"d":"0.00"}},{"$f":"+[2]Tabulka!BC213","v":0},{"$f":"+[2]Tabulka!BD213","v":{"v":0,"d":"0.00"}},{"$f":"+[2]Tabulka!BE213","v":0},{"$f":"+[2]Tabulka!BF213","v":{"v":0,"d":"0.00"}},{"$f":"+[2]Tabulka!BG213","v":0},{"$f":"+[2]Tabulka!BH213","v":{"v":0,"d":"0.00"}},{"$f":"+[2]Tabulka!BI213","v":0},{"$f":"+[2]Tabulka!BJ213","v":{"v":0,"d":"0.00"}},{"$f":"+[2]Tabulka!AP213","v":{"v":49.42630605996132,"d":"49.43"}},{"$f":"+[2]Tabulka!AQ213","v":{"v":4,"d":"4.00"}},{"$f":"+[2]Tabulka!BM213","v":{"v":0,"d":"0.00"}},{"$f":"+[2]Tabulka!BN213","v":0},{"$f":"+[2]Tabulka!BO213","v":{"v":0,"d":"0.00"}}]
[null,{"$f":"[2]Tabulka!C214","v":"PLACHTA"},{"$f":"[2]Tabulka!D214","v":"Jakub"},{"$f":"[2]Tabulka!E214","v":"2000-07-30"},{"$f":"[2]Tabulka!F214","v":"Ostrava- Mittal TJ"},{"$f":"[2]Tabulka!G214","v":"OV"},{"$f":"[2]Tabulka!H214","v":100},{"$f":"+[2]Tabulka!AU214","v":0},{"$f":"+[2]Tabulka!AV214","v":{"v":0,"d":"0.00"}},{"$f":"+[2]Tabulka!AW214","v":0},{"$f":"+[2]Tabulka!AX214","v":{"v":0,"d":"0.00"}},{"$f":"+[2]Tabulka!AY214","v":0},{"$f":"+[2]Tabulka!AZ214","v":{"v":0,"d":"0.00"}},{"$f":"+[2]Tabulka!BA214","v":0},{"$f":"+[2]Tabulka!BB214","v":{"v":0,"d":"0.00"}},{"$f":"+[2]Tabulka!BC214","v":0},{"$f":"+[2]Tabulka!BD214","v":{"v":0,"d":"0.00"}},{"$f":"+[2]Tabulka!BE214","v":0},{"$f":"+[2]Tabulka!BF214","v":{"v":0,"d":"0.00"}},{"$f":"+[2]Tabulka!BG214","v":0},{"$f":"+[2]Tabulka!BH214","v":{"v":0,"d":"0.00"}},{"$f":"+[2]Tabulka!BI214","v":0},{"$f":"+[2]Tabulka!BJ214","v":{"v":0,"d":"0.00"}},{"$f":"+[2]Tabulka!AP214","v":{"v":34.5515829466523,"d":"34.55"}},{"$f":"+[2]Tabulka!AQ214","v":{"v":4,"d":"4.00"}},{"$f":"+[2]Tabulka!BM214","v":{"v":0,"d":"0.00"}},{"$f":"+[2]Tabulka!BN214","v":0},{"$f":"+[2]Tabulka!BO214","v":{"v":0,"d":"0.00"}}]
[null,{"$f":"[2]Tabulka!C215","v":"PODŽORNÝ"},{"$f":"[2]Tabulka!D215","v":"Jiří"},{"$f":"[2]Tabulka!E215","v":"1997-05-19"},{"$f":"[2]Tabulka!F215","v":"Frenštát pod Radhoštěm- TJ"},{"$f":"[2]Tabulka!G215","v":"NJ"},{"$f":"[2]Tabulka!H215","v":100},{"$f":"+[2]Tabulka!AU215","v":0},{"$f":"+[2]Tabulka!AV215","v":{"v":0,"d":"0.00"}},{"$f":"+[2]Tabulka!AW215","v":0},{"$f":"+[2]Tabulka!AX215","v":{"v":0,"d":"0.00"}},{"$f":"+[2]Tabulka!AY215","v":0},{"$f":"+[2]Tabulka!AZ215","v":{"v":0,"d":"0.00"}},{"$f":"+[2]Tabulka!BA215","v":0},{"$f":"+[2]Tabulka!BB215","v":{"v":0,"d":"0.00"}},{"$f":"+[2]Tabulka!BC215","v":0},{"$f":"+[2]Tabulka!BD215","v":{"v":0,"d":"0.00"}},{"$f":"+[2]Tabulka!BE215","v":0},{"$f":"+[2]Tabulka!BF215","v":{"v":0,"d":"0.00"}},{"$f":"+[2]Tabulka!BG215","v":0},{"$f":"+[2]Tabulka!BH215","v":{"v":0,"d":"0.00"}},{"$f":"+[2]Tabulka!BI215","v":0},{"$f":"+[2]Tabulka!BJ215","v":{"v":0,"d":"0.00"}},{"$f":"+[2]Tabulka!AP215","v":{"v":0.14258895383875483,"d":"0.14"}},{"$f":"+[2]Tabulka!AQ215","v":{"v":1,"d":"1.00"}},{"$f":"+[2]Tabulka!BM215","v":{"v":0,"d":"0.00"}},{"$f":"+[2]Tabulka!BN215","v":0},{"$f":"+[2]Tabulka!BO215","v":{"v":0,"d":"0.00"}}]
[null,{"$f":"[2]Tabulka!C216","v":"POLLACH"},{"$f":"[2]Tabulka!D216","v":"Ondřej"},{"$f":"[2]Tabulka!E216","v":"1997-01-01"},{"$f":"[2]Tabulka!F216","v":"Vratimov- MG Odra Gas TTC"},{"$f":"[2]Tabulka!G216","v":"OV"},{"$f":"[2]Tabulka!H216","v":0},{"$f":"+[2]Tabulka!AU216","v":0},{"$f":"+[2]Tabulka!AV216","v":{"v":0,"d":"0.00"}},{"$f":"+[2]Tabulka!AW216","v":0},{"$f":"+[2]Tabulka!AX216","v":{"v":0,"d":"0.00"}},{"$f":"+[2]Tabulka!AY216","v":0},{"$f":"+[2]Tabulka!AZ216","v":{"v":0,"d":"0.00"}},{"$f":"+[2]Tabulka!BA216","v":0},{"$f":"+[2]Tabulka!BB216","v":{"v":0,"d":"0.00"}},{"$f":"+[2]Tabulka!BC216","v":0},{"$f":"+[2]Tabulka!BD216","v":{"v":0,"d":"0.00"}},{"$f":"+[2]Tabulka!BE216","v":0},{"$f":"+[2]Tabulka!BF216","v":{"v":0,"d":"0.00"}},{"$f":"+[2]Tabulka!BG216","v":0},{"$f":"+[2]Tabulka!BH216","v":{"v":0,"d":"0.00"}},{"$f":"+[2]Tabulka!BI216","v":0},{"$f":"+[2]Tabulka!BJ216","v":{"v":0,"d":"0.00"}},{"$f":"+[2]Tabulka!AP216","v":{"v":0,"d":"0.00"}},{"$f":"+[2]Tabulka!AQ216","v":{"v":0,"d":"0.00"}},{"$f":"+[2]Tabulka!BM216","v":{"v":0,"d":"0.00"}},{"$f":"+[2]Tabulka!BN216","v":0},{"$f":"+[2]Tabulka!BO216","v":{"v":0,"d":"0.00"}}]
[null,{"$f":"[2]Tabulka!C217","v":"POSPÍŠIL"},{"$f":"[2]Tabulka!D217","v":"Lukáš"},{"$f":"[2]Tabulka!E217","v":"1997-01-01"},{"$f":"[2]Tabulka!F217","v":"Frenštát pod Radhoštěm- TJ"},{"$f":"[2]Tabulka!G217","v":"NJ"},{"$f":"[2]Tabulka!H217","v":100},{"$f":"+[2]Tabulka!AU217","v":0},{"$f":"+[2]Tabulka!AV217","v":{"v":0,"d":"0.00"}},{"$f":"+[2]Tabulka!AW217","v":0},{"$f":"+[2]Tabulka!AX217","v":{"v":0,"d":"0.00"}},{"$f":"+[2]Tabulka!AY217","v":0},{"$f":"+[2]Tabulka!AZ217","v":{"v":0,"d":"0.00"}},{"$f":"+[2]Tabulka!BA217","v":0},{"$f":"+[2]Tabulka!BB217","v":{"v":0,"d":"0.00"}},{"$f":"+[2]Tabulka!BC217","v":0},{"$f":"+[2]Tabulka!BD217","v":{"v":0,"d":"0.00"}},{"$f":"+[2]Tabulka!BE217","v":0},{"$f":"+[2]Tabulka!BF217","v":{"v":0,"d":"0.00"}},{"$f":"+[2]Tabulka!BG217","v":0},{"$f":"+[2]Tabulka!BH217","v":{"v":0,"d":"0.00"}},{"$f":"+[2]Tabulka!BI217","v":0},{"$f":"+[2]Tabulka!BJ217","v":{"v":0,"d":"0.00"}},{"$f":"+[2]Tabulka!AP217","v":{"v":0.23115884276341808,"d":"0.23"}},{"$f":"+[2]Tabulka!AQ217","v":{"v":2,"d":"2.00"}},{"$f":"+[2]Tabulka!BM217","v":{"v":0,"d":"0.00"}},{"$f":"+[2]Tabulka!BN217","v":0},{"$f":"+[2]Tabulka!BO217","v":{"v":0,"d":"0.00"}}]
[null,{"$f":"[2]Tabulka!C218","v":"PROCHÁZKA"},{"$f":"[2]Tabulka!D218","v":"Zdeněk"},{"$f":"[2]Tabulka!E218","v":"1997-01-01"},{"$f":"[2]Tabulka!F218","v":"Paskov- Orel"},{"$f":"[2]Tabulka!G218","v":"FM"},{"$f":"[2]Tabulka!H218","v":0},{"$f":"+[2]Tabulka!AU218","v":0},{"$f":"+[2]Tabulka!AV218","v":{"v":0,"d":"0.00"}},{"$f":"+[2]Tabulka!AW218","v":0},{"$f":"+[2]Tabulka!AX218","v":{"v":0,"d":"0.00"}},{"$f":"+[2]Tabulka!AY218","v":0},{"$f":"+[2]Tabulka!AZ218","v":{"v":0,"d":"0.00"}},{"$f":"+[2]Tabulka!BA218","v":0},{"$f":"+[2]Tabulka!BB218","v":{"v":0,"d":"0.00"}},{"$f":"+[2]Tabulka!BC218","v":0},{"$f":"+[2]Tabulka!BD218","v":{"v":0,"d":"0.00"}},{"$f":"+[2]Tabulka!BE218","v":0},{"$f":"+[2]Tabulka!BF218","v":{"v":0,"d":"0.00"}},{"$f":"+[2]Tabulka!BG218","v":0},{"$f":"+[2]Tabulka!BH218","v":{"v":0,"d":"0.00"}},{"$f":"+[2]Tabulka!BI218","v":0},{"$f":"+[2]Tabulka!BJ218","v":{"v":0,"d":"0.00"}},{"$f":"+[2]Tabulka!AP218","v":{"v":0.10385711314780227,"d":"0.10"}},{"$f":"+[2]Tabulka!AQ218","v":{"v":1,"d":"1.00"}},{"$f":"+[2]Tabulka!BM218","v":{"v":0,"d":"0.00"}},{"$f":"+[2]Tabulka!BN218","v":0},{"$f":"+[2]Tabulka!BO218","v":{"v":0,"d":"0.00"}}]
[null,{"$f":"[2]Tabulka!C219","v":"PRZYBYLA"},{"$f":"[2]Tabulka!D219","v":"Jan"},{"$f":"[2]Tabulka!E219","v":"1997-11-13"},{"$f":"[2]Tabulka!F219","v":"Ropice- Sokol TJ"},{"$f":"[2]Tabulka!G219","v":"FM"},{"$f":"[2]Tabulka!H219","v":100},{"$f":"+[2]Tabulka!AU219","v":0},{"$f":"+[2]Tabulka!AV219","v":{"v":0,"d":"0.00"}},{"$f":"+[2]Tabulka!AW219","v":0},{"$f":"+[2]Tabulka!AX219","v":{"v":0,"d":"0.00"}},{"$f":"+[2]Tabulka!AY219","v":0},{"$f":"+[2]Tabulka!AZ219","v":{"v":0,"d":"0.00"}},{"$f":"+[2]Tabulka!BA219","v":0},{"$f":"+[2]Tabulka!BB219","v":{"v":0,"d":"0.00"}},{"$f":"+[2]Tabulka!BC219","v":0},{"$f":"+[2]Tabulka!BD219","v":{"v":0,"d":"0.00"}},{"$f":"+[2]Tabulka!BE219","v":0},{"$f":"+[2]Tabulka!BF219","v":{"v":0,"d":"0.00"}},{"$f":"+[2]Tabulka!BG219","v":0},{"$f":"+[2]Tabulka!BH219","v":{"v":0,"d":"0.00"}},{"$f":"+[2]Tabulka!BI219","v":0},{"$f":"+[2]Tabulka!BJ219","v":{"v":0,"d":"0.00"}},{"$f":"+[2]Tabulka!AP219","v":{"v":0,"d":"0.00"}},{"$f":"+[2]Tabulka!AQ219","v":{"v":0,"d":"0.00"}},{"$f":"+[2]Tabulka!BM219","v":{"v":0,"d":"0.00"}},{"$f":"+[2]Tabulka!BN219","v":0},{"$f":"+[2]Tabulka!BO219","v":{"v":0,"d":"0.00"}}]
[null,{"$f":"[2]Tabulka!C220","v":"PUSTKA"},{"$f":"[2]Tabulka!D220","v":"Mikuláš"},{"$f":"[2]Tabulka!E220","v":"1994-09-06"},{"$f":"[2]Tabulka!F220","v":"Kozlovice- Sokol TJ"},{"$f":"[2]Tabulka!G220","v":"FM"},{"$f":"[2]Tabulka!H220","v":100},{"$f":"+[2]Tabulka!AU220","v":0},{"$f":"+[2]Tabulka!AV220","v":{"v":0,"d":"0.00"}},{"$f":"+[2]Tabulka!AW220","v":0},{"$f":"+[2]Tabulka!AX220","v":{"v":0,"d":"0.00"}},{"$f":"+[2]Tabulka!AY220","v":0},{"$f":"+[2]Tabulka!AZ220","v":{"v":0,"d":"0.00"}},{"$f":"+[2]Tabulka!BA220","v":0},{"$f":"+[2]Tabulka!BB220","v":{"v":0,"d":"0.00"}},{"$f":"+[2]Tabulka!BC220","v":0},{"$f":"+[2]Tabulka!BD220","v":{"v":0,"d":"0.00"}},{"$f":"+[2]Tabulka!BE220","v":0},{"$f":"+[2]Tabulka!BF220","v":{"v":0,"d":"0.00"}},{"$f":"+[2]Tabulka!BG220","v":0},{"$f":"+[2]Tabulka!BH220","v":{"v":0,"d":"0.00"}},{"$f":"+[2]Tabulka!BI220","v":0},{"$f":"+[2]Tabulka!BJ220","v":{"v":0,"d":"0.00"}},{"$f":"+[2]Tabulka!AP220","v":{"v":0,"d":"0.00"}},{"$f":"+[2]Tabulka!AQ220","v":{"v":0,"d":"0.00"}},{"$f":"+[2]Tabulka!BM220","v":{"v":0,"d":"0.00"}},{"$f":"+[2]Tabulka!BN220","v":0},{"$f":"+[2]Tabulka!BO220","v":{"v":0,"d":"0.00"}}]
[null,{"$f":"[2]Tabulka!C221","v":"RAJNOCH"},{"$f":"[2]Tabulka!D221","v":"Tomáš"},{"$f":"[2]Tabulka!E221","v":"1995-11-13"},{"$f":"[2]Tabulka!F221","v":"Nový Jičín- TJ"},{"$f":"[2]Tabulka!G221","v":"NJ"},{"$f":"[2]Tabulka!H221","v":100},{"$f":"+[2]Tabulka!AU221","v":0},{"$f":"+[2]Tabulka!AV221","v":{"v":0,"d":"0.00"}},{"$f":"+[2]Tabulka!AW221","v":0},{"$f":"+[2]Tabulka!AX221","v":{"v":0,"d":"0.00"}},{"$f":"+[2]Tabulka!AY221","v":0},{"$f":"+[2]Tabulka!AZ221","v":{"v":0,"d":"0.00"}},{"$f":"+[2]Tabulka!BA221","v":0},{"$f":"+[2]Tabulka!BB221","v":{"v":0,"d":"0.00"}},{"$f":"+[2]Tabulka!BC221","v":0},{"$f":"+[2]Tabulka!BD221","v":{"v":0,"d":"0.00"}},{"$f":"+[2]Tabulka!BE221","v":0},{"$f":"+[2]Tabulka!BF221","v":{"v":0,"d":"0.00"}},{"$f":"+[2]Tabulka!BG221","v":0},{"$f":"+[2]Tabulka!BH221","v":{"v":0,"d":"0.00"}},{"$f":"+[2]Tabulka!BI221","v":0},{"$f":"+[2]Tabulka!BJ221","v":{"v":0,"d":"0.00"}},{"$f":"+[2]Tabulka!AP221","v":{"v":6.814146122329029,"d":"6.81"}},{"$f":"+[2]Tabulka!AQ221","v":{"v":1,"d":"1.00"}},{"$f":"+[2]Tabulka!BM221","v":{"v":0,"d":"0.00"}},{"$f":"+[2]Tabulka!BN221","v":0},{"$f":"+[2]Tabulka!BO221","v":{"v":0,"d":"0.00"}}]
[null,{"$f":"[2]Tabulka!C222","v":"RAŠKA"},{"$f":"[2]Tabulka!D222","v":"Michal"},{"$f":"[2]Tabulka!E222","v":"1999-01-31"},{"$f":"[2]Tabulka!F222","v":"Frýdek-Místek- Slezan TJ"},{"$f":"[2]Tabulka!G222","v":"FM"},{"$f":"[2]Tabulka!H222","v":100},{"$f":"+[2]Tabulka!AU222","v":0},{"$f":"+[2]Tabulka!AV222","v":{"v":0,"d":"0.00"}},{"$f":"+[2]Tabulka!AW222","v":0},{"$f":"+[2]Tabulka!AX222","v":{"v":0,"d":"0.00"}},{"$f":"+[2]Tabulka!AY222","v":0},{"$f":"+[2]Tabulka!AZ222","v":{"v":0,"d":"0.00"}},{"$f":"+[2]Tabulka!BA222","v":0},{"$f":"+[2]Tabulka!BB222","v":{"v":0,"d":"0.00"}},{"$f":"+[2]Tabulka!BC222","v":0},{"$f":"+[2]Tabulka!BD222","v":{"v":0,"d":"0.00"}},{"$f":"+[2]Tabulka!BE222","v":0},{"$f":"+[2]Tabulka!BF222","v":{"v":0,"d":"0.00"}},{"$f":"+[2]Tabulka!BG222","v":0},{"$f":"+[2]Tabulka!BH222","v":{"v":0,"d":"0.00"}},{"$f":"+[2]Tabulka!BI222","v":0},{"$f":"+[2]Tabulka!BJ222","v":{"v":0,"d":"0.00"}},{"$f":"+[2]Tabulka!AP222","v":{"v":1.5662228342491615,"d":"1.57"}},{"$f":"+[2]Tabulka!AQ222","v":{"v":3,"d":"3.00"}},{"$f":"+[2]Tabulka!BM222","v":{"v":0,"d":"0.00"}},{"$f":"+[2]Tabulka!BN222","v":0},{"$f":"+[2]Tabulka!BO222","v":{"v":0,"d":"0.00"}}]
[null,{"$f":"[2]Tabulka!C223","v":"RIBKA"},{"$f":"[2]Tabulka!D223","v":"Filip"},{"$f":"[2]Tabulka!E223","v":"1995-06-26"},{"$f":"[2]Tabulka!F223","v":"Kateřinky- Sokol TJ"},{"$f":"[2]Tabulka!G223","v":"OP"},{"$f":"[2]Tabulka!H223","v":100},{"$f":"+[2]Tabulka!AU223","v":0},{"$f":"+[2]Tabulka!AV223","v":{"v":0,"d":"0.00"}},{"$f":"+[2]Tabulka!AW223","v":0},{"$f":"+[2]Tabulka!AX223","v":{"v":0,"d":"0.00"}},{"$f":"+[2]Tabulka!AY223","v":0},{"$f":"+[2]Tabulka!AZ223","v":{"v":0,"d":"0.00"}},{"$f":"+[2]Tabulka!BA223","v":0},{"$f":"+[2]Tabulka!BB223","v":{"v":0,"d":"0.00"}},{"$f":"+[2]Tabulka!BC223","v":0},{"$f":"+[2]Tabulka!BD223","v":{"v":0,"d":"0.00"}},{"$f":"+[2]Tabulka!BE223","v":0},{"$f":"+[2]Tabulka!BF223","v":{"v":0,"d":"0.00"}},{"$f":"+[2]Tabulka!BG223","v":0},{"$f":"+[2]Tabulka!BH223","v":{"v":0,"d":"0.00"}},{"$f":"+[2]Tabulka!BI223","v":0},{"$f":"+[2]Tabulka!BJ223","v":{"v":0,"d":"0.00"}},{"$f":"+[2]Tabulka!AP223","v":{"v":0.06254560948847007,"d":"0.06"}},{"$f":"+[2]Tabulka!AQ223","v":{"v":1,"d":"1.00"}},{"$f":"+[2]Tabulka!BM223","v":{"v":0,"d":"0.00"}},{"$f":"+[2]Tabulka!BN223","v":0},{"$f":"+[2]Tabulka!BO223","v":{"v":0,"d":"0.00"}}]
[null,{"$f":"[2]Tabulka!C224","v":"ROZKYDALOVÁ"},{"$f":"[2]Tabulka!D224","v":"Eliška"},{"$f":"[2]Tabulka!E224","v":"2002-01-11"},{"$f":"[2]Tabulka!F224","v":"Frýdlant nad Ostravicí- SK"},{"$f":"[2]Tabulka!G224","v":"FM"},{"$f":"[2]Tabulka!H224","v":100},{"$f":"+[2]Tabulka!AU224","v":0},{"$f":"+[2]Tabulka!AV224","v":{"v":0,"d":"0.00"}},{"$f":"+[2]Tabulka!AW224","v":0},{"$f":"+[2]Tabulka!AX224","v":{"v":0,"d":"0.00"}},{"$f":"+[2]Tabulka!AY224","v":0},{"$f":"+[2]Tabulka!AZ224","v":{"v":0,"d":"0.00"}},{"$f":"+[2]Tabulka!BA224","v":0},{"$f":"+[2]Tabulka!BB224","v":{"v":0,"d":"0.00"}},{"$f":"+[2]Tabulka!BC224","v":0},{"$f":"+[2]Tabulka!BD224","v":{"v":0,"d":"0.00"}},{"$f":"+[2]Tabulka!BE224","v":0},{"$f":"+[2]Tabulka!BF224","v":{"v":0,"d":"0.00"}},{"$f":"+[2]Tabulka!BG224","v":0},{"$f":"+[2]Tabulka!BH224","v":{"v":0,"d":"0.00"}},{"$f":"+[2]Tabulka!BI224","v":0},{"$f":"+[2]Tabulka!BJ224","v":{"v":0,"d":"0.00"}},{"$f":"+[2]Tabulka!AP224","v":{"v":1.050605565644305,"d":"1.05"}},{"$f":"+[2]Tabulka!AQ224","v":{"v":2,"d":"2.00"}},{"$f":"+[2]Tabulka!BM224","v":{"v":0,"d":"0.00"}},{"$f":"+[2]Tabulka!BN224","v":0},{"$f":"+[2]Tabulka!BO224","v":{"v":0,"d":"0.00"}}]
[null,{"$f":"[2]Tabulka!C225","v":"RYCHLÍK"},{"$f":"[2]Tabulka!D225","v":"Daniel"},{"$f":"[2]Tabulka!E225","v":"1996-04-22"},{"$f":"[2]Tabulka!F225","v":"Brušperk- Sokol TJ"},{"$f":"[2]Tabulka!G225","v":"FM"},{"$f":"[2]Tabulka!H225","v":100},{"$f":"+[2]Tabulka!AU225","v":0},{"$f":"+[2]Tabulka!AV225","v":{"v":0,"d":"0.00"}},{"$f":"+[2]Tabulka!AW225","v":0},{"$f":"+[2]Tabulka!AX225","v":{"v":0,"d":"0.00"}},{"$f":"+[2]Tabulka!AY225","v":0},{"$f":"+[2]Tabulka!AZ225","v":{"v":0,"d":"0.00"}},{"$f":"+[2]Tabulka!BA225","v":0},{"$f":"+[2]Tabulka!BB225","v":{"v":0,"d":"0.00"}},{"$f":"+[2]Tabulka!BC225","v":0},{"$f":"+[2]Tabulka!BD225","v":{"v":0,"d":"0.00"}},{"$f":"+[2]Tabulka!BE225","v":0},{"$f":"+[2]Tabulka!BF225","v":{"v":0,"d":"0.00"}},{"$f":"+[2]Tabulka!BG225","v":0},{"$f":"+[2]Tabulka!BH225","v":{"v":0,"d":"0.00"}},{"$f":"+[2]Tabulka!BI225","v":0},{"$f":"+[2]Tabulka!BJ225","v":{"v":0,"d":"0.00"}},{"$f":"+[2]Tabulka!AP225","v":{"v":2.920041695254728,"d":"2.92"}},{"$f":"+[2]Tabulka!AQ225","v":{"v":2,"d":"2.00"}},{"$f":"+[2]Tabulka!BM225","v":{"v":0,"d":"0.00"}},{"$f":"+[2]Tabulka!BN225","v":0},{"$f":"+[2]Tabulka!BO225","v":{"v":0,"d":"0.00"}}]
[null,{"$f":"[2]Tabulka!C226","v":"SARGÁNEK"},{"$f":"[2]Tabulka!D226","v":"David"},{"$f":"[2]Tabulka!E226","v":"1996-03-14"},{"$f":"[2]Tabulka!F226","v":"Havířov- Baník SKST"},{"$f":"[2]Tabulka!G226","v":"KA"},{"$f":"[2]Tabulka!H226","v":100},{"$f":"+[2]Tabulka!AU226","v":0},{"$f":"+[2]Tabulka!AV226","v":{"v":0,"d":"0.00"}},{"$f":"+[2]Tabulka!AW226","v":0},{"$f":"+[2]Tabulka!AX226","v":{"v":0,"d":"0.00"}},{"$f":"+[2]Tabulka!AY226","v":0},{"$f":"+[2]Tabulka!AZ226","v":{"v":0,"d":"0.00"}},{"$f":"+[2]Tabulka!BA226","v":0},{"$f":"+[2]Tabulka!BB226","v":{"v":0,"d":"0.00"}},{"$f":"+[2]Tabulka!BC226","v":0},{"$f":"+[2]Tabulka!BD226","v":{"v":0,"d":"0.00"}},{"$f":"+[2]Tabulka!BE226","v":0},{"$f":"+[2]Tabulka!BF226","v":{"v":0,"d":"0.00"}},{"$f":"+[2]Tabulka!BG226","v":0},{"$f":"+[2]Tabulka!BH226","v":{"v":0,"d":"0.00"}},{"$f":"+[2]Tabulka!BI226","v":0},{"$f":"+[2]Tabulka!BJ226","v":{"v":0,"d":"0.00"}},{"$f":"+[2]Tabulka!AP226","v":{"v":0,"d":"0.00"}},{"$f":"+[2]Tabulka!AQ226","v":{"v":0,"d":"0.00"}},{"$f":"+[2]Tabulka!BM226","v":{"v":0,"d":"0.00"}},{"$f":"+[2]Tabulka!BN226","v":0},{"$f":"+[2]Tabulka!BO226","v":{"v":0,"d":"0.00"}}]
[null,{"$f":"[2]Tabulka!C227","v":"SCHIKORA"},{"$f":"[2]Tabulka!D227","v":"Vojtěch"},{"$f":"[2]Tabulka!E227","v":"1998-07-24"},{"$f":"[2]Tabulka!F227","v":"Děhylov- Sokol TJ"},{"$f":"[2]Tabulka!G227","v":"OP"},{"$f":"[2]Tabulka!H227","v":100},{"$f":"+[2]Tabulka!AU227","v":0},{"$f":"+[2]Tabulka!AV227","v":{"v":0,"d":"0.00"}},{"$f":"+[2]Tabulka!AW227","v":0},{"$f":"+[2]Tabulka!AX227","v":{"v":0,"d":"0.00"}},{"$f":"+[2]Tabulka!AY227","v":0},{"$f":"+[2]Tabulka!AZ227","v":{"v":0,"d":"0.00"}},{"$f":"+[2]Tabulka!BA227","v":0},{"$f":"+[2]Tabulka!BB227","v":{"v":0,"d":"0.00"}},{"$f":"+[2]Tabulka!BC227","v":0},{"$f":"+[2]Tabulka!BD227","v":{"v":0,"d":"0.00"}},{"$f":"+[2]Tabulka!BE227","v":0},{"$f":"+[2]Tabulka!BF227","v":{"v":0,"d":"0.00"}},{"$f":"+[2]Tabulka!BG227","v":0},{"$f":"+[2]Tabulka!BH227","v":{"v":0,"d":"0.00"}},{"$f":"+[2]Tabulka!BI227","v":0},{"$f":"+[2]Tabulka!BJ227","v":{"v":0,"d":"0.00"}},{"$f":"+[2]Tabulka!AP227","v":{"v":1.6761109666276854,"d":"1.68"}},{"$f":"+[2]Tabulka!AQ227","v":{"v":4,"d":"4.00"}},{"$f":"+[2]Tabulka!BM227","v":{"v":0,"d":"0.00"}},{"$f":"+[2]Tabulka!BN227","v":0},{"$f":"+[2]Tabulka!BO227","v":{"v":0,"d":"0.00"}}]
[null,{"$f":"[2]Tabulka!C228","v":"SCHWARZ"},{"$f":"[2]Tabulka!D228","v":"Ota "},{"$f":"[2]Tabulka!E228","v":"1995-01-01"},{"$f":"[2]Tabulka!F228","v":"Kopřivnice- Tatra  ASK"},{"$f":"[2]Tabulka!G228","v":"NJ"},{"$f":"[2]Tabulka!H228","v":100},{"$f":"+[2]Tabulka!AU228","v":0},{"$f":"+[2]Tabulka!AV228","v":{"v":0,"d":"0.00"}},{"$f":"+[2]Tabulka!AW228","v":0},{"$f":"+[2]Tabulka!AX228","v":{"v":0,"d":"0.00"}},{"$f":"+[2]Tabulka!AY228","v":0},{"$f":"+[2]Tabulka!AZ228","v":{"v":0,"d":"0.00"}},{"$f":"+[2]Tabulka!BA228","v":0},{"$f":"+[2]Tabulka!BB228","v":{"v":0,"d":"0.00"}},{"$f":"+[2]Tabulka!BC228","v":0},{"$f":"+[2]Tabulka!BD228","v":{"v":0,"d":"0.00"}},{"$f":"+[2]Tabulka!BE228","v":0},{"$f":"+[2]Tabulka!BF228","v":{"v":0,"d":"0.00"}},{"$f":"+[2]Tabulka!BG228","v":0},{"$f":"+[2]Tabulka!BH228","v":{"v":0,"d":"0.00"}},{"$f":"+[2]Tabulka!BI228","v":0},{"$f":"+[2]Tabulka!BJ228","v":{"v":0,"d":"0.00"}},{"$f":"+[2]Tabulka!AP228","v":{"v":48.70361642155201,"d":"48.70"}},{"$f":"+[2]Tabulka!AQ228","v":{"v":3,"d":"3.00"}},{"$f":"+[2]Tabulka!BM228","v":{"v":0,"d":"0.00"}},{"$f":"+[2]Tabulka!BN228","v":0},{"$f":"+[2]Tabulka!BO228","v":{"v":0,"d":"0.00"}}]
[null,{"$f":"[2]Tabulka!C229","v":"SIKORA"},{"$f":"[2]Tabulka!D229","v":"Filip"},{"$f":"[2]Tabulka!E229","v":"1997-01-01"},{"$f":"[2]Tabulka!F229","v":"Orlová- Siko TTC"},{"$f":"[2]Tabulka!G229","v":"KA"},{"$f":"[2]Tabulka!H229","v":0},{"$f":"+[2]Tabulka!AU229","v":0},{"$f":"+[2]Tabulka!AV229","v":{"v":0,"d":"0.00"}},{"$f":"+[2]Tabulka!AW229","v":0},{"$f":"+[2]Tabulka!AX229","v":{"v":0,"d":"0.00"}},{"$f":"+[2]Tabulka!AY229","v":0},{"$f":"+[2]Tabulka!AZ229","v":{"v":0,"d":"0.00"}},{"$f":"+[2]Tabulka!BA229","v":0},{"$f":"+[2]Tabulka!BB229","v":{"v":0,"d":"0.00"}},{"$f":"+[2]Tabulka!BC229","v":0},{"$f":"+[2]Tabulka!BD229","v":{"v":0,"d":"0.00"}},{"$f":"+[2]Tabulka!BE229","v":0},{"$f":"+[2]Tabulka!BF229","v":{"v":0,"d":"0.00"}},{"$f":"+[2]Tabulka!BG229","v":0},{"$f":"+[2]Tabulka!BH229","v":{"v":0,"d":"0.00"}},{"$f":"+[2]Tabulka!BI229","v":0},{"$f":"+[2]Tabulka!BJ229","v":{"v":0,"d":"0.00"}},{"$f":"+[2]Tabulka!AP229","v":{"v":0,"d":"0.00"}},{"$f":"+[2]Tabulka!AQ229","v":{"v":0,"d":"0.00"}},{"$f":"+[2]Tabulka!BM229","v":{"v":0,"d":"0.00"}},{"$f":"+[2]Tabulka!BN229","v":0},{"$f":"+[2]Tabulka!BO229","v":{"v":0,"d":"0.00"}}]
[null,{"$f":"[2]Tabulka!C230","v":"SIKOROVÁ"},{"$f":"[2]Tabulka!D230","v":"Kamila"},{"$f":"[2]Tabulka!E230","v":"1997-02-07"},{"$f":"[2]Tabulka!F230","v":"Havířov- Baník SKST"},{"$f":"[2]Tabulka!G230","v":"KA"},{"$f":"[2]Tabulka!H230","v":100},{"$f":"+[2]Tabulka!AU230","v":0},{"$f":"+[2]Tabulka!AV230","v":{"v":0,"d":"0.00"}},{"$f":"+[2]Tabulka!AW230","v":0},{"$f":"+[2]Tabulka!AX230","v":{"v":0,"d":"0.00"}},{"$f":"+[2]Tabulka!AY230","v":0},{"$f":"+[2]Tabulka!AZ230","v":{"v":0,"d":"0.00"}},{"$f":"+[2]Tabulka!BA230","v":0},{"$f":"+[2]Tabulka!BB230","v":{"v":0,"d":"0.00"}},{"$f":"+[2]Tabulka!BC230","v":0},{"$f":"+[2]Tabulka!BD230","v":{"v":0,"d":"0.00"}},{"$f":"+[2]Tabulka!BE230","v":0},{"$f":"+[2]Tabulka!BF230","v":{"v":0,"d":"0.00"}},{"$f":"+[2]Tabulka!BG230","v":0},{"$f":"+[2]Tabulka!BH230","v":{"v":0,"d":"0.00"}},{"$f":"+[2]Tabulka!BI230","v":0},{"$f":"+[2]Tabulka!BJ230","v":{"v":0,"d":"0.00"}},{"$f":"+[2]Tabulka!AP230","v":{"v":6.395603258605236,"d":"6.40"}},{"$f":"+[2]Tabulka!AQ230","v":{"v":1,"d":"1.00"}},{"$f":"+[2]Tabulka!BM230","v":{"v":0,"d":"0.00"}},{"$f":"+[2]Tabulka!BN230","v":0},{"$f":"+[2]Tabulka!BO230","v":{"v":0,"d":"0.00"}}]
[null,{"$f":"[2]Tabulka!C231","v":"SLOBODNÍK"},{"$f":"[2]Tabulka!D231","v":"Martin"},{"$f":"[2]Tabulka!E231","v":"2000-01-31"},{"$f":"[2]Tabulka!F231","v":"Hrabůvka- Sokol TJ"},{"$f":"[2]Tabulka!G231","v":"OV"},{"$f":"[2]Tabulka!H231","v":100},{"$f":"+[2]Tabulka!AU231","v":0},{"$f":"+[2]Tabulka!AV231","v":{"v":0,"d":"0.00"}},{"$f":"+[2]Tabulka!AW231","v":0},{"$f":"+[2]Tabulka!AX231","v":{"v":0,"d":"0.00"}},{"$f":"+[2]Tabulka!AY231","v":0},{"$f":"+[2]Tabulka!AZ231","v":{"v":0,"d":"0.00"}},{"$f":"+[2]Tabulka!BA231","v":0},{"$f":"+[2]Tabulka!BB231","v":{"v":0,"d":"0.00"}},{"$f":"+[2]Tabulka!BC231","v":0},{"$f":"+[2]Tabulka!BD231","v":{"v":0,"d":"0.00"}},{"$f":"+[2]Tabulka!BE231","v":0},{"$f":"+[2]Tabulka!BF231","v":{"v":0,"d":"0.00"}},{"$f":"+[2]Tabulka!BG231","v":0},{"$f":"+[2]Tabulka!BH231","v":{"v":0,"d":"0.00"}},{"$f":"+[2]Tabulka!BI231","v":0},{"$f":"+[2]Tabulka!BJ231","v":{"v":0,"d":"0.00"}},{"$f":"+[2]Tabulka!AP231","v":{"v":0.32506853675442354,"d":"0.33"}},{"$f":"+[2]Tabulka!AQ231","v":{"v":1,"d":"1.00"}},{"$f":"+[2]Tabulka!BM231","v":{"v":0,"d":"0.00"}},{"$f":"+[2]Tabulka!BN231","v":0},{"$f":"+[2]Tabulka!BO231","v":{"v":0,"d":"0.00"}}]
[null,{"$f":"[2]Tabulka!C232","v":"SMIEŠKOVÁ"},{"$f":"[2]Tabulka!D232","v":"Adéla"},{"$f":"[2]Tabulka!E232","v":"1999-06-08"},{"$f":"[2]Tabulka!F232","v":"Hrabůvka- Sokol TJ"},{"$f":"[2]Tabulka!G232","v":"OV"},{"$f":"[2]Tabulka!H232","v":100},{"$f":"+[2]Tabulka!AU232","v":0},{"$f":"+[2]Tabulka!AV232","v":{"v":0,"d":"0.00"}},{"$f":"+[2]Tabulka!AW232","v":0},{"$f":"+[2]Tabulka!AX232","v":{"v":0,"d":"0.00"}},{"$f":"+[2]Tabulka!AY232","v":0},{"$f":"+[2]Tabulka!AZ232","v":{"v":0,"d":"0.00"}},{"$f":"+[2]Tabulka!BA232","v":0},{"$f":"+[2]Tabulka!BB232","v":{"v":0,"d":"0.00"}},{"$f":"+[2]Tabulka!BC232","v":0},{"$f":"+[2]Tabulka!BD232","v":{"v":0,"d":"0.00"}},{"$f":"+[2]Tabulka!BE232","v":0},{"$f":"+[2]Tabulka!BF232","v":{"v":0,"d":"0.00"}},{"$f":"+[2]Tabulka!BG232","v":0},{"$f":"+[2]Tabulka!BH232","v":{"v":0,"d":"0.00"}},{"$f":"+[2]Tabulka!BI232","v":0},{"$f":"+[2]Tabulka!BJ232","v":{"v":0,"d":"0.00"}},{"$f":"+[2]Tabulka!AP232","v":{"v":0.5233370338075622,"d":"0.52"}},{"$f":"+[2]Tabulka!AQ232","v":{"v":3,"d":"3.00"}},{"$f":"+[2]Tabulka!BM232","v":{"v":0,"d":"0.00"}},{"$f":"+[2]Tabulka!BN232","v":0},{"$f":"+[2]Tabulka!BO232","v":{"v":0,"d":"0.00"}}]
[null,{"$f":"[2]Tabulka!C233","v":"SOUDIL"},{"$f":"[2]Tabulka!D233","v":"Adam"},{"$f":"[2]Tabulka!E233","v":"2001-10-03"},{"$f":"[2]Tabulka!F233","v":"Frenštát pod Radhoštěm- TJ"},{"$f":"[2]Tabulka!G233","v":"NJ"},{"$f":"[2]Tabulka!H233","v":100},{"$f":"+[2]Tabulka!AU233","v":0},{"$f":"+[2]Tabulka!AV233","v":{"v":0,"d":"0.00"}},{"$f":"+[2]Tabulka!AW233","v":0},{"$f":"+[2]Tabulka!AX233","v":{"v":0,"d":"0.00"}},{"$f":"+[2]Tabulka!AY233","v":0},{"$f":"+[2]Tabulka!AZ233","v":{"v":0,"d":"0.00"}},{"$f":"+[2]Tabulka!BA233","v":0},{"$f":"+[2]Tabulka!BB233","v":{"v":0,"d":"0.00"}},{"$f":"+[2]Tabulka!BC233","v":0},{"$f":"+[2]Tabulka!BD233","v":{"v":0,"d":"0.00"}},{"$f":"+[2]Tabulka!BE233","v":0},{"$f":"+[2]Tabulka!BF233","v":{"v":0,"d":"0.00"}},{"$f":"+[2]Tabulka!BG233","v":0},{"$f":"+[2]Tabulka!BH233","v":{"v":0,"d":"0.00"}},{"$f":"+[2]Tabulka!BI233","v":0},{"$f":"+[2]Tabulka!BJ233","v":{"v":0,"d":"0.00"}},{"$f":"+[2]Tabulka!AP233","v":{"v":0.2677824266016994,"d":"0.27"}},{"$f":"+[2]Tabulka!AQ233","v":{"v":2,"d":"2.00"}},{"$f":"+[2]Tabulka!BM233","v":{"v":0,"d":"0.00"}},{"$f":"+[2]Tabulka!BN233","v":0},{"$f":"+[2]Tabulka!BO233","v":{"v":0,"d":"0.00"}}]
[null,{"$f":"[2]Tabulka!C234","v":"STAVÁREK"},{"$f":"[2]Tabulka!D234","v":"Václav"},{"$f":"[2]Tabulka!E234","v":"1994-07-22"},{"$f":"[2]Tabulka!F234","v":"Frenštát pod Radhoštěm- TJ"},{"$f":"[2]Tabulka!G234","v":"NJ"},{"$f":"[2]Tabulka!H234","v":100},{"$f":"+[2]Tabulka!AU234","v":0},{"$f":"+[2]Tabulka!AV234","v":{"v":0,"d":"0.00"}},{"$f":"+[2]Tabulka!AW234","v":0},{"$f":"+[2]Tabulka!AX234","v":{"v":0,"d":"0.00"}},{"$f":"+[2]Tabulka!AY234","v":0},{"$f":"+[2]Tabulka!AZ234","v":{"v":0,"d":"0.00"}},{"$f":"+[2]Tabulka!BA234","v":0},{"$f":"+[2]Tabulka!BB234","v":{"v":0,"d":"0.00"}},{"$f":"+[2]Tabulka!BC234","v":0},{"$f":"+[2]Tabulka!BD234","v":{"v":0,"d":"0.00"}},{"$f":"+[2]Tabulka!BE234","v":0},{"$f":"+[2]Tabulka!BF234","v":{"v":0,"d":"0.00"}},{"$f":"+[2]Tabulka!BG234","v":0},{"$f":"+[2]Tabulka!BH234","v":{"v":0,"d":"0.00"}},{"$f":"+[2]Tabulka!BI234","v":0},{"$f":"+[2]Tabulka!BJ234","v":{"v":0,"d":"0.00"}},{"$f":"+[2]Tabulka!AP234","v":{"v":2.755000119214625,"d":"2.76"}},{"$f":"+[2]Tabulka!AQ234","v":{"v":2,"d":"2.00"}},{"$f":"+[2]Tabulka!BM234","v":{"v":0,"d":"0.00"}},{"$f":"+[2]Tabulka!BN234","v":0},{"$f":"+[2]Tabulka!BO234","v":{"v":0,"d":"0.00"}}]
[null,{"$f":"[2]Tabulka!C235","v":"STOŠEK"},{"$f":"[2]Tabulka!D235","v":"Daniel"},{"$f":"[2]Tabulka!E235","v":"1997-12-07"},{"$f":"[2]Tabulka!F235","v":"Hradec nad Moravicí- FIT SPORT KLUB "},{"$f":"[2]Tabulka!G235","v":"OP"},{"$f":"[2]Tabulka!H235","v":100},{"$f":"+[2]Tabulka!AU235","v":0},{"$f":"+[2]Tabulka!AV235","v":{"v":0,"d":"0.00"}},{"$f":"+[2]Tabulka!AW235","v":0},{"$f":"+[2]Tabulka!AX235","v":{"v":0,"d":"0.00"}},{"$f":"+[2]Tabulka!AY235","v":0},{"$f":"+[2]Tabulka!AZ235","v":{"v":0,"d":"0.00"}},{"$f":"+[2]Tabulka!BA235","v":0},{"$f":"+[2]Tabulka!BB235","v":{"v":0,"d":"0.00"}},{"$f":"+[2]Tabulka!BC235","v":0},{"$f":"+[2]Tabulka!BD235","v":{"v":0,"d":"0.00"}},{"$f":"+[2]Tabulka!BE235","v":0},{"$f":"+[2]Tabulka!BF235","v":{"v":0,"d":"0.00"}},{"$f":"+[2]Tabulka!BG235","v":0},{"$f":"+[2]Tabulka!BH235","v":{"v":0,"d":"0.00"}},{"$f":"+[2]Tabulka!BI235","v":0},{"$f":"+[2]Tabulka!BJ235","v":{"v":0,"d":"0.00"}},{"$f":"+[2]Tabulka!AP235","v":{"v":0,"d":"0.00"}},{"$f":"+[2]Tabulka!AQ235","v":{"v":0,"d":"0.00"}},{"$f":"+[2]Tabulka!BM235","v":{"v":0,"d":"0.00"}},{"$f":"+[2]Tabulka!BN235","v":0},{"$f":"+[2]Tabulka!BO235","v":{"v":0,"d":"0.00"}}]
[null,{"$f":"[2]Tabulka!C236","v":"SVOBODA"},{"$f":"[2]Tabulka!D236","v":"Lukáš"},{"$f":"[2]Tabulka!E236","v":"1999-01-18"},{"$f":"[2]Tabulka!F236","v":"Český Těšín- SKST"},{"$f":"[2]Tabulka!G236","v":"KA"},{"$f":"[2]Tabulka!H236","v":100},{"$f":"+[2]Tabulka!AU236","v":0},{"$f":"+[2]Tabulka!AV236","v":{"v":0,"d":"0.00"}},{"$f":"+[2]Tabulka!AW236","v":0},{"$f":"+[2]Tabulka!AX236","v":{"v":0,"d":"0.00"}},{"$f":"+[2]Tabulka!AY236","v":0},{"$f":"+[2]Tabulka!AZ236","v":{"v":0,"d":"0.00"}},{"$f":"+[2]Tabulka!BA236","v":0},{"$f":"+[2]Tabulka!BB236","v":{"v":0,"d":"0.00"}},{"$f":"+[2]Tabulka!BC236","v":0},{"$f":"+[2]Tabulka!BD236","v":{"v":0,"d":"0.00"}},{"$f":"+[2]Tabulka!BE236","v":0},{"$f":"+[2]Tabulka!BF236","v":{"v":0,"d":"0.00"}},{"$f":"+[2]Tabulka!BG236","v":0},{"$f":"+[2]Tabulka!BH236","v":{"v":0,"d":"0.00"}},{"$f":"+[2]Tabulka!BI236","v":0},{"$f":"+[2]Tabulka!BJ236","v":{"v":0,"d":"0.00"}},{"$f":"+[2]Tabulka!AP236","v":{"v":0.6585427455159096,"d":"0.66"}},{"$f":"+[2]Tabulka!AQ236","v":{"v":2,"d":"2.00"}},{"$f":"+[2]Tabulka!BM236","v":{"v":0,"d":"0.00"}},{"$f":"+[2]Tabulka!BN236","v":0},{"$f":"+[2]Tabulka!BO236","v":{"v":0,"d":"0.00"}}]
[null,{"$f":"[2]Tabulka!C237","v":"SÝKORA"},{"$f":"[2]Tabulka!D237","v":"Marek"},{"$f":"[2]Tabulka!E237","v":"1997-07-29"},{"$f":"[2]Tabulka!F237","v":"Ostrava- Mittal TJ"},{"$f":"[2]Tabulka!G237","v":"OV"},{"$f":"[2]Tabulka!H237","v":100},{"$f":"+[2]Tabulka!AU237","v":0},{"$f":"+[2]Tabulka!AV237","v":{"v":0,"d":"0.00"}},{"$f":"+[2]Tabulka!AW237","v":0},{"$f":"+[2]Tabulka!AX237","v":{"v":0,"d":"0.00"}},{"$f":"+[2]Tabulka!AY237","v":0},{"$f":"+[2]Tabulka!AZ237","v":{"v":0,"d":"0.00"}},{"$f":"+[2]Tabulka!BA237","v":0},{"$f":"+[2]Tabulka!BB237","v":{"v":0,"d":"0.00"}},{"$f":"+[2]Tabulka!BC237","v":0},{"$f":"+[2]Tabulka!BD237","v":{"v":0,"d":"0.00"}},{"$f":"+[2]Tabulka!BE237","v":0},{"$f":"+[2]Tabulka!BF237","v":{"v":0,"d":"0.00"}},{"$f":"+[2]Tabulka!BG237","v":0},{"$f":"+[2]Tabulka!BH237","v":{"v":0,"d":"0.00"}},{"$f":"+[2]Tabulka!BI237","v":0},{"$f":"+[2]Tabulka!BJ237","v":{"v":0,"d":"0.00"}},{"$f":"+[2]Tabulka!AP237","v":{"v":0,"d":"0.00"}},{"$f":"+[2]Tabulka!AQ237","v":{"v":0,"d":"0.00"}},{"$f":"+[2]Tabulka!BM237","v":{"v":0,"d":"0.00"}},{"$f":"+[2]Tabulka!BN237","v":0},{"$f":"+[2]Tabulka!BO237","v":{"v":0,"d":"0.00"}}]
[null,{"$f":"[2]Tabulka!C238","v":"SYNKOVÁ"},{"$f":"[2]Tabulka!D238","v":"Kristýna"},{"$f":"[2]Tabulka!E238","v":"1998-08-10"},{"$f":"[2]Tabulka!F238","v":"Děhylov- Sokol TJ"},{"$f":"[2]Tabulka!G238","v":"OP"},{"$f":"[2]Tabulka!H238","v":100},{"$f":"+[2]Tabulka!AU238","v":0},{"$f":"+[2]Tabulka!AV238","v":{"v":0,"d":"0.00"}},{"$f":"+[2]Tabulka!AW238","v":0},{"$f":"+[2]Tabulka!AX238","v":{"v":0,"d":"0.00"}},{"$f":"+[2]Tabulka!AY238","v":0},{"$f":"+[2]Tabulka!AZ238","v":{"v":0,"d":"0.00"}},{"$f":"+[2]Tabulka!BA238","v":0},{"$f":"+[2]Tabulka!BB238","v":{"v":0,"d":"0.00"}},{"$f":"+[2]Tabulka!BC238","v":0},{"$f":"+[2]Tabulka!BD238","v":{"v":0,"d":"0.00"}},{"$f":"+[2]Tabulka!BE238","v":0},{"$f":"+[2]Tabulka!BF238","v":{"v":0,"d":"0.00"}},{"$f":"+[2]Tabulka!BG238","v":0},{"$f":"+[2]Tabulka!BH238","v":{"v":0,"d":"0.00"}},{"$f":"+[2]Tabulka!BI238","v":0},{"$f":"+[2]Tabulka!BJ238","v":{"v":0,"d":"0.00"}},{"$f":"+[2]Tabulka!AP238","v":{"v":6.645394932937098,"d":"6.65"}},{"$f":"+[2]Tabulka!AQ238","v":{"v":3,"d":"3.00"}},{"$f":"+[2]Tabulka!BM238","v":{"v":0,"d":"0.00"}},{"$f":"+[2]Tabulka!BN238","v":0},{"$f":"+[2]Tabulka!BO238","v":{"v":0,"d":"0.00"}}]
[null,{"$f":"[2]Tabulka!C239","v":"SYNKOVÁ"},{"$f":"[2]Tabulka!D239","v":"Markéta"},{"$f":"[2]Tabulka!E239","v":"2001-07-30"},{"$f":"[2]Tabulka!F239","v":"Děhylov- Sokol TJ"},{"$f":"[2]Tabulka!G239","v":"OP"},{"$f":"[2]Tabulka!H239","v":100},{"$f":"+[2]Tabulka!AU239","v":0},{"$f":"+[2]Tabulka!AV239","v":{"v":0,"d":"0.00"}},{"$f":"+[2]Tabulka!AW239","v":0},{"$f":"+[2]Tabulka!AX239","v":{"v":0,"d":"0.00"}},{"$f":"+[2]Tabulka!AY239","v":0},{"$f":"+[2]Tabulka!AZ239","v":{"v":0,"d":"0.00"}},{"$f":"+[2]Tabulka!BA239","v":0},{"$f":"+[2]Tabulka!BB239","v":{"v":0,"d":"0.00"}},{"$f":"+[2]Tabulka!BC239","v":0},{"$f":"+[2]Tabulka!BD239","v":{"v":0,"d":"0.00"}},{"$f":"+[2]Tabulka!BE239","v":0},{"$f":"+[2]Tabulka!BF239","v":{"v":0,"d":"0.00"}},{"$f":"+[2]Tabulka!BG239","v":0},{"$f":"+[2]Tabulka!BH239","v":{"v":0,"d":"0.00"}},{"$f":"+[2]Tabulka!BI239","v":0},{"$f":"+[2]Tabulka!BJ239","v":{"v":0,"d":"0.00"}},{"$f":"+[2]Tabulka!AP239","v":{"v":2.56783443348658,"d":"2.57"}},{"$f":"+[2]Tabulka!AQ239","v":{"v":3,"d":"3.00"}},{"$f":"+[2]Tabulka!BM239","v":{"v":0,"d":"0.00"}},{"$f":"+[2]Tabulka!BN239","v":0},{"$f":"+[2]Tabulka!BO239","v":{"v":0,"d":"0.00"}}]
[null,{"$f":"[2]Tabulka!C240","v":"SZTULA"},{"$f":"[2]Tabulka!D240","v":"Adam"},{"$f":"[2]Tabulka!E240","v":"1997-02-28"},{"$f":"[2]Tabulka!F240","v":"Havířov- Baník SKST"},{"$f":"[2]Tabulka!G240","v":"KA"},{"$f":"[2]Tabulka!H240","v":100},{"$f":"+[2]Tabulka!AU240","v":0},{"$f":"+[2]Tabulka!AV240","v":{"v":0,"d":"0.00"}},{"$f":"+[2]Tabulka!AW240","v":0},{"$f":"+[2]Tabulka!AX240","v":{"v":0,"d":"0.00"}},{"$f":"+[2]Tabulka!AY240","v":0},{"$f":"+[2]Tabulka!AZ240","v":{"v":0,"d":"0.00"}},{"$f":"+[2]Tabulka!BA240","v":0},{"$f":"+[2]Tabulka!BB240","v":{"v":0,"d":"0.00"}},{"$f":"+[2]Tabulka!BC240","v":0},{"$f":"+[2]Tabulka!BD240","v":{"v":0,"d":"0.00"}},{"$f":"+[2]Tabulka!BE240","v":0},{"$f":"+[2]Tabulka!BF240","v":{"v":0,"d":"0.00"}},{"$f":"+[2]Tabulka!BG240","v":0},{"$f":"+[2]Tabulka!BH240","v":{"v":0,"d":"0.00"}},{"$f":"+[2]Tabulka!BI240","v":0},{"$f":"+[2]Tabulka!BJ240","v":{"v":0,"d":"0.00"}},{"$f":"+[2]Tabulka!AP240","v":{"v":0,"d":"0.00"}},{"$f":"+[2]Tabulka!AQ240","v":{"v":0,"d":"0.00"}},{"$f":"+[2]Tabulka!BM240","v":{"v":0,"d":"0.00"}},{"$f":"+[2]Tabulka!BN240","v":0},{"$f":"+[2]Tabulka!BO240","v":{"v":0,"d":"0.00"}}]
[null,{"$f":"[2]Tabulka!C241","v":"SZWARC"},{"$f":"[2]Tabulka!D241","v":"Matěj"},{"$f":"[2]Tabulka!E241","v":"2001-07-08"},{"$f":"[2]Tabulka!F241","v":"Třinec- TŽ TJ"},{"$f":"[2]Tabulka!G241","v":"FM"},{"$f":"[2]Tabulka!H241","v":100},{"$f":"+[2]Tabulka!AU241","v":0},{"$f":"+[2]Tabulka!AV241","v":{"v":0,"d":"0.00"}},{"$f":"+[2]Tabulka!AW241","v":0},{"$f":"+[2]Tabulka!AX241","v":{"v":0,"d":"0.00"}},{"$f":"+[2]Tabulka!AY241","v":0},{"$f":"+[2]Tabulka!AZ241","v":{"v":0,"d":"0.00"}},{"$f":"+[2]Tabulka!BA241","v":0},{"$f":"+[2]Tabulka!BB241","v":{"v":0,"d":"0.00"}},{"$f":"+[2]Tabulka!BC241","v":0},{"$f":"+[2]Tabulka!BD241","v":{"v":0,"d":"0.00"}},{"$f":"+[2]Tabulka!BE241","v":0},{"$f":"+[2]Tabulka!BF241","v":{"v":0,"d":"0.00"}},{"$f":"+[2]Tabulka!BG241","v":0},{"$f":"+[2]Tabulka!BH241","v":{"v":0,"d":"0.00"}},{"$f":"+[2]Tabulka!BI241","v":0},{"$f":"+[2]Tabulka!BJ241","v":{"v":0,"d":"0.00"}},{"$f":"+[2]Tabulka!AP241","v":{"v":0,"d":"0.00"}},{"$f":"+[2]Tabulka!AQ241","v":{"v":0,"d":"0.00"}},{"$f":"+[2]Tabulka!BM241","v":{"v":0,"d":"0.00"}},{"$f":"+[2]Tabulka!BN241","v":0},{"$f":"+[2]Tabulka!BO241","v":{"v":0,"d":"0.00"}}]
[null,{"$f":"[2]Tabulka!C242","v":"ŠINDLER"},{"$f":"[2]Tabulka!D242","v":"Jaroslav"},{"$f":"[2]Tabulka!E242","v":"1997-07-14"},{"$f":"[2]Tabulka!F242","v":"Frenštát pod Radhoštěm- TJ"},{"$f":"[2]Tabulka!G242","v":"NJ"},{"$f":"[2]Tabulka!H242","v":100},{"$f":"+[2]Tabulka!AU242","v":0},{"$f":"+[2]Tabulka!AV242","v":{"v":0,"d":"0.00"}},{"$f":"+[2]Tabulka!AW242","v":0},{"$f":"+[2]Tabulka!AX242","v":{"v":0,"d":"0.00"}},{"$f":"+[2]Tabulka!AY242","v":0},{"$f":"+[2]Tabulka!AZ242","v":{"v":0,"d":"0.00"}},{"$f":"+[2]Tabulka!BA242","v":0},{"$f":"+[2]Tabulka!BB242","v":{"v":0,"d":"0.00"}},{"$f":"+[2]Tabulka!BC242","v":0},{"$f":"+[2]Tabulka!BD242","v":{"v":0,"d":"0.00"}},{"$f":"+[2]Tabulka!BE242","v":0},{"$f":"+[2]Tabulka!BF242","v":{"v":0,"d":"0.00"}},{"$f":"+[2]Tabulka!BG242","v":0},{"$f":"+[2]Tabulka!BH242","v":{"v":0,"d":"0.00"}},{"$f":"+[2]Tabulka!BI242","v":0},{"$f":"+[2]Tabulka!BJ242","v":{"v":0,"d":"0.00"}},{"$f":"+[2]Tabulka!AP242","v":{"v":3.2941270508296348,"d":"3.29"}},{"$f":"+[2]Tabulka!AQ242","v":{"v":3,"d":"3.00"}},{"$f":"+[2]Tabulka!BM242","v":{"v":0,"d":"0.00"}},{"$f":"+[2]Tabulka!BN242","v":0},{"$f":"+[2]Tabulka!BO242","v":{"v":0,"d":"0.00"}}]
[null,{"$f":"[2]Tabulka!C243","v":"ŠTEFÁNKOVÁ"},{"$f":"[2]Tabulka!D243","v":"Šarlota"},{"$f":"[2]Tabulka!E243","v":"2003-01-01"},{"$f":"[2]Tabulka!F243","v":"Frýdlant nad Ostravicí- SK"},{"$f":"[2]Tabulka!G243","v":"FM"},{"$f":"[2]Tabulka!H243","v":0},{"$f":"+[2]Tabulka!AU243","v":0},{"$f":"+[2]Tabulka!AV243","v":{"v":0,"d":"0.00"}},{"$f":"+[2]Tabulka!AW243","v":0},{"$f":"+[2]Tabulka!AX243","v":{"v":0,"d":"0.00"}},{"$f":"+[2]Tabulka!AY243","v":0},{"$f":"+[2]Tabulka!AZ243","v":{"v":0,"d":"0.00"}},{"$f":"+[2]Tabulka!BA243","v":0},{"$f":"+[2]Tabulka!BB243","v":{"v":0,"d":"0.00"}},{"$f":"+[2]Tabulka!BC243","v":0},{"$f":"+[2]Tabulka!BD243","v":{"v":0,"d":"0.00"}},{"$f":"+[2]Tabulka!BE243","v":0},{"$f":"+[2]Tabulka!BF243","v":{"v":0,"d":"0.00"}},{"$f":"+[2]Tabulka!BG243","v":0},{"$f":"+[2]Tabulka!BH243","v":{"v":0,"d":"0.00"}},{"$f":"+[2]Tabulka!BI243","v":0},{"$f":"+[2]Tabulka!BJ243","v":{"v":0,"d":"0.00"}},{"$f":"+[2]Tabulka!AP243","v":{"v":0.08587098903352251,"d":"0.09"}},{"$f":"+[2]Tabulka!AQ243","v":{"v":1,"d":"1.00"}},{"$f":"+[2]Tabulka!BM243","v":{"v":0,"d":"0.00"}},{"$f":"+[2]Tabulka!BN243","v":0},{"$f":"+[2]Tabulka!BO243","v":{"v":0,"d":"0.00"}}]
[null,{"$f":"[2]Tabulka!C244","v":"ŠTEFEK"},{"$f":"[2]Tabulka!D244","v":"Aleš"},{"$f":"[2]Tabulka!E244","v":"1999-04-07"},{"$f":"[2]Tabulka!F244","v":"Frýdlant nad Ostravicí- SK"},{"$f":"[2]Tabulka!G244","v":"FM"},{"$f":"[2]Tabulka!H244","v":100},{"$f":"+[2]Tabulka!AU244","v":0},{"$f":"+[2]Tabulka!AV244","v":{"v":0,"d":"0.00"}},{"$f":"+[2]Tabulka!AW244","v":0},{"$f":"+[2]Tabulka!AX244","v":{"v":0,"d":"0.00"}},{"$f":"+[2]Tabulka!AY244","v":0},{"$f":"+[2]Tabulka!AZ244","v":{"v":0,"d":"0.00"}},{"$f":"+[2]Tabulka!BA244","v":0},{"$f":"+[2]Tabulka!BB244","v":{"v":0,"d":"0.00"}},{"$f":"+[2]Tabulka!BC244","v":0},{"$f":"+[2]Tabulka!BD244","v":{"v":0,"d":"0.00"}},{"$f":"+[2]Tabulka!BE244","v":0},{"$f":"+[2]Tabulka!BF244","v":{"v":0,"d":"0.00"}},{"$f":"+[2]Tabulka!BG244","v":0},{"$f":"+[2]Tabulka!BH244","v":{"v":0,"d":"0.00"}},{"$f":"+[2]Tabulka!BI244","v":0},{"$f":"+[2]Tabulka!BJ244","v":{"v":0,"d":"0.00"}},{"$f":"+[2]Tabulka!AP244","v":{"v":0,"d":"0.00"}},{"$f":"+[2]Tabulka!AQ244","v":{"v":0,"d":"0.00"}},{"$f":"+[2]Tabulka!BM244","v":{"v":0,"d":"0.00"}},{"$f":"+[2]Tabulka!BN244","v":0},{"$f":"+[2]Tabulka!BO244","v":{"v":0,"d":"0.00"}}]
[null,{"$f":"[2]Tabulka!C245","v":"ŠTĚPÁNOVÁ"},{"$f":"[2]Tabulka!D245","v":"Gabriela"},{"$f":"[2]Tabulka!E245","v":"2001-03-31"},{"$f":"[2]Tabulka!F245","v":"Děhylov- Sokol TJ"},{"$f":"[2]Tabulka!G245","v":"OP"},{"$f":"[2]Tabulka!H245","v":100},{"$f":"+[2]Tabulka!AU245","v":0},{"$f":"+[2]Tabulka!AV245","v":{"v":0,"d":"0.00"}},{"$f":"+[2]Tabulka!AW245","v":0},{"$f":"+[2]Tabulka!AX245","v":{"v":0,"d":"0.00"}},{"$f":"+[2]Tabulka!AY245","v":0},{"$f":"+[2]Tabulka!AZ245","v":{"v":0,"d":"0.00"}},{"$f":"+[2]Tabulka!BA245","v":0},{"$f":"+[2]Tabulka!BB245","v":{"v":0,"d":"0.00"}},{"$f":"+[2]Tabulka!BC245","v":0},{"$f":"+[2]Tabulka!BD245","v":{"v":0,"d":"0.00"}},{"$f":"+[2]Tabulka!BE245","v":0},{"$f":"+[2]Tabulka!BF245","v":{"v":0,"d":"0.00"}},{"$f":"+[2]Tabulka!BG245","v":0},{"$f":"+[2]Tabulka!BH245","v":{"v":0,"d":"0.00"}},{"$f":"+[2]Tabulka!BI245","v":0},{"$f":"+[2]Tabulka!BJ245","v":{"v":0,"d":"0.00"}},{"$f":"+[2]Tabulka!AP245","v":{"v":6.75175516338822,"d":"6.75"}},{"$f":"+[2]Tabulka!AQ245","v":{"v":3,"d":"3.00"}},{"$f":"+[2]Tabulka!BM245","v":{"v":0,"d":"0.00"}},{"$f":"+[2]Tabulka!BN245","v":0},{"$f":"+[2]Tabulka!BO245","v":{"v":0,"d":"0.00"}}]
[null,{"$f":"[2]Tabulka!C246","v":"ŠTÍPAL"},{"$f":"[2]Tabulka!D246","v":"Jiří"},{"$f":"[2]Tabulka!E246","v":"1996-10-11"},{"$f":"[2]Tabulka!F246","v":"Ostrava- Mittal TJ"},{"$f":"[2]Tabulka!G246","v":"OV"},{"$f":"[2]Tabulka!H246","v":100},{"$f":"+[2]Tabulka!AU246","v":0},{"$f":"+[2]Tabulka!AV246","v":{"v":0,"d":"0.00"}},{"$f":"+[2]Tabulka!AW246","v":0},{"$f":"+[2]Tabulka!AX246","v":{"v":0,"d":"0.00"}},{"$f":"+[2]Tabulka!AY246","v":0},{"$f":"+[2]Tabulka!AZ246","v":{"v":0,"d":"0.00"}},{"$f":"+[2]Tabulka!BA246","v":0},{"$f":"+[2]Tabulka!BB246","v":{"v":0,"d":"0.00"}},{"$f":"+[2]Tabulka!BC246","v":0},{"$f":"+[2]Tabulka!BD246","v":{"v":0,"d":"0.00"}},{"$f":"+[2]Tabulka!BE246","v":0},{"$f":"+[2]Tabulka!BF246","v":{"v":0,"d":"0.00"}},{"$f":"+[2]Tabulka!BG246","v":0},{"$f":"+[2]Tabulka!BH246","v":{"v":0,"d":"0.00"}},{"$f":"+[2]Tabulka!BI246","v":0},{"$f":"+[2]Tabulka!BJ246","v":{"v":0,"d":"0.00"}},{"$f":"+[2]Tabulka!AP246","v":{"v":0.6024794492083914,"d":"0.60"}},{"$f":"+[2]Tabulka!AQ246","v":{"v":3,"d":"3.00"}},{"$f":"+[2]Tabulka!BM246","v":{"v":0,"d":"0.00"}},{"$f":"+[2]Tabulka!BN246","v":0},{"$f":"+[2]Tabulka!BO246","v":{"v":0,"d":"0.00"}}]
[null,{"$f":"[2]Tabulka!C247","v":"ŠUGÁREK"},{"$f":"[2]Tabulka!D247","v":"Matouš"},{"$f":"[2]Tabulka!E247","v":"1998-01-01"},{"$f":"[2]Tabulka!F247","v":"Kopřivnice- Tatra  ASK"},{"$f":"[2]Tabulka!G247","v":"NJ"},{"$f":"[2]Tabulka!H247","v":0},{"$f":"+[2]Tabulka!AU247","v":0},{"$f":"+[2]Tabulka!AV247","v":{"v":0,"d":"0.00"}},{"$f":"+[2]Tabulka!AW247","v":0},{"$f":"+[2]Tabulka!AX247","v":{"v":0,"d":"0.00"}},{"$f":"+[2]Tabulka!AY247","v":0},{"$f":"+[2]Tabulka!AZ247","v":{"v":0,"d":"0.00"}},{"$f":"+[2]Tabulka!BA247","v":0},{"$f":"+[2]Tabulka!BB247","v":{"v":0,"d":"0.00"}},{"$f":"+[2]Tabulka!BC247","v":0},{"$f":"+[2]Tabulka!BD247","v":{"v":0,"d":"0.00"}},{"$f":"+[2]Tabulka!BE247","v":0},{"$f":"+[2]Tabulka!BF247","v":{"v":0,"d":"0.00"}},{"$f":"+[2]Tabulka!BG247","v":0},{"$f":"+[2]Tabulka!BH247","v":{"v":0,"d":"0.00"}},{"$f":"+[2]Tabulka!BI247","v":0},{"$f":"+[2]Tabulka!BJ247","v":{"v":0,"d":"0.00"}},{"$f":"+[2]Tabulka!AP247","v":{"v":0.47902681712483647,"d":"0.48"}},{"$f":"+[2]Tabulka!AQ247","v":{"v":2,"d":"2.00"}},{"$f":"+[2]Tabulka!BM247","v":{"v":0,"d":"0.00"}},{"$f":"+[2]Tabulka!BN247","v":0},{"$f":"+[2]Tabulka!BO247","v":{"v":0,"d":"0.00"}}]
[null,{"$f":"[2]Tabulka!C248","v":"ŠUGÁREK"},{"$f":"[2]Tabulka!D248","v":"Šimon"},{"$f":"[2]Tabulka!E248","v":"1998-01-01"},{"$f":"[2]Tabulka!F248","v":"Kopřivnice- Tatra  ASK"},{"$f":"[2]Tabulka!G248","v":"NJ"},{"$f":"[2]Tabulka!H248","v":0},{"$f":"+[2]Tabulka!AU248","v":0},{"$f":"+[2]Tabulka!AV248","v":{"v":0,"d":"0.00"}},{"$f":"+[2]Tabulka!AW248","v":0},{"$f":"+[2]Tabulka!AX248","v":{"v":0,"d":"0.00"}},{"$f":"+[2]Tabulka!AY248","v":0},{"$f":"+[2]Tabulka!AZ248","v":{"v":0,"d":"0.00"}},{"$f":"+[2]Tabulka!BA248","v":0},{"$f":"+[2]Tabulka!BB248","v":{"v":0,"d":"0.00"}},{"$f":"+[2]Tabulka!BC248","v":0},{"$f":"+[2]Tabulka!BD248","v":{"v":0,"d":"0.00"}},{"$f":"+[2]Tabulka!BE248","v":0},{"$f":"+[2]Tabulka!BF248","v":{"v":0,"d":"0.00"}},{"$f":"+[2]Tabulka!BG248","v":0},{"$f":"+[2]Tabulka!BH248","v":{"v":0,"d":"0.00"}},{"$f":"+[2]Tabulka!BI248","v":0},{"$f":"+[2]Tabulka!BJ248","v":{"v":0,"d":"0.00"}},{"$f":"+[2]Tabulka!AP248","v":{"v":0.36900715807089546,"d":"0.37"}},{"$f":"+[2]Tabulka!AQ248","v":{"v":1,"d":"1.00"}},{"$f":"+[2]Tabulka!BM248","v":{"v":0,"d":"0.00"}},{"$f":"+[2]Tabulka!BN248","v":0},{"$f":"+[2]Tabulka!BO248","v":{"v":0,"d":"0.00"}}]
[null,{"$f":"[2]Tabulka!C249","v":"TEŠNAR"},{"$f":"[2]Tabulka!D249","v":"Oskar"},{"$f":"[2]Tabulka!E249","v":"2001-01-01"},{"$f":"[2]Tabulka!F249","v":"Děhylov- Sokol TJ"},{"$f":"[2]Tabulka!G249","v":"OP"},{"$f":"[2]Tabulka!H249","v":0},{"$f":"+[2]Tabulka!AU249","v":0},{"$f":"+[2]Tabulka!AV249","v":{"v":0,"d":"0.00"}},{"$f":"+[2]Tabulka!AW249","v":0},{"$f":"+[2]Tabulka!AX249","v":{"v":0,"d":"0.00"}},{"$f":"+[2]Tabulka!AY249","v":0},{"$f":"+[2]Tabulka!AZ249","v":{"v":0,"d":"0.00"}},{"$f":"+[2]Tabulka!BA249","v":0},{"$f":"+[2]Tabulka!BB249","v":{"v":0,"d":"0.00"}},{"$f":"+[2]Tabulka!BC249","v":0},{"$f":"+[2]Tabulka!BD249","v":{"v":0,"d":"0.00"}},{"$f":"+[2]Tabulka!BE249","v":0},{"$f":"+[2]Tabulka!BF249","v":{"v":0,"d":"0.00"}},{"$f":"+[2]Tabulka!BG249","v":0},{"$f":"+[2]Tabulka!BH249","v":{"v":0,"d":"0.00"}},{"$f":"+[2]Tabulka!BI249","v":0},{"$f":"+[2]Tabulka!BJ249","v":{"v":0,"d":"0.00"}},{"$f":"+[2]Tabulka!AP249","v":{"v":0,"d":"0.00"}},{"$f":"+[2]Tabulka!AQ249","v":{"v":0,"d":"0.00"}},{"$f":"+[2]Tabulka!BM249","v":{"v":0,"d":"0.00"}},{"$f":"+[2]Tabulka!BN249","v":0},{"$f":"+[2]Tabulka!BO249","v":{"v":0,"d":"0.00"}}]
[null,{"$f":"[2]Tabulka!C250","v":"TOBOLOVÁ"},{"$f":"[2]Tabulka!D250","v":"Nikola"},{"$f":"[2]Tabulka!E250","v":"1998-07-03"},{"$f":"[2]Tabulka!F250","v":"Frýdlant nad Ostravicí- SK"},{"$f":"[2]Tabulka!G250","v":"FM"},{"$f":"[2]Tabulka!H250","v":100},{"$f":"+[2]Tabulka!AU250","v":0},{"$f":"+[2]Tabulka!AV250","v":{"v":0,"d":"0.00"}},{"$f":"+[2]Tabulka!AW250","v":0},{"$f":"+[2]Tabulka!AX250","v":{"v":0,"d":"0.00"}},{"$f":"+[2]Tabulka!AY250","v":0},{"$f":"+[2]Tabulka!AZ250","v":{"v":0,"d":"0.00"}},{"$f":"+[2]Tabulka!BA250","v":0},{"$f":"+[2]Tabulka!BB250","v":{"v":0,"d":"0.00"}},{"$f":"+[2]Tabulka!BC250","v":0},{"$f":"+[2]Tabulka!BD250","v":{"v":0,"d":"0.00"}},{"$f":"+[2]Tabulka!BE250","v":0},{"$f":"+[2]Tabulka!BF250","v":{"v":0,"d":"0.00"}},{"$f":"+[2]Tabulka!BG250","v":0},{"$f":"+[2]Tabulka!BH250","v":{"v":0,"d":"0.00"}},{"$f":"+[2]Tabulka!BI250","v":0},{"$f":"+[2]Tabulka!BJ250","v":{"v":0,"d":"0.00"}},{"$f":"+[2]Tabulka!AP250","v":{"v":2.2974765665418175,"d":"2.30"}},{"$f":"+[2]Tabulka!AQ250","v":{"v":3,"d":"3.00"}},{"$f":"+[2]Tabulka!BM250","v":{"v":0,"d":"0.00"}},{"$f":"+[2]Tabulka!BN250","v":0},{"$f":"+[2]Tabulka!BO250","v":{"v":0,"d":"0.00"}}]
[null,{"$f":"[2]Tabulka!C251","v":"TOFEL"},{"$f":"[2]Tabulka!D251","v":"Vojtěch"},{"$f":"[2]Tabulka!E251","v":"1995-09-25"},{"$f":"[2]Tabulka!F251","v":"Kozlovice- Sokol TJ"},{"$f":"[2]Tabulka!G251","v":"FM"},{"$f":"[2]Tabulka!H251","v":100},{"$f":"+[2]Tabulka!AU251","v":0},{"$f":"+[2]Tabulka!AV251","v":{"v":0,"d":"0.00"}},{"$f":"+[2]Tabulka!AW251","v":0},{"$f":"+[2]Tabulka!AX251","v":{"v":0,"d":"0.00"}},{"$f":"+[2]Tabulka!AY251","v":0},{"$f":"+[2]Tabulka!AZ251","v":{"v":0,"d":"0.00"}},{"$f":"+[2]Tabulka!BA251","v":0},{"$f":"+[2]Tabulka!BB251","v":{"v":0,"d":"0.00"}},{"$f":"+[2]Tabulka!BC251","v":0},{"$f":"+[2]Tabulka!BD251","v":{"v":0,"d":"0.00"}},{"$f":"+[2]Tabulka!BE251","v":0},{"$f":"+[2]Tabulka!BF251","v":{"v":0,"d":"0.00"}},{"$f":"+[2]Tabulka!BG251","v":0},{"$f":"+[2]Tabulka!BH251","v":{"v":0,"d":"0.00"}},{"$f":"+[2]Tabulka!BI251","v":0},{"$f":"+[2]Tabulka!BJ251","v":{"v":0,"d":"0.00"}},{"$f":"+[2]Tabulka!AP251","v":{"v":0,"d":"0.00"}},{"$f":"+[2]Tabulka!AQ251","v":{"v":0,"d":"0.00"}},{"$f":"+[2]Tabulka!BM251","v":{"v":0,"d":"0.00"}},{"$f":"+[2]Tabulka!BN251","v":0},{"$f":"+[2]Tabulka!BO251","v":{"v":0,"d":"0.00"}}]
[null,{"$f":"[2]Tabulka!C252","v":"TOMÁŠKOVIČ"},{"$f":"[2]Tabulka!D252","v":"Robin"},{"$f":"[2]Tabulka!E252","v":"1997-05-26"},{"$f":"[2]Tabulka!F252","v":"Svinov- SK"},{"$f":"[2]Tabulka!G252","v":"OV"},{"$f":"[2]Tabulka!H252","v":100},{"$f":"+[2]Tabulka!AU252","v":0},{"$f":"+[2]Tabulka!AV252","v":{"v":0,"d":"0.00"}},{"$f":"+[2]Tabulka!AW252","v":0},{"$f":"+[2]Tabulka!AX252","v":{"v":0,"d":"0.00"}},{"$f":"+[2]Tabulka!AY252","v":0},{"$f":"+[2]Tabulka!AZ252","v":{"v":0,"d":"0.00"}},{"$f":"+[2]Tabulka!BA252","v":0},{"$f":"+[2]Tabulka!BB252","v":{"v":0,"d":"0.00"}},{"$f":"+[2]Tabulka!BC252","v":0},{"$f":"+[2]Tabulka!BD252","v":{"v":0,"d":"0.00"}},{"$f":"+[2]Tabulka!BE252","v":0},{"$f":"+[2]Tabulka!BF252","v":{"v":0,"d":"0.00"}},{"$f":"+[2]Tabulka!BG252","v":0},{"$f":"+[2]Tabulka!BH252","v":{"v":0,"d":"0.00"}},{"$f":"+[2]Tabulka!BI252","v":0},{"$f":"+[2]Tabulka!BJ252","v":{"v":0,"d":"0.00"}},{"$f":"+[2]Tabulka!AP252","v":{"v":0,"d":"0.00"}},{"$f":"+[2]Tabulka!AQ252","v":{"v":0,"d":"0.00"}},{"$f":"+[2]Tabulka!BM252","v":{"v":0,"d":"0.00"}},{"$f":"+[2]Tabulka!BN252","v":0},{"$f":"+[2]Tabulka!BO252","v":{"v":0,"d":"0.00"}}]
[null,{"$f":"[2]Tabulka!C253","v":"TRÁVNIČEK"},{"$f":"[2]Tabulka!D253","v":"Jakub"},{"$f":"[2]Tabulka!E253","v":"1994-08-31"},{"$f":"[2]Tabulka!F253","v":"Karviná- KLUBsten KST"},{"$f":"[2]Tabulka!G253","v":"KA"},{"$f":"[2]Tabulka!H253","v":100},{"$f":"+[2]Tabulka!AU253","v":0},{"$f":"+[2]Tabulka!AV253","v":{"v":0,"d":"0.00"}},{"$f":"+[2]Tabulka!AW253","v":0},{"$f":"+[2]Tabulka!AX253","v":{"v":0,"d":"0.00"}},{"$f":"+[2]Tabulka!AY253","v":0},{"$f":"+[2]Tabulka!AZ253","v":{"v":0,"d":"0.00"}},{"$f":"+[2]Tabulka!BA253","v":0},{"$f":"+[2]Tabulka!BB253","v":{"v":0,"d":"0.00"}},{"$f":"+[2]Tabulka!BC253","v":0},{"$f":"+[2]Tabulka!BD253","v":{"v":0,"d":"0.00"}},{"$f":"+[2]Tabulka!BE253","v":0},{"$f":"+[2]Tabulka!BF253","v":{"v":0,"d":"0.00"}},{"$f":"+[2]Tabulka!BG253","v":0},{"$f":"+[2]Tabulka!BH253","v":{"v":0,"d":"0.00"}},{"$f":"+[2]Tabulka!BI253","v":0},{"$f":"+[2]Tabulka!BJ253","v":{"v":0,"d":"0.00"}},{"$f":"+[2]Tabulka!AP253","v":{"v":20.017977872906258,"d":"20.02"}},{"$f":"+[2]Tabulka!AQ253","v":{"v":1,"d":"1.00"}},{"$f":"+[2]Tabulka!BM253","v":{"v":0,"d":"0.00"}},{"$f":"+[2]Tabulka!BN253","v":0},{"$f":"+[2]Tabulka!BO253","v":{"v":0,"d":"0.00"}}]
[null,{"$f":"[2]Tabulka!C254","v":"UVÍROVÁ"},{"$f":"[2]Tabulka!D254","v":"Nela"},{"$f":"[2]Tabulka!E254","v":"2000-12-18"},{"$f":"[2]Tabulka!F254","v":"Kateřinky- Sokol TJ"},{"$f":"[2]Tabulka!G254","v":"OP"},{"$f":"[2]Tabulka!H254","v":100},{"$f":"+[2]Tabulka!AU254","v":0},{"$f":"+[2]Tabulka!AV254","v":{"v":0,"d":"0.00"}},{"$f":"+[2]Tabulka!AW254","v":0},{"$f":"+[2]Tabulka!AX254","v":{"v":0,"d":"0.00"}},{"$f":"+[2]Tabulka!AY254","v":0},{"$f":"+[2]Tabulka!AZ254","v":{"v":0,"d":"0.00"}},{"$f":"+[2]Tabulka!BA254","v":0},{"$f":"+[2]Tabulka!BB254","v":{"v":0,"d":"0.00"}},{"$f":"+[2]Tabulka!BC254","v":0},{"$f":"+[2]Tabulka!BD254","v":{"v":0,"d":"0.00"}},{"$f":"+[2]Tabulka!BE254","v":0},{"$f":"+[2]Tabulka!BF254","v":{"v":0,"d":"0.00"}},{"$f":"+[2]Tabulka!BG254","v":0},{"$f":"+[2]Tabulka!BH254","v":{"v":0,"d":"0.00"}},{"$f":"+[2]Tabulka!BI254","v":0},{"$f":"+[2]Tabulka!BJ254","v":{"v":0,"d":"0.00"}},{"$f":"+[2]Tabulka!AP254","v":{"v":0.2602904047382659,"d":"0.26"}},{"$f":"+[2]Tabulka!AQ254","v":{"v":2,"d":"2.00"}},{"$f":"+[2]Tabulka!BM254","v":{"v":0,"d":"0.00"}},{"$f":"+[2]Tabulka!BN254","v":0},{"$f":"+[2]Tabulka!BO254","v":{"v":0,"d":"0.00"}}]
[null,{"$f":"[2]Tabulka!C255","v":"VÁCLAVÍK"},{"$f":"[2]Tabulka!D255","v":"Tomáš"},{"$f":"[2]Tabulka!E255","v":"1997-11-04"},{"$f":"[2]Tabulka!F255","v":"Ostrava- Mittal TJ"},{"$f":"[2]Tabulka!G255","v":"OV"},{"$f":"[2]Tabulka!H255","v":100},{"$f":"+[2]Tabulka!AU255","v":0},{"$f":"+[2]Tabulka!AV255","v":{"v":0,"d":"0.00"}},{"$f":"+[2]Tabulka!AW255","v":0},{"$f":"+[2]Tabulka!AX255","v":{"v":0,"d":"0.00"}},{"$f":"+[2]Tabulka!AY255","v":0},{"$f":"+[2]Tabulka!AZ255","v":{"v":0,"d":"0.00"}},{"$f":"+[2]Tabulka!BA255","v":0},{"$f":"+[2]Tabulka!BB255","v":{"v":0,"d":"0.00"}},{"$f":"+[2]Tabulka!BC255","v":0},{"$f":"+[2]Tabulka!BD255","v":{"v":0,"d":"0.00"}},{"$f":"+[2]Tabulka!BE255","v":0},{"$f":"+[2]Tabulka!BF255","v":{"v":0,"d":"0.00"}},{"$f":"+[2]Tabulka!BG255","v":0},{"$f":"+[2]Tabulka!BH255","v":{"v":0,"d":"0.00"}},{"$f":"+[2]Tabulka!BI255","v":0},{"$f":"+[2]Tabulka!BJ255","v":{"v":0,"d":"0.00"}},{"$f":"+[2]Tabulka!AP255","v":{"v":1.5903764692783056,"d":"1.59"}},{"$f":"+[2]Tabulka!AQ255","v":{"v":3,"d":"3.00"}},{"$f":"+[2]Tabulka!BM255","v":{"v":0,"d":"0.00"}},{"$f":"+[2]Tabulka!BN255","v":0},{"$f":"+[2]Tabulka!BO255","v":{"v":0,"d":"0.00"}}]
[null,{"$f":"[2]Tabulka!C256","v":"VÁCLAVÍKOVÁ"},{"$f":"[2]Tabulka!D256","v":"Anežka"},{"$f":"[2]Tabulka!E256","v":"1996-03-29"},{"$f":"[2]Tabulka!F256","v":"Ostrava- Mittal TJ"},{"$f":"[2]Tabulka!G256","v":"OV"},{"$f":"[2]Tabulka!H256","v":100},{"$f":"+[2]Tabulka!AU256","v":0},{"$f":"+[2]Tabulka!AV256","v":{"v":0,"d":"0.00"}},{"$f":"+[2]Tabulka!AW256","v":0},{"$f":"+[2]Tabulka!AX256","v":{"v":0,"d":"0.00"}},{"$f":"+[2]Tabulka!AY256","v":0},{"$f":"+[2]Tabulka!AZ256","v":{"v":0,"d":"0.00"}},{"$f":"+[2]Tabulka!BA256","v":0},{"$f":"+[2]Tabulka!BB256","v":{"v":0,"d":"0.00"}},{"$f":"+[2]Tabulka!BC256","v":0},{"$f":"+[2]Tabulka!BD256","v":{"v":0,"d":"0.00"}},{"$f":"+[2]Tabulka!BE256","v":0},{"$f":"+[2]Tabulka!BF256","v":{"v":0,"d":"0.00"}},{"$f":"+[2]Tabulka!BG256","v":0},{"$f":"+[2]Tabulka!BH256","v":{"v":0,"d":"0.00"}},{"$f":"+[2]Tabulka!BI256","v":0},{"$f":"+[2]Tabulka!BJ256","v":{"v":0,"d":"0.00"}},{"$f":"+[2]Tabulka!AP256","v":{"v":13.373495066130577,"d":"13.37"}},{"$f":"+[2]Tabulka!AQ256","v":{"v":3,"d":"3.00"}},{"$f":"+[2]Tabulka!BM256","v":{"v":0,"d":"0.00"}},{"$f":"+[2]Tabulka!BN256","v":0},{"$f":"+[2]Tabulka!BO256","v":{"v":0,"d":"0.00"}}]
[null,{"$f":"[2]Tabulka!C257","v":"VACULA"},{"$f":"[2]Tabulka!D257","v":"Jakub"},{"$f":"[2]Tabulka!E257","v":"2000-09-04"},{"$f":"[2]Tabulka!F257","v":"Frýdlant nad Ostravicí- SK"},{"$f":"[2]Tabulka!G257","v":"FM"},{"$f":"[2]Tabulka!H257","v":100},{"$f":"+[2]Tabulka!AU257","v":0},{"$f":"+[2]Tabulka!AV257","v":{"v":0,"d":"0.00"}},{"$f":"+[2]Tabulka!AW257","v":0},{"$f":"+[2]Tabulka!AX257","v":{"v":0,"d":"0.00"}},{"$f":"+[2]Tabulka!AY257","v":0},{"$f":"+[2]Tabulka!AZ257","v":{"v":0,"d":"0.00"}},{"$f":"+[2]Tabulka!BA257","v":0},{"$f":"+[2]Tabulka!BB257","v":{"v":0,"d":"0.00"}},{"$f":"+[2]Tabulka!BC257","v":0},{"$f":"+[2]Tabulka!BD257","v":{"v":0,"d":"0.00"}},{"$f":"+[2]Tabulka!BE257","v":0},{"$f":"+[2]Tabulka!BF257","v":{"v":0,"d":"0.00"}},{"$f":"+[2]Tabulka!BG257","v":0},{"$f":"+[2]Tabulka!BH257","v":{"v":0,"d":"0.00"}},{"$f":"+[2]Tabulka!BI257","v":0},{"$f":"+[2]Tabulka!BJ257","v":{"v":0,"d":"0.00"}},{"$f":"+[2]Tabulka!AP257","v":{"v":0,"d":"0.00"}},{"$f":"+[2]Tabulka!AQ257","v":{"v":0,"d":"0.00"}},{"$f":"+[2]Tabulka!BM257","v":{"v":0,"d":"0.00"}},{"$f":"+[2]Tabulka!BN257","v":0},{"$f":"+[2]Tabulka!BO257","v":{"v":0,"d":"0.00"}}]
[null,{"$f":"[2]Tabulka!C258","v":"VAJGL"},{"$f":"[2]Tabulka!D258","v":"Dominik"},{"$f":"[2]Tabulka!E258","v":"1996-04-30"},{"$f":"[2]Tabulka!F258","v":"Karviná- KLUBsten KST"},{"$f":"[2]Tabulka!G258","v":"KA"},{"$f":"[2]Tabulka!H258","v":100},{"$f":"+[2]Tabulka!AU258","v":0},{"$f":"+[2]Tabulka!AV258","v":{"v":0,"d":"0.00"}},{"$f":"+[2]Tabulka!AW258","v":0},{"$f":"+[2]Tabulka!AX258","v":{"v":0,"d":"0.00"}},{"$f":"+[2]Tabulka!AY258","v":0},{"$f":"+[2]Tabulka!AZ258","v":{"v":0,"d":"0.00"}},{"$f":"+[2]Tabulka!BA258","v":0},{"$f":"+[2]Tabulka!BB258","v":{"v":0,"d":"0.00"}},{"$f":"+[2]Tabulka!BC258","v":0},{"$f":"+[2]Tabulka!BD258","v":{"v":0,"d":"0.00"}},{"$f":"+[2]Tabulka!BE258","v":0},{"$f":"+[2]Tabulka!BF258","v":{"v":0,"d":"0.00"}},{"$f":"+[2]Tabulka!BG258","v":0},{"$f":"+[2]Tabulka!BH258","v":{"v":0,"d":"0.00"}},{"$f":"+[2]Tabulka!BI258","v":0},{"$f":"+[2]Tabulka!BJ258","v":{"v":0,"d":"0.00"}},{"$f":"+[2]Tabulka!AP258","v":{"v":0.05509814460814429,"d":"0.06"}},{"$f":"+[2]Tabulka!AQ258","v":{"v":1,"d":"1.00"}},{"$f":"+[2]Tabulka!BM258","v":{"v":0,"d":"0.00"}},{"$f":"+[2]Tabulka!BN258","v":0},{"$f":"+[2]Tabulka!BO258","v":{"v":0,"d":"0.00"}}]
[null,{"$f":"[2]Tabulka!C259","v":"VALOŠEK"},{"$f":"[2]Tabulka!D259","v":"Jakub"},{"$f":"[2]Tabulka!E259","v":"2000-06-18"},{"$f":"[2]Tabulka!F259","v":"Ostrava- Mittal TJ"},{"$f":"[2]Tabulka!G259","v":"OV"},{"$f":"[2]Tabulka!H259","v":100},{"$f":"+[2]Tabulka!AU259","v":0},{"$f":"+[2]Tabulka!AV259","v":{"v":0,"d":"0.00"}},{"$f":"+[2]Tabulka!AW259","v":0},{"$f":"+[2]Tabulka!AX259","v":{"v":0,"d":"0.00"}},{"$f":"+[2]Tabulka!AY259","v":0},{"$f":"+[2]Tabulka!AZ259","v":{"v":0,"d":"0.00"}},{"$f":"+[2]Tabulka!BA259","v":0},{"$f":"+[2]Tabulka!BB259","v":{"v":0,"d":"0.00"}},{"$f":"+[2]Tabulka!BC259","v":0},{"$f":"+[2]Tabulka!BD259","v":{"v":0,"d":"0.00"}},{"$f":"+[2]Tabulka!BE259","v":0},{"$f":"+[2]Tabulka!BF259","v":{"v":0,"d":"0.00"}},{"$f":"+[2]Tabulka!BG259","v":0},{"$f":"+[2]Tabulka!BH259","v":{"v":0,"d":"0.00"}},{"$f":"+[2]Tabulka!BI259","v":0},{"$f":"+[2]Tabulka!BJ259","v":{"v":0,"d":"0.00"}},{"$f":"+[2]Tabulka!AP259","v":{"v":1.3669084679902668,"d":"1.37"}},{"$f":"+[2]Tabulka!AQ259","v":{"v":3,"d":"3.00"}},{"$f":"+[2]Tabulka!BM259","v":{"v":0,"d":"0.00"}},{"$f":"+[2]Tabulka!BN259","v":0},{"$f":"+[2]Tabulka!BO259","v":{"v":0,"d":"0.00"}}]
[null,{"$f":"[2]Tabulka!C260","v":"VANĚK"},{"$f":"[2]Tabulka!D260","v":"Jan"},{"$f":"[2]Tabulka!E260","v":"1997-01-01"},{"$f":"[2]Tabulka!F260","v":"Vratimov- MG Odra Gas TTC"},{"$f":"[2]Tabulka!G260","v":"OV"},{"$f":"[2]Tabulka!H260","v":0},{"$f":"+[2]Tabulka!AU260","v":0},{"$f":"+[2]Tabulka!AV260","v":{"v":0,"d":"0.00"}},{"$f":"+[2]Tabulka!AW260","v":0},{"$f":"+[2]Tabulka!AX260","v":{"v":0,"d":"0.00"}},{"$f":"+[2]Tabulka!AY260","v":0},{"$f":"+[2]Tabulka!AZ260","v":{"v":0,"d":"0.00"}},{"$f":"+[2]Tabulka!BA260","v":0},{"$f":"+[2]Tabulka!BB260","v":{"v":0,"d":"0.00"}},{"$f":"+[2]Tabulka!BC260","v":0},{"$f":"+[2]Tabulka!BD260","v":{"v":0,"d":"0.00"}},{"$f":"+[2]Tabulka!BE260","v":0},{"$f":"+[2]Tabulka!BF260","v":{"v":0,"d":"0.00"}},{"$f":"+[2]Tabulka!BG260","v":0},{"$f":"+[2]Tabulka!BH260","v":{"v":0,"d":"0.00"}},{"$f":"+[2]Tabulka!BI260","v":0},{"$f":"+[2]Tabulka!BJ260","v":{"v":0,"d":"0.00"}},{"$f":"+[2]Tabulka!AP260","v":{"v":0,"d":"0.00"}},{"$f":"+[2]Tabulka!AQ260","v":{"v":0,"d":"0.00"}},{"$f":"+[2]Tabulka!BM260","v":{"v":0,"d":"0.00"}},{"$f":"+[2]Tabulka!BN260","v":0},{"$f":"+[2]Tabulka!BO260","v":{"v":0,"d":"0.00"}}]
[null,{"$f":"[2]Tabulka!C261","v":"VANTUCH"},{"$f":"[2]Tabulka!D261","v":"František"},{"$f":"[2]Tabulka!E261","v":"1999-02-25"},{"$f":"[2]Tabulka!F261","v":"Brušperk- Sokol TJ"},{"$f":"[2]Tabulka!G261","v":"FM"},{"$f":"[2]Tabulka!H261","v":100},{"$f":"+[2]Tabulka!AU261","v":0},{"$f":"+[2]Tabulka!AV261","v":{"v":0,"d":"0.00"}},{"$f":"+[2]Tabulka!AW261","v":0},{"$f":"+[2]Tabulka!AX261","v":{"v":0,"d":"0.00"}},{"$f":"+[2]Tabulka!AY261","v":0},{"$f":"+[2]Tabulka!AZ261","v":{"v":0,"d":"0.00"}},{"$f":"+[2]Tabulka!BA261","v":0},{"$f":"+[2]Tabulka!BB261","v":{"v":0,"d":"0.00"}},{"$f":"+[2]Tabulka!BC261","v":0},{"$f":"+[2]Tabulka!BD261","v":{"v":0,"d":"0.00"}},{"$f":"+[2]Tabulka!BE261","v":0},{"$f":"+[2]Tabulka!BF261","v":{"v":0,"d":"0.00"}},{"$f":"+[2]Tabulka!BG261","v":0},{"$f":"+[2]Tabulka!BH261","v":{"v":0,"d":"0.00"}},{"$f":"+[2]Tabulka!BI261","v":0},{"$f":"+[2]Tabulka!BJ261","v":{"v":0,"d":"0.00"}},{"$f":"+[2]Tabulka!AP261","v":{"v":0.49319073824857695,"d":"0.49"}},{"$f":"+[2]Tabulka!AQ261","v":{"v":3,"d":"3.00"}},{"$f":"+[2]Tabulka!BM261","v":{"v":0,"d":"0.00"}},{"$f":"+[2]Tabulka!BN261","v":0},{"$f":"+[2]Tabulka!BO261","v":{"v":0,"d":"0.00"}}]
[null,{"$f":"[2]Tabulka!C262","v":"VEČEREK"},{"$f":"[2]Tabulka!D262","v":"Jan"},{"$f":"[2]Tabulka!E262","v":"1995-09-26"},{"$f":"[2]Tabulka!F262","v":"Karviná- KLUBsten KST"},{"$f":"[2]Tabulka!G262","v":"KA"},{"$f":"[2]Tabulka!H262","v":100},{"$f":"+[2]Tabulka!AU262","v":0},{"$f":"+[2]Tabulka!AV262","v":{"v":0,"d":"0.00"}},{"$f":"+[2]Tabulka!AW262","v":0},{"$f":"+[2]Tabulka!AX262","v":{"v":0,"d":"0.00"}},{"$f":"+[2]Tabulka!AY262","v":0},{"$f":"+[2]Tabulka!AZ262","v":{"v":0,"d":"0.00"}},{"$f":"+[2]Tabulka!BA262","v":0},{"$f":"+[2]Tabulka!BB262","v":{"v":0,"d":"0.00"}},{"$f":"+[2]Tabulka!BC262","v":0},{"$f":"+[2]Tabulka!BD262","v":{"v":0,"d":"0.00"}},{"$f":"+[2]Tabulka!BE262","v":0},{"$f":"+[2]Tabulka!BF262","v":{"v":0,"d":"0.00"}},{"$f":"+[2]Tabulka!BG262","v":0},{"$f":"+[2]Tabulka!BH262","v":{"v":0,"d":"0.00"}},{"$f":"+[2]Tabulka!BI262","v":0},{"$f":"+[2]Tabulka!BJ262","v":{"v":0,"d":"0.00"}},{"$f":"+[2]Tabulka!AP262","v":{"v":0,"d":"0.00"}},{"$f":"+[2]Tabulka!AQ262","v":{"v":0,"d":"0.00"}},{"$f":"+[2]Tabulka!BM262","v":{"v":0,"d":"0.00"}},{"$f":"+[2]Tabulka!BN262","v":0},{"$f":"+[2]Tabulka!BO262","v":{"v":0,"d":"0.00"}}]
[null,{"$f":"[2]Tabulka!C263","v":"VELIČKA"},{"$f":"[2]Tabulka!D263","v":"Martin"},{"$f":"[2]Tabulka!E263","v":"1999-02-18"},{"$f":"[2]Tabulka!F263","v":"Frýdlant nad Ostravicí- SK"},{"$f":"[2]Tabulka!G263","v":"FM"},{"$f":"[2]Tabulka!H263","v":100},{"$f":"+[2]Tabulka!AU263","v":0},{"$f":"+[2]Tabulka!AV263","v":{"v":0,"d":"0.00"}},{"$f":"+[2]Tabulka!AW263","v":0},{"$f":"+[2]Tabulka!AX263","v":{"v":0,"d":"0.00"}},{"$f":"+[2]Tabulka!AY263","v":0},{"$f":"+[2]Tabulka!AZ263","v":{"v":0,"d":"0.00"}},{"$f":"+[2]Tabulka!BA263","v":0},{"$f":"+[2]Tabulka!BB263","v":{"v":0,"d":"0.00"}},{"$f":"+[2]Tabulka!BC263","v":0},{"$f":"+[2]Tabulka!BD263","v":{"v":0,"d":"0.00"}},{"$f":"+[2]Tabulka!BE263","v":0},{"$f":"+[2]Tabulka!BF263","v":{"v":0,"d":"0.00"}},{"$f":"+[2]Tabulka!BG263","v":0},{"$f":"+[2]Tabulka!BH263","v":{"v":0,"d":"0.00"}},{"$f":"+[2]Tabulka!BI263","v":0},{"$f":"+[2]Tabulka!BJ263","v":{"v":0,"d":"0.00"}},{"$f":"+[2]Tabulka!AP263","v":{"v":0.6127371446461447,"d":"0.61"}},{"$f":"+[2]Tabulka!AQ263","v":{"v":1,"d":"1.00"}},{"$f":"+[2]Tabulka!BM263","v":{"v":0,"d":"0.00"}},{"$f":"+[2]Tabulka!BN263","v":0},{"$f":"+[2]Tabulka!BO263","v":{"v":0,"d":"0.00"}}]
[null,{"$f":"[2]Tabulka!C264","v":"VELKÝ"},{"$f":"[2]Tabulka!D264","v":"Dalibor"},{"$f":"[2]Tabulka!E264","v":"1998-10-30"},{"$f":"[2]Tabulka!F264","v":"Vřesina- DTJ LT"},{"$f":"[2]Tabulka!G264","v":"OV"},{"$f":"[2]Tabulka!H264","v":100},{"$f":"+[2]Tabulka!AU264","v":0},{"$f":"+[2]Tabulka!AV264","v":{"v":0,"d":"0.00"}},{"$f":"+[2]Tabulka!AW264","v":0},{"$f":"+[2]Tabulka!AX264","v":{"v":0,"d":"0.00"}},{"$f":"+[2]Tabulka!AY264","v":0},{"$f":"+[2]Tabulka!AZ264","v":{"v":0,"d":"0.00"}},{"$f":"+[2]Tabulka!BA264","v":0},{"$f":"+[2]Tabulka!BB264","v":{"v":0,"d":"0.00"}},{"$f":"+[2]Tabulka!BC264","v":0},{"$f":"+[2]Tabulka!BD264","v":{"v":0,"d":"0.00"}},{"$f":"+[2]Tabulka!BE264","v":0},{"$f":"+[2]Tabulka!BF264","v":{"v":0,"d":"0.00"}},{"$f":"+[2]Tabulka!BG264","v":0},{"$f":"+[2]Tabulka!BH264","v":{"v":0,"d":"0.00"}},{"$f":"+[2]Tabulka!BI264","v":0},{"$f":"+[2]Tabulka!BJ264","v":{"v":0,"d":"0.00"}},{"$f":"+[2]Tabulka!AP264","v":{"v":0,"d":"0.00"}},{"$f":"+[2]Tabulka!AQ264","v":{"v":0,"d":"0.00"}},{"$f":"+[2]Tabulka!BM264","v":{"v":0,"d":"0.00"}},{"$f":"+[2]Tabulka!BN264","v":0},{"$f":"+[2]Tabulka!BO264","v":{"v":0,"d":"0.00"}}]
[null,{"$f":"[2]Tabulka!C265","v":"VÉVODA"},{"$f":"[2]Tabulka!D265","v":"Ondřej"},{"$f":"[2]Tabulka!E265","v":"1999-03-26"},{"$f":"[2]Tabulka!F265","v":"Malenovice- BSK"},{"$f":"[2]Tabulka!G265","v":"FM"},{"$f":"[2]Tabulka!H265","v":100},{"$f":"+[2]Tabulka!AU265","v":0},{"$f":"+[2]Tabulka!AV265","v":{"v":0,"d":"0.00"}},{"$f":"+[2]Tabulka!AW265","v":0},{"$f":"+[2]Tabulka!AX265","v":{"v":0,"d":"0.00"}},{"$f":"+[2]Tabulka!AY265","v":0},{"$f":"+[2]Tabulka!AZ265","v":{"v":0,"d":"0.00"}},{"$f":"+[2]Tabulka!BA265","v":0},{"$f":"+[2]Tabulka!BB265","v":{"v":0,"d":"0.00"}},{"$f":"+[2]Tabulka!BC265","v":0},{"$f":"+[2]Tabulka!BD265","v":{"v":0,"d":"0.00"}},{"$f":"+[2]Tabulka!BE265","v":0},{"$f":"+[2]Tabulka!BF265","v":{"v":0,"d":"0.00"}},{"$f":"+[2]Tabulka!BG265","v":0},{"$f":"+[2]Tabulka!BH265","v":{"v":0,"d":"0.00"}},{"$f":"+[2]Tabulka!BI265","v":0},{"$f":"+[2]Tabulka!BJ265","v":{"v":0,"d":"0.00"}},{"$f":"+[2]Tabulka!AP265","v":{"v":46.65379256321638,"d":"46.65"}},{"$f":"+[2]Tabulka!AQ265","v":{"v":3,"d":"3.00"}},{"$f":"+[2]Tabulka!BM265","v":{"v":0,"d":"0.00"}},{"$f":"+[2]Tabulka!BN265","v":0},{"$f":"+[2]Tabulka!BO265","v":{"v":0,"d":"0.00"}}]

{"sheet":"Starší žactvo","index":2,"n_rows":182,"n_cols":87,"rows_kept":182,"merged":[[2,1,2,6],[2,7,2,8],[2,9,2,10],[2,11,2,12],[2,13,2,14],[2,15,2,16],[2,17,2,18],[2,19,2,20],[2,21,2,22]]}
["PRŮBĚŽNÉ BODOVÉ POŘADÍ RBTM A PR KARVINÁ STARŠÍHO ŽACTVA"]
[]
[null," - započítává se 5 nejlepších turnajů z 8 odehraných za poslední rok",{"$nulls":5},{"$f":"+Dorost!H3","v":"KARVINÁ 17.9.2011"},null,{"$f":"+Dorost!J3","v":"HAVÍŘOV 24.9.2011"},null,{"$f":"+Dorost!L3","v":"KARVINÁ 3.12.2011"},null,{"$f":"+Dorost!N3","v":"HAVÍŘOV 7.1.2012"},null,{"$f":"+Dorost!P3","v":"HAVÍŘOV 4.2.2012"},null,{"$f":"+Dorost!R3","v":"KARVINÁ 19.3.2011"},null,{"$f":"+Dorost!T3","v":"KARVINÁ 16.4.2011"},null,{"$f":"+Dorost!V3","v":"KARVINÁ 14.5.2011"}]
[{"$nulls":7},{"$f":"+[3]Tabulka!AU409","v":28},{"$f":"SUBTOTAL(9,I6:I300)","v":62.945465720620604},{"$f":"+[3]Tabulka!AW409","v":29},{"$f":"SUBTOTAL(9,K6:K300)","v":64.05922221818253},{"$f":"+[3]Tabulka!AY409","v":33},{"$f":"SUBTOTAL(9,M6:M300)","v":66.43500059111345},{"$f":"+[3]Tabulka!BA409","v":17},{"$f":"SUBTOTAL(9,O6:O300)","v":70.58354678586471},{"$f":"+[3]Tabulka!BC409","v":25},{"$f":"SUBTOTAL(9,Q6:Q300)","v":60.25469675968833},{"$f":"+[3]Tabulka!BE409","v":23},{"$f":"SUBTOTAL(9,S6:S300)","v":53.36676919032767},{"$f":"+[3]Tabulka!BG409","v":40},{"$f":"SUBTOTAL(9,U6:U300)","v":51.62176517257376},{"$f":"+[3]Tabulka!BI409","v":27},{"$f":"SUBTOTAL(9,W6:W300)","v":44.717052127263585},{"$f":"+[3]Tabulka!AP5","v":0},{"$f":"+[3]Tabulka!AQ5","v":0},{"$f":"+[3]Tabulka!AR5","v":0},{"$f":"+[3]Tabulka!AS5","v":0},{"$f":"+[3]Tabulka!AT5","v":0}]
[{"$f":"SUBTOTAL(3,A6:A340)","v":63},{"$f":"[3]Tabulka!C6","v":"Přijmení"},{"$f":"[3]Tabulka!D6","v":"jméno"},{"$f":"[3]Tabulka!E6","v":"nar"},{"$f":"[3]Tabulka!F6","v":"oddíl-klub"},{"$f":"[3]Tabulka!G6","v":"okr"},{"$f":"[3]Tabulka!H6","v":"pop"},{"$f":"+[3]Tabulka!Z6","v":"um."},{"$f":"+[3]Tabulka!AA6","v":"b."},{"$f":"+[3]Tabulka!AB6","v":"um."},{"$f":"+[3]Tabulka!AC6","v":"b."},{"$f":"+[3]Tabulka!AD6","v":"um."},{"$f":"+[3]Tabulka!AE6","v":"b."},{"$f":"+[3]Tabulka!AF6","v":"um."},{"$f":"+[3]Tabulka!AG6","v":"b."},{"$f":"+[3]Tabulka!AH6","v":"um."},{"$f":"+[3]Tabulka!AI6","v":"b."},{"$f":"+[3]Tabulka!AJ6","v":"um."},{"$f":"+[3]Tabulka!AK6","v":"b."},{"$f":"+[3]Tabulka!AL6","v":"um."},{"$f":"+[3]Tabulka!AM6","v":"b."},{"$f":"+[3]Tabulka!AN6","v":"um."},{"$f":"+[3]Tabulka!AO6","v":"b."},{"$f":"+[3]Tabulka!AP6","v":"I."},{"$f":"+[3]Tabulka!AQ6","v":"t"},{"$f":"+[3]Tabulka!AR6","v":"I.+II."},{"$f":"+[3]Tabulka!AS6","v":"t"},{"$f":"+[3]Tabulka!AT6","v":"R"},{"$nulls":5},{"$f":"[3]Tabulka!DG6","v":0},{"$f":"[3]Tabulka!DH6","v":0},{"$f":"[3]Tabulka!DI6","v":0},{"$f":"[3]Tabulka!DJ6","v":0},{"$f":"[3]Tabulka!DK6","v":0},{"$f":"[3]Tabulka!DL6","v":0},{"$f":"[3]Tabulka!DM6","v":0},{"$f":"[3]Tabulka!DN6","v":0},{"$f":"[3]Tabulka!DO6","v":0},{"$f":"[3]Tabulka!DP6","v":0},{"$f":"[3]Tabulka!DQ6","v":0},{"$f":"[3]Tabulka!DR6","v":0},{"$f":"[3]Tabulka!DS6","v":0},{"$f":"[3]Tabulka!DT6","v":0},{"$f":"[3]Tabulka!DU6","v":0},{"$f":"[3]Tabulka!DV6","v":0},{"$f":"[3]Tabulka!DW6","v":0},{"$f":"[3]Tabulka!DX6","v":0},{"$f":"[3]Tabulka!DY6","v":0},{"$f":"[3]Tabulka!DZ6","v":0},{"$f":"[3]Tabulka!EA6","v":0},{"$f":"[3]Tabulka!EB6","v":0},{"$f":"[3]Tabulka!EC6","v":0},{"$f":"[3]Tabulka!ED6","v":0},{"$f":"[3]Tabulka!EE6","v":0},{"$f":"[3]Tabulka!EF6","v":0},{"$f":"[3]Tabulka!EG6","v":0},{"$f":"[3]Tabulka!EH6","v":0},{"$f":"[3]Tabulka!EI6","v":0},{"$f":"[3]Tabulka!EJ6","v":0},{"$f":"[3]Tabulka!EK6","v":0},{"$f":"[3]Tabulka!EL6","v":0},{"$f":"[3]Tabulka!EM6","v":0},{"$f":"[3]Tabulka!EN6","v":0},{"$f":"[3]Tabulka!EO6","v":0},{"$f":"[3]Tabulka!EP6","v":0},{"$f":"[3]Tabulka!EQ6","v":0},{"$f":"[3]Tabulka!ER6","v":0},{"$f":"[3]Tabulka!ES6","v":0},{"$f":"[3]Tabulka!ET6","v":0},{"$f":"[3]Tabulka!EU6","v":0},{"$f":"[3]Tabulka!EV6","v":0},{"$f":"[3]Tabulka!EW6","v":0},{"$f":"[3]Tabulka!EX6","v":0},{"$f":"[3]Tabulka!EY6","v":0},{"$f":"[3]Tabulka!EZ6","v":0},{"$f":"[3]Tabulka!FA6","v":0},{"$f":"[3]Tabulka!FB6","v":0},{"$f":"[3]Tabulka!FC6","v":0},{"$f":"[3]Tabulka!FD6","v":0},{"$f":"[3]Tabulka!FE6","v":0},{"$f":"[3]Tabulka!FF6","v":0},{"$f":"[3]Tabulka!FG6","v":0},{"$f":"[3]Tabulka!FH6","v":0}]
["1",{"$f":"[3]Tabulka!C7","v":"ZATLOUKAL"},{"$f":"[3]Tabulka!D7","v":"Martin"},{"$f":"[3]Tabulka!E7","v":"1998-10-05"},{"$f":"[3]Tabulka!F7","v":"Karviná- KLUBsten KST"},{"$f":"[3]Tabulka!G7","v":"KA"},{"$f":"[3]Tabulka!H7","v":100},{"$f":"+[3]Tabulka!AU7","v":2},{"$f":"+[3]Tabulka!AV7","v":{"v":4.369400178389413,"d":"4.37"}},{"$f":"+[3]Tabulka!AW7","v":1},{"$f":"+[3]Tabulka!AX7","v":{"v":4.655343691373548,"d":"4.66"}},{"$f":"+[3]Tabulka!AY7","v":1},{"$f":"+[3]Tabulka!AZ7","v":{"v":4.655343691373548,"d":"4.66"}},{"$f":"+[3]Tabulka!BA7","v":3},{"$f":"+[3]Tabulka!BB7","v":{"v":4.101020071683792,"d":"4.10"}},{"$f":"+[3]Tabulka!BC7","v":1},{"$f":"+[3]Tabulka!BD7","v":{"v":4.655343691373548,"d":"4.66"}},{"$f":"+[3]Tabulka!BE7","v":3},{"$f":"+[3]Tabulka!BF7","v":{"v":4.101020071683792,"d":"4.10"}},{"$f":"+[3]Tabulka!BG7","v":5},{"$f":"+[3]Tabulka!BH7","v":{"v":3.6127011759664778,"d":"3.61"}},{"$f":"+[3]Tabulka!BI7","v":6},{"$f":"+[3]Tabulka!BJ7","v":{"v":3.3907995218454317,"d":"3.39"}},{"$f":"+[3]Tabulka!AP7","v":{"v":36.75290399920241,"d":"36.75"}},{"$f":"+[3]Tabulka!AQ7","v":{"v":4,"d":"4.00"}},{"$f":"+[3]Tabulka!BM7","v":{"v":33.540972093689554,"d":"33.54"}},{"$f":"+[3]Tabulka!BN7","v":8},{"$f":"+[3]Tabulka!BO7","v":{"v":22.436451324193847,"d":"22.44"}}]
["2",{"$f":"[3]Tabulka!C8","v":"SIWIEC"},{"$f":"[3]Tabulka!D8","v":"Vojtěch"},{"$f":"[3]Tabulka!E8","v":"1997-08-11"},{"$f":"[3]Tabulka!F8","v":"Karviná- KLUBsten KST"},{"$f":"[3]Tabulka!G8","v":"KA"},{"$f":"[3]Tabulka!H8","v":100},{"$f":"+[3]Tabulka!AU8","v":0},{"$f":"+[3]Tabulka!AV8","v":{"v":0,"d":"0.00"}},{"$f":"+[3]Tabulka!AW8","v":0},{"$f":"+[3]Tabulka!AX8","v":{"v":0,"d":"0.00"}},{"$f":"+[3]Tabulka!AY8","v":3},{"$f":"+[3]Tabulka!AZ8","v":{"v":4.101020071683792,"d":"4.10"}},{"$f":"+[3]Tabulka!BA8","v":2},{"$f":"+[3]Tabulka!BB8","v":{"v":4.369400178389413,"d":"4.37"}},{"$f":"+[3]Tabulka!BC8","v":3},{"$f":"+[3]Tabulka!BD8","v":{"v":4.101020071683792,"d":"4.10"}},{"$f":"+[3]Tabulka!BE8","v":2},{"$f":"+[3]Tabulka!BF8","v":{"v":4.369400178389413,"d":"4.37"}},{"$f":"+[3]Tabulka!BG8","v":6},{"$f":"+[3]Tabulka!BH8","v":{"v":3.3907995218454317,"d":"3.39"}},{"$f":"+[3]Tabulka!BI8","v":4},{"$f":"+[3]Tabulka!BJ8","v":{"v":3.8491245804252903,"d":"3.85"}},{"$f":"+[3]Tabulka!AP8","v":{"v":4.52427930820069,"d":"4.52"}},{"$f":"+[3]Tabulka!AQ8","v":{"v":3,"d":"3.00"}},{"$f":"+[3]Tabulka!BM8","v":{"v":24.18076460241713,"d":"24.18"}},{"$f":"+[3]Tabulka!BN8","v":6},{"$f":"+[3]Tabulka!BO8","v":{"v":20.7899650805717,"d":"20.79"}}]
["3",{"$f":"[3]Tabulka!C9","v":"PŘIBYL"},{"$f":"[3]Tabulka!D9","v":"Jan"},{"$f":"[3]Tabulka!E9","v":"2000-07-14"},{"$f":"[3]Tabulka!F9","v":"Český Těšín- SKST"},{"$f":"[3]Tabulka!G9","v":"KA"},{"$f":"[3]Tabulka!H9","v":100},{"$f":"+[3]Tabulka!AU9","v":5},{"$f":"+[3]Tabulka!AV9","v":{"v":3.6127011759664778,"d":"3.61"}},{"$f":"+[3]Tabulka!AW9","v":4},{"$f":"+[3]Tabulka!AX9","v":{"v":3.8491245804252903,"d":"3.85"}},{"$f":"+[3]Tabulka!AY9","v":2},{"$f":"+[3]Tabulka!AZ9","v":{"v":4.369400178389413,"d":"4.37"}},{"$f":"+[3]Tabulka!BA9","v":4},{"$f":"+[3]Tabulka!BB9","v":{"v":3.8491245804252903,"d":"3.85"}},{"$f":"+[3]Tabulka!BC9","v":2},{"$f":"+[3]Tabulka!BD9","v":{"v":4.369400178389413,"d":"4.37"}},{"$f":"+[3]Tabulka!BE9","v":4},{"$f":"+[3]Tabulka!BF9","v":{"v":3.8491245804252903,"d":"3.85"}},{"$f":"+[3]Tabulka!BG9","v":16},{"$f":"+[3]Tabulka!BH9","v":{"v":1.7988826834228204,"d":"1.80"}},{"$f":"+[3]Tabulka!BI9","v":13},{"$f":"+[3]Tabulka!BJ9","v":{"v":2.1756679932838794,"d":"2.18"}},{"$f":"+[3]Tabulka!AP9","v":{"v":14.35487001542569,"d":"14.35"}},{"$f":"+[3]Tabulka!AQ9","v":{"v":3,"d":"3.00"}},{"$f":"+[3]Tabulka!BM9","v":{"v":27.873425950727874,"d":"27.87"}},{"$f":"+[3]Tabulka!BN9","v":8},{"$f":"+[3]Tabulka!BO9","v":{"v":20.286174098054698,"d":"20.29"}}]
["4",{"$f":"[3]Tabulka!C10","v":"KRNÁČOVÁ"},{"$f":"[3]Tabulka!D10","v":"Anna"},{"$f":"[3]Tabulka!E10","v":"1999-02-09"},{"$f":"[3]Tabulka!F10","v":"Karviná- KLUBsten KST"},{"$f":"[3]Tabulka!G10","v":"KA"},{"$f":"[3]Tabulka!H10","v":100},{"$f":"+[3]Tabulka!AU10","v":3},{"$f":"+[3]Tabulka!AV10","v":{"v":4.101020071683792,"d":"4.10"}},{"$f":"+[3]Tabulka!AW10","v":0},{"$f":"+[3]Tabulka!AX10","v":{"v":0,"d":"0.00"}},{"$f":"+[3]Tabulka!AY10","v":7},{"$f":"+[3]Tabulka!AZ10","v":{"v":3.1825276537773326,"d":"3.18"}},{"$f":"+[3]Tabulka!BA10","v":6},{"$f":"+[3]Tabulka!BB10","v":{"v":3.3907995218454317,"d":"3.39"}},{"$f":"+[3]Tabulka!BC10","v":7},{"$f":"+[3]Tabulka!BD10","v":{"v":3.1825276537773326,"d":"3.18"}},{"$f":"+[3]Tabulka!BE10","v":6},{"$f":"+[3]Tabulka!BF10","v":{"v":3.3907995218454317,"d":"3.39"}},{"$f":"+[3]Tabulka!BG10","v":7},{"$f":"+[3]Tabulka!BH10","v":{"v":3.1825276537773326,"d":"3.18"}},{"$f":"+[3]Tabulka!BI10","v":7},{"$f":"+[3]Tabulka!BJ10","v":{"v":3.1825276537773326,"d":"3.18"}},{"$f":"+[3]Tabulka!AP10","v":{"v":8.85330371714969,"d":"8.85"}},{"$f":"+[3]Tabulka!AQ10","v":{"v":3,"d":"3.00"}},{"$f":"+[3]Tabulka!BM10","v":{"v":23.612729730483984,"d":"23.61"}},{"$f":"+[3]Tabulka!BN10","v":7},{"$f":"+[3]Tabulka!BO10","v":{"v":17.24767442292932,"d":"17.25"}}]
["5",{"$f":"[3]Tabulka!C11","v":"BRANNÝ"},{"$f":"[3]Tabulka!D11","v":"Tomáš"},{"$f":"[3]Tabulka!E11","v":"2002-06-04"},{"$f":"[3]Tabulka!F11","v":"Orlová- Siko TTC"},{"$f":"[3]Tabulka!G11","v":"KA"},{"$f":"[3]Tabulka!H11","v":100},{"$f":"+[3]Tabulka!AU11","v":6},{"$f":"+[3]Tabulka!AV11","v":{"v":3.3907995218454317,"d":"3.39"}},{"$f":"+[3]Tabulka!AW11","v":2},{"$f":"+[3]Tabulka!AX11","v":{"v":4.369400178389413,"d":"4.37"}},{"$f":"+[3]Tabulka!AY11","v":8},{"$f":"+[3]Tabulka!AZ11","v":{"v":2.987048394281082,"d":"2.99"}},{"$f":"+[3]Tabulka!BA11","v":10},{"$f":"+[3]Tabulka!BB11","v":{"v":2.6313729408930584,"d":"2.63"}},{"$f":"+[3]Tabulka!BC11","v":6},{"$f":"+[3]Tabulka!BD11","v":{"v":3.3907995218454317,"d":"3.39"}},{"$f":"+[3]Tabulka!BE11","v":9},{"$f":"+[3]Tabulka!BF11","v":{"v":2.803575987529016,"d":"2.80"}},{"$f":"+[3]Tabulka!BG11","v":13},{"$f":"+[3]Tabulka!BH11","v":{"v":2.1756679932838794,"d":"2.18"}},{"$f":"+[3]Tabulka!BI11","v":15},{"$f":"+[3]Tabulka!BJ11","v":{"v":1.91660566894571,"d":"1.92"}},{"$f":"+[3]Tabulka!AP11","v":{"v":9.384482677880502,"d":"9.38"}},{"$f":"+[3]Tabulka!AQ11","v":{"v":3,"d":"3.00"}},{"$f":"+[3]Tabulka!BM11","v":{"v":23.665270207013023,"d":"23.67"}},{"$f":"+[3]Tabulka!BN11","v":8},{"$f":"+[3]Tabulka!BO11","v":{"v":16.941623603890374,"d":"16.94"}}]
["6",{"$f":"[3]Tabulka!C12","v":"SLIŽ"},{"$f":"[3]Tabulka!D12","v":"Petr"},{"$f":"[3]Tabulka!E12","v":"1997-07-19"},{"$f":"[3]Tabulka!F12","v":"Karviná- KLUBsten KST"},{"$f":"[3]Tabulka!G12","v":"KA"},{"$f":"[3]Tabulka!H12","v":100},{"$f":"+[3]Tabulka!AU12","v":0},{"$f":"+[3]Tabulka!AV12","v":{"v":0,"d":"0.00"}},{"$f":"+[3]Tabulka!AW12","v":5},{"$f":"+[3]Tabulka!AX12","v":{"v":3.6127011759664778,"d":"3.61"}},{"$f":"+[3]Tabulka!AY12","v":6},{"$f":"+[3]Tabulka!AZ12","v":{"v":3.3907995218454317,"d":"3.39"}},{"$f":"+[3]Tabulka!BA12","v":8},{"$f":"+[3]Tabulka!BB12","v":{"v":2.987048394281082,"d":"2.99"}},{"$f":"+[3]Tabulka!BC12","v":5},{"$f":"+[3]Tabulka!BD12","v":{"v":3.6127011759664778,"d":"3.61"}},{"$f":"+[3]Tabulka!BE12","v":10},{"$f":"+[3]Tabulka!BF12","v":{"v":2.6313729408930584,"d":"2.63"}},{"$f":"+[3]Tabulka!BG12","v":12},{"$f":"+[3]Tabulka!BH12","v":{"v":2.3180486688200013,"d":"2.32"}},{"$f":"+[3]Tabulka!BI12","v":12},{"$f":"+[3]Tabulka!BJ12","v":{"v":2.3180486688200013,"d":"2.32"}},{"$f":"+[3]Tabulka!AP12","v":{"v":13.7844057008366,"d":"13.78"}},{"$f":"+[3]Tabulka!AQ12","v":{"v":4,"d":"4.00"}},{"$f":"+[3]Tabulka!BM12","v":{"v":20.87072054659253,"d":"20.87"}},{"$f":"+[3]Tabulka!BN12","v":7},{"$f":"+[3]Tabulka!BO12","v":{"v":16.234623208952527,"d":"16.23"}}]
["7",{"$f":"[3]Tabulka!C13","v":"ADAMCZYK"},{"$f":"[3]Tabulka!D13","v":"Jiří"},{"$f":"[3]Tabulka!E13","v":"2002-02-21"},{"$f":"[3]Tabulka!F13","v":"Dětmarovice- Sokol TJ"},{"$f":"[3]Tabulka!G13","v":"KA"},{"$f":"[3]Tabulka!H13","v":100},{"$f":"+[3]Tabulka!AU13","v":8},{"$f":"+[3]Tabulka!AV13","v":{"v":2.987048394281082,"d":"2.99"}},{"$f":"+[3]Tabulka!AW13","v":0},{"$f":"+[3]Tabulka!AX13","v":{"v":0,"d":"0.00"}},{"$f":"+[3]Tabulka!AY13","v":4},{"$f":"+[3]Tabulka!AZ13","v":{"v":3.8491245804252903,"d":"3.85"}},{"$f":"+[3]Tabulka!BA13","v":7},{"$f":"+[3]Tabulka!BB13","v":{"v":3.1825276537773326,"d":"3.18"}},{"$f":"+[3]Tabulka!BC13","v":8},{"$f":"+[3]Tabulka!BD13","v":{"v":2.987048394281082,"d":"2.99"}},{"$f":"+[3]Tabulka!BE13","v":7},{"$f":"+[3]Tabulka!BF13","v":{"v":3.1825276537773326,"d":"3.18"}},{"$f":"+[3]Tabulka!BG13","v":10},{"$f":"+[3]Tabulka!BH13","v":{"v":2.6313729408930584,"d":"2.63"}},{"$f":"+[3]Tabulka!BI13","v":9},{"$f":"+[3]Tabulka!BJ13","v":{"v":2.803575987529016,"d":"2.80"}},{"$f":"+[3]Tabulka!AP13","v":{"v":10.418794409760682,"d":"10.42"}},{"$f":"+[3]Tabulka!AQ13","v":{"v":4,"d":"4.00"}},{"$f":"+[3]Tabulka!BM13","v":{"v":21.623225604964194,"d":"21.62"}},{"$f":"+[3]Tabulka!BN13","v":7},{"$f":"+[3]Tabulka!BO13","v":{"v":16.18827667654212,"d":"16.19"}}]
["8",{"$f":"[3]Tabulka!C14","v":"MAZŮREK"},{"$f":"[3]Tabulka!D14","v":"Matěj"},{"$f":"[3]Tabulka!E14","v":"1999-03-26"},{"$f":"[3]Tabulka!F14","v":"Havířov- CSVČ sv. Jana Boska"},{"$f":"[3]Tabulka!G14","v":"KA"},{"$f":"[3]Tabulka!H14","v":100},{"$f":"+[3]Tabulka!AU14","v":9},{"$f":"+[3]Tabulka!AV14","v":{"v":2.803575987529016,"d":"2.80"}},{"$f":"+[3]Tabulka!AW14","v":0},{"$f":"+[3]Tabulka!AX14","v":{"v":0,"d":"0.00"}},{"$f":"+[3]Tabulka!AY14","v":5},{"$f":"+[3]Tabulka!AZ14","v":{"v":3.6127011759664778,"d":"3.61"}},{"$f":"+[3]Tabulka!BA14","v":9},{"$f":"+[3]Tabulka!BB14","v":{"v":2.803575987529016,"d":"2.80"}},{"$f":"+[3]Tabulka!BC14","v":4},{"$f":"+[3]Tabulka!BD14","v":{"v":3.8491245804252903,"d":"3.85"}},{"$f":"+[3]Tabulka!BE14","v":8},{"$f":"+[3]Tabulka!BF14","v":{"v":2.987048394281082,"d":"2.99"}},{"$f":"+[3]Tabulka!BG14","v":11},{"$f":"+[3]Tabulka!BH14","v":{"v":2.4697470604914433,"d":"2.47"}},{"$f":"+[3]Tabulka!BI14","v":10},{"$f":"+[3]Tabulka!BJ14","v":{"v":2.6313729408930584,"d":"2.63"}},{"$f":"+[3]Tabulka!AP14","v":{"v":10.965968748351106,"d":"10.97"}},{"$f":"+[3]Tabulka!AQ14","v":{"v":2,"d":"2.00"}},{"$f":"+[3]Tabulka!BM14","v":{"v":21.157146127115382,"d":"21.16"}},{"$f":"+[3]Tabulka!BN14","v":7},{"$f":"+[3]Tabulka!BO14","v":{"v":16.05602612573088,"d":"16.06"}}]
["9",{"$f":"[3]Tabulka!C15","v":"FREJVOLT"},{"$f":"[3]Tabulka!D15","v":"Lukáš"},{"$f":"[3]Tabulka!E15","v":"2000-04-22"},{"$f":"[3]Tabulka!F15","v":"Havířov- Baník SKST"},{"$f":"[3]Tabulka!G15","v":"KA"},{"$f":"[3]Tabulka!H15","v":100},{"$f":"+[3]Tabulka!AU15","v":1},{"$f":"+[3]Tabulka!AV15","v":{"v":4.655343691373548,"d":"4.66"}},{"$f":"+[3]Tabulka!AW15","v":0},{"$f":"+[3]Tabulka!AX15","v":{"v":0,"d":"0.00"}},{"$f":"+[3]Tabulka!AY15","v":0},{"$f":"+[3]Tabulka!AZ15","v":{"v":0,"d":"0.00"}},{"$f":"+[3]Tabulka!BA15","v":1},{"$f":"+[3]Tabulka!BB15","v":{"v":4.655343691373548,"d":"4.66"}},{"$f":"+[3]Tabulka!BC15","v":0},{"$f":"+[3]Tabulka!BD15","v":{"v":0,"d":"0.00"}},{"$f":"+[3]Tabulka!BE15","v":0},{"$f":"+[3]Tabulka!BF15","v":{"v":0,"d":"0.00"}},{"$f":"+[3]Tabulka!BG15","v":0},{"$f":"+[3]Tabulka!BH15","v":{"v":0,"d":"0.00"}},{"$f":"+[3]Tabulka!BI15","v":1},{"$f":"+[3]Tabulka!BJ15","v":{"v":4.655343691373548,"d":"4.66"}},{"$f":"+[3]Tabulka!AP15","v":{"v":19.32298164704669,"d":"19.32"}},{"$f":"+[3]Tabulka!AQ15","v":{"v":2,"d":"2.00"}},{"$f":"+[3]Tabulka!BM15","v":{"v":13.966031074120643,"d":"13.97"}},{"$f":"+[3]Tabulka!BN15","v":3},{"$f":"+[3]Tabulka!BO15","v":{"v":13.966031074120643,"d":"13.97"}}]
["10",{"$f":"[3]Tabulka!C16","v":"MORAVEC"},{"$f":"[3]Tabulka!D16","v":"Michal"},{"$f":"[3]Tabulka!E16","v":"1998-01-26"},{"$f":"[3]Tabulka!F16","v":"Darkovice- KST"},{"$f":"[3]Tabulka!G16","v":"OP"},{"$f":"[3]Tabulka!H16","v":100},{"$f":"+[3]Tabulka!AU16","v":2},{"$f":"+[3]Tabulka!AV16","v":{"v":4.369400178389413,"d":"4.37"}},{"$f":"+[3]Tabulka!AW16","v":2},{"$f":"+[3]Tabulka!AX16","v":{"v":4.369400178389413,"d":"4.37"}},{"$f":"+[3]Tabulka!AY16","v":2},{"$f":"+[3]Tabulka!AZ16","v":{"v":4.369400178389413,"d":"4.37"}},{"$f":"+[3]Tabulka!BA16","v":2},{"$f":"+[3]Tabulka!BB16","v":{"v":4.369400178389413,"d":"4.37"}},{"$f":"+[3]Tabulka!BC16","v":1},{"$f":"+[3]Tabulka!BD16","v":{"v":4.655343691373548,"d":"4.66"}},{"$f":"+[3]Tabulka!BE16","v":1},{"$f":"+[3]Tabulka!BF16","v":{"v":4.655343691373548,"d":"4.66"}},{"$f":"+[3]Tabulka!BG16","v":0},{"$f":"+[3]Tabulka!BH16","v":{"v":0,"d":"0.00"}},{"$f":"+[3]Tabulka!BI16","v":0},{"$f":"+[3]Tabulka!BJ16","v":{"v":0,"d":"0.00"}},{"$f":"+[3]Tabulka!AP16","v":{"v":45.958796337356816,"d":"45.96"}},{"$f":"+[3]Tabulka!AQ16","v":{"v":4,"d":"4.00"}},{"$f":"+[3]Tabulka!BM16","v":{"v":26.78828809630475,"d":"26.79"}},{"$f":"+[3]Tabulka!BN16","v":6},{"$f":"+[3]Tabulka!BO16","v":{"v":13.68008756113651,"d":"13.68"}}]
["9",{"$f":"[3]Tabulka!C17","v":"JEŽ"},{"$f":"[3]Tabulka!D17","v":"Dominik"},{"$f":"[3]Tabulka!E17","v":"1997-12-26"},{"$f":"[3]Tabulka!F17","v":"Nový Jičín- TJ"},{"$f":"[3]Tabulka!G17","v":"NJ"},{"$f":"[3]Tabulka!H17","v":100},{"$f":"+[3]Tabulka!AU17","v":3},{"$f":"+[3]Tabulka!AV17","v":{"v":4.101020071683792,"d":"4.10"}},{"$f":"+[3]Tabulka!AW17","v":1},{"$f":"+[3]Tabulka!AX17","v":{"v":4.655343691373548,"d":"4.66"}},{"$f":"+[3]Tabulka!AY17","v":3},{"$f":"+[3]Tabulka!AZ17","v":{"v":4.101020071683792,"d":"4.10"}},{"$f":"+[3]Tabulka!BA17","v":0},{"$f":"+[3]Tabulka!BB17","v":{"v":0,"d":"0.00"}},{"$f":"+[3]Tabulka!BC17","v":3},{"$f":"+[3]Tabulka!BD17","v":{"v":4.101020071683792,"d":"4.10"}},{"$f":"+[3]Tabulka!BE17","v":0},{"$f":"+[3]Tabulka!BF17","v":{"v":0,"d":"0.00"}},{"$f":"+[3]Tabulka!BG17","v":0},{"$f":"+[3]Tabulka!BH17","v":{"v":0,"d":"0.00"}},{"$f":"+[3]Tabulka!BI17","v":0},{"$f":"+[3]Tabulka!BJ17","v":{"v":0,"d":"0.00"}},{"$f":"+[3]Tabulka!AP17","v":{"v":29.124294668636992,"d":"29.12"}},{"$f":"+[3]Tabulka!AQ17","v":{"v":4,"d":"4.00"}},{"$f":"+[3]Tabulka!BM17","v":{"v":16.958403906424923,"d":"16.96"}},{"$f":"+[3]Tabulka!BN17","v":4},{"$f":"+[3]Tabulka!BO17","v":{"v":12.857383834741132,"d":"12.86"}}]
["10",{"$f":"[3]Tabulka!C18","v":"REITZ"},{"$f":"[3]Tabulka!D18","v":"Aleš"},{"$f":"[3]Tabulka!E18","v":"1999-08-05"},{"$f":"[3]Tabulka!F18","v":"Karviná- KLUBsten KST"},{"$f":"[3]Tabulka!G18","v":"KA"},{"$f":"[3]Tabulka!H18","v":100},{"$f":"+[3]Tabulka!AU18","v":12},{"$f":"+[3]Tabulka!AV18","v":{"v":2.3180486688200013,"d":"2.32"}},{"$f":"+[3]Tabulka!AW18","v":3},{"$f":"+[3]Tabulka!AX18","v":{"v":4.101020071683792,"d":"4.10"}},{"$f":"+[3]Tabulka!AY18","v":9},{"$f":"+[3]Tabulka!AZ18","v":{"v":2.803575987529016,"d":"2.80"}},{"$f":"+[3]Tabulka!BA18","v":5},{"$f":"+[3]Tabulka!BB18","v":{"v":3.6127011759664778,"d":"3.61"}},{"$f":"+[3]Tabulka!BC18","v":0},{"$f":"+[3]Tabulka!BD18","v":{"v":0,"d":"0.00"}},{"$f":"+[3]Tabulka!BE18","v":0},{"$f":"+[3]Tabulka!BF18","v":{"v":0,"d":"0.00"}},{"$f":"+[3]Tabulka!BG18","v":0},{"$f":"+[3]Tabulka!BH18","v":{"v":0,"d":"0.00"}},{"$f":"+[3]Tabulka!BI18","v":0},{"$f":"+[3]Tabulka!BJ18","v":{"v":0,"d":"0.00"}},{"$f":"+[3]Tabulka!AP18","v":{"v":1.3968933894447964,"d":"1.40"}},{"$f":"+[3]Tabulka!AQ18","v":{"v":1,"d":"1.00"}},{"$f":"+[3]Tabulka!BM18","v":{"v":12.835345903999288,"d":"12.84"}},{"$f":"+[3]Tabulka!BN18","v":4},{"$f":"+[3]Tabulka!BO18","v":{"v":12.835345903999288,"d":"12.84"}}]
["11",{"$f":"[3]Tabulka!C19","v":"DOMBROWSKI"},{"$f":"[3]Tabulka!D19","v":"Ondřej"},{"$f":"[3]Tabulka!E19","v":"1997-10-03"},{"$f":"[3]Tabulka!F19","v":"Orlová- Slávie SK"},{"$f":"[3]Tabulka!G19","v":"KA"},{"$f":"[3]Tabulka!H19","v":100},{"$f":"+[3]Tabulka!AU19","v":10},{"$f":"+[3]Tabulka!AV19","v":{"v":2.6313729408930584,"d":"2.63"}},{"$f":"+[3]Tabulka!AW19","v":6},{"$f":"+[3]Tabulka!AX19","v":{"v":3.3907995218454317,"d":"3.39"}},{"$f":"+[3]Tabulka!AY19","v":18},{"$f":"+[3]Tabulka!AZ19","v":{"v":1.584685144727681,"d":"1.58"}},{"$f":"+[3]Tabulka!BA19","v":16},{"$f":"+[3]Tabulka!BB19","v":{"v":1.7988826834228204,"d":"1.80"}},{"$f":"+[3]Tabulka!BC19","v":9},{"$f":"+[3]Tabulka!BD19","v":{"v":2.803575987529016,"d":"2.80"}},{"$f":"+[3]Tabulka!BE19","v":13},{"$f":"+[3]Tabulka!BF19","v":{"v":2.1756679932838794,"d":"2.18"}},{"$f":"+[3]Tabulka!BG19","v":25},{"$f":"+[3]Tabulka!BH19","v":{"v":1.0167952208923348,"d":"1.02"}},{"$f":"+[3]Tabulka!BI19","v":20},{"$f":"+[3]Tabulka!BJ19","v":{"v":1.3959926520290693,"d":"1.40"}},{"$f":"+[3]Tabulka!AP19","v":{"v":0,"d":"0.00"}},{"$f":"+[3]Tabulka!AQ19","v":{"v":0,"d":"0.00"}},{"$f":"+[3]Tabulka!BM19","v":{"v":16.79777214462329,"d":"16.80"}},{"$f":"+[3]Tabulka!BN19","v":8},{"$f":"+[3]Tabulka!BO19","v":{"v":12.800299126974206,"d":"12.80"}}]
[null,{"$f":"[3]Tabulka!C20","v":"LANG"},{"$f":"[3]Tabulka!D20","v":"Tomáš"},{"$f":"[3]Tabulka!E20","v":"1997-08-04"},{"$f":"[3]Tabulka!F20","v":"Svinov- SK"},{"$f":"[3]Tabulka!G20","v":"OV"},{"$f":"[3]Tabulka!H20","v":100},{"$f":"+[3]Tabulka!AU20","v":0},{"$f":"+[3]Tabulka!AV20","v":{"v":0,"d":"0.00"}},{"$f":"+[3]Tabulka!AW20","v":7},{"$f":"+[3]Tabulka!AX20","v":{"v":3.1825276537773326,"d":"3.18"}},{"$f":"+[3]Tabulka!AY20","v":4},{"$f":"+[3]Tabulka!AZ20","v":{"v":3.8491245804252903,"d":"3.85"}},{"$f":"+[3]Tabulka!BA20","v":0},{"$f":"+[3]Tabulka!BB20","v":{"v":0,"d":"0.00"}},{"$f":"+[3]Tabulka!BC20","v":2},{"$f":"+[3]Tabulka!BD20","v":{"v":4.369400178389413,"d":"4.37"}},{"$f":"+[3]Tabulka!BE20","v":4},{"$f":"+[3]Tabulka!BF20","v":{"v":3.8491245804252903,"d":"3.85"}},{"$f":"+[3]Tabulka!BG20","v":0},{"$f":"+[3]Tabulka!BH20","v":{"v":0,"d":"0.00"}},{"$f":"+[3]Tabulka!BI20","v":0},{"$f":"+[3]Tabulka!BJ20","v":{"v":0,"d":"0.00"}},{"$f":"+[3]Tabulka!AP20","v":{"v":0,"d":"0.00"}},{"$f":"+[3]Tabulka!AQ20","v":{"v":0,"d":"0.00"}},{"$f":"+[3]Tabulka!BM20","v":{"v":15.250176993017327,"d":"15.25"}},{"$f":"+[3]Tabulka!BN20","v":4},{"$f":"+[3]Tabulka!BO20","v":{"v":12.067649339239994,"d":"12.07"}}]
["11",{"$f":"[3]Tabulka!C21","v":"ŠINDLER"},{"$f":"[3]Tabulka!D21","v":"Jaroslav"},{"$f":"[3]Tabulka!E21","v":"1997-07-14"},{"$f":"[3]Tabulka!F21","v":"Frenštát pod Radhoštěm- TJ"},{"$f":"[3]Tabulka!G21","v":"NJ"},{"$f":"[3]Tabulka!H21","v":100},{"$f":"+[3]Tabulka!AU21","v":4},{"$f":"+[3]Tabulka!AV21","v":{"v":3.8491245804252903,"d":"3.85"}},{"$f":"+[3]Tabulka!AW21","v":5},{"$f":"+[3]Tabulka!AX21","v":{"v":3.6127011759664778,"d":"3.61"}},{"$f":"+[3]Tabulka!AY21","v":2},{"$f":"+[3]Tabulka!AZ21","v":{"v":4.369400178389413,"d":"4.37"}},{"$f":"+[3]Tabulka!BA21","v":0},{"$f":"+[3]Tabulka!BB21","v":{"v":0,"d":"0.00"}},{"$f":"+[3]Tabulka!BC21","v":0},{"$f":"+[3]Tabulka!BD21","v":{"v":0,"d":"0.00"}},{"$f":"+[3]Tabulka!BE21","v":0},{"$f":"+[3]Tabulka!BF21","v":{"v":0,"d":"0.00"}},{"$f":"+[3]Tabulka!BG21","v":0},{"$f":"+[3]Tabulka!BH21","v":{"v":0,"d":"0.00"}},{"$f":"+[3]Tabulka!BI21","v":0},{"$f":"+[3]Tabulka!BJ21","v":{"v":0,"d":"0.00"}},{"$f":"+[3]Tabulka!AP21","v":{"v":8.739961488109875,"d":"8.74"}},{"$f":"+[3]Tabulka!AQ21","v":{"v":3,"d":"3.00"}},{"$f":"+[3]Tabulka!BM21","v":{"v":11.83122593478118,"d":"11.83"}},{"$f":"+[3]Tabulka!BN21","v":3},{"$f":"+[3]Tabulka!BO21","v":{"v":11.831225934781182,"d":"11.83"}}]
["12",{"$f":"[3]Tabulka!C22","v":"SIWIEC"},{"$f":"[3]Tabulka!D22","v":"Matěj"},{"$f":"[3]Tabulka!E22","v":"2001-04-17"},{"$f":"[3]Tabulka!F22","v":"Karviná- KLUBsten KST"},{"$f":"[3]Tabulka!G22","v":"KA"},{"$f":"[3]Tabulka!H22","v":100},{"$f":"+[3]Tabulka!AU22","v":0},{"$f":"+[3]Tabulka!AV22","v":{"v":0,"d":"0.00"}},{"$f":"+[3]Tabulka!AW22","v":0},{"$f":"+[3]Tabulka!AX22","v":{"v":0,"d":"0.00"}},{"$f":"+[3]Tabulka!AY22","v":0},{"$f":"+[3]Tabulka!AZ22","v":{"v":0,"d":"0.00"}},{"$f":"+[3]Tabulka!BA22","v":0},{"$f":"+[3]Tabulka!BB22","v":{"v":0,"d":"0.00"}},{"$f":"+[3]Tabulka!BC22","v":0},{"$f":"+[3]Tabulka!BD22","v":{"v":0,"d":"0.00"}},{"$f":"+[3]Tabulka!BE22","v":5},{"$f":"+[3]Tabulka!BF22","v":{"v":3.6127011759664778,"d":"3.61"}},{"$f":"+[3]Tabulka!BG22","v":2},{"$f":"+[3]Tabulka!BH22","v":{"v":4.369400178389413,"d":"4.37"}},{"$f":"+[3]Tabulka!BI22","v":5},{"$f":"+[3]Tabulka!BJ22","v":{"v":3.6127011759664778,"d":"3.61"}},{"$f":"+[3]Tabulka!AP22","v":{"v":19.764861301165627,"d":"19.76"}},{"$f":"+[3]Tabulka!AQ22","v":{"v":3,"d":"3.00"}},{"$f":"+[3]Tabulka!BM22","v":{"v":11.594802530322369,"d":"11.59"}},{"$f":"+[3]Tabulka!BN22","v":3},{"$f":"+[3]Tabulka!BO22","v":{"v":11.594802530322369,"d":"11.59"}}]
["13",{"$f":"[3]Tabulka!C23","v":"NAMYSLO"},{"$f":"[3]Tabulka!D23","v":"Tomáš"},{"$f":"[3]Tabulka!E23","v":"2000-05-09"},{"$f":"[3]Tabulka!F23","v":"Orlová- Slávie SK"},{"$f":"[3]Tabulka!G23","v":"KA"},{"$f":"[3]Tabulka!H23","v":100},{"$f":"+[3]Tabulka!AU23","v":13},{"$f":"+[3]Tabulka!AV23","v":{"v":2.1756679932838794,"d":"2.18"}},{"$f":"+[3]Tabulka!AW23","v":8},{"$f":"+[3]Tabulka!AX23","v":{"v":2.987048394281082,"d":"2.99"}},{"$f":"+[3]Tabulka!AY23","v":13},{"$f":"+[3]Tabulka!AZ23","v":{"v":2.1756679932838794,"d":"2.18"}},{"$f":"+[3]Tabulka!BA23","v":21},{"$f":"+[3]Tabulka!BB23","v":{"v":1.3102470939168058,"d":"1.31"}},{"$f":"+[3]Tabulka!BC23","v":10},{"$f":"+[3]Tabulka!BD23","v":{"v":2.6313729408930584,"d":"2.63"}},{"$f":"+[3]Tabulka!BE23","v":18},{"$f":"+[3]Tabulka!BF23","v":{"v":1.584685144727681,"d":"1.58"}},{"$f":"+[3]Tabulka!BG23","v":21},{"$f":"+[3]Tabulka!BH23","v":{"v":1.3102470939168058,"d":"1.31"}},{"$f":"+[3]Tabulka!BI23","v":24},{"$f":"+[3]Tabulka!BJ23","v":{"v":1.083336619156891,"d":"1.08"}},{"$f":"+[3]Tabulka!AP23","v":{"v":0,"d":"0.00"}},{"$f":"+[3]Tabulka!AQ23","v":{"v":0,"d":"0.00"}},{"$f":"+[3]Tabulka!BM23","v":{"v":15.25827327346008,"d":"15.26"}},{"$f":"+[3]Tabulka!BN23","v":8},{"$f":"+[3]Tabulka!BO23","v":{"v":11.55444246646958,"d":"11.55"}}]
["14",{"$f":"[3]Tabulka!C24","v":"KUROVSKÝ"},{"$f":"[3]Tabulka!D24","v":"Kamil"},{"$f":"[3]Tabulka!E24","v":"1999-01-14"},{"$f":"[3]Tabulka!F24","v":"Karviná- KLUBsten KST"},{"$f":"[3]Tabulka!G24","v":"KA"},{"$f":"[3]Tabulka!H24","v":100},{"$f":"+[3]Tabulka!AU24","v":7},{"$f":"+[3]Tabulka!AV24","v":{"v":3.1825276537773326,"d":"3.18"}},{"$f":"+[3]Tabulka!AW24","v":9},{"$f":"+[3]Tabulka!AX24","v":{"v":2.803575987529016,"d":"2.80"}},{"$f":"+[3]Tabulka!AY24","v":0},{"$f":"+[3]Tabulka!AZ24","v":{"v":0,"d":"0.00"}},{"$f":"+[3]Tabulka!BA24","v":17},{"$f":"+[3]Tabulka!BB24","v":{"v":1.6883905547970857,"d":"1.69"}},{"$f":"+[3]Tabulka!BC24","v":0},{"$f":"+[3]Tabulka!BD24","v":{"v":0,"d":"0.00"}},{"$f":"+[3]Tabulka!BE24","v":15},{"$f":"+[3]Tabulka!BF24","v":{"v":1.91660566894571,"d":"1.92"}},{"$f":"+[3]Tabulka!BG24","v":23},{"$f":"+[3]Tabulka!BH24","v":{"v":1.1542326382851416,"d":"1.15"}},{"$f":"+[3]Tabulka!BI24","v":21},{"$f":"+[3]Tabulka!BJ24","v":{"v":1.3102470939168058,"d":"1.31"}},{"$f":"+[3]Tabulka!AP24","v":{"v":6.904454778862252,"d":"6.90"}},{"$f":"+[3]Tabulka!AQ24","v":{"v":3,"d":"3.00"}},{"$f":"+[3]Tabulka!BM24","v":{"v":12.055579597251091,"d":"12.06"}},{"$f":"+[3]Tabulka!BN24","v":6},{"$f":"+[3]Tabulka!BO24","v":{"v":10.90134695896595,"d":"10.90"}}]
["14",{"$f":"[3]Tabulka!C25","v":"HANZELKA"},{"$f":"[3]Tabulka!D25","v":"Tomáš"},{"$f":"[3]Tabulka!E25","v":"1997-12-24"},{"$f":"[3]Tabulka!F25","v":"Nový Jičín- TJ"},{"$f":"[3]Tabulka!G25","v":"NJ"},{"$f":"[3]Tabulka!H25","v":100},{"$f":"+[3]Tabulka!AU25","v":7},{"$f":"+[3]Tabulka!AV25","v":{"v":3.1825276537773326,"d":"3.18"}},{"$f":"+[3]Tabulka!AW25","v":4},{"$f":"+[3]Tabulka!AX25","v":{"v":3.8491245804252903,"d":"3.85"}},{"$f":"+[3]Tabulka!AY25","v":4},{"$f":"+[3]Tabulka!AZ25","v":{"v":3.8491245804252903,"d":"3.85"}},{"$f":"+[3]Tabulka!BA25","v":0},{"$f":"+[3]Tabulka!BB25","v":{"v":0,"d":"0.00"}},{"$f":"+[3]Tabulka!BC25","v":0},{"$f":"+[3]Tabulka!BD25","v":{"v":0,"d":"0.00"}},{"$f":"+[3]Tabulka!BE25","v":0},{"$f":"+[3]Tabulka!BF25","v":{"v":0,"d":"0.00"}},{"$f":"+[3]Tabulka!BG25","v":0},{"$f":"+[3]Tabulka!BH25","v":{"v":0,"d":"0.00"}},{"$f":"+[3]Tabulka!BI25","v":0},{"$f":"+[3]Tabulka!BJ25","v":{"v":0,"d":"0.00"}},{"$f":"+[3]Tabulka!AP25","v":{"v":24.110850767286678,"d":"24.11"}},{"$f":"+[3]Tabulka!AQ25","v":{"v":4,"d":"4.00"}},{"$f":"+[3]Tabulka!BM25","v":{"v":10.880776814627913,"d":"10.88"}},{"$f":"+[3]Tabulka!BN25","v":3},{"$f":"+[3]Tabulka!BO25","v":{"v":10.880776814627913,"d":"10.88"}}]
["15",{"$f":"[3]Tabulka!C26","v":"PODŽORNÝ"},{"$f":"[3]Tabulka!D26","v":"Jiří"},{"$f":"[3]Tabulka!E26","v":"1997-05-19"},{"$f":"[3]Tabulka!F26","v":"Frenštát pod Radhoštěm- TJ"},{"$f":"[3]Tabulka!G26","v":"NJ"},{"$f":"[3]Tabulka!H26","v":100},{"$f":"+[3]Tabulka!AU26","v":5},{"$f":"+[3]Tabulka!AV26","v":{"v":3.6127011759664778,"d":"3.61"}},{"$f":"+[3]Tabulka!AW26","v":7},{"$f":"+[3]Tabulka!AX26","v":{"v":3.1825276537773326,"d":"3.18"}},{"$f":"+[3]Tabulka!AY26","v":6},{"$f":"+[3]Tabulka!AZ26","v":{"v":3.3907995218454317,"d":"3.39"}},{"$f":"+[3]Tabulka!BA26","v":0},{"$f":"+[3]Tabulka!BB26","v":{"v":0,"d":"0.00"}},{"$f":"+[3]Tabulka!BC26","v":0},{"$f":"+[3]Tabulka!BD26","v":{"v":0,"d":"0.00"}},{"$f":"+[3]Tabulka!BE26","v":0},{"$f":"+[3]Tabulka!BF26","v":{"v":0,"d":"0.00"}},{"$f":"+[3]Tabulka!BG26","v":0},{"$f":"+[3]Tabulka!BH26","v":{"v":0,"d":"0.00"}},{"$f":"+[3]Tabulka!BI26","v":0},{"$f":"+[3]Tabulka!BJ26","v":{"v":0,"d":"0.00"}},{"$f":"+[3]Tabulka!AP26","v":{"v":0.5397769736134443,"d":"0.54"}},{"$f":"+[3]Tabulka!AQ26","v":{"v":1,"d":"1.00"}},{"$f":"+[3]Tabulka!BM26","v":{"v":10.186028351589242,"d":"10.19"}},{"$f":"+[3]Tabulka!BN26","v":3},{"$f":"+[3]Tabulka!BO26","v":{"v":10.186028351589242,"d":"10.19"}}]
["15",{"$f":"[3]Tabulka!C27","v":"NĚMEC"},{"$f":"[3]Tabulka!D27","v":"Tomáš"},{"$f":"[3]Tabulka!E27","v":"2000-03-03"},{"$f":"[3]Tabulka!F27","v":"Orlová- Slávie SK"},{"$f":"[3]Tabulka!G27","v":"KA"},{"$f":"[3]Tabulka!H27","v":100},{"$f":"+[3]Tabulka!AU27","v":18},{"$f":"+[3]Tabulka!AV27","v":{"v":1.584685144727681,"d":"1.58"}},{"$f":"+[3]Tabulka!AW27","v":10},{"$f":"+[3]Tabulka!AX27","v":{"v":2.6313729408930584,"d":"2.63"}},{"$f":"+[3]Tabulka!AY27","v":16},{"$f":"+[3]Tabulka!AZ27","v":{"v":1.7988826834228204,"d":"1.80"}},{"$f":"+[3]Tabulka!BA27","v":15},{"$f":"+[3]Tabulka!BB27","v":{"v":1.91660566894571,"d":"1.92"}},{"$f":"+[3]Tabulka!BC27","v":15},{"$f":"+[3]Tabulka!BD27","v":{"v":1.91660566894571,"d":"1.92"}},{"$f":"+[3]Tabulka!BE27","v":16},{"$f":"+[3]Tabulka!BF27","v":{"v":1.7988826834228204,"d":"1.80"}},{"$f":"+[3]Tabulka!BG27","v":28},{"$f":"+[3]Tabulka!BH27","v":{"v":0.8407051632402461,"d":"0.84"}},{"$f":"+[3]Tabulka!BI27","v":0},{"$f":"+[3]Tabulka!BJ27","v":{"v":0,"d":"0.00"}},{"$f":"+[3]Tabulka!AP27","v":{"v":0,"d":"0.00"}},{"$f":"+[3]Tabulka!AQ27","v":{"v":0,"d":"0.00"}},{"$f":"+[3]Tabulka!BM27","v":{"v":12.487739953598046,"d":"12.49"}},{"$f":"+[3]Tabulka!BN27","v":7},{"$f":"+[3]Tabulka!BO27","v":{"v":10.062349645630121,"d":"10.06"}}]
["16",{"$f":"[3]Tabulka!C28","v":"KUROVSKÝ"},{"$f":"[3]Tabulka!D28","v":"Filip"},{"$f":"[3]Tabulka!E28","v":"2001-05-29"},{"$f":"[3]Tabulka!F28","v":"Karviná- KLUBsten KST"},{"$f":"[3]Tabulka!G28","v":"KA"},{"$f":"[3]Tabulka!H28","v":100},{"$f":"+[3]Tabulka!AU28","v":0},{"$f":"+[3]Tabulka!AV28","v":{"v":0,"d":"0.00"}},{"$f":"+[3]Tabulka!AW28","v":7},{"$f":"+[3]Tabulka!AX28","v":{"v":3.1825276537773326,"d":"3.18"}},{"$f":"+[3]Tabulka!AY28","v":0},{"$f":"+[3]Tabulka!AZ28","v":{"v":0,"d":"0.00"}},{"$f":"+[3]Tabulka!BA28","v":18},{"$f":"+[3]Tabulka!BB28","v":{"v":1.584685144727681,"d":"1.58"}},{"$f":"+[3]Tabulka!BC28","v":0},{"$f":"+[3]Tabulka!BD28","v":{"v":0,"d":"0.00"}},{"$f":"+[3]Tabulka!BE28","v":17},{"$f":"+[3]Tabulka!BF28","v":{"v":1.6883905547970857,"d":"1.69"}},{"$f":"+[3]Tabulka!BG28","v":20},{"$f":"+[3]Tabulka!BH28","v":{"v":1.3959926520290693,"d":"1.40"}},{"$f":"+[3]Tabulka!BI28","v":18},{"$f":"+[3]Tabulka!BJ28","v":{"v":1.584685144727681,"d":"1.58"}},{"$f":"+[3]Tabulka!AP28","v":{"v":0.9817443027170402,"d":"0.98"}},{"$f":"+[3]Tabulka!AQ28","v":{"v":2,"d":"2.00"}},{"$f":"+[3]Tabulka!BM28","v":{"v":9.43628115005885,"d":"9.44"}},{"$f":"+[3]Tabulka!BN28","v":5},{"$f":"+[3]Tabulka!BO28","v":{"v":9.436281150058848,"d":"9.44"}}]
["17",{"$f":"[3]Tabulka!C29","v":"TOMAŠKOVIČ"},{"$f":"[3]Tabulka!D29","v":"Vojtěch"},{"$f":"[3]Tabulka!E29","v":"1997-01-01"},{"$f":"[3]Tabulka!F29","v":"Ostrava- Svinov"},{"$f":"[3]Tabulka!G29","v":"OV"},{"$f":"[3]Tabulka!H29","v":0},{"$f":"+[3]Tabulka!AU29","v":0},{"$f":"+[3]Tabulka!AV29","v":{"v":0,"d":"0.00"}},{"$f":"+[3]Tabulka!AW29","v":8},{"$f":"+[3]Tabulka!AX29","v":{"v":2.987048394281082,"d":"2.99"}},{"$f":"+[3]Tabulka!AY29","v":9},{"$f":"+[3]Tabulka!AZ29","v":{"v":2.803575987529016,"d":"2.80"}},{"$f":"+[3]Tabulka!BA29","v":0},{"$f":"+[3]Tabulka!BB29","v":{"v":0,"d":"0.00"}},{"$f":"+[3]Tabulka!BC29","v":9},{"$f":"+[3]Tabulka!BD29","v":{"v":2.803575987529016,"d":"2.80"}},{"$f":"+[3]Tabulka!BE29","v":5},{"$f":"+[3]Tabulka!BF29","v":{"v":3.6127011759664778,"d":"3.61"}},{"$f":"+[3]Tabulka!BG29","v":0},{"$f":"+[3]Tabulka!BH29","v":{"v":0,"d":"0.00"}},{"$f":"+[3]Tabulka!BI29","v":0},{"$f":"+[3]Tabulka!BJ29","v":{"v":0,"d":"0.00"}},{"$f":"+[3]Tabulka!AP29","v":{"v":0,"d":"0.00"}},{"$f":"+[3]Tabulka!AQ29","v":{"v":0,"d":"0.00"}},{"$f":"+[3]Tabulka!BM29","v":{"v":12.206901545305591,"d":"12.21"}},{"$f":"+[3]Tabulka!BN29","v":4},{"$f":"+[3]Tabulka!BO29","v":{"v":9.403325557776576,"d":"9.40"}}]
["18",{"$f":"[3]Tabulka!C30","v":"PECHA"},{"$f":"[3]Tabulka!D30","v":"Pavel"},{"$f":"[3]Tabulka!E30","v":"1997-03-07"},{"$f":"[3]Tabulka!F30","v":"Ostrava- Don Bosco SSVČ"},{"$f":"[3]Tabulka!G30","v":"OV"},{"$f":"[3]Tabulka!H30","v":100},{"$f":"+[3]Tabulka!AU30","v":1},{"$f":"+[3]Tabulka!AV30","v":{"v":4.655343691373548,"d":"4.66"}},{"$f":"+[3]Tabulka!AW30","v":0},{"$f":"+[3]Tabulka!AX30","v":{"v":0,"d":"0.00"}},{"$f":"+[3]Tabulka!AY30","v":0},{"$f":"+[3]Tabulka!AZ30","v":{"v":0,"d":"0.00"}},{"$f":"+[3]Tabulka!BA30","v":1},{"$f":"+[3]Tabulka!BB30","v":{"v":4.655343691373548,"d":"4.66"}},{"$f":"+[3]Tabulka!BC30","v":0},{"$f":"+[3]Tabulka!BD30","v":{"v":0,"d":"0.00"}},{"$f":"+[3]Tabulka!BE30","v":0},{"$f":"+[3]Tabulka!BF30","v":{"v":0,"d":"0.00"}},{"$f":"+[3]Tabulka!BG30","v":0},{"$f":"+[3]Tabulka!BH30","v":{"v":0,"d":"0.00"}},{"$f":"+[3]Tabulka!BI30","v":0},{"$f":"+[3]Tabulka!BJ30","v":{"v":0,"d":"0.00"}},{"$f":"+[3]Tabulka!AP30","v":{"v":0,"d":"0.00"}},{"$f":"+[3]Tabulka!AQ30","v":{"v":0,"d":"0.00"}},{"$f":"+[3]Tabulka!BM30","v":{"v":9.310687382747096,"d":"9.31"}},{"$f":"+[3]Tabulka!BN30","v":2},{"$f":"+[3]Tabulka!BO30","v":{"v":9.310687382747096,"d":"9.31"}}]
[null,{"$f":"[3]Tabulka!C31","v":"TROJEK"},{"$f":"[3]Tabulka!D31","v":"Jan"},{"$f":"[3]Tabulka!E31","v":"1997-01-09"},{"$f":"[3]Tabulka!F31","v":"Darkovice- KST"},{"$f":"[3]Tabulka!G31","v":"OP"},{"$f":"[3]Tabulka!H31","v":100},{"$f":"+[3]Tabulka!AU31","v":9},{"$f":"+[3]Tabulka!AV31","v":{"v":2.803575987529016,"d":"2.80"}},{"$f":"+[3]Tabulka!AW31","v":10},{"$f":"+[3]Tabulka!AX31","v":{"v":2.6313729408930584,"d":"2.63"}},{"$f":"+[3]Tabulka!AY31","v":0},{"$f":"+[3]Tabulka!AZ31","v":{"v":0,"d":"0.00"}},{"$f":"+[3]Tabulka!BA31","v":9},{"$f":"+[3]Tabulka!BB31","v":{"v":2.803575987529016,"d":"2.80"}},{"$f":"+[3]Tabulka!BC31","v":5},{"$f":"+[3]Tabulka!BD31","v":{"v":3.6127011759664778,"d":"3.61"}},{"$f":"+[3]Tabulka!BE31","v":0},{"$f":"+[3]Tabulka!BF31","v":{"v":0,"d":"0.00"}},{"$f":"+[3]Tabulka!BG31","v":0},{"$f":"+[3]Tabulka!BH31","v":{"v":0,"d":"0.00"}},{"$f":"+[3]Tabulka!BI31","v":0},{"$f":"+[3]Tabulka!BJ31","v":{"v":0,"d":"0.00"}},{"$f":"+[3]Tabulka!AP31","v":{"v":0,"d":"0.00"}},{"$f":"+[3]Tabulka!AQ31","v":{"v":0,"d":"0.00"}},{"$f":"+[3]Tabulka!BM31","v":{"v":11.851226091917567,"d":"11.85"}},{"$f":"+[3]Tabulka!BN31","v":4},{"$f":"+[3]Tabulka!BO31","v":{"v":9.219853151024509,"d":"9.22"}}]
[null,{"$f":"[3]Tabulka!C32","v":"GALIA"},{"$f":"[3]Tabulka!D32","v":"Vojtěch"},{"$f":"[3]Tabulka!E32","v":"1997-01-01"},{"$f":"[3]Tabulka!F32","v":"Vratimov- MG Odra Gas TTC"},{"$f":"[3]Tabulka!G32","v":"OV"},{"$f":"[3]Tabulka!H32","v":0},{"$f":"+[3]Tabulka!AU32","v":0},{"$f":"+[3]Tabulka!AV32","v":{"v":0,"d":"0.00"}},{"$f":"+[3]Tabulka!AW32","v":0},{"$f":"+[3]Tabulka!AX32","v":{"v":0,"d":"0.00"}},{"$f":"+[3]Tabulka!AY32","v":9},{"$f":"+[3]Tabulka!AZ32","v":{"v":2.803575987529016,"d":"2.80"}},{"$f":"+[3]Tabulka!BA32","v":9},{"$f":"+[3]Tabulka!BB32","v":{"v":2.803575987529016,"d":"2.80"}},{"$f":"+[3]Tabulka!BC32","v":0},{"$f":"+[3]Tabulka!BD32","v":{"v":0,"d":"0.00"}},{"$f":"+[3]Tabulka!BE32","v":5},{"$f":"+[3]Tabulka!BF32","v":{"v":3.6127011759664778,"d":"3.61"}},{"$f":"+[3]Tabulka!BG32","v":0},{"$f":"+[3]Tabulka!BH32","v":{"v":0,"d":"0.00"}},{"$f":"+[3]Tabulka!BI32","v":0},{"$f":"+[3]Tabulka!BJ32","v":{"v":0,"d":"0.00"}},{"$f":"+[3]Tabulka!AP32","v":{"v":0,"d":"0.00"}},{"$f":"+[3]Tabulka!AQ32","v":{"v":0,"d":"0.00"}},{"$f":"+[3]Tabulka!BM32","v":{"v":9.219853151024509,"d":"9.22"}},{"$f":"+[3]Tabulka!BN32","v":3},{"$f":"+[3]Tabulka!BO32","v":{"v":9.219853151024509,"d":"9.22"}}]
["17",{"$f":"[3]Tabulka!C33","v":"ŠMAHAJ"},{"$f":"[3]Tabulka!D33","v":"Martin"},{"$f":"[3]Tabulka!E33","v":"2001-06-18"},{"$f":"[3]Tabulka!F33","v":"Karviná- KLUBsten KST"},{"$f":"[3]Tabulka!G33","v":"KA"},{"$f":"[3]Tabulka!H33","v":100},{"$f":"+[3]Tabulka!AU33","v":17},{"$f":"+[3]Tabulka!AV33","v":{"v":1.6883905547970857,"d":"1.69"}},{"$f":"+[3]Tabulka!AW33","v":15},{"$f":"+[3]Tabulka!AX33","v":{"v":1.91660566894571,"d":"1.92"}},{"$f":"+[3]Tabulka!AY33","v":12},{"$f":"+[3]Tabulka!AZ33","v":{"v":2.3180486688200013,"d":"2.32"}},{"$f":"+[3]Tabulka!BA33","v":0},{"$f":"+[3]Tabulka!BB33","v":{"v":0,"d":"0.00"}},{"$f":"+[3]Tabulka!BC33","v":16},{"$f":"+[3]Tabulka!BD33","v":{"v":1.7988826834228204,"d":"1.80"}},{"$f":"+[3]Tabulka!BE33","v":21},{"$f":"+[3]Tabulka!BF33","v":{"v":1.3102470939168058,"d":"1.31"}},{"$f":"+[3]Tabulka!BG33","v":30},{"$f":"+[3]Tabulka!BH33","v":{"v":0.7406002601279904,"d":"0.74"}},{"$f":"+[3]Tabulka!BI33","v":23},{"$f":"+[3]Tabulka!BJ33","v":{"v":1.1542326382851416,"d":"1.15"}},{"$f":"+[3]Tabulka!AP33","v":{"v":2.5896193383249053,"d":"2.59"}},{"$f":"+[3]Tabulka!AQ33","v":{"v":2,"d":"2.00"}},{"$f":"+[3]Tabulka!BM33","v":{"v":10.927007568315556,"d":"10.93"}},{"$f":"+[3]Tabulka!BN33","v":7},{"$f":"+[3]Tabulka!BO33","v":{"v":9.032174669902423,"d":"9.03"}}]
["18",{"$f":"[3]Tabulka!C34","v":"GORECKI"},{"$f":"[3]Tabulka!D34","v":"Jan"},{"$f":"[3]Tabulka!E34","v":"1999-09-05"},{"$f":"[3]Tabulka!F34","v":"Havířov- Baník SKST"},{"$f":"[3]Tabulka!G34","v":"KA"},{"$f":"[3]Tabulka!H34","v":100},{"$f":"+[3]Tabulka!AU34","v":0},{"$f":"+[3]Tabulka!AV34","v":{"v":0,"d":"0.00"}},{"$f":"+[3]Tabulka!AW34","v":0},{"$f":"+[3]Tabulka!AX34","v":{"v":0,"d":"0.00"}},{"$f":"+[3]Tabulka!AY34","v":0},{"$f":"+[3]Tabulka!AZ34","v":{"v":0,"d":"0.00"}},{"$f":"+[3]Tabulka!BA34","v":0},{"$f":"+[3]Tabulka!BB34","v":{"v":0,"d":"0.00"}},{"$f":"+[3]Tabulka!BC34","v":0},{"$f":"+[3]Tabulka!BD34","v":{"v":0,"d":"0.00"}},{"$f":"+[3]Tabulka!BE34","v":1},{"$f":"+[3]Tabulka!BF34","v":{"v":4.655343691373548,"d":"4.66"}},{"$f":"+[3]Tabulka!BG34","v":3},{"$f":"+[3]Tabulka!BH34","v":{"v":4.101020071683792,"d":"4.10"}},{"$f":"+[3]Tabulka!BI34","v":0},{"$f":"+[3]Tabulka!BJ34","v":{"v":0,"d":"0.00"}},{"$f":"+[3]Tabulka!AP34","v":{"v":23.013455361205963,"d":"23.01"}},{"$f":"+[3]Tabulka!AQ34","v":{"v":3,"d":"3.00"}},{"$f":"+[3]Tabulka!BM34","v":{"v":8.75636376305734,"d":"8.76"}},{"$f":"+[3]Tabulka!BN34","v":2},{"$f":"+[3]Tabulka!BO34","v":{"v":8.75636376305734,"d":"8.76"}}]
["19",{"$f":"[3]Tabulka!C35","v":"ZRUBEK"},{"$f":"[3]Tabulka!D35","v":"David"},{"$f":"[3]Tabulka!E35","v":"1997-10-30"},{"$f":"[3]Tabulka!F35","v":"Frenštát pod Radhoštěm- TJ"},{"$f":"[3]Tabulka!G35","v":"NJ"},{"$f":"[3]Tabulka!H35","v":100},{"$f":"+[3]Tabulka!AU35","v":2},{"$f":"+[3]Tabulka!AV35","v":{"v":4.369400178389413,"d":"4.37"}},{"$f":"+[3]Tabulka!AW35","v":2},{"$f":"+[3]Tabulka!AX35","v":{"v":4.369400178389413,"d":"4.37"}},{"$f":"+[3]Tabulka!AY35","v":0},{"$f":"+[3]Tabulka!AZ35","v":{"v":0,"d":"0.00"}},{"$f":"+[3]Tabulka!BA35","v":0},{"$f":"+[3]Tabulka!BB35","v":{"v":0,"d":"0.00"}},{"$f":"+[3]Tabulka!BC35","v":0},{"$f":"+[3]Tabulka!BD35","v":{"v":0,"d":"0.00"}},{"$f":"+[3]Tabulka!BE35","v":0},{"$f":"+[3]Tabulka!BF35","v":{"v":0,"d":"0.00"}},{"$f":"+[3]Tabulka!BG35","v":0},{"$f":"+[3]Tabulka!BH35","v":{"v":0,"d":"0.00"}},{"$f":"+[3]Tabulka!BI35","v":0},{"$f":"+[3]Tabulka!BJ35","v":{"v":0,"d":"0.00"}},{"$f":"+[3]Tabulka!AP35","v":{"v":0,"d":"0.00"}},{"$f":"+[3]Tabulka!AQ35","v":{"v":0,"d":"0.00"}},{"$f":"+[3]Tabulka!BM35","v":{"v":8.738800356778826,"d":"8.74"}},{"$f":"+[3]Tabulka!BN35","v":2},{"$f":"+[3]Tabulka!BO35","v":{"v":8.738800356778826,"d":"8.74"}}]
[null,{"$f":"[3]Tabulka!C36","v":"MAZUR"},{"$f":"[3]Tabulka!D36","v":"Lukáš"},{"$f":"[3]Tabulka!E36","v":"1997-06-03"},{"$f":"[3]Tabulka!F36","v":"Hradec nad Moravicí- FIT SPORT KLUB "},{"$f":"[3]Tabulka!G36","v":"OP"},{"$f":"[3]Tabulka!H36","v":100},{"$f":"+[3]Tabulka!AU36","v":9},{"$f":"+[3]Tabulka!AV36","v":{"v":2.803575987529016,"d":"2.80"}},{"$f":"+[3]Tabulka!AW36","v":13},{"$f":"+[3]Tabulka!AX36","v":{"v":2.1756679932838794,"d":"2.18"}},{"$f":"+[3]Tabulka!AY36","v":8},{"$f":"+[3]Tabulka!AZ36","v":{"v":2.987048394281082,"d":"2.99"}},{"$f":"+[3]Tabulka!BA36","v":0},{"$f":"+[3]Tabulka!BB36","v":{"v":0,"d":"0.00"}},{"$f":"+[3]Tabulka!BC36","v":9},{"$f":"+[3]Tabulka!BD36","v":{"v":2.803575987529016,"d":"2.80"}},{"$f":"+[3]Tabulka!BE36","v":9},{"$f":"+[3]Tabulka!BF36","v":{"v":2.803575987529016,"d":"2.80"}},{"$f":"+[3]Tabulka!BG36","v":0},{"$f":"+[3]Tabulka!BH36","v":{"v":0,"d":"0.00"}},{"$f":"+[3]Tabulka!BI36","v":0},{"$f":"+[3]Tabulka!BJ36","v":{"v":0,"d":"0.00"}},{"$f":"+[3]Tabulka!AP36","v":{"v":0,"d":"0.00"}},{"$f":"+[3]Tabulka!AQ36","v":{"v":0,"d":"0.00"}},{"$f":"+[3]Tabulka!BM36","v":{"v":13.573444350152009,"d":"13.57"}},{"$f":"+[3]Tabulka!BN36","v":5},{"$f":"+[3]Tabulka!BO36","v":{"v":8.594200369339113,"d":"8.59"}}]
["20",{"$f":"[3]Tabulka!C37","v":"VANĚK"},{"$f":"[3]Tabulka!D37","v":"Jan"},{"$f":"[3]Tabulka!E37","v":"1997-01-01"},{"$f":"[3]Tabulka!F37","v":"Vratimov- MG Odra Gas TTC"},{"$f":"[3]Tabulka!G37","v":"OV"},{"$f":"[3]Tabulka!H37","v":0},{"$f":"+[3]Tabulka!AU37","v":8},{"$f":"+[3]Tabulka!AV37","v":{"v":2.987048394281082,"d":"2.99"}},{"$f":"+[3]Tabulka!AW37","v":13},{"$f":"+[3]Tabulka!AX37","v":{"v":2.1756679932838794,"d":"2.18"}},{"$f":"+[3]Tabulka!AY37","v":9},{"$f":"+[3]Tabulka!AZ37","v":{"v":2.803575987529016,"d":"2.80"}},{"$f":"+[3]Tabulka!BA37","v":0},{"$f":"+[3]Tabulka!BB37","v":{"v":0,"d":"0.00"}},{"$f":"+[3]Tabulka!BC37","v":0},{"$f":"+[3]Tabulka!BD37","v":{"v":0,"d":"0.00"}},{"$f":"+[3]Tabulka!BE37","v":9},{"$f":"+[3]Tabulka!BF37","v":{"v":2.803575987529016,"d":"2.80"}},{"$f":"+[3]Tabulka!BG37","v":0},{"$f":"+[3]Tabulka!BH37","v":{"v":0,"d":"0.00"}},{"$f":"+[3]Tabulka!BI37","v":0},{"$f":"+[3]Tabulka!BJ37","v":{"v":0,"d":"0.00"}},{"$f":"+[3]Tabulka!AP37","v":{"v":0,"d":"0.00"}},{"$f":"+[3]Tabulka!AQ37","v":{"v":0,"d":"0.00"}},{"$f":"+[3]Tabulka!BM37","v":{"v":10.769868362622992,"d":"10.77"}},{"$f":"+[3]Tabulka!BN37","v":4},{"$f":"+[3]Tabulka!BO37","v":{"v":8.594200369339113,"d":"8.59"}}]
[null,{"$f":"[3]Tabulka!C38","v":"MORYS"},{"$f":"[3]Tabulka!D38","v":"David"},{"$f":"[3]Tabulka!E38","v":"1997-07-17"},{"$f":"[3]Tabulka!F38","v":"Hlučín- DDM"},{"$f":"[3]Tabulka!G38","v":"OP"},{"$f":"[3]Tabulka!H38","v":100},{"$f":"+[3]Tabulka!AU38","v":0},{"$f":"+[3]Tabulka!AV38","v":{"v":0,"d":"0.00"}},{"$f":"+[3]Tabulka!AW38","v":13},{"$f":"+[3]Tabulka!AX38","v":{"v":2.1756679932838794,"d":"2.18"}},{"$f":"+[3]Tabulka!AY38","v":13},{"$f":"+[3]Tabulka!AZ38","v":{"v":2.1756679932838794,"d":"2.18"}},{"$f":"+[3]Tabulka!BA38","v":5},{"$f":"+[3]Tabulka!BB38","v":{"v":3.6127011759664778,"d":"3.61"}},{"$f":"+[3]Tabulka!BC38","v":9},{"$f":"+[3]Tabulka!BD38","v":{"v":2.803575987529016,"d":"2.80"}},{"$f":"+[3]Tabulka!BE38","v":0},{"$f":"+[3]Tabulka!BF38","v":{"v":0,"d":"0.00"}},{"$f":"+[3]Tabulka!BG38","v":0},{"$f":"+[3]Tabulka!BH38","v":{"v":0,"d":"0.00"}},{"$f":"+[3]Tabulka!BI38","v":0},{"$f":"+[3]Tabulka!BJ38","v":{"v":0,"d":"0.00"}},{"$f":"+[3]Tabulka!AP38","v":{"v":0,"d":"0.00"}},{"$f":"+[3]Tabulka!AQ38","v":{"v":0,"d":"0.00"}},{"$f":"+[3]Tabulka!BM38","v":{"v":10.767613150063251,"d":"10.77"}},{"$f":"+[3]Tabulka!BN38","v":4},{"$f":"+[3]Tabulka!BO38","v":{"v":8.591945156779373,"d":"8.59"}}]
[null,{"$f":"[3]Tabulka!C39","v":"STOŠEK"},{"$f":"[3]Tabulka!D39","v":"Daniel"},{"$f":"[3]Tabulka!E39","v":"1997-12-07"},{"$f":"[3]Tabulka!F39","v":"Hradec nad Moravicí- FIT SPORT KLUB "},{"$f":"[3]Tabulka!G39","v":"OP"},{"$f":"[3]Tabulka!H39","v":100},{"$f":"+[3]Tabulka!AU39","v":0},{"$f":"+[3]Tabulka!AV39","v":{"v":0,"d":"0.00"}},{"$f":"+[3]Tabulka!AW39","v":0},{"$f":"+[3]Tabulka!AX39","v":{"v":0,"d":"0.00"}},{"$f":"+[3]Tabulka!AY39","v":13},{"$f":"+[3]Tabulka!AZ39","v":{"v":2.1756679932838794,"d":"2.18"}},{"$f":"+[3]Tabulka!BA39","v":0},{"$f":"+[3]Tabulka!BB39","v":{"v":0,"d":"0.00"}},{"$f":"+[3]Tabulka!BC39","v":9},{"$f":"+[3]Tabulka!BD39","v":{"v":2.803575987529016,"d":"2.80"}},{"$f":"+[3]Tabulka!BE39","v":5},{"$f":"+[3]Tabulka!BF39","v":{"v":3.6127011759664778,"d":"3.61"}},{"$f":"+[3]Tabulka!BG39","v":0},{"$f":"+[3]Tabulka!BH39","v":{"v":0,"d":"0.00"}},{"$f":"+[3]Tabulka!BI39","v":0},{"$f":"+[3]Tabulka!BJ39","v":{"v":0,"d":"0.00"}},{"$f":"+[3]Tabulka!AP39","v":{"v":0,"d":"0.00"}},{"$f":"+[3]Tabulka!AQ39","v":{"v":0,"d":"0.00"}},{"$f":"+[3]Tabulka!BM39","v":{"v":8.591945156779373,"d":"8.59"}},{"$f":"+[3]Tabulka!BN39","v":3},{"$f":"+[3]Tabulka!BO39","v":{"v":8.591945156779373,"d":"8.59"}}]
["19",{"$f":"[3]Tabulka!C40","v":"URBANIECOVÁ"},{"$f":"[3]Tabulka!D40","v":"Veronika"},{"$f":"[3]Tabulka!E40","v":"1998-11-19"},{"$f":"[3]Tabulka!F40","v":"Chotěbuz- Sokol TJ"},{"$f":"[3]Tabulka!G40","v":"KA"},{"$f":"[3]Tabulka!H40","v":100},{"$f":"+[3]Tabulka!AU40","v":21},{"$f":"+[3]Tabulka!AV40","v":{"v":1.3102470939168058,"d":"1.31"}},{"$f":"+[3]Tabulka!AW40","v":12},{"$f":"+[3]Tabulka!AX40","v":{"v":2.3180486688200013,"d":"2.32"}},{"$f":"+[3]Tabulka!AY40","v":0},{"$f":"+[3]Tabulka!AZ40","v":{"v":0,"d":"0.00"}},{"$f":"+[3]Tabulka!BA40","v":19},{"$f":"+[3]Tabulka!BB40","v":{"v":1.4873495950244735,"d":"1.49"}},{"$f":"+[3]Tabulka!BC40","v":17},{"$f":"+[3]Tabulka!BD40","v":{"v":1.6883905547970857,"d":"1.69"}},{"$f":"+[3]Tabulka!BE40","v":19},{"$f":"+[3]Tabulka!BF40","v":{"v":1.4873495950244735,"d":"1.49"}},{"$f":"+[3]Tabulka!BG40","v":26},{"$f":"+[3]Tabulka!BH40","v":{"v":0.9543409711693354,"d":"0.95"}},{"$f":"+[3]Tabulka!BI40","v":0},{"$f":"+[3]Tabulka!BJ40","v":{"v":0,"d":"0.00"}},{"$f":"+[3]Tabulka!AP40","v":{"v":0,"d":"0.00"}},{"$f":"+[3]Tabulka!AQ40","v":{"v":0,"d":"0.00"}},{"$f":"+[3]Tabulka!BM40","v":{"v":9.245726478752175,"d":"9.25"}},{"$f":"+[3]Tabulka!BN40","v":6},{"$f":"+[3]Tabulka!BO40","v":{"v":8.29138550758284,"d":"8.29"}}]
["20",{"$f":"[3]Tabulka!C41","v":"KRZYZOSZCZAK"},{"$f":"[3]Tabulka!D41","v":"Karel"},{"$f":"[3]Tabulka!E41","v":"1999-08-24"},{"$f":"[3]Tabulka!F41","v":"Dětmarovice- Sokol TJ"},{"$f":"[3]Tabulka!G41","v":"KA"},{"$f":"[3]Tabulka!H41","v":100},{"$f":"+[3]Tabulka!AU41","v":20},{"$f":"+[3]Tabulka!AV41","v":{"v":1.3959926520290693,"d":"1.40"}},{"$f":"+[3]Tabulka!AW41","v":14},{"$f":"+[3]Tabulka!AX41","v":{"v":2.0420327151325517,"d":"2.04"}},{"$f":"+[3]Tabulka!AY41","v":14},{"$f":"+[3]Tabulka!AZ41","v":{"v":2.0420327151325517,"d":"2.04"}},{"$f":"+[3]Tabulka!BA41","v":25},{"$f":"+[3]Tabulka!BB41","v":{"v":1.0167952208923348,"d":"1.02"}},{"$f":"+[3]Tabulka!BC41","v":18},{"$f":"+[3]Tabulka!BD41","v":{"v":1.584685144727681,"d":"1.58"}},{"$f":"+[3]Tabulka!BE41","v":0},{"$f":"+[3]Tabulka!BF41","v":{"v":0,"d":"0.00"}},{"$f":"+[3]Tabulka!BG41","v":0},{"$f":"+[3]Tabulka!BH41","v":{"v":0,"d":"0.00"}},{"$f":"+[3]Tabulka!BI41","v":0},{"$f":"+[3]Tabulka!BJ41","v":{"v":0,"d":"0.00"}},{"$f":"+[3]Tabulka!AP41","v":{"v":0.23676925100854995,"d":"0.24"}},{"$f":"+[3]Tabulka!AQ41","v":{"v":1,"d":"1.00"}},{"$f":"+[3]Tabulka!BM41","v":{"v":8.08153844791419,"d":"8.08"}},{"$f":"+[3]Tabulka!BN41","v":5},{"$f":"+[3]Tabulka!BO41","v":{"v":8.081538447914188,"d":"8.08"}}]
["21",{"$f":"[3]Tabulka!C42","v":"KUNZ"},{"$f":"[3]Tabulka!D42","v":"Marek"},{"$f":"[3]Tabulka!E42","v":"2001-04-08"},{"$f":"[3]Tabulka!F42","v":"Karviná- KLUBsten KST"},{"$f":"[3]Tabulka!G42","v":"KA"},{"$f":"[3]Tabulka!H42","v":100},{"$f":"+[3]Tabulka!AU42","v":0},{"$f":"+[3]Tabulka!AV42","v":{"v":0,"d":"0.00"}},{"$f":"+[3]Tabulka!AW42","v":0},{"$f":"+[3]Tabulka!AX42","v":{"v":0,"d":"0.00"}},{"$f":"+[3]Tabulka!AY42","v":10},{"$f":"+[3]Tabulka!AZ42","v":{"v":2.6313729408930584,"d":"2.63"}},{"$f":"+[3]Tabulka!BA42","v":21},{"$f":"+[3]Tabulka!BB42","v":{"v":1.3102470939168058,"d":"1.31"}},{"$f":"+[3]Tabulka!BC42","v":0},{"$f":"+[3]Tabulka!BD42","v":{"v":0,"d":"0.00"}},{"$f":"+[3]Tabulka!BE42","v":20},{"$f":"+[3]Tabulka!BF42","v":{"v":1.3959926520290693,"d":"1.40"}},{"$f":"+[3]Tabulka!BG42","v":32},{"$f":"+[3]Tabulka!BH42","v":{"v":0.6524151025642111,"d":"0.65"}},{"$f":"+[3]Tabulka!BI42","v":16},{"$f":"+[3]Tabulka!BJ42","v":{"v":1.7988826834228204,"d":"1.80"}},{"$f":"+[3]Tabulka!AP42","v":{"v":0.5066224453346884,"d":"0.51"}},{"$f":"+[3]Tabulka!AQ42","v":{"v":1,"d":"1.00"}},{"$f":"+[3]Tabulka!BM42","v":{"v":7.788910472825965,"d":"7.79"}},{"$f":"+[3]Tabulka!BN42","v":5},{"$f":"+[3]Tabulka!BO42","v":{"v":7.788910472825965,"d":"7.79"}}]
["22",{"$f":"[3]Tabulka!C43","v":"KROULÍK"},{"$f":"[3]Tabulka!D43","v":"Vojtěch"},{"$f":"[3]Tabulka!E43","v":"1997-01-01"},{"$f":"[3]Tabulka!F43","v":"Markvartovice"},{"$f":"[3]Tabulka!G43","v":"OP"},{"$f":"[3]Tabulka!H43","v":0},{"$f":"+[3]Tabulka!AU43","v":0},{"$f":"+[3]Tabulka!AV43","v":{"v":0,"d":"0.00"}},{"$f":"+[3]Tabulka!AW43","v":13},{"$f":"+[3]Tabulka!AX43","v":{"v":2.1756679932838794,"d":"2.18"}},{"$f":"+[3]Tabulka!AY43","v":0},{"$f":"+[3]Tabulka!AZ43","v":{"v":0,"d":"0.00"}},{"$f":"+[3]Tabulka!BA43","v":9},{"$f":"+[3]Tabulka!BB43","v":{"v":2.803575987529016,"d":"2.80"}},{"$f":"+[3]Tabulka!BC43","v":9},{"$f":"+[3]Tabulka!BD43","v":{"v":2.803575987529016,"d":"2.80"}},{"$f":"+[3]Tabulka!BE43","v":0},{"$f":"+[3]Tabulka!BF43","v":{"v":0,"d":"0.00"}},{"$f":"+[3]Tabulka!BG43","v":0},{"$f":"+[3]Tabulka!BH43","v":{"v":0,"d":"0.00"}},{"$f":"+[3]Tabulka!BI43","v":0},{"$f":"+[3]Tabulka!BJ43","v":{"v":0,"d":"0.00"}},{"$f":"+[3]Tabulka!AP43","v":{"v":0,"d":"0.00"}},{"$f":"+[3]Tabulka!AQ43","v":{"v":0,"d":"0.00"}},{"$f":"+[3]Tabulka!BM43","v":{"v":7.7828199683419115,"d":"7.78"}},{"$f":"+[3]Tabulka!BN43","v":3},{"$f":"+[3]Tabulka!BO43","v":{"v":7.7828199683419115,"d":"7.78"}}]
["23",{"$f":"[3]Tabulka!C44","v":"ŠYLER"},{"$f":"[3]Tabulka!D44","v":"Jakub"},{"$f":"[3]Tabulka!E44","v":"1997-06-23"},{"$f":"[3]Tabulka!F44","v":"Hradec nad Moravicí- FIT SPORT KLUB "},{"$f":"[3]Tabulka!G44","v":"OP"},{"$f":"[3]Tabulka!H44","v":100},{"$f":"+[3]Tabulka!AU44","v":0},{"$f":"+[3]Tabulka!AV44","v":{"v":0,"d":"0.00"}},{"$f":"+[3]Tabulka!AW44","v":13},{"$f":"+[3]Tabulka!AX44","v":{"v":2.1756679932838794,"d":"2.18"}},{"$f":"+[3]Tabulka!AY44","v":0},{"$f":"+[3]Tabulka!AZ44","v":{"v":0,"d":"0.00"}},{"$f":"+[3]Tabulka!BA44","v":0},{"$f":"+[3]Tabulka!BB44","v":{"v":0,"d":"0.00"}},{"$f":"+[3]Tabulka!BC44","v":9},{"$f":"+[3]Tabulka!BD44","v":{"v":2.803575987529016,"d":"2.80"}},{"$f":"+[3]Tabulka!BE44","v":9},{"$f":"+[3]Tabulka!BF44","v":{"v":2.803575987529016,"d":"2.80"}},{"$f":"+[3]Tabulka!BG44","v":0},{"$f":"+[3]Tabulka!BH44","v":{"v":0,"d":"0.00"}},{"$f":"+[3]Tabulka!BI44","v":0},{"$f":"+[3]Tabulka!BJ44","v":{"v":0,"d":"0.00"}},{"$f":"+[3]Tabulka!AP44","v":{"v":0,"d":"0.00"}},{"$f":"+[3]Tabulka!AQ44","v":{"v":0,"d":"0.00"}},{"$f":"+[3]Tabulka!BM44","v":{"v":7.7828199683419115,"d":"7.78"}},{"$f":"+[3]Tabulka!BN44","v":3},{"$f":"+[3]Tabulka!BO44","v":{"v":7.7828199683419115,"d":"7.78"}}]
["22",{"$f":"[3]Tabulka!C45","v":"GOLASOWSKI"},{"$f":"[3]Tabulka!D45","v":"Martin"},{"$f":"[3]Tabulka!E45","v":"1998-10-15"},{"$f":"[3]Tabulka!F45","v":"Karviná- KLUBsten KST"},{"$f":"[3]Tabulka!G45","v":"KA"},{"$f":"[3]Tabulka!H45","v":100},{"$f":"+[3]Tabulka!AU45","v":4},{"$f":"+[3]Tabulka!AV45","v":{"v":3.8491245804252903,"d":"3.85"}},{"$f":"+[3]Tabulka!AW45","v":0},{"$f":"+[3]Tabulka!AX45","v":{"v":0,"d":"0.00"}},{"$f":"+[3]Tabulka!AY45","v":0},{"$f":"+[3]Tabulka!AZ45","v":{"v":0,"d":"0.00"}},{"$f":"+[3]Tabulka!BA45","v":13},{"$f":"+[3]Tabulka!BB45","v":{"v":2.1756679932838794,"d":"2.18"}},{"$f":"+[3]Tabulka!BC45","v":0},{"$f":"+[3]Tabulka!BD45","v":{"v":0,"d":"0.00"}},{"$f":"+[3]Tabulka!BE45","v":0},{"$f":"+[3]Tabulka!BF45","v":{"v":0,"d":"0.00"}},{"$f":"+[3]Tabulka!BG45","v":18},{"$f":"+[3]Tabulka!BH45","v":{"v":1.584685144727681,"d":"1.58"}},{"$f":"+[3]Tabulka!BI45","v":0},{"$f":"+[3]Tabulka!BJ45","v":{"v":0,"d":"0.00"}},{"$f":"+[3]Tabulka!AP45","v":{"v":0.6127371446461447,"d":"0.61"}},{"$f":"+[3]Tabulka!AQ45","v":{"v":1,"d":"1.00"}},{"$f":"+[3]Tabulka!BM45","v":{"v":7.6094777184368505,"d":"7.61"}},{"$f":"+[3]Tabulka!BN45","v":3},{"$f":"+[3]Tabulka!BO45","v":{"v":7.6094777184368505,"d":"7.61"}}]
[null,{"$f":"[3]Tabulka!C46","v":"BLAHUT"},{"$f":"[3]Tabulka!D46","v":"Vojtěch"},{"$f":"[3]Tabulka!E46","v":"1997-07-28"},{"$f":"[3]Tabulka!F46","v":"Frýdlant nad Ostravicí- SK"},{"$f":"[3]Tabulka!G46","v":"FM"},{"$f":"[3]Tabulka!H46","v":100},{"$f":"+[3]Tabulka!AU46","v":0},{"$f":"+[3]Tabulka!AV46","v":{"v":0,"d":"0.00"}},{"$f":"+[3]Tabulka!AW46","v":0},{"$f":"+[3]Tabulka!AX46","v":{"v":0,"d":"0.00"}},{"$f":"+[3]Tabulka!AY46","v":0},{"$f":"+[3]Tabulka!AZ46","v":{"v":0,"d":"0.00"}},{"$f":"+[3]Tabulka!BA46","v":5},{"$f":"+[3]Tabulka!BB46","v":{"v":3.6127011759664778,"d":"3.61"}},{"$f":"+[3]Tabulka!BC46","v":5},{"$f":"+[3]Tabulka!BD46","v":{"v":3.6127011759664778,"d":"3.61"}},{"$f":"+[3]Tabulka!BE46","v":0},{"$f":"+[3]Tabulka!BF46","v":{"v":0,"d":"0.00"}},{"$f":"+[3]Tabulka!BG46","v":0},{"$f":"+[3]Tabulka!BH46","v":{"v":0,"d":"0.00"}},{"$f":"+[3]Tabulka!BI46","v":0},{"$f":"+[3]Tabulka!BJ46","v":{"v":0,"d":"0.00"}},{"$f":"+[3]Tabulka!AP46","v":{"v":25.29251355179997,"d":"25.29"}},{"$f":"+[3]Tabulka!AQ46","v":{"v":4,"d":"4.00"}},{"$f":"+[3]Tabulka!BM46","v":{"v":7.2254023519329555,"d":"7.23"}},{"$f":"+[3]Tabulka!BN46","v":2},{"$f":"+[3]Tabulka!BO46","v":{"v":7.2254023519329555,"d":"7.23"}}]
["23",{"$f":"[3]Tabulka!C47","v":"KANIA"},{"$f":"[3]Tabulka!D47","v":"Vojtěch"},{"$f":"[3]Tabulka!E47","v":"2000-03-22"},{"$f":"[3]Tabulka!F47","v":"Orlová- Siko TTC"},{"$f":"[3]Tabulka!G47","v":"KA"},{"$f":"[3]Tabulka!H47","v":100},{"$f":"+[3]Tabulka!AU47","v":19},{"$f":"+[3]Tabulka!AV47","v":{"v":1.4873495950244735,"d":"1.49"}},{"$f":"+[3]Tabulka!AW47","v":16},{"$f":"+[3]Tabulka!AX47","v":{"v":1.7988826834228204,"d":"1.80"}},{"$f":"+[3]Tabulka!AY47","v":19},{"$f":"+[3]Tabulka!AZ47","v":{"v":1.4873495950244735,"d":"1.49"}},{"$f":"+[3]Tabulka!BA47","v":27},{"$f":"+[3]Tabulka!BB47","v":{"v":0.8957228265226755,"d":"0.90"}},{"$f":"+[3]Tabulka!BC47","v":20},{"$f":"+[3]Tabulka!BD47","v":{"v":1.3959926520290693,"d":"1.40"}},{"$f":"+[3]Tabulka!BE47","v":0},{"$f":"+[3]Tabulka!BF47","v":{"v":0,"d":"0.00"}},{"$f":"+[3]Tabulka!BG47","v":0},{"$f":"+[3]Tabulka!BH47","v":{"v":0,"d":"0.00"}},{"$f":"+[3]Tabulka!BI47","v":0},{"$f":"+[3]Tabulka!BJ47","v":{"v":0,"d":"0.00"}},{"$f":"+[3]Tabulka!AP47","v":{"v":0,"d":"0.00"}},{"$f":"+[3]Tabulka!AQ47","v":{"v":0,"d":"0.00"}},{"$f":"+[3]Tabulka!BM47","v":{"v":7.065297352023512,"d":"7.07"}},{"$f":"+[3]Tabulka!BN47","v":5},{"$f":"+[3]Tabulka!BO47","v":{"v":7.065297352023512,"d":"7.07"}}]
[null,{"$f":"[3]Tabulka!C48","v":"VAHALÍK"},{"$f":"[3]Tabulka!D48","v":"Zbyněk"},{"$f":"[3]Tabulka!E48","v":"1997-03-22"},{"$f":"[3]Tabulka!F48","v":"Nový Jičín- TJ"},{"$f":"[3]Tabulka!G48","v":"NJ"},{"$f":"[3]Tabulka!H48","v":100},{"$f":"+[3]Tabulka!AU48","v":0},{"$f":"+[3]Tabulka!AV48","v":{"v":0,"d":"0.00"}},{"$f":"+[3]Tabulka!AW48","v":6},{"$f":"+[3]Tabulka!AX48","v":{"v":3.3907995218454317,"d":"3.39"}},{"$f":"+[3]Tabulka!AY48","v":5},{"$f":"+[3]Tabulka!AZ48","v":{"v":3.6127011759664778,"d":"3.61"}},{"$f":"+[3]Tabulka!BA48","v":0},{"$f":"+[3]Tabulka!BB48","v":{"v":0,"d":"0.00"}},{"$f":"+[3]Tabulka!BC48","v":0},{"$f":"+[3]Tabulka!BD48","v":{"v":0,"d":"0.00"}},{"$f":"+[3]Tabulka!BE48","v":0},{"$f":"+[3]Tabulka!BF48","v":{"v":0,"d":"0.00"}},{"$f":"+[3]Tabulka!BG48","v":0},{"$f":"+[3]Tabulka!BH48","v":{"v":0,"d":"0.00"}},{"$f":"+[3]Tabulka!BI48","v":0},{"$f":"+[3]Tabulka!BJ48","v":{"v":0,"d":"0.00"}},{"$f":"+[3]Tabulka!AP48","v":{"v":0,"d":"0.00"}},{"$f":"+[3]Tabulka!AQ48","v":{"v":0,"d":"0.00"}},{"$f":"+[3]Tabulka!BM48","v":{"v":7.003500697811909,"d":"7.00"}},{"$f":"+[3]Tabulka!BN48","v":2},{"$f":"+[3]Tabulka!BO48","v":{"v":7.003500697811909,"d":"7.00"}}]
["23",{"$f":"[3]Tabulka!C49","v":"VINCEK"},{"$f":"[3]Tabulka!D49","v":"Martin"},{"$f":"[3]Tabulka!E49","v":"2000-05-02"},{"$f":"[3]Tabulka!F49","v":"Ostrava- Mittal TJ"},{"$f":"[3]Tabulka!G49","v":"OV"},{"$f":"[3]Tabulka!H49","v":100},{"$f":"+[3]Tabulka!AU49","v":0},{"$f":"+[3]Tabulka!AV49","v":{"v":0,"d":"0.00"}},{"$f":"+[3]Tabulka!AW49","v":5},{"$f":"+[3]Tabulka!AX49","v":{"v":3.6127011759664778,"d":"3.61"}},{"$f":"+[3]Tabulka!AY49","v":6},{"$f":"+[3]Tabulka!AZ49","v":{"v":3.3907995218454317,"d":"3.39"}},{"$f":"+[3]Tabulka!BA49","v":0},{"$f":"+[3]Tabulka!BB49","v":{"v":0,"d":"0.00"}},{"$f":"+[3]Tabulka!BC49","v":0},{"$f":"+[3]Tabulka!BD49","v":{"v":0,"d":"0.00"}},{"$f":"+[3]Tabulka!BE49","v":0},{"$f":"+[3]Tabulka!BF49","v":{"v":0,"d":"0.00"}},{"$f":"+[3]Tabulka!BG49","v":0},{"$f":"+[3]Tabulka!BH49","v":{"v":0,"d":"0.00"}},{"$f":"+[3]Tabulka!BI49","v":0},{"$f":"+[3]Tabulka!BJ49","v":{"v":0,"d":"0.00"}},{"$f":"+[3]Tabulka!AP49","v":{"v":23.836291173865554,"d":"23.84"}},{"$f":"+[3]Tabulka!AQ49","v":{"v":3,"d":"3.00"}},{"$f":"+[3]Tabulka!BM49","v":{"v":7.003500697811909,"d":"7.00"}},{"$f":"+[3]Tabulka!BN49","v":2},{"$f":"+[3]Tabulka!BO49","v":{"v":7.003500697811909,"d":"7.00"}}]
["24",{"$f":"[3]Tabulka!C50","v":"FABIAN"},{"$f":"[3]Tabulka!D50","v":"Michal"},{"$f":"[3]Tabulka!E50","v":"2000-02-04"},{"$f":"[3]Tabulka!F50","v":"Orlová- Siko TTC"},{"$f":"[3]Tabulka!G50","v":"KA"},{"$f":"[3]Tabulka!H50","v":100},{"$f":"+[3]Tabulka!AU50","v":22},{"$f":"+[3]Tabulka!AV50","v":{"v":1.2297682545980093,"d":"1.23"}},{"$f":"+[3]Tabulka!AW50","v":19},{"$f":"+[3]Tabulka!AX50","v":{"v":1.4873495950244735,"d":"1.49"}},{"$f":"+[3]Tabulka!AY50","v":17},{"$f":"+[3]Tabulka!AZ50","v":{"v":1.6883905547970857,"d":"1.69"}},{"$f":"+[3]Tabulka!BA50","v":30},{"$f":"+[3]Tabulka!BB50","v":{"v":0.7406002601279904,"d":"0.74"}},{"$f":"+[3]Tabulka!BC50","v":19},{"$f":"+[3]Tabulka!BD50","v":{"v":1.4873495950244735,"d":"1.49"}},{"$f":"+[3]Tabulka!BE50","v":0},{"$f":"+[3]Tabulka!BF50","v":{"v":0,"d":"0.00"}},{"$f":"+[3]Tabulka!BG50","v":0},{"$f":"+[3]Tabulka!BH50","v":{"v":0,"d":"0.00"}},{"$f":"+[3]Tabulka!BI50","v":0},{"$f":"+[3]Tabulka!BJ50","v":{"v":0,"d":"0.00"}},{"$f":"+[3]Tabulka!AP50","v":{"v":0,"d":"0.00"}},{"$f":"+[3]Tabulka!AQ50","v":{"v":0,"d":"0.00"}},{"$f":"+[3]Tabulka!BM50","v":{"v":6.6334582595720315,"d":"6.63"}},{"$f":"+[3]Tabulka!BN50","v":5},{"$f":"+[3]Tabulka!BO50","v":{"v":6.633458259572032,"d":"6.63"}}]
["25",{"$f":"[3]Tabulka!C51","v":"SIKORA"},{"$f":"[3]Tabulka!D51","v":"Jakub"},{"$f":"[3]Tabulka!E51","v":"2000-05-13"},{"$f":"[3]Tabulka!F51","v":"Orlová- Slávie SK"},{"$f":"[3]Tabulka!G51","v":"KA"},{"$f":"[3]Tabulka!H51","v":100},{"$f":"+[3]Tabulka!AU51","v":11},{"$f":"+[3]Tabulka!AV51","v":{"v":2.4697470604914433,"d":"2.47"}},{"$f":"+[3]Tabulka!AW51","v":0},{"$f":"+[3]Tabulka!AX51","v":{"v":0,"d":"0.00"}},{"$f":"+[3]Tabulka!AY51","v":0},{"$f":"+[3]Tabulka!AZ51","v":{"v":0,"d":"0.00"}},{"$f":"+[3]Tabulka!BA51","v":0},{"$f":"+[3]Tabulka!BB51","v":{"v":0,"d":"0.00"}},{"$f":"+[3]Tabulka!BC51","v":0},{"$f":"+[3]Tabulka!BD51","v":{"v":0,"d":"0.00"}},{"$f":"+[3]Tabulka!BE51","v":14},{"$f":"+[3]Tabulka!BF51","v":{"v":2.0420327151325517,"d":"2.04"}},{"$f":"+[3]Tabulka!BG51","v":27},{"$f":"+[3]Tabulka!BH51","v":{"v":0.8957228265226755,"d":"0.90"}},{"$f":"+[3]Tabulka!BI51","v":25},{"$f":"+[3]Tabulka!BJ51","v":{"v":1.0167952208923348,"d":"1.02"}},{"$f":"+[3]Tabulka!AP51","v":{"v":0,"d":"0.00"}},{"$f":"+[3]Tabulka!AQ51","v":{"v":0,"d":"0.00"}},{"$f":"+[3]Tabulka!BM51","v":{"v":6.424297823039005,"d":"6.42"}},{"$f":"+[3]Tabulka!BN51","v":4},{"$f":"+[3]Tabulka!BO51","v":{"v":6.424297823039005,"d":"6.42"}}]
[null,{"$f":"[3]Tabulka!C52","v":"MIKULEC"},{"$f":"[3]Tabulka!D52","v":"Vojtěch"},{"$f":"[3]Tabulka!E52","v":"1997-02-21"},{"$f":"[3]Tabulka!F52","v":"Nový Jičín- TJ"},{"$f":"[3]Tabulka!G52","v":"NJ"},{"$f":"[3]Tabulka!H52","v":100},{"$f":"+[3]Tabulka!AU52","v":8},{"$f":"+[3]Tabulka!AV52","v":{"v":2.987048394281082,"d":"2.99"}},{"$f":"+[3]Tabulka!AW52","v":0},{"$f":"+[3]Tabulka!AX52","v":{"v":0,"d":"0.00"}},{"$f":"+[3]Tabulka!AY52","v":7},{"$f":"+[3]Tabulka!AZ52","v":{"v":3.1825276537773326,"d":"3.18"}},{"$f":"+[3]Tabulka!BA52","v":0},{"$f":"+[3]Tabulka!BB52","v":{"v":0,"d":"0.00"}},{"$f":"+[3]Tabulka!BC52","v":0},{"$f":"+[3]Tabulka!BD52","v":{"v":0,"d":"0.00"}},{"$f":"+[3]Tabulka!BE52","v":0},{"$f":"+[3]Tabulka!BF52","v":{"v":0,"d":"0.00"}},{"$f":"+[3]Tabulka!BG52","v":0},{"$f":"+[3]Tabulka!BH52","v":{"v":0,"d":"0.00"}},{"$f":"+[3]Tabulka!BI52","v":0},{"$f":"+[3]Tabulka!BJ52","v":{"v":0,"d":"0.00"}},{"$f":"+[3]Tabulka!AP52","v":{"v":0,"d":"0.00"}},{"$f":"+[3]Tabulka!AQ52","v":{"v":0,"d":"0.00"}},{"$f":"+[3]Tabulka!BM52","v":{"v":6.169576048058415,"d":"6.17"}},{"$f":"+[3]Tabulka!BN52","v":2},{"$f":"+[3]Tabulka!BO52","v":{"v":6.169576048058415,"d":"6.17"}}]
["26",{"$f":"[3]Tabulka!C53","v":"KUČERA"},{"$f":"[3]Tabulka!D53","v":"Martin"},{"$f":"[3]Tabulka!E53","v":"1997-09-23"},{"$f":"[3]Tabulka!F53","v":"Karviná- KLUBsten KST"},{"$f":"[3]Tabulka!G53","v":"KA"},{"$f":"[3]Tabulka!H53","v":100},{"$f":"+[3]Tabulka!AU53","v":0},{"$f":"+[3]Tabulka!AV53","v":{"v":0,"d":"0.00"}},{"$f":"+[3]Tabulka!AW53","v":0},{"$f":"+[3]Tabulka!AX53","v":{"v":0,"d":"0.00"}},{"$f":"+[3]Tabulka!AY53","v":0},{"$f":"+[3]Tabulka!AZ53","v":{"v":0,"d":"0.00"}},{"$f":"+[3]Tabulka!BA53","v":0},{"$f":"+[3]Tabulka!BB53","v":{"v":0,"d":"0.00"}},{"$f":"+[3]Tabulka!BC53","v":0},{"$f":"+[3]Tabulka!BD53","v":{"v":0,"d":"0.00"}},{"$f":"+[3]Tabulka!BE53","v":0},{"$f":"+[3]Tabulka!BF53","v":{"v":0,"d":"0.00"}},{"$f":"+[3]Tabulka!BG53","v":8},{"$f":"+[3]Tabulka!BH53","v":{"v":2.987048394281082,"d":"2.99"}},{"$f":"+[3]Tabulka!BI53","v":8},{"$f":"+[3]Tabulka!BJ53","v":{"v":2.987048394281082,"d":"2.99"}},{"$f":"+[3]Tabulka!AP53","v":{"v":0.16186231111038157,"d":"0.16"}},{"$f":"+[3]Tabulka!AQ53","v":{"v":1,"d":"1.00"}},{"$f":"+[3]Tabulka!BM53","v":{"v":5.974096788562164,"d":"5.97"}},{"$f":"+[3]Tabulka!BN53","v":2},{"$f":"+[3]Tabulka!BO53","v":{"v":5.974096788562164,"d":"5.97"}}]
["26",{"$f":"[3]Tabulka!C54","v":"POLLACH"},{"$f":"[3]Tabulka!D54","v":"Ondřej"},{"$f":"[3]Tabulka!E54","v":"1997-01-01"},{"$f":"[3]Tabulka!F54","v":"Vratimov- MG Odra Gas TTC"},{"$f":"[3]Tabulka!G54","v":"OV"},{"$f":"[3]Tabulka!H54","v":0},{"$f":"+[3]Tabulka!AU54","v":0},{"$f":"+[3]Tabulka!AV54","v":{"v":0,"d":"0.00"}},{"$f":"+[3]Tabulka!AW54","v":12},{"$f":"+[3]Tabulka!AX54","v":{"v":2.3180486688200013,"d":"2.32"}},{"$f":"+[3]Tabulka!AY54","v":0},{"$f":"+[3]Tabulka!AZ54","v":{"v":0,"d":"0.00"}},{"$f":"+[3]Tabulka!BA54","v":5},{"$f":"+[3]Tabulka!BB54","v":{"v":3.6127011759664778,"d":"3.61"}},{"$f":"+[3]Tabulka!BC54","v":0},{"$f":"+[3]Tabulka!BD54","v":{"v":0,"d":"0.00"}},{"$f":"+[3]Tabulka!BE54","v":0},{"$f":"+[3]Tabulka!BF54","v":{"v":0,"d":"0.00"}},{"$f":"+[3]Tabulka!BG54","v":0},{"$f":"+[3]Tabulka!BH54","v":{"v":0,"d":"0.00"}},{"$f":"+[3]Tabulka!BI54","v":0},{"$f":"+[3]Tabulka!BJ54","v":{"v":0,"d":"0.00"}},{"$f":"+[3]Tabulka!AP54","v":{"v":0,"d":"0.00"}},{"$f":"+[3]Tabulka!AQ54","v":{"v":0,"d":"0.00"}},{"$f":"+[3]Tabulka!BM54","v":{"v":5.9307498447864795,"d":"5.93"}},{"$f":"+[3]Tabulka!BN54","v":2},{"$f":"+[3]Tabulka!BO54","v":{"v":5.9307498447864795,"d":"5.93"}}]
["27",{"$f":"[3]Tabulka!C55","v":"MARTYNEK"},{"$f":"[3]Tabulka!D55","v":"Aleš"},{"$f":"[3]Tabulka!E55","v":"1999-04-30"},{"$f":"[3]Tabulka!F55","v":"Karviná- KLUBsten KST"},{"$f":"[3]Tabulka!G55","v":"KA"},{"$f":"[3]Tabulka!H55","v":100},{"$f":"+[3]Tabulka!AU55","v":16},{"$f":"+[3]Tabulka!AV55","v":{"v":1.7988826834228204,"d":"1.80"}},{"$f":"+[3]Tabulka!AW55","v":0},{"$f":"+[3]Tabulka!AX55","v":{"v":0,"d":"0.00"}},{"$f":"+[3]Tabulka!AY55","v":11},{"$f":"+[3]Tabulka!AZ55","v":{"v":2.4697470604914433,"d":"2.47"}},{"$f":"+[3]Tabulka!BA55","v":0},{"$f":"+[3]Tabulka!BB55","v":{"v":0,"d":"0.00"}},{"$f":"+[3]Tabulka!BC55","v":0},{"$f":"+[3]Tabulka!BD55","v":{"v":0,"d":"0.00"}},{"$f":"+[3]Tabulka!BE55","v":23},{"$f":"+[3]Tabulka!BF55","v":{"v":1.1542326382851416,"d":"1.15"}},{"$f":"+[3]Tabulka!BG55","v":37},{"$f":"+[3]Tabulka!BH55","v":{"v":0.4751977435991968,"d":"0.48"}},{"$f":"+[3]Tabulka!BI55","v":0},{"$f":"+[3]Tabulka!BJ55","v":{"v":0,"d":"0.00"}},{"$f":"+[3]Tabulka!AP55","v":{"v":2.0349025769141194,"d":"2.03"}},{"$f":"+[3]Tabulka!AQ55","v":{"v":2,"d":"2.00"}},{"$f":"+[3]Tabulka!BM55","v":{"v":5.898060125798603,"d":"5.90"}},{"$f":"+[3]Tabulka!BN55","v":4},{"$f":"+[3]Tabulka!BO55","v":{"v":5.898060125798603,"d":"5.90"}}]
["28",{"$f":"[3]Tabulka!C56","v":"PIESZKA"},{"$f":"[3]Tabulka!D56","v":"Lukáš"},{"$f":"[3]Tabulka!E56","v":"2000-01-01"},{"$f":"[3]Tabulka!F56","v":"Chotěbuz- Sokol TJ"},{"$f":"[3]Tabulka!G56","v":"KA"},{"$f":"[3]Tabulka!H56","v":0},{"$f":"+[3]Tabulka!AU56","v":0},{"$f":"+[3]Tabulka!AV56","v":{"v":0,"d":"0.00"}},{"$f":"+[3]Tabulka!AW56","v":16},{"$f":"+[3]Tabulka!AX56","v":{"v":1.7988826834228204,"d":"1.80"}},{"$f":"+[3]Tabulka!AY56","v":0},{"$f":"+[3]Tabulka!AZ56","v":{"v":0,"d":"0.00"}},{"$f":"+[3]Tabulka!BA56","v":24},{"$f":"+[3]Tabulka!BB56","v":{"v":1.083336619156891,"d":"1.08"}},{"$f":"+[3]Tabulka!BC56","v":12},{"$f":"+[3]Tabulka!BD56","v":{"v":2.3180486688200013,"d":"2.32"}},{"$f":"+[3]Tabulka!BE56","v":0},{"$f":"+[3]Tabulka!BF56","v":{"v":0,"d":"0.00"}},{"$f":"+[3]Tabulka!BG56","v":34},{"$f":"+[3]Tabulka!BH56","v":{"v":0.5747303761145184,"d":"0.57"}},{"$f":"+[3]Tabulka!BI56","v":0},{"$f":"+[3]Tabulka!BJ56","v":{"v":0,"d":"0.00"}},{"$f":"+[3]Tabulka!AP56","v":{"v":0,"d":"0.00"}},{"$f":"+[3]Tabulka!AQ56","v":{"v":0,"d":"0.00"}},{"$f":"+[3]Tabulka!BM56","v":{"v":5.774998347514231,"d":"5.77"}},{"$f":"+[3]Tabulka!BN56","v":4},{"$f":"+[3]Tabulka!BO56","v":{"v":5.774998347514231,"d":"5.77"}}]
["29",{"$f":"[3]Tabulka!C57","v":"ŠČUKA"},{"$f":"[3]Tabulka!D57","v":"Ladislav"},{"$f":"[3]Tabulka!E57","v":"1999-01-01"},{"$f":"[3]Tabulka!F57","v":"Těrlicko- DDŠ"},{"$f":"[3]Tabulka!G57","v":"KA"},{"$f":"[3]Tabulka!H57","v":0},{"$f":"+[3]Tabulka!AU57","v":0},{"$f":"+[3]Tabulka!AV57","v":{"v":0,"d":"0.00"}},{"$f":"+[3]Tabulka!AW57","v":0},{"$f":"+[3]Tabulka!AX57","v":{"v":0,"d":"0.00"}},{"$f":"+[3]Tabulka!AY57","v":23},{"$f":"+[3]Tabulka!AZ57","v":{"v":1.1542326382851416,"d":"1.15"}},{"$f":"+[3]Tabulka!BA57","v":14},{"$f":"+[3]Tabulka!BB57","v":{"v":2.0420327151325517,"d":"2.04"}},{"$f":"+[3]Tabulka!BC57","v":11},{"$f":"+[3]Tabulka!BD57","v":{"v":2.4697470604914433,"d":"2.47"}},{"$f":"+[3]Tabulka!BE57","v":0},{"$f":"+[3]Tabulka!BF57","v":{"v":0,"d":"0.00"}},{"$f":"+[3]Tabulka!BG57","v":0},{"$f":"+[3]Tabulka!BH57","v":{"v":0,"d":"0.00"}},{"$f":"+[3]Tabulka!BI57","v":0},{"$f":"+[3]Tabulka!BJ57","v":{"v":0,"d":"0.00"}},{"$f":"+[3]Tabulka!AP57","v":{"v":0,"d":"0.00"}},{"$f":"+[3]Tabulka!AQ57","v":{"v":0,"d":"0.00"}},{"$f":"+[3]Tabulka!BM57","v":{"v":5.666012413909137,"d":"5.67"}},{"$f":"+[3]Tabulka!BN57","v":3},{"$f":"+[3]Tabulka!BO57","v":{"v":5.666012413909137,"d":"5.67"}}]
["27",{"$f":"[3]Tabulka!C58","v":"POSPÍŠIL"},{"$f":"[3]Tabulka!D58","v":"Lukáš"},{"$f":"[3]Tabulka!E58","v":"1997-01-01"},{"$f":"[3]Tabulka!F58","v":"Frenštát pod Radhoštěm- TJ"},{"$f":"[3]Tabulka!G58","v":"NJ"},{"$f":"[3]Tabulka!H58","v":100},{"$f":"+[3]Tabulka!AU58","v":10},{"$f":"+[3]Tabulka!AV58","v":{"v":2.6313729408930584,"d":"2.63"}},{"$f":"+[3]Tabulka!AW58","v":8},{"$f":"+[3]Tabulka!AX58","v":{"v":2.987048394281082,"d":"2.99"}},{"$f":"+[3]Tabulka!AY58","v":0},{"$f":"+[3]Tabulka!AZ58","v":{"v":0,"d":"0.00"}},{"$f":"+[3]Tabulka!BA58","v":0},{"$f":"+[3]Tabulka!BB58","v":{"v":0,"d":"0.00"}},{"$f":"+[3]Tabulka!BC58","v":0},{"$f":"+[3]Tabulka!BD58","v":{"v":0,"d":"0.00"}},{"$f":"+[3]Tabulka!BE58","v":0},{"$f":"+[3]Tabulka!BF58","v":{"v":0,"d":"0.00"}},{"$f":"+[3]Tabulka!BG58","v":0},{"$f":"+[3]Tabulka!BH58","v":{"v":0,"d":"0.00"}},{"$f":"+[3]Tabulka!BI58","v":0},{"$f":"+[3]Tabulka!BJ58","v":{"v":0,"d":"0.00"}},{"$f":"+[3]Tabulka!AP58","v":{"v":0.8072821099969241,"d":"0.81"}},{"$f":"+[3]Tabulka!AQ58","v":{"v":3,"d":"3.00"}},{"$f":"+[3]Tabulka!BM58","v":{"v":5.6184213351741406,"d":"5.62"}},{"$f":"+[3]Tabulka!BN58","v":2},{"$f":"+[3]Tabulka!BO58","v":{"v":5.6184213351741406,"d":"5.62"}}]
["30",{"$f":"[3]Tabulka!C59","v":"NOVÁK"},{"$f":"[3]Tabulka!D59","v":"Adam"},{"$f":"[3]Tabulka!E59","v":"2001-07-22"},{"$f":"[3]Tabulka!F59","v":"Karviná- KLUBsten KST"},{"$f":"[3]Tabulka!G59","v":"KA"},{"$f":"[3]Tabulka!H59","v":100},{"$f":"+[3]Tabulka!AU59","v":0},{"$f":"+[3]Tabulka!AV59","v":{"v":0,"d":"0.00"}},{"$f":"+[3]Tabulka!AW59","v":23},{"$f":"+[3]Tabulka!AX59","v":{"v":1.1542326382851416,"d":"1.15"}},{"$f":"+[3]Tabulka!AY59","v":15},{"$f":"+[3]Tabulka!AZ59","v":{"v":1.91660566894571,"d":"1.92"}},{"$f":"+[3]Tabulka!BA59","v":0},{"$f":"+[3]Tabulka!BB59","v":{"v":0,"d":"0.00"}},{"$f":"+[3]Tabulka!BC59","v":14},{"$f":"+[3]Tabulka!BD59","v":{"v":2.0420327151325517,"d":"2.04"}},{"$f":"+[3]Tabulka!BE59","v":0},{"$f":"+[3]Tabulka!BF59","v":{"v":0,"d":"0.00"}},{"$f":"+[3]Tabulka!BG59","v":0},{"$f":"+[3]Tabulka!BH59","v":{"v":0,"d":"0.00"}},{"$f":"+[3]Tabulka!BI59","v":0},{"$f":"+[3]Tabulka!BJ59","v":{"v":0,"d":"0.00"}},{"$f":"+[3]Tabulka!AP59","v":{"v":0.222226257861672,"d":"0.22"}},{"$f":"+[3]Tabulka!AQ59","v":{"v":1,"d":"1.00"}},{"$f":"+[3]Tabulka!BM59","v":{"v":5.112871022363404,"d":"5.11"}},{"$f":"+[3]Tabulka!BN59","v":3},{"$f":"+[3]Tabulka!BO59","v":{"v":5.112871022363404,"d":"5.11"}}]
["29",{"$f":"[3]Tabulka!C60","v":"KLOS"},{"$f":"[3]Tabulka!D60","v":"Patrik"},{"$f":"[3]Tabulka!E60","v":"1998-01-17"},{"$f":"[3]Tabulka!F60","v":"Ostrava- Mittal TJ"},{"$f":"[3]Tabulka!G60","v":"OV"},{"$f":"[3]Tabulka!H60","v":100},{"$f":"+[3]Tabulka!AU60","v":0},{"$f":"+[3]Tabulka!AV60","v":{"v":0,"d":"0.00"}},{"$f":"+[3]Tabulka!AW60","v":0},{"$f":"+[3]Tabulka!AX60","v":{"v":0,"d":"0.00"}},{"$f":"+[3]Tabulka!AY60","v":1},{"$f":"+[3]Tabulka!AZ60","v":{"v":4.655343691373548,"d":"4.66"}},{"$f":"+[3]Tabulka!BA60","v":0},{"$f":"+[3]Tabulka!BB60","v":{"v":0,"d":"0.00"}},{"$f":"+[3]Tabulka!BC60","v":0},{"$f":"+[3]Tabulka!BD60","v":{"v":0,"d":"0.00"}},{"$f":"+[3]Tabulka!BE60","v":0},{"$f":"+[3]Tabulka!BF60","v":{"v":0,"d":"0.00"}},{"$f":"+[3]Tabulka!BG60","v":0},{"$f":"+[3]Tabulka!BH60","v":{"v":0,"d":"0.00"}},{"$f":"+[3]Tabulka!BI60","v":0},{"$f":"+[3]Tabulka!BJ60","v":{"v":0,"d":"0.00"}},{"$f":"+[3]Tabulka!AP60","v":{"v":57.59481940705521,"d":"57.59"}},{"$f":"+[3]Tabulka!AQ60","v":{"v":3,"d":"3.00"}},{"$f":"+[3]Tabulka!BM60","v":{"v":4.655343691373548,"d":"4.66"}},{"$f":"+[3]Tabulka!BN60","v":1},{"$f":"+[3]Tabulka!BO60","v":{"v":4.655343691373548,"d":"4.66"}}]
["30",{"$f":"[3]Tabulka!C61","v":"MIK"},{"$f":"[3]Tabulka!D61","v":"Patrick"},{"$f":"[3]Tabulka!E61","v":"1997-06-26"},{"$f":"[3]Tabulka!F61","v":"Nový Jičín- TJ"},{"$f":"[3]Tabulka!G61","v":"NJ"},{"$f":"[3]Tabulka!H61","v":100},{"$f":"+[3]Tabulka!AU61","v":1},{"$f":"+[3]Tabulka!AV61","v":{"v":4.655343691373548,"d":"4.66"}},{"$f":"+[3]Tabulka!AW61","v":0},{"$f":"+[3]Tabulka!AX61","v":{"v":0,"d":"0.00"}},{"$f":"+[3]Tabulka!AY61","v":0},{"$f":"+[3]Tabulka!AZ61","v":{"v":0,"d":"0.00"}},{"$f":"+[3]Tabulka!BA61","v":0},{"$f":"+[3]Tabulka!BB61","v":{"v":0,"d":"0.00"}},{"$f":"+[3]Tabulka!BC61","v":0},{"$f":"+[3]Tabulka!BD61","v":{"v":0,"d":"0.00"}},{"$f":"+[3]Tabulka!BE61","v":0},{"$f":"+[3]Tabulka!BF61","v":{"v":0,"d":"0.00"}},{"$f":"+[3]Tabulka!BG61","v":0},{"$f":"+[3]Tabulka!BH61","v":{"v":0,"d":"0.00"}},{"$f":"+[3]Tabulka!BI61","v":0},{"$f":"+[3]Tabulka!BJ61","v":{"v":0,"d":"0.00"}},{"$f":"+[3]Tabulka!AP61","v":{"v":19.95517223071763,"d":"19.96"}},{"$f":"+[3]Tabulka!AQ61","v":{"v":4,"d":"4.00"}},{"$f":"+[3]Tabulka!BM61","v":{"v":4.655343691373548,"d":"4.66"}},{"$f":"+[3]Tabulka!BN61","v":1},{"$f":"+[3]Tabulka!BO61","v":{"v":4.655343691373548,"d":"4.66"}}]
["31",{"$f":"[3]Tabulka!C62","v":"GOLASOWSKI"},{"$f":"[3]Tabulka!D62","v":"Lukáš"},{"$f":"[3]Tabulka!E62","v":"1998-10-15"},{"$f":"[3]Tabulka!F62","v":"Karviná- KLUBsten KST"},{"$f":"[3]Tabulka!G62","v":"KA"},{"$f":"[3]Tabulka!H62","v":100},{"$f":"+[3]Tabulka!AU62","v":0},{"$f":"+[3]Tabulka!AV62","v":{"v":0,"d":"0.00"}},{"$f":"+[3]Tabulka!AW62","v":0},{"$f":"+[3]Tabulka!AX62","v":{"v":0,"d":"0.00"}},{"$f":"+[3]Tabulka!AY62","v":0},{"$f":"+[3]Tabulka!AZ62","v":{"v":0,"d":"0.00"}},{"$f":"+[3]Tabulka!BA62","v":12},{"$f":"+[3]Tabulka!BB62","v":{"v":2.3180486688200013,"d":"2.32"}},{"$f":"+[3]Tabulka!BC62","v":0},{"$f":"+[3]Tabulka!BD62","v":{"v":0,"d":"0.00"}},{"$f":"+[3]Tabulka!BE62","v":0},{"$f":"+[3]Tabulka!BF62","v":{"v":0,"d":"0.00"}},{"$f":"+[3]Tabulka!BG62","v":14},{"$f":"+[3]Tabulka!BH62","v":{"v":2.0420327151325517,"d":"2.04"}},{"$f":"+[3]Tabulka!BI62","v":0},{"$f":"+[3]Tabulka!BJ62","v":{"v":0,"d":"0.00"}},{"$f":"+[3]Tabulka!AP62","v":{"v":1.230561738917558,"d":"1.23"}},{"$f":"+[3]Tabulka!AQ62","v":{"v":1,"d":"1.00"}},{"$f":"+[3]Tabulka!BM62","v":{"v":4.3600813839525525,"d":"4.36"}},{"$f":"+[3]Tabulka!BN62","v":2},{"$f":"+[3]Tabulka!BO62","v":{"v":4.3600813839525525,"d":"4.36"}}]
["32",{"$f":"[3]Tabulka!C63","v":"STAROSTKA"},{"$f":"[3]Tabulka!D63","v":"Vojtěch"},{"$f":"[3]Tabulka!E63","v":"1998-01-01"},{"$f":"[3]Tabulka!F63","v":"Orlová- Slávie SK"},{"$f":"[3]Tabulka!G63","v":"KA"},{"$f":"[3]Tabulka!H63","v":0},{"$f":"+[3]Tabulka!AU63","v":27},{"$f":"+[3]Tabulka!AV63","v":{"v":0.8957228265226755,"d":"0.90"}},{"$f":"+[3]Tabulka!AW63","v":20},{"$f":"+[3]Tabulka!AX63","v":{"v":1.3959926520290693,"d":"1.40"}},{"$f":"+[3]Tabulka!AY63","v":20},{"$f":"+[3]Tabulka!AZ63","v":{"v":1.3959926520290693,"d":"1.40"}},{"$f":"+[3]Tabulka!BA63","v":33},{"$f":"+[3]Tabulka!BB63","v":{"v":0.6123420427175658,"d":"0.61"}},{"$f":"+[3]Tabulka!BC63","v":23},{"$f":"+[3]Tabulka!BD63","v":{"v":1.1542326382851416,"d":"1.15"}},{"$f":"+[3]Tabulka!BE63","v":0},{"$f":"+[3]Tabulka!BF63","v":{"v":0,"d":"0.00"}},{"$f":"+[3]Tabulka!BG63","v":0},{"$f":"+[3]Tabulka!BH63","v":{"v":0,"d":"0.00"}},{"$f":"+[3]Tabulka!BI63","v":0},{"$f":"+[3]Tabulka!BJ63","v":{"v":0,"d":"0.00"}},{"$f":"+[3]Tabulka!AP63","v":{"v":0,"d":"0.00"}},{"$f":"+[3]Tabulka!AQ63","v":{"v":0,"d":"0.00"}},{"$f":"+[3]Tabulka!BM63","v":{"v":5.454282811583521,"d":"5.45"}},{"$f":"+[3]Tabulka!BN63","v":5},{"$f":"+[3]Tabulka!BO63","v":{"v":3.94621794234328,"d":"3.95"}}]
["33",{"$f":"[3]Tabulka!C64","v":"SIKORA"},{"$f":"[3]Tabulka!D64","v":"Robert"},{"$f":"[3]Tabulka!E64","v":"2000-01-01"},{"$f":"[3]Tabulka!F64","v":"Orlová- Siko TTC"},{"$f":"[3]Tabulka!G64","v":"KA"},{"$f":"[3]Tabulka!H64","v":0},{"$f":"+[3]Tabulka!AU64","v":0},{"$f":"+[3]Tabulka!AV64","v":{"v":0,"d":"0.00"}},{"$f":"+[3]Tabulka!AW64","v":0},{"$f":"+[3]Tabulka!AX64","v":{"v":0,"d":"0.00"}},{"$f":"+[3]Tabulka!AY64","v":26},{"$f":"+[3]Tabulka!AZ64","v":{"v":0.9543409711693354,"d":"0.95"}},{"$f":"+[3]Tabulka!BA64","v":29},{"$f":"+[3]Tabulka!BB64","v":{"v":0.7890668302410581,"d":"0.79"}},{"$f":"+[3]Tabulka!BC64","v":13},{"$f":"+[3]Tabulka!BD64","v":{"v":2.1756679932838794,"d":"2.18"}},{"$f":"+[3]Tabulka!BE64","v":0},{"$f":"+[3]Tabulka!BF64","v":{"v":0,"d":"0.00"}},{"$f":"+[3]Tabulka!BG64","v":0},{"$f":"+[3]Tabulka!BH64","v":{"v":0,"d":"0.00"}},{"$f":"+[3]Tabulka!BI64","v":0},{"$f":"+[3]Tabulka!BJ64","v":{"v":0,"d":"0.00"}},{"$f":"+[3]Tabulka!AP64","v":{"v":0,"d":"0.00"}},{"$f":"+[3]Tabulka!AQ64","v":{"v":0,"d":"0.00"}},{"$f":"+[3]Tabulka!BM64","v":{"v":3.919075794694273,"d":"3.92"}},{"$f":"+[3]Tabulka!BN64","v":3},{"$f":"+[3]Tabulka!BO64","v":{"v":3.919075794694273,"d":"3.92"}}]
["34",{"$f":"[3]Tabulka!C65","v":"LUKOSZ"},{"$f":"[3]Tabulka!D65","v":"Richard"},{"$f":"[3]Tabulka!E65","v":"2002-08-28"},{"$f":"[3]Tabulka!F65","v":"Orlová- Siko TTC"},{"$f":"[3]Tabulka!G65","v":"KA"},{"$f":"[3]Tabulka!H65","v":100},{"$f":"+[3]Tabulka!AU65","v":23},{"$f":"+[3]Tabulka!AV65","v":{"v":1.1542326382851416,"d":"1.15"}},{"$f":"+[3]Tabulka!AW65","v":22},{"$f":"+[3]Tabulka!AX65","v":{"v":1.2297682545980093,"d":"1.23"}},{"$f":"+[3]Tabulka!AY65","v":21},{"$f":"+[3]Tabulka!AZ65","v":{"v":1.3102470939168058,"d":"1.31"}},{"$f":"+[3]Tabulka!BA65","v":0},{"$f":"+[3]Tabulka!BB65","v":{"v":0,"d":"0.00"}},{"$f":"+[3]Tabulka!BC65","v":0},{"$f":"+[3]Tabulka!BD65","v":{"v":0,"d":"0.00"}},{"$f":"+[3]Tabulka!BE65","v":0},{"$f":"+[3]Tabulka!BF65","v":{"v":0,"d":"0.00"}},{"$f":"+[3]Tabulka!BG65","v":0},{"$f":"+[3]Tabulka!BH65","v":{"v":0,"d":"0.00"}},{"$f":"+[3]Tabulka!BI65","v":0},{"$f":"+[3]Tabulka!BJ65","v":{"v":0,"d":"0.00"}},{"$f":"+[3]Tabulka!AP65","v":{"v":0,"d":"0.00"}},{"$f":"+[3]Tabulka!AQ65","v":{"v":0,"d":"0.00"}},{"$f":"+[3]Tabulka!BM65","v":{"v":3.6942479867999567,"d":"3.69"}},{"$f":"+[3]Tabulka!BN65","v":3},{"$f":"+[3]Tabulka!BO65","v":{"v":3.6942479867999567,"d":"3.69"}}]
["32",{"$f":"[3]Tabulka!C66","v":"KOVÁŘ"},{"$f":"[3]Tabulka!D66","v":"Dominik"},{"$f":"[3]Tabulka!E66","v":"1997-05-25"},{"$f":"[3]Tabulka!F66","v":"Darkovice- KST"},{"$f":"[3]Tabulka!G66","v":"OP"},{"$f":"[3]Tabulka!H66","v":100},{"$f":"+[3]Tabulka!AU66","v":0},{"$f":"+[3]Tabulka!AV66","v":{"v":0,"d":"0.00"}},{"$f":"+[3]Tabulka!AW66","v":0},{"$f":"+[3]Tabulka!AX66","v":{"v":0,"d":"0.00"}},{"$f":"+[3]Tabulka!AY66","v":0},{"$f":"+[3]Tabulka!AZ66","v":{"v":0,"d":"0.00"}},{"$f":"+[3]Tabulka!BA66","v":0},{"$f":"+[3]Tabulka!BB66","v":{"v":0,"d":"0.00"}},{"$f":"+[3]Tabulka!BC66","v":5},{"$f":"+[3]Tabulka!BD66","v":{"v":3.6127011759664778,"d":"3.61"}},{"$f":"+[3]Tabulka!BE66","v":0},{"$f":"+[3]Tabulka!BF66","v":{"v":0,"d":"0.00"}},{"$f":"+[3]Tabulka!BG66","v":0},{"$f":"+[3]Tabulka!BH66","v":{"v":0,"d":"0.00"}},{"$f":"+[3]Tabulka!BI66","v":0},{"$f":"+[3]Tabulka!BJ66","v":{"v":0,"d":"0.00"}},{"$f":"+[3]Tabulka!AP66","v":{"v":0,"d":"0.00"}},{"$f":"+[3]Tabulka!AQ66","v":{"v":0,"d":"0.00"}},{"$f":"+[3]Tabulka!BM66","v":{"v":3.6127011759664778,"d":"3.61"}},{"$f":"+[3]Tabulka!BN66","v":1},{"$f":"+[3]Tabulka!BO66","v":{"v":3.6127011759664778,"d":"3.61"}}]
["33",{"$f":"[3]Tabulka!C67","v":"PIVOŇ"},{"$f":"[3]Tabulka!D67","v":"Patrik"},{"$f":"[3]Tabulka!E67","v":"1998-03-20"},{"$f":"[3]Tabulka!F67","v":"Kravaře- SK TJ"},{"$f":"[3]Tabulka!G67","v":"OP"},{"$f":"[3]Tabulka!H67","v":100},{"$f":"+[3]Tabulka!AU67","v":0},{"$f":"+[3]Tabulka!AV67","v":{"v":0,"d":"0.00"}},{"$f":"+[3]Tabulka!AW67","v":0},{"$f":"+[3]Tabulka!AX67","v":{"v":0,"d":"0.00"}},{"$f":"+[3]Tabulka!AY67","v":5},{"$f":"+[3]Tabulka!AZ67","v":{"v":3.6127011759664778,"d":"3.61"}},{"$f":"+[3]Tabulka!BA67","v":0},{"$f":"+[3]Tabulka!BB67","v":{"v":0,"d":"0.00"}},{"$f":"+[3]Tabulka!BC67","v":0},{"$f":"+[3]Tabulka!BD67","v":{"v":0,"d":"0.00"}},{"$f":"+[3]Tabulka!BE67","v":0},{"$f":"+[3]Tabulka!BF67","v":{"v":0,"d":"0.00"}},{"$f":"+[3]Tabulka!BG67","v":0},{"$f":"+[3]Tabulka!BH67","v":{"v":0,"d":"0.00"}},{"$f":"+[3]Tabulka!BI67","v":0},{"$f":"+[3]Tabulka!BJ67","v":{"v":0,"d":"0.00"}},{"$f":"+[3]Tabulka!AP67","v":{"v":0,"d":"0.00"}},{"$f":"+[3]Tabulka!AQ67","v":{"v":0,"d":"0.00"}},{"$f":"+[3]Tabulka!BM67","v":{"v":3.6127011759664778,"d":"3.61"}},{"$f":"+[3]Tabulka!BN67","v":1},{"$f":"+[3]Tabulka!BO67","v":{"v":3.6127011759664778,"d":"3.61"}}]
["34",{"$f":"[3]Tabulka!C68","v":"ZADINA"},{"$f":"[3]Tabulka!D68","v":"Roman"},{"$f":"[3]Tabulka!E68","v":"1996-05-18"},{"$f":"[3]Tabulka!F68","v":"Odry- TJ"},{"$f":"[3]Tabulka!G68","v":"NJ"},{"$f":"[3]Tabulka!H68","v":100},{"$f":"+[3]Tabulka!AU68","v":6},{"$f":"+[3]Tabulka!AV68","v":{"v":3.3907995218454317,"d":"3.39"}},{"$f":"+[3]Tabulka!AW68","v":0},{"$f":"+[3]Tabulka!AX68","v":{"v":0,"d":"0.00"}},{"$f":"+[3]Tabulka!AY68","v":0},{"$f":"+[3]Tabulka!AZ68","v":{"v":0,"d":"0.00"}},{"$f":"+[3]Tabulka!BA68","v":0},{"$f":"+[3]Tabulka!BB68","v":{"v":0,"d":"0.00"}},{"$f":"+[3]Tabulka!BC68","v":0},{"$f":"+[3]Tabulka!BD68","v":{"v":0,"d":"0.00"}},{"$f":"+[3]Tabulka!BE68","v":0},{"$f":"+[3]Tabulka!BF68","v":{"v":0,"d":"0.00"}},{"$f":"+[3]Tabulka!BG68","v":0},{"$f":"+[3]Tabulka!BH68","v":{"v":0,"d":"0.00"}},{"$f":"+[3]Tabulka!BI68","v":0},{"$f":"+[3]Tabulka!BJ68","v":{"v":0,"d":"0.00"}},{"$f":"+[3]Tabulka!AP68","v":{"v":0,"d":"0.00"}},{"$f":"+[3]Tabulka!AQ68","v":{"v":0,"d":"0.00"}},{"$f":"+[3]Tabulka!BM68","v":{"v":3.3907995218454317,"d":"3.39"}},{"$f":"+[3]Tabulka!BN68","v":1},{"$f":"+[3]Tabulka!BO68","v":{"v":3.3907995218454317,"d":"3.39"}}]
["35",{"$f":"[3]Tabulka!C69","v":"RANOSZ"},{"$f":"[3]Tabulka!D69","v":"Daniel"},{"$f":"[3]Tabulka!E69","v":"1998-03-07"},{"$f":"[3]Tabulka!F69","v":"Chotěbuz- Sokol TJ"},{"$f":"[3]Tabulka!G69","v":"KA"},{"$f":"[3]Tabulka!H69","v":100},{"$f":"+[3]Tabulka!AU69","v":14},{"$f":"+[3]Tabulka!AV69","v":{"v":2.0420327151325517,"d":"2.04"}},{"$f":"+[3]Tabulka!AW69","v":0},{"$f":"+[3]Tabulka!AX69","v":{"v":0,"d":"0.00"}},{"$f":"+[3]Tabulka!AY69","v":0},{"$f":"+[3]Tabulka!AZ69","v":{"v":0,"d":"0.00"}},{"$f":"+[3]Tabulka!BA69","v":0},{"$f":"+[3]Tabulka!BB69","v":{"v":0,"d":"0.00"}},{"$f":"+[3]Tabulka!BC69","v":0},{"$f":"+[3]Tabulka!BD69","v":{"v":0,"d":"0.00"}},{"$f":"+[3]Tabulka!BE69","v":22},{"$f":"+[3]Tabulka!BF69","v":{"v":1.2297682545980093,"d":"1.23"}},{"$f":"+[3]Tabulka!BG69","v":0},{"$f":"+[3]Tabulka!BH69","v":{"v":0,"d":"0.00"}},{"$f":"+[3]Tabulka!BI69","v":0},{"$f":"+[3]Tabulka!BJ69","v":{"v":0,"d":"0.00"}},{"$f":"+[3]Tabulka!AP69","v":{"v":0,"d":"0.00"}},{"$f":"+[3]Tabulka!AQ69","v":{"v":0,"d":"0.00"}},{"$f":"+[3]Tabulka!BM69","v":{"v":3.271800969730561,"d":"3.27"}},{"$f":"+[3]Tabulka!BN69","v":2},{"$f":"+[3]Tabulka!BO69","v":{"v":3.271800969730561,"d":"3.27"}}]
["36",{"$f":"[3]Tabulka!C70","v":"FLORKOVÁ"},{"$f":"[3]Tabulka!D70","v":"Adéla"},{"$f":"[3]Tabulka!E70","v":"2001-09-04"},{"$f":"[3]Tabulka!F70","v":"Orlová- Siko TTC"},{"$f":"[3]Tabulka!G70","v":"KA"},{"$f":"[3]Tabulka!H70","v":100},{"$f":"+[3]Tabulka!AU70","v":24},{"$f":"+[3]Tabulka!AV70","v":{"v":1.083336619156891,"d":"1.08"}},{"$f":"+[3]Tabulka!AW70","v":21},{"$f":"+[3]Tabulka!AX70","v":{"v":1.3102470939168058,"d":"1.31"}},{"$f":"+[3]Tabulka!AY70","v":0},{"$f":"+[3]Tabulka!AZ70","v":{"v":0,"d":"0.00"}},{"$f":"+[3]Tabulka!BA70","v":28},{"$f":"+[3]Tabulka!BB70","v":{"v":0.8407051632402461,"d":"0.84"}},{"$f":"+[3]Tabulka!BC70","v":0},{"$f":"+[3]Tabulka!BD70","v":{"v":0,"d":"0.00"}},{"$f":"+[3]Tabulka!BE70","v":0},{"$f":"+[3]Tabulka!BF70","v":{"v":0,"d":"0.00"}},{"$f":"+[3]Tabulka!BG70","v":0},{"$f":"+[3]Tabulka!BH70","v":{"v":0,"d":"0.00"}},{"$f":"+[3]Tabulka!BI70","v":0},{"$f":"+[3]Tabulka!BJ70","v":{"v":0,"d":"0.00"}},{"$f":"+[3]Tabulka!AP70","v":{"v":0,"d":"0.00"}},{"$f":"+[3]Tabulka!AQ70","v":{"v":0,"d":"0.00"}},{"$f":"+[3]Tabulka!BM70","v":{"v":3.2342888763139426,"d":"3.23"}},{"$f":"+[3]Tabulka!BN70","v":3},{"$f":"+[3]Tabulka!BO70","v":{"v":3.2342888763139426,"d":"3.23"}}]
["37",{"$f":"[3]Tabulka!C71","v":"PINDUR"},{"$f":"[3]Tabulka!D71","v":"Jakub"},{"$f":"[3]Tabulka!E71","v":"2000-09-17"},{"$f":"[3]Tabulka!F71","v":"Havířov- Baník SKST"},{"$f":"[3]Tabulka!G71","v":"KA"},{"$f":"[3]Tabulka!H71","v":100},{"$f":"+[3]Tabulka!AU71","v":26},{"$f":"+[3]Tabulka!AV71","v":{"v":0.9543409711693354,"d":"0.95"}},{"$f":"+[3]Tabulka!AW71","v":13},{"$f":"+[3]Tabulka!AX71","v":{"v":2.1756679932838794,"d":"2.18"}},{"$f":"+[3]Tabulka!AY71","v":0},{"$f":"+[3]Tabulka!AZ71","v":{"v":0,"d":"0.00"}},{"$f":"+[3]Tabulka!BA71","v":0},{"$f":"+[3]Tabulka!BB71","v":{"v":0,"d":"0.00"}},{"$f":"+[3]Tabulka!BC71","v":0},{"$f":"+[3]Tabulka!BD71","v":{"v":0,"d":"0.00"}},{"$f":"+[3]Tabulka!BE71","v":0},{"$f":"+[3]Tabulka!BF71","v":{"v":0,"d":"0.00"}},{"$f":"+[3]Tabulka!BG71","v":0},{"$f":"+[3]Tabulka!BH71","v":{"v":0,"d":"0.00"}},{"$f":"+[3]Tabulka!BI71","v":0},{"$f":"+[3]Tabulka!BJ71","v":{"v":0,"d":"0.00"}},{"$f":"+[3]Tabulka!AP71","v":{"v":1.180877618917887,"d":"1.18"}},{"$f":"+[3]Tabulka!AQ71","v":{"v":3,"d":"3.00"}},{"$f":"+[3]Tabulka!BM71","v":{"v":3.1300089644532147,"d":"3.13"}},{"$f":"+[3]Tabulka!BN71","v":2},{"$f":"+[3]Tabulka!BO71","v":{"v":3.1300089644532147,"d":"3.13"}}]
["38",{"$f":"[3]Tabulka!C72","v":"WILCZEK"},{"$f":"[3]Tabulka!D72","v":"Jakub"},{"$f":"[3]Tabulka!E72","v":"2004-03-30"},{"$f":"[3]Tabulka!F72","v":"Karviná- KLUBsten KST"},{"$f":"[3]Tabulka!G72","v":"KA"},{"$f":"[3]Tabulka!H72","v":100},{"$f":"+[3]Tabulka!AU72","v":0},{"$f":"+[3]Tabulka!AV72","v":{"v":0,"d":"0.00"}},{"$f":"+[3]Tabulka!AW72","v":0},{"$f":"+[3]Tabulka!AX72","v":{"v":0,"d":"0.00"}},{"$f":"+[3]Tabulka!AY72","v":22},{"$f":"+[3]Tabulka!AZ72","v":{"v":1.2297682545980093,"d":"1.23"}},{"$f":"+[3]Tabulka!BA72","v":36},{"$f":"+[3]Tabulka!BB72","v":{"v":0.5062957677259255,"d":"0.51"}},{"$f":"+[3]Tabulka!BC72","v":0},{"$f":"+[3]Tabulka!BD72","v":{"v":0,"d":"0.00"}},{"$f":"+[3]Tabulka!BE72","v":0},{"$f":"+[3]Tabulka!BF72","v":{"v":0,"d":"0.00"}},{"$f":"+[3]Tabulka!BG72","v":39},{"$f":"+[3]Tabulka!BH72","v":{"v":0.4186147390428583,"d":"0.42"}},{"$f":"+[3]Tabulka!BI72","v":27},{"$f":"+[3]Tabulka!BJ72","v":{"v":0.8957228265226755,"d":"0.90"}},{"$f":"+[3]Tabulka!AP72","v":{"v":0.880203177952098,"d":"0.88"}},{"$f":"+[3]Tabulka!AQ72","v":{"v":2,"d":"2.00"}},{"$f":"+[3]Tabulka!BM72","v":{"v":3.0504015878894686,"d":"3.05"}},{"$f":"+[3]Tabulka!BN72","v":4},{"$f":"+[3]Tabulka!BO72","v":{"v":3.0504015878894686,"d":"3.05"}}]
["39",{"$f":"[3]Tabulka!C73","v":"ŠČUKA"},{"$f":"[3]Tabulka!D73","v":"Patrik"},{"$f":"[3]Tabulka!E73","v":"1997-01-01"},{"$f":"[3]Tabulka!F73","v":"Těrlicko- DDŠ"},{"$f":"[3]Tabulka!G73","v":"KA"},{"$f":"[3]Tabulka!H73","v":0},{"$f":"+[3]Tabulka!AU73","v":0},{"$f":"+[3]Tabulka!AV73","v":{"v":0,"d":"0.00"}},{"$f":"+[3]Tabulka!AW73","v":16},{"$f":"+[3]Tabulka!AX73","v":{"v":1.7988826834228204,"d":"1.80"}},{"$f":"+[3]Tabulka!AY73","v":0},{"$f":"+[3]Tabulka!AZ73","v":{"v":0,"d":"0.00"}},{"$f":"+[3]Tabulka!BA73","v":23},{"$f":"+[3]Tabulka!BB73","v":{"v":1.1542326382851416,"d":"1.15"}},{"$f":"+[3]Tabulka!BC73","v":0},{"$f":"+[3]Tabulka!BD73","v":{"v":0,"d":"0.00"}},{"$f":"+[3]Tabulka!BE73","v":0},{"$f":"+[3]Tabulka!BF73","v":{"v":0,"d":"0.00"}},{"$f":"+[3]Tabulka!BG73","v":0},{"$f":"+[3]Tabulka!BH73","v":{"v":0,"d":"0.00"}},{"$f":"+[3]Tabulka!BI73","v":0},{"$f":"+[3]Tabulka!BJ73","v":{"v":0,"d":"0.00"}},{"$f":"+[3]Tabulka!AP73","v":{"v":0,"d":"0.00"}},{"$f":"+[3]Tabulka!AQ73","v":{"v":0,"d":"0.00"}},{"$f":"+[3]Tabulka!BM73","v":{"v":2.953115321707962,"d":"2.95"}},{"$f":"+[3]Tabulka!BN73","v":2},{"$f":"+[3]Tabulka!BO73","v":{"v":2.953115321707962,"d":"2.95"}}]
["40",{"$f":"[3]Tabulka!C74","v":"ČUBOŃ"},{"$f":"[3]Tabulka!D74","v":"Aleš"},{"$f":"[3]Tabulka!E74","v":"1997-01-01"},{"$f":"[3]Tabulka!F74","v":"Vratimov- MG Odra Gas TTC"},{"$f":"[3]Tabulka!G74","v":"OV"},{"$f":"[3]Tabulka!H74","v":0},{"$f":"+[3]Tabulka!AU74","v":0},{"$f":"+[3]Tabulka!AV74","v":{"v":0,"d":"0.00"}},{"$f":"+[3]Tabulka!AW74","v":0},{"$f":"+[3]Tabulka!AX74","v":{"v":0,"d":"0.00"}},{"$f":"+[3]Tabulka!AY74","v":0},{"$f":"+[3]Tabulka!AZ74","v":{"v":0,"d":"0.00"}},{"$f":"+[3]Tabulka!BA74","v":9},{"$f":"+[3]Tabulka!BB74","v":{"v":2.803575987529016,"d":"2.80"}},{"$f":"+[3]Tabulka!BC74","v":0},{"$f":"+[3]Tabulka!BD74","v":{"v":0,"d":"0.00"}},{"$f":"+[3]Tabulka!BE74","v":0},{"$f":"+[3]Tabulka!BF74","v":{"v":0,"d":"0.00"}},{"$f":"+[3]Tabulka!BG74","v":0},{"$f":"+[3]Tabulka!BH74","v":{"v":0,"d":"0.00"}},{"$f":"+[3]Tabulka!BI74","v":0},{"$f":"+[3]Tabulka!BJ74","v":{"v":0,"d":"0.00"}},{"$f":"+[3]Tabulka!AP74","v":{"v":0,"d":"0.00"}},{"$f":"+[3]Tabulka!AQ74","v":{"v":0,"d":"0.00"}},{"$f":"+[3]Tabulka!BM74","v":{"v":2.803575987529016,"d":"2.80"}},{"$f":"+[3]Tabulka!BN74","v":1},{"$f":"+[3]Tabulka!BO74","v":{"v":2.803575987529016,"d":"2.80"}}]
["37",{"$f":"[3]Tabulka!C75","v":"VESELÝ"},{"$f":"[3]Tabulka!D75","v":"Marek"},{"$f":"[3]Tabulka!E75","v":"1997-06-02"},{"$f":"[3]Tabulka!F75","v":"Darkovice- KST"},{"$f":"[3]Tabulka!G75","v":"OP"},{"$f":"[3]Tabulka!H75","v":100},{"$f":"+[3]Tabulka!AU75","v":0},{"$f":"+[3]Tabulka!AV75","v":{"v":0,"d":"0.00"}},{"$f":"+[3]Tabulka!AW75","v":0},{"$f":"+[3]Tabulka!AX75","v":{"v":0,"d":"0.00"}},{"$f":"+[3]Tabulka!AY75","v":0},{"$f":"+[3]Tabulka!AZ75","v":{"v":0,"d":"0.00"}},{"$f":"+[3]Tabulka!BA75","v":0},{"$f":"+[3]Tabulka!BB75","v":{"v":0,"d":"0.00"}},{"$f":"+[3]Tabulka!BC75","v":9},{"$f":"+[3]Tabulka!BD75","v":{"v":2.803575987529016,"d":"2.80"}},{"$f":"+[3]Tabulka!BE75","v":0},{"$f":"+[3]Tabulka!BF75","v":{"v":0,"d":"0.00"}},{"$f":"+[3]Tabulka!BG75","v":0},{"$f":"+[3]Tabulka!BH75","v":{"v":0,"d":"0.00"}},{"$f":"+[3]Tabulka!BI75","v":0},{"$f":"+[3]Tabulka!BJ75","v":{"v":0,"d":"0.00"}},{"$f":"+[3]Tabulka!AP75","v":{"v":0,"d":"0.00"}},{"$f":"+[3]Tabulka!AQ75","v":{"v":0,"d":"0.00"}},{"$f":"+[3]Tabulka!BM75","v":{"v":2.803575987529016,"d":"2.80"}},{"$f":"+[3]Tabulka!BN75","v":1},{"$f":"+[3]Tabulka!BO75","v":{"v":2.803575987529016,"d":"2.80"}}]
["38",{"$f":"[3]Tabulka!C76","v":"VOKÁL"},{"$f":"[3]Tabulka!D76","v":"Daniel"},{"$f":"[3]Tabulka!E76","v":"1997-01-01"},{"$f":"[3]Tabulka!F76","v":"Hlučín- DDM"},{"$f":"[3]Tabulka!G76","v":"OP"},{"$f":"[3]Tabulka!H76","v":0},{"$f":"+[3]Tabulka!AU76","v":9},{"$f":"+[3]Tabulka!AV76","v":{"v":2.803575987529016,"d":"2.80"}},{"$f":"+[3]Tabulka!AW76","v":0},{"$f":"+[3]Tabulka!AX76","v":{"v":0,"d":"0.00"}},{"$f":"+[3]Tabulka!AY76","v":0},{"$f":"+[3]Tabulka!AZ76","v":{"v":0,"d":"0.00"}},{"$f":"+[3]Tabulka!BA76","v":0},{"$f":"+[3]Tabulka!BB76","v":{"v":0,"d":"0.00"}},{"$f":"+[3]Tabulka!BC76","v":0},{"$f":"+[3]Tabulka!BD76","v":{"v":0,"d":"0.00"}},{"$f":"+[3]Tabulka!BE76","v":0},{"$f":"+[3]Tabulka!BF76","v":{"v":0,"d":"0.00"}},{"$f":"+[3]Tabulka!BG76","v":0},{"$f":"+[3]Tabulka!BH76","v":{"v":0,"d":"0.00"}},{"$f":"+[3]Tabulka!BI76","v":0},{"$f":"+[3]Tabulka!BJ76","v":{"v":0,"d":"0.00"}},{"$f":"+[3]Tabulka!AP76","v":{"v":0,"d":"0.00"}},{"$f":"+[3]Tabulka!AQ76","v":{"v":0,"d":"0.00"}},{"$f":"+[3]Tabulka!BM76","v":{"v":2.803575987529016,"d":"2.80"}},{"$f":"+[3]Tabulka!BN76","v":1},{"$f":"+[3]Tabulka!BO76","v":{"v":2.803575987529016,"d":"2.80"}}]
["40",{"$f":"[3]Tabulka!C77","v":"IŠTVÁN"},{"$f":"[3]Tabulka!D77","v":"Jakub"},{"$f":"[3]Tabulka!E77","v":"2000-01-01"},{"$f":"[3]Tabulka!F77","v":"Orlová- Slávie SK"},{"$f":"[3]Tabulka!G77","v":"KA"},{"$f":"[3]Tabulka!H77","v":0},{"$f":"+[3]Tabulka!AU77","v":0},{"$f":"+[3]Tabulka!AV77","v":{"v":0,"d":"0.00"}},{"$f":"+[3]Tabulka!AW77","v":24},{"$f":"+[3]Tabulka!AX77","v":{"v":1.083336619156891,"d":"1.08"}},{"$f":"+[3]Tabulka!AY77","v":31},{"$f":"+[3]Tabulka!AZ77","v":{"v":0.695110634842026,"d":"0.70"}},{"$f":"+[3]Tabulka!BA77","v":26},{"$f":"+[3]Tabulka!BB77","v":{"v":0.9543409711693354,"d":"0.95"}},{"$f":"+[3]Tabulka!BC77","v":0},{"$f":"+[3]Tabulka!BD77","v":{"v":0,"d":"0.00"}},{"$f":"+[3]Tabulka!BE77","v":0},{"$f":"+[3]Tabulka!BF77","v":{"v":0,"d":"0.00"}},{"$f":"+[3]Tabulka!BG77","v":0},{"$f":"+[3]Tabulka!BH77","v":{"v":0,"d":"0.00"}},{"$f":"+[3]Tabulka!BI77","v":0},{"$f":"+[3]Tabulka!BJ77","v":{"v":0,"d":"0.00"}},{"$f":"+[3]Tabulka!AP77","v":{"v":0,"d":"0.00"}},{"$f":"+[3]Tabulka!AQ77","v":{"v":0,"d":"0.00"}},{"$f":"+[3]Tabulka!BM77","v":{"v":2.7327882251682523,"d":"2.73"}},{"$f":"+[3]Tabulka!BN77","v":3},{"$f":"+[3]Tabulka!BO77","v":{"v":2.7327882251682523,"d":"2.73"}}]
["41",{"$f":"[3]Tabulka!C78","v":"NIEDOBA"},{"$f":"[3]Tabulka!D78","v":"Marek"},{"$f":"[3]Tabulka!E78","v":"1999-01-01"},{"$f":"[3]Tabulka!F78","v":"Orlová- Siko TTC"},{"$f":"[3]Tabulka!G78","v":"KA"},{"$f":"[3]Tabulka!H78","v":0},{"$f":"+[3]Tabulka!AU78","v":0},{"$f":"+[3]Tabulka!AV78","v":{"v":0,"d":"0.00"}},{"$f":"+[3]Tabulka!AW78","v":0},{"$f":"+[3]Tabulka!AX78","v":{"v":0,"d":"0.00"}},{"$f":"+[3]Tabulka!AY78","v":24},{"$f":"+[3]Tabulka!AZ78","v":{"v":1.083336619156891,"d":"1.08"}},{"$f":"+[3]Tabulka!BA78","v":20},{"$f":"+[3]Tabulka!BB78","v":{"v":1.3959926520290693,"d":"1.40"}},{"$f":"+[3]Tabulka!BC78","v":0},{"$f":"+[3]Tabulka!BD78","v":{"v":0,"d":"0.00"}},{"$f":"+[3]Tabulka!BE78","v":0},{"$f":"+[3]Tabulka!BF78","v":{"v":0,"d":"0.00"}},{"$f":"+[3]Tabulka!BG78","v":0},{"$f":"+[3]Tabulka!BH78","v":{"v":0,"d":"0.00"}},{"$f":"+[3]Tabulka!BI78","v":0},{"$f":"+[3]Tabulka!BJ78","v":{"v":0,"d":"0.00"}},{"$f":"+[3]Tabulka!AP78","v":{"v":0,"d":"0.00"}},{"$f":"+[3]Tabulka!AQ78","v":{"v":0,"d":"0.00"}},{"$f":"+[3]Tabulka!BM78","v":{"v":2.4793292711859602,"d":"2.48"}},{"$f":"+[3]Tabulka!BN78","v":2},{"$f":"+[3]Tabulka!BO78","v":{"v":2.4793292711859602,"d":"2.48"}}]
["42",{"$f":"[3]Tabulka!C79","v":"BABICOVÁ"},{"$f":"[3]Tabulka!D79","v":"Monika"},{"$f":"[3]Tabulka!E79","v":"1900-01-01"},{"$f":"[3]Tabulka!F79","v":"Odry- TJ"},{"$f":"[3]Tabulka!G79","v":"NJ"},{"$f":"[3]Tabulka!H79","v":0},{"$f":"+[3]Tabulka!AU79","v":11},{"$f":"+[3]Tabulka!AV79","v":{"v":2.4697470604914433,"d":"2.47"}},{"$f":"+[3]Tabulka!AW79","v":0},{"$f":"+[3]Tabulka!AX79","v":{"v":0,"d":"0.00"}},{"$f":"+[3]Tabulka!AY79","v":0},{"$f":"+[3]Tabulka!AZ79","v":{"v":0,"d":"0.00"}},{"$f":"+[3]Tabulka!BA79","v":0},{"$f":"+[3]Tabulka!BB79","v":{"v":0,"d":"0.00"}},{"$f":"+[3]Tabulka!BC79","v":0},{"$f":"+[3]Tabulka!BD79","v":{"v":0,"d":"0.00"}},{"$f":"+[3]Tabulka!BE79","v":0},{"$f":"+[3]Tabulka!BF79","v":{"v":0,"d":"0.00"}},{"$f":"+[3]Tabulka!BG79","v":0},{"$f":"+[3]Tabulka!BH79","v":{"v":0,"d":"0.00"}},{"$f":"+[3]Tabulka!BI79","v":0},{"$f":"+[3]Tabulka!BJ79","v":{"v":0,"d":"0.00"}},{"$f":"+[3]Tabulka!AP79","v":{"v":0,"d":"0.00"}},{"$f":"+[3]Tabulka!AQ79","v":{"v":0,"d":"0.00"}},{"$f":"+[3]Tabulka!BM79","v":{"v":2.4697470604914433,"d":"2.47"}},{"$f":"+[3]Tabulka!BN79","v":1},{"$f":"+[3]Tabulka!BO79","v":{"v":2.4697470604914433,"d":"2.47"}}]
["42",{"$f":"[3]Tabulka!C80","v":"ENDAL"},{"$f":"[3]Tabulka!D80","v":"Sebastián"},{"$f":"[3]Tabulka!E80","v":"1999-11-10"},{"$f":"[3]Tabulka!F80","v":"Havířov- Baník SKST"},{"$f":"[3]Tabulka!G80","v":"KA"},{"$f":"[3]Tabulka!H80","v":100},{"$f":"+[3]Tabulka!AU80","v":0},{"$f":"+[3]Tabulka!AV80","v":{"v":0,"d":"0.00"}},{"$f":"+[3]Tabulka!AW80","v":0},{"$f":"+[3]Tabulka!AX80","v":{"v":0,"d":"0.00"}},{"$f":"+[3]Tabulka!AY80","v":0},{"$f":"+[3]Tabulka!AZ80","v":{"v":0,"d":"0.00"}},{"$f":"+[3]Tabulka!BA80","v":11},{"$f":"+[3]Tabulka!BB80","v":{"v":2.4697470604914433,"d":"2.47"}},{"$f":"+[3]Tabulka!BC80","v":0},{"$f":"+[3]Tabulka!BD80","v":{"v":0,"d":"0.00"}},{"$f":"+[3]Tabulka!BE80","v":0},{"$f":"+[3]Tabulka!BF80","v":{"v":0,"d":"0.00"}},{"$f":"+[3]Tabulka!BG80","v":0},{"$f":"+[3]Tabulka!BH80","v":{"v":0,"d":"0.00"}},{"$f":"+[3]Tabulka!BI80","v":0},{"$f":"+[3]Tabulka!BJ80","v":{"v":0,"d":"0.00"}},{"$f":"+[3]Tabulka!AP80","v":{"v":21.02396850626409,"d":"21.02"}},{"$f":"+[3]Tabulka!AQ80","v":{"v":4,"d":"4.00"}},{"$f":"+[3]Tabulka!BM80","v":{"v":2.4697470604914433,"d":"2.47"}},{"$f":"+[3]Tabulka!BN80","v":1},{"$f":"+[3]Tabulka!BO80","v":{"v":2.4697470604914433,"d":"2.47"}}]
["43",{"$f":"[3]Tabulka!C81","v":"URBÁNEK"},{"$f":"[3]Tabulka!D81","v":"Filip"},{"$f":"[3]Tabulka!E81","v":"2001-05-31"},{"$f":"[3]Tabulka!F81","v":"Havířov- Baník SKST"},{"$f":"[3]Tabulka!G81","v":"KA"},{"$f":"[3]Tabulka!H81","v":100},{"$f":"+[3]Tabulka!AU81","v":0},{"$f":"+[3]Tabulka!AV81","v":{"v":0,"d":"0.00"}},{"$f":"+[3]Tabulka!AW81","v":11},{"$f":"+[3]Tabulka!AX81","v":{"v":2.4697470604914433,"d":"2.47"}},{"$f":"+[3]Tabulka!AY81","v":0},{"$f":"+[3]Tabulka!AZ81","v":{"v":0,"d":"0.00"}},{"$f":"+[3]Tabulka!BA81","v":0},{"$f":"+[3]Tabulka!BB81","v":{"v":0,"d":"0.00"}},{"$f":"+[3]Tabulka!BC81","v":0},{"$f":"+[3]Tabulka!BD81","v":{"v":0,"d":"0.00"}},{"$f":"+[3]Tabulka!BE81","v":0},{"$f":"+[3]Tabulka!BF81","v":{"v":0,"d":"0.00"}},{"$f":"+[3]Tabulka!BG81","v":0},{"$f":"+[3]Tabulka!BH81","v":{"v":0,"d":"0.00"}},{"$f":"+[3]Tabulka!BI81","v":0},{"$f":"+[3]Tabulka!BJ81","v":{"v":0,"d":"0.00"}},{"$f":"+[3]Tabulka!AP81","v":{"v":1.3299991581399087,"d":"1.33"}},{"$f":"+[3]Tabulka!AQ81","v":{"v":3,"d":"3.00"}},{"$f":"+[3]Tabulka!BM81","v":{"v":2.4697470604914433,"d":"2.47"}},{"$f":"+[3]Tabulka!BN81","v":1},{"$f":"+[3]Tabulka!BO81","v":{"v":2.4697470604914433,"d":"2.47"}}]
["44",{"$f":"[3]Tabulka!C82","v":"PIESZKA"},{"$f":"[3]Tabulka!D82","v":"Patrik"},{"$f":"[3]Tabulka!E82","v":"2000-01-01"},{"$f":"[3]Tabulka!F82","v":"Chotěbuz- Sokol TJ"},{"$f":"[3]Tabulka!G82","v":"KA"},{"$f":"[3]Tabulka!H82","v":0},{"$f":"+[3]Tabulka!AU82","v":0},{"$f":"+[3]Tabulka!AV82","v":{"v":0,"d":"0.00"}},{"$f":"+[3]Tabulka!AW82","v":0},{"$f":"+[3]Tabulka!AX82","v":{"v":0,"d":"0.00"}},{"$f":"+[3]Tabulka!AY82","v":0},{"$f":"+[3]Tabulka!AZ82","v":{"v":0,"d":"0.00"}},{"$f":"+[3]Tabulka!BA82","v":32},{"$f":"+[3]Tabulka!BB82","v":{"v":0.6524151025642111,"d":"0.65"}},{"$f":"+[3]Tabulka!BC82","v":21},{"$f":"+[3]Tabulka!BD82","v":{"v":1.3102470939168058,"d":"1.31"}},{"$f":"+[3]Tabulka!BE82","v":0},{"$f":"+[3]Tabulka!BF82","v":{"v":0,"d":"0.00"}},{"$f":"+[3]Tabulka!BG82","v":38},{"$f":"+[3]Tabulka!BH82","v":{"v":0.4460098423023116,"d":"0.45"}},{"$f":"+[3]Tabulka!BI82","v":0},{"$f":"+[3]Tabulka!BJ82","v":{"v":0,"d":"0.00"}},{"$f":"+[3]Tabulka!AP82","v":{"v":0,"d":"0.00"}},{"$f":"+[3]Tabulka!AQ82","v":{"v":0,"d":"0.00"}},{"$f":"+[3]Tabulka!BM82","v":{"v":2.4086720387833287,"d":"2.41"}},{"$f":"+[3]Tabulka!BN82","v":3},{"$f":"+[3]Tabulka!BO82","v":{"v":2.4086720387833287,"d":"2.41"}}]
["45",{"$f":"[3]Tabulka!C83","v":"RASZKA"},{"$f":"[3]Tabulka!D83","v":"Filip"},{"$f":"[3]Tabulka!E83","v":"2002-01-01"},{"$f":"[3]Tabulka!F83","v":"Orlová- Slávie SK"},{"$f":"[3]Tabulka!G83","v":"KA"},{"$f":"[3]Tabulka!H83","v":0},{"$f":"+[3]Tabulka!AU83","v":28},{"$f":"+[3]Tabulka!AV83","v":{"v":0.8407051632402461,"d":"0.84"}},{"$f":"+[3]Tabulka!AW83","v":0},{"$f":"+[3]Tabulka!AX83","v":{"v":0,"d":"0.00"}},{"$f":"+[3]Tabulka!AY83","v":0},{"$f":"+[3]Tabulka!AZ83","v":{"v":0,"d":"0.00"}},{"$f":"+[3]Tabulka!BA83","v":35},{"$f":"+[3]Tabulka!BB83","v":{"v":0.5394289174769091,"d":"0.54"}},{"$f":"+[3]Tabulka!BC83","v":25},{"$f":"+[3]Tabulka!BD83","v":{"v":1.0167952208923348,"d":"1.02"}},{"$f":"+[3]Tabulka!BE83","v":0},{"$f":"+[3]Tabulka!BF83","v":{"v":0,"d":"0.00"}},{"$f":"+[3]Tabulka!BG83","v":0},{"$f":"+[3]Tabulka!BH83","v":{"v":0,"d":"0.00"}},{"$f":"+[3]Tabulka!BI83","v":0},{"$f":"+[3]Tabulka!BJ83","v":{"v":0,"d":"0.00"}},{"$f":"+[3]Tabulka!AP83","v":{"v":0,"d":"0.00"}},{"$f":"+[3]Tabulka!AQ83","v":{"v":0,"d":"0.00"}},{"$f":"+[3]Tabulka!BM83","v":{"v":2.39692930160949,"d":"2.40"}},{"$f":"+[3]Tabulka!BN83","v":3},{"$f":"+[3]Tabulka!BO83","v":{"v":2.39692930160949,"d":"2.40"}}]
["46",{"$f":"[3]Tabulka!C84","v":"LARYŠ"},{"$f":"[3]Tabulka!D84","v":"Vojtěch"},{"$f":"[3]Tabulka!E84","v":"2003-10-10"},{"$f":"[3]Tabulka!F84","v":"Karviná- KLUBsten KST"},{"$f":"[3]Tabulka!G84","v":"KA"},{"$f":"[3]Tabulka!H84","v":100},{"$f":"+[3]Tabulka!AU84","v":0},{"$f":"+[3]Tabulka!AV84","v":{"v":0,"d":"0.00"}},{"$f":"+[3]Tabulka!AW84","v":0},{"$f":"+[3]Tabulka!AX84","v":{"v":0,"d":"0.00"}},{"$f":"+[3]Tabulka!AY84","v":30},{"$f":"+[3]Tabulka!AZ84","v":{"v":0.7406002601279904,"d":"0.74"}},{"$f":"+[3]Tabulka!BA84","v":0},{"$f":"+[3]Tabulka!BB84","v":{"v":0,"d":"0.00"}},{"$f":"+[3]Tabulka!BC84","v":22},{"$f":"+[3]Tabulka!BD84","v":{"v":1.2297682545980093,"d":"1.23"}},{"$f":"+[3]Tabulka!BE84","v":0},{"$f":"+[3]Tabulka!BF84","v":{"v":0,"d":"0.00"}},{"$f":"+[3]Tabulka!BG84","v":40},{"$f":"+[3]Tabulka!BH84","v":{"v":0.3929023154272488,"d":"0.39"}},{"$f":"+[3]Tabulka!BI84","v":0},{"$f":"+[3]Tabulka!BJ84","v":{"v":0,"d":"0.00"}},{"$f":"+[3]Tabulka!AP84","v":{"v":0,"d":"0.00"}},{"$f":"+[3]Tabulka!AQ84","v":{"v":0,"d":"0.00"}},{"$f":"+[3]Tabulka!BM84","v":{"v":2.3632708301532483,"d":"2.36"}},{"$f":"+[3]Tabulka!BN84","v":3},{"$f":"+[3]Tabulka!BO84","v":{"v":2.3632708301532483,"d":"2.36"}}]
["47",{"$f":"[3]Tabulka!C85","v":"BURDEK"},{"$f":"[3]Tabulka!D85","v":"Filip"},{"$f":"[3]Tabulka!E85","v":"2001-01-01"},{"$f":"[3]Tabulka!F85","v":"Dětmarovice- Sokol TJ"},{"$f":"[3]Tabulka!G85","v":"KA"},{"$f":"[3]Tabulka!H85","v":0},{"$f":"+[3]Tabulka!AU85","v":0},{"$f":"+[3]Tabulka!AV85","v":{"v":0,"d":"0.00"}},{"$f":"+[3]Tabulka!AW85","v":0},{"$f":"+[3]Tabulka!AX85","v":{"v":0,"d":"0.00"}},{"$f":"+[3]Tabulka!AY85","v":29},{"$f":"+[3]Tabulka!AZ85","v":{"v":0.7890668302410581,"d":"0.79"}},{"$f":"+[3]Tabulka!BA85","v":42},{"$f":"+[3]Tabulka!BB85","v":{"v":0.3461184369188376,"d":"0.35"}},{"$f":"+[3]Tabulka!BC85","v":24},{"$f":"+[3]Tabulka!BD85","v":{"v":1.083336619156891,"d":"1.08"}},{"$f":"+[3]Tabulka!BE85","v":0},{"$f":"+[3]Tabulka!BF85","v":{"v":0,"d":"0.00"}},{"$f":"+[3]Tabulka!BG85","v":0},{"$f":"+[3]Tabulka!BH85","v":{"v":0,"d":"0.00"}},{"$f":"+[3]Tabulka!BI85","v":0},{"$f":"+[3]Tabulka!BJ85","v":{"v":0,"d":"0.00"}},{"$f":"+[3]Tabulka!AP85","v":{"v":0,"d":"0.00"}},{"$f":"+[3]Tabulka!AQ85","v":{"v":0,"d":"0.00"}},{"$f":"+[3]Tabulka!BM85","v":{"v":2.2185218863167866,"d":"2.22"}},{"$f":"+[3]Tabulka!BN85","v":3},{"$f":"+[3]Tabulka!BO85","v":{"v":2.2185218863167866,"d":"2.22"}}]
["48",{"$f":"[3]Tabulka!C86","v":"PAZDERA"},{"$f":"[3]Tabulka!D86","v":"Jan"},{"$f":"[3]Tabulka!E86","v":"1999-09-20"},{"$f":"[3]Tabulka!F86","v":"Karviná- KLUBsten KST"},{"$f":"[3]Tabulka!G86","v":"KA"},{"$f":"[3]Tabulka!H86","v":100},{"$f":"+[3]Tabulka!AU86","v":15},{"$f":"+[3]Tabulka!AV86","v":{"v":1.91660566894571,"d":"1.92"}},{"$f":"+[3]Tabulka!AW86","v":0},{"$f":"+[3]Tabulka!AX86","v":{"v":0,"d":"0.00"}},{"$f":"+[3]Tabulka!AY86","v":0},{"$f":"+[3]Tabulka!AZ86","v":{"v":0,"d":"0.00"}},{"$f":"+[3]Tabulka!BA86","v":0},{"$f":"+[3]Tabulka!BB86","v":{"v":0,"d":"0.00"}},{"$f":"+[3]Tabulka!BC86","v":0},{"$f":"+[3]Tabulka!BD86","v":{"v":0,"d":"0.00"}},{"$f":"+[3]Tabulka!BE86","v":0},{"$f":"+[3]Tabulka!BF86","v":{"v":0,"d":"0.00"}},{"$f":"+[3]Tabulka!BG86","v":0},{"$f":"+[3]Tabulka!BH86","v":{"v":0,"d":"0.00"}},{"$f":"+[3]Tabulka!BI86","v":0},{"$f":"+[3]Tabulka!BJ86","v":{"v":0,"d":"0.00"}},{"$f":"+[3]Tabulka!AP86","v":{"v":0,"d":"0.00"}},{"$f":"+[3]Tabulka!AQ86","v":{"v":0,"d":"0.00"}},{"$f":"+[3]Tabulka!BM86","v":{"v":1.91660566894571,"d":"1.92"}},{"$f":"+[3]Tabulka!BN86","v":1},{"$f":"+[3]Tabulka!BO86","v":{"v":1.91660566894571,"d":"1.92"}}]
["49",{"$f":"[3]Tabulka!C87","v":"MACURÁK"},{"$f":"[3]Tabulka!D87","v":"Michal"},{"$f":"[3]Tabulka!E87","v":"2002-11-30"},{"$f":"[3]Tabulka!F87","v":"Havířov- Baník SKST"},{"$f":"[3]Tabulka!G87","v":"KA"},{"$f":"[3]Tabulka!H87","v":100},{"$f":"+[3]Tabulka!AU87","v":0},{"$f":"+[3]Tabulka!AV87","v":{"v":0,"d":"0.00"}},{"$f":"+[3]Tabulka!AW87","v":25},{"$f":"+[3]Tabulka!AX87","v":{"v":1.0167952208923348,"d":"1.02"}},{"$f":"+[3]Tabulka!AY87","v":27},{"$f":"+[3]Tabulka!AZ87","v":{"v":0.8957228265226755,"d":"0.90"}},{"$f":"+[3]Tabulka!BA87","v":0},{"$f":"+[3]Tabulka!BB87","v":{"v":0,"d":"0.00"}},{"$f":"+[3]Tabulka!BC87","v":0},{"$f":"+[3]Tabulka!BD87","v":{"v":0,"d":"0.00"}},{"$f":"+[3]Tabulka!BE87","v":0},{"$f":"+[3]Tabulka!BF87","v":{"v":0,"d":"0.00"}},{"$f":"+[3]Tabulka!BG87","v":0},{"$f":"+[3]Tabulka!BH87","v":{"v":0,"d":"0.00"}},{"$f":"+[3]Tabulka!BI87","v":0},{"$f":"+[3]Tabulka!BJ87","v":{"v":0,"d":"0.00"}},{"$f":"+[3]Tabulka!AP87","v":{"v":0,"d":"0.00"}},{"$f":"+[3]Tabulka!AQ87","v":{"v":0,"d":"0.00"}},{"$f":"+[3]Tabulka!BM87","v":{"v":1.9125180474150103,"d":"1.91"}},{"$f":"+[3]Tabulka!BN87","v":2},{"$f":"+[3]Tabulka!BO87","v":{"v":1.9125180474150103,"d":"1.91"}}]
["50",{"$f":"[3]Tabulka!C88","v":"GALGANÁK"},{"$f":"[3]Tabulka!D88","v":"Adam"},{"$f":"[3]Tabulka!E88","v":"2002-05-10"},{"$f":"[3]Tabulka!F88","v":"Orlová- Siko TTC"},{"$f":"[3]Tabulka!G88","v":"KA"},{"$f":"[3]Tabulka!H88","v":100},{"$f":"+[3]Tabulka!AU88","v":0},{"$f":"+[3]Tabulka!AV88","v":{"v":0,"d":"0.00"}},{"$f":"+[3]Tabulka!AW88","v":29},{"$f":"+[3]Tabulka!AX88","v":{"v":0.7890668302410581,"d":"0.79"}},{"$f":"+[3]Tabulka!AY88","v":33},{"$f":"+[3]Tabulka!AZ88","v":{"v":0.6123420427175658,"d":"0.61"}},{"$f":"+[3]Tabulka!BA88","v":38},{"$f":"+[3]Tabulka!BB88","v":{"v":0.4460098423023116,"d":"0.45"}},{"$f":"+[3]Tabulka!BC88","v":0},{"$f":"+[3]Tabulka!BD88","v":{"v":0,"d":"0.00"}},{"$f":"+[3]Tabulka!BE88","v":0},{"$f":"+[3]Tabulka!BF88","v":{"v":0,"d":"0.00"}},{"$f":"+[3]Tabulka!BG88","v":0},{"$f":"+[3]Tabulka!BH88","v":{"v":0,"d":"0.00"}},{"$f":"+[3]Tabulka!BI88","v":0},{"$f":"+[3]Tabulka!BJ88","v":{"v":0,"d":"0.00"}},{"$f":"+[3]Tabulka!AP88","v":{"v":0,"d":"0.00"}},{"$f":"+[3]Tabulka!AQ88","v":{"v":0,"d":"0.00"}},{"$f":"+[3]Tabulka!BM88","v":{"v":1.8474187152609354,"d":"1.85"}},{"$f":"+[3]Tabulka!BN88","v":3},{"$f":"+[3]Tabulka!BO88","v":{"v":1.8474187152609354,"d":"1.85"}}]
["51",{"$f":"[3]Tabulka!C89","v":"WITOSZOVÁ"},{"$f":"[3]Tabulka!D89","v":"Klára"},{"$f":"[3]Tabulka!E89","v":"2003-09-25"},{"$f":"[3]Tabulka!F89","v":"Havířov- Baník SKST"},{"$f":"[3]Tabulka!G89","v":"KA"},{"$f":"[3]Tabulka!H89","v":100},{"$f":"+[3]Tabulka!AU89","v":0},{"$f":"+[3]Tabulka!AV89","v":{"v":0,"d":"0.00"}},{"$f":"+[3]Tabulka!AW89","v":26},{"$f":"+[3]Tabulka!AX89","v":{"v":0.9543409711693354,"d":"0.95"}},{"$f":"+[3]Tabulka!AY89","v":32},{"$f":"+[3]Tabulka!AZ89","v":{"v":0.6524151025642111,"d":"0.65"}},{"$f":"+[3]Tabulka!BA89","v":0},{"$f":"+[3]Tabulka!BB89","v":{"v":0,"d":"0.00"}},{"$f":"+[3]Tabulka!BC89","v":0},{"$f":"+[3]Tabulka!BD89","v":{"v":0,"d":"0.00"}},{"$f":"+[3]Tabulka!BE89","v":0},{"$f":"+[3]Tabulka!BF89","v":{"v":0,"d":"0.00"}},{"$f":"+[3]Tabulka!BG89","v":0},{"$f":"+[3]Tabulka!BH89","v":{"v":0,"d":"0.00"}},{"$f":"+[3]Tabulka!BI89","v":0},{"$f":"+[3]Tabulka!BJ89","v":{"v":0,"d":"0.00"}},{"$f":"+[3]Tabulka!AP89","v":{"v":0,"d":"0.00"}},{"$f":"+[3]Tabulka!AQ89","v":{"v":0,"d":"0.00"}},{"$f":"+[3]Tabulka!BM89","v":{"v":1.6067560737335465,"d":"1.61"}},{"$f":"+[3]Tabulka!BN89","v":2},{"$f":"+[3]Tabulka!BO89","v":{"v":1.6067560737335465,"d":"1.61"}}]
["52",{"$f":"[3]Tabulka!C90","v":"SWACZYNOVÁ"},{"$f":"[3]Tabulka!D90","v":"Sára"},{"$f":"[3]Tabulka!E90","v":"1997-01-01"},{"$f":"[3]Tabulka!F90","v":"Karviná- KLUBsten KST"},{"$f":"[3]Tabulka!G90","v":"KA"},{"$f":"[3]Tabulka!H90","v":0},{"$f":"+[3]Tabulka!AU90","v":0},{"$f":"+[3]Tabulka!AV90","v":{"v":0,"d":"0.00"}},{"$f":"+[3]Tabulka!AW90","v":0},{"$f":"+[3]Tabulka!AX90","v":{"v":0,"d":"0.00"}},{"$f":"+[3]Tabulka!AY90","v":25},{"$f":"+[3]Tabulka!AZ90","v":{"v":1.0167952208923348,"d":"1.02"}},{"$f":"+[3]Tabulka!BA90","v":34},{"$f":"+[3]Tabulka!BB90","v":{"v":0.5747303761145184,"d":"0.57"}},{"$f":"+[3]Tabulka!BC90","v":0},{"$f":"+[3]Tabulka!BD90","v":{"v":0,"d":"0.00"}},{"$f":"+[3]Tabulka!BE90","v":0},{"$f":"+[3]Tabulka!BF90","v":{"v":0,"d":"0.00"}},{"$f":"+[3]Tabulka!BG90","v":0},{"$f":"+[3]Tabulka!BH90","v":{"v":0,"d":"0.00"}},{"$f":"+[3]Tabulka!BI90","v":0},{"$f":"+[3]Tabulka!BJ90","v":{"v":0,"d":"0.00"}},{"$f":"+[3]Tabulka!AP90","v":{"v":0.16186231111038157,"d":"0.16"}},{"$f":"+[3]Tabulka!AQ90","v":{"v":1,"d":"1.00"}},{"$f":"+[3]Tabulka!BM90","v":{"v":1.5915255970068531,"d":"1.59"}},{"$f":"+[3]Tabulka!BN90","v":2},{"$f":"+[3]Tabulka!BO90","v":{"v":1.5915255970068531,"d":"1.59"}}]
["53",{"$f":"[3]Tabulka!C91","v":"ŠČUKA"},{"$f":"[3]Tabulka!D91","v":"Radim"},{"$f":"[3]Tabulka!E91","v":"1997-01-01"},{"$f":"[3]Tabulka!F91","v":"Těrlicko- DDŠ"},{"$f":"[3]Tabulka!G91","v":"KA"},{"$f":"[3]Tabulka!H91","v":0},{"$f":"+[3]Tabulka!AU91","v":0},{"$f":"+[3]Tabulka!AV91","v":{"v":0,"d":"0.00"}},{"$f":"+[3]Tabulka!AW91","v":0},{"$f":"+[3]Tabulka!AX91","v":{"v":0,"d":"0.00"}},{"$f":"+[3]Tabulka!AY91","v":28},{"$f":"+[3]Tabulka!AZ91","v":{"v":0.8407051632402461,"d":"0.84"}},{"$f":"+[3]Tabulka!BA91","v":31},{"$f":"+[3]Tabulka!BB91","v":{"v":0.695110634842026,"d":"0.70"}},{"$f":"+[3]Tabulka!BC91","v":0},{"$f":"+[3]Tabulka!BD91","v":{"v":0,"d":"0.00"}},{"$f":"+[3]Tabulka!BE91","v":0},{"$f":"+[3]Tabulka!BF91","v":{"v":0,"d":"0.00"}},{"$f":"+[3]Tabulka!BG91","v":0},{"$f":"+[3]Tabulka!BH91","v":{"v":0,"d":"0.00"}},{"$f":"+[3]Tabulka!BI91","v":0},{"$f":"+[3]Tabulka!BJ91","v":{"v":0,"d":"0.00"}},{"$f":"+[3]Tabulka!AP91","v":{"v":0,"d":"0.00"}},{"$f":"+[3]Tabulka!AQ91","v":{"v":0,"d":"0.00"}},{"$f":"+[3]Tabulka!BM91","v":{"v":1.5358157980822722,"d":"1.54"}},{"$f":"+[3]Tabulka!BN91","v":2},{"$f":"+[3]Tabulka!BO91","v":{"v":1.5358157980822722,"d":"1.54"}}]
["54",{"$f":"[3]Tabulka!C92","v":"PRYCZEK"},{"$f":"[3]Tabulka!D92","v":"Marian"},{"$f":"[3]Tabulka!E92","v":"1997-01-01"},{"$f":"[3]Tabulka!F92","v":"Karviná-Lázně Darkov- Slovan VOKD TJ"},{"$f":"[3]Tabulka!G92","v":"KA"},{"$f":"[3]Tabulka!H92","v":0},{"$f":"+[3]Tabulka!AU92","v":0},{"$f":"+[3]Tabulka!AV92","v":{"v":0,"d":"0.00"}},{"$f":"+[3]Tabulka!AW92","v":0},{"$f":"+[3]Tabulka!AX92","v":{"v":0,"d":"0.00"}},{"$f":"+[3]Tabulka!AY92","v":0},{"$f":"+[3]Tabulka!AZ92","v":{"v":0,"d":"0.00"}},{"$f":"+[3]Tabulka!BA92","v":0},{"$f":"+[3]Tabulka!BB92","v":{"v":0,"d":"0.00"}},{"$f":"+[3]Tabulka!BC92","v":0},{"$f":"+[3]Tabulka!BD92","v":{"v":0,"d":"0.00"}},{"$f":"+[3]Tabulka!BE92","v":0},{"$f":"+[3]Tabulka!BF92","v":{"v":0,"d":"0.00"}},{"$f":"+[3]Tabulka!BG92","v":19},{"$f":"+[3]Tabulka!BH92","v":{"v":1.4873495950244735,"d":"1.49"}},{"$f":"+[3]Tabulka!BI92","v":0},{"$f":"+[3]Tabulka!BJ92","v":{"v":0,"d":"0.00"}},{"$f":"+[3]Tabulka!AP92","v":{"v":0,"d":"0.00"}},{"$f":"+[3]Tabulka!AQ92","v":{"v":0,"d":"0.00"}},{"$f":"+[3]Tabulka!BM92","v":{"v":1.4873495950244735,"d":"1.49"}},{"$f":"+[3]Tabulka!BN92","v":1},{"$f":"+[3]Tabulka!BO92","v":{"v":1.4873495950244735,"d":"1.49"}}]
["55",{"$f":"[3]Tabulka!C93","v":"CZOLKO"},{"$f":"[3]Tabulka!D93","v":"Daniel"},{"$f":"[3]Tabulka!E93","v":"2002-06-08"},{"$f":"[3]Tabulka!F93","v":"Orlová- Siko TTC"},{"$f":"[3]Tabulka!G93","v":"KA"},{"$f":"[3]Tabulka!H93","v":100},{"$f":"+[3]Tabulka!AU93","v":0},{"$f":"+[3]Tabulka!AV93","v":{"v":0,"d":"0.00"}},{"$f":"+[3]Tabulka!AW93","v":27},{"$f":"+[3]Tabulka!AX93","v":{"v":0.8957228265226755,"d":"0.90"}},{"$f":"+[3]Tabulka!AY93","v":0},{"$f":"+[3]Tabulka!AZ93","v":{"v":0,"d":"0.00"}},{"$f":"+[3]Tabulka!BA93","v":39},{"$f":"+[3]Tabulka!BB93","v":{"v":0.4186147390428583,"d":"0.42"}},{"$f":"+[3]Tabulka!BC93","v":0},{"$f":"+[3]Tabulka!BD93","v":{"v":0,"d":"0.00"}},{"$f":"+[3]Tabulka!BE93","v":0},{"$f":"+[3]Tabulka!BF93","v":{"v":0,"d":"0.00"}},{"$f":"+[3]Tabulka!BG93","v":0},{"$f":"+[3]Tabulka!BH93","v":{"v":0,"d":"0.00"}},{"$f":"+[3]Tabulka!BI93","v":0},{"$f":"+[3]Tabulka!BJ93","v":{"v":0,"d":"0.00"}},{"$f":"+[3]Tabulka!AP93","v":{"v":0,"d":"0.00"}},{"$f":"+[3]Tabulka!AQ93","v":{"v":0,"d":"0.00"}},{"$f":"+[3]Tabulka!BM93","v":{"v":1.3143375655655338,"d":"1.31"}},{"$f":"+[3]Tabulka!BN93","v":2},{"$f":"+[3]Tabulka!BO93","v":{"v":1.3143375655655338,"d":"1.31"}}]
["56",{"$f":"[3]Tabulka!C94","v":"CZOLKOVÁ"},{"$f":"[3]Tabulka!D94","v":"Adéla"},{"$f":"[3]Tabulka!E94","v":"1999-01-01"},{"$f":"[3]Tabulka!F94","v":"Orlová- Siko TTC"},{"$f":"[3]Tabulka!G94","v":"KA"},{"$f":"[3]Tabulka!H94","v":0},{"$f":"+[3]Tabulka!AU94","v":0},{"$f":"+[3]Tabulka!AV94","v":{"v":0,"d":"0.00"}},{"$f":"+[3]Tabulka!AW94","v":28},{"$f":"+[3]Tabulka!AX94","v":{"v":0.8407051632402461,"d":"0.84"}},{"$f":"+[3]Tabulka!AY94","v":0},{"$f":"+[3]Tabulka!AZ94","v":{"v":0,"d":"0.00"}},{"$f":"+[3]Tabulka!BA94","v":40},{"$f":"+[3]Tabulka!BB94","v":{"v":0.3929023154272488,"d":"0.39"}},{"$f":"+[3]Tabulka!BC94","v":0},{"$f":"+[3]Tabulka!BD94","v":{"v":0,"d":"0.00"}},{"$f":"+[3]Tabulka!BE94","v":0},{"$f":"+[3]Tabulka!BF94","v":{"v":0,"d":"0.00"}},{"$f":"+[3]Tabulka!BG94","v":0},{"$f":"+[3]Tabulka!BH94","v":{"v":0,"d":"0.00"}},{"$f":"+[3]Tabulka!BI94","v":0},{"$f":"+[3]Tabulka!BJ94","v":{"v":0,"d":"0.00"}},{"$f":"+[3]Tabulka!AP94","v":{"v":0,"d":"0.00"}},{"$f":"+[3]Tabulka!AQ94","v":{"v":0,"d":"0.00"}},{"$f":"+[3]Tabulka!BM94","v":{"v":1.2336074786674949,"d":"1.23"}},{"$f":"+[3]Tabulka!BN94","v":2},{"$f":"+[3]Tabulka!BO94","v":{"v":1.2336074786674949,"d":"1.23"}}]
["57",{"$f":"[3]Tabulka!C95","v":"IŠTOKOVÁ"},{"$f":"[3]Tabulka!D95","v":"Jana"},{"$f":"[3]Tabulka!E95","v":"1997-01-01"},{"$f":"[3]Tabulka!F95","v":"Karviná-Lázně Darkov- Slovan VOKD TJ"},{"$f":"[3]Tabulka!G95","v":"KA"},{"$f":"[3]Tabulka!H95","v":0},{"$f":"+[3]Tabulka!AU95","v":0},{"$f":"+[3]Tabulka!AV95","v":{"v":0,"d":"0.00"}},{"$f":"+[3]Tabulka!AW95","v":0},{"$f":"+[3]Tabulka!AX95","v":{"v":0,"d":"0.00"}},{"$f":"+[3]Tabulka!AY95","v":0},{"$f":"+[3]Tabulka!AZ95","v":{"v":0,"d":"0.00"}},{"$f":"+[3]Tabulka!BA95","v":0},{"$f":"+[3]Tabulka!BB95","v":{"v":0,"d":"0.00"}},{"$f":"+[3]Tabulka!BC95","v":0},{"$f":"+[3]Tabulka!BD95","v":{"v":0,"d":"0.00"}},{"$f":"+[3]Tabulka!BE95","v":0},{"$f":"+[3]Tabulka!BF95","v":{"v":0,"d":"0.00"}},{"$f":"+[3]Tabulka!BG95","v":24},{"$f":"+[3]Tabulka!BH95","v":{"v":1.083336619156891,"d":"1.08"}},{"$f":"+[3]Tabulka!BI95","v":0},{"$f":"+[3]Tabulka!BJ95","v":{"v":0,"d":"0.00"}},{"$f":"+[3]Tabulka!AP95","v":{"v":0,"d":"0.00"}},{"$f":"+[3]Tabulka!AQ95","v":{"v":0,"d":"0.00"}},{"$f":"+[3]Tabulka!BM95","v":{"v":1.083336619156891,"d":"1.08"}},{"$f":"+[3]Tabulka!BN95","v":1},{"$f":"+[3]Tabulka!BO95","v":{"v":1.083336619156891,"d":"1.08"}}]
["58",{"$f":"[3]Tabulka!C96","v":"SUPÍK"},{"$f":"[3]Tabulka!D96","v":"Lukáš"},{"$f":"[3]Tabulka!E96","v":"1997-10-24"},{"$f":"[3]Tabulka!F96","v":"Český Těšín- SKST"},{"$f":"[3]Tabulka!G96","v":"KA"},{"$f":"[3]Tabulka!H96","v":100},{"$f":"+[3]Tabulka!AU96","v":25},{"$f":"+[3]Tabulka!AV96","v":{"v":1.0167952208923348,"d":"1.02"}},{"$f":"+[3]Tabulka!AW96","v":0},{"$f":"+[3]Tabulka!AX96","v":{"v":0,"d":"0.00"}},{"$f":"+[3]Tabulka!AY96","v":0},{"$f":"+[3]Tabulka!AZ96","v":{"v":0,"d":"0.00"}},{"$f":"+[3]Tabulka!BA96","v":0},{"$f":"+[3]Tabulka!BB96","v":{"v":0,"d":"0.00"}},{"$f":"+[3]Tabulka!BC96","v":0},{"$f":"+[3]Tabulka!BD96","v":{"v":0,"d":"0.00"}},{"$f":"+[3]Tabulka!BE96","v":0},{"$f":"+[3]Tabulka!BF96","v":{"v":0,"d":"0.00"}},{"$f":"+[3]Tabulka!BG96","v":0},{"$f":"+[3]Tabulka!BH96","v":{"v":0,"d":"0.00"}},{"$f":"+[3]Tabulka!BI96","v":0},{"$f":"+[3]Tabulka!BJ96","v":{"v":0,"d":"0.00"}},{"$f":"+[3]Tabulka!AP96","v":{"v":0,"d":"0.00"}},{"$f":"+[3]Tabulka!AQ96","v":{"v":0,"d":"0.00"}},{"$f":"+[3]Tabulka!BM96","v":{"v":1.0167952208923348,"d":"1.02"}},{"$f":"+[3]Tabulka!BN96","v":1},{"$f":"+[3]Tabulka!BO96","v":{"v":1.0167952208923348,"d":"1.02"}}]
["59",{"$f":"[3]Tabulka!C97","v":"RASZYK"},{"$f":"[3]Tabulka!D97","v":"Kristián"},{"$f":"[3]Tabulka!E97","v":"1999-01-01"},{"$f":"[3]Tabulka!F97","v":"Karviná- KLUBsten KST"},{"$f":"[3]Tabulka!G97","v":"KA"},{"$f":"[3]Tabulka!H97","v":0},{"$f":"+[3]Tabulka!AU97","v":0},{"$f":"+[3]Tabulka!AV97","v":{"v":0,"d":"0.00"}},{"$f":"+[3]Tabulka!AW97","v":0},{"$f":"+[3]Tabulka!AX97","v":{"v":0,"d":"0.00"}},{"$f":"+[3]Tabulka!AY97","v":0},{"$f":"+[3]Tabulka!AZ97","v":{"v":0,"d":"0.00"}},{"$f":"+[3]Tabulka!BA97","v":0},{"$f":"+[3]Tabulka!BB97","v":{"v":0,"d":"0.00"}},{"$f":"+[3]Tabulka!BC97","v":0},{"$f":"+[3]Tabulka!BD97","v":{"v":0,"d":"0.00"}},{"$f":"+[3]Tabulka!BE97","v":0},{"$f":"+[3]Tabulka!BF97","v":{"v":0,"d":"0.00"}},{"$f":"+[3]Tabulka!BG97","v":0},{"$f":"+[3]Tabulka!BH97","v":{"v":0,"d":"0.00"}},{"$f":"+[3]Tabulka!BI97","v":26},{"$f":"+[3]Tabulka!BJ97","v":{"v":0.9543409711693354,"d":"0.95"}},{"$f":"+[3]Tabulka!AP97","v":{"v":0,"d":"0.00"}},{"$f":"+[3]Tabulka!AQ97","v":{"v":0,"d":"0.00"}},{"$f":"+[3]Tabulka!BM97","v":{"v":0.9543409711693354,"d":"0.95"}},{"$f":"+[3]Tabulka!BN97","v":1},{"$f":"+[3]Tabulka!BO97","v":{"v":0.9543409711693354,"d":"0.95"}}]
["60",{"$f":"[3]Tabulka!C98","v":"SLÍŽ"},{"$f":"[3]Tabulka!D98","v":"Viktor"},{"$f":"[3]Tabulka!E98","v":"1999-01-01"},{"$f":"[3]Tabulka!F98","v":"Havířov- Baník SKST"},{"$f":"[3]Tabulka!G98","v":"KA"},{"$f":"[3]Tabulka!H98","v":0},{"$f":"+[3]Tabulka!AU98","v":0},{"$f":"+[3]Tabulka!AV98","v":{"v":0,"d":"0.00"}},{"$f":"+[3]Tabulka!AW98","v":0},{"$f":"+[3]Tabulka!AX98","v":{"v":0,"d":"0.00"}},{"$f":"+[3]Tabulka!AY98","v":0},{"$f":"+[3]Tabulka!AZ98","v":{"v":0,"d":"0.00"}},{"$f":"+[3]Tabulka!BA98","v":0},{"$f":"+[3]Tabulka!BB98","v":{"v":0,"d":"0.00"}},{"$f":"+[3]Tabulka!BC98","v":0},{"$f":"+[3]Tabulka!BD98","v":{"v":0,"d":"0.00"}},{"$f":"+[3]Tabulka!BE98","v":0},{"$f":"+[3]Tabulka!BF98","v":{"v":0,"d":"0.00"}},{"$f":"+[3]Tabulka!BG98","v":33},{"$f":"+[3]Tabulka!BH98","v":{"v":0.6123420427175658,"d":"0.61"}},{"$f":"+[3]Tabulka!BI98","v":0},{"$f":"+[3]Tabulka!BJ98","v":{"v":0,"d":"0.00"}},{"$f":"+[3]Tabulka!AP98","v":{"v":0,"d":"0.00"}},{"$f":"+[3]Tabulka!AQ98","v":{"v":0,"d":"0.00"}},{"$f":"+[3]Tabulka!BM98","v":{"v":0.6123420427175658,"d":"0.61"}},{"$f":"+[3]Tabulka!BN98","v":1},{"$f":"+[3]Tabulka!BO98","v":{"v":0.6123420427175658,"d":"0.61"}}]
["61",{"$f":"[3]Tabulka!C99","v":"TUROŇ"},{"$f":"[3]Tabulka!D99","v":"Vojtěch"},{"$f":"[3]Tabulka!E99","v":"2001-09-21"},{"$f":"[3]Tabulka!F99","v":"Český Těšín- SKST"},{"$f":"[3]Tabulka!G99","v":"KA"},{"$f":"[3]Tabulka!H99","v":100},{"$f":"+[3]Tabulka!AU99","v":0},{"$f":"+[3]Tabulka!AV99","v":{"v":0,"d":"0.00"}},{"$f":"+[3]Tabulka!AW99","v":0},{"$f":"+[3]Tabulka!AX99","v":{"v":0,"d":"0.00"}},{"$f":"+[3]Tabulka!AY99","v":0},{"$f":"+[3]Tabulka!AZ99","v":{"v":0,"d":"0.00"}},{"$f":"+[3]Tabulka!BA99","v":0},{"$f":"+[3]Tabulka!BB99","v":{"v":0,"d":"0.00"}},{"$f":"+[3]Tabulka!BC99","v":0},{"$f":"+[3]Tabulka!BD99","v":{"v":0,"d":"0.00"}},{"$f":"+[3]Tabulka!BE99","v":0},{"$f":"+[3]Tabulka!BF99","v":{"v":0,"d":"0.00"}},{"$f":"+[3]Tabulka!BG99","v":36},{"$f":"+[3]Tabulka!BH99","v":{"v":0.5062957677259255,"d":"0.51"}},{"$f":"+[3]Tabulka!BI99","v":0},{"$f":"+[3]Tabulka!BJ99","v":{"v":0,"d":"0.00"}},{"$f":"+[3]Tabulka!AP99","v":{"v":0,"d":"0.00"}},{"$f":"+[3]Tabulka!AQ99","v":{"v":0,"d":"0.00"}},{"$f":"+[3]Tabulka!BM99","v":{"v":0.5062957677259255,"d":"0.51"}},{"$f":"+[3]Tabulka!BN99","v":1},{"$f":"+[3]Tabulka!BO99","v":{"v":0.5062957677259255,"d":"0.51"}}]
["62",{"$f":"[3]Tabulka!C100","v":"STARÁ"},{"$f":"[3]Tabulka!D100","v":"Petra"},{"$f":"[3]Tabulka!E100","v":"1998-01-01"},{"$f":"[3]Tabulka!F100","v":"Český Těšín- SKST"},{"$f":"[3]Tabulka!G100","v":"KA"},{"$f":"[3]Tabulka!H100","v":0},{"$f":"+[3]Tabulka!AU100","v":0},{"$f":"+[3]Tabulka!AV100","v":{"v":0,"d":"0.00"}},{"$f":"+[3]Tabulka!AW100","v":0},{"$f":"+[3]Tabulka!AX100","v":{"v":0,"d":"0.00"}},{"$f":"+[3]Tabulka!AY100","v":0},{"$f":"+[3]Tabulka!AZ100","v":{"v":0,"d":"0.00"}},{"$f":"+[3]Tabulka!BA100","v":37},{"$f":"+[3]Tabulka!BB100","v":{"v":0.4751977435991968,"d":"0.48"}},{"$f":"+[3]Tabulka!BC100","v":0},{"$f":"+[3]Tabulka!BD100","v":{"v":0,"d":"0.00"}},{"$f":"+[3]Tabulka!BE100","v":0},{"$f":"+[3]Tabulka!BF100","v":{"v":0,"d":"0.00"}},{"$f":"+[3]Tabulka!BG100","v":0},{"$f":"+[3]Tabulka!BH100","v":{"v":0,"d":"0.00"}},{"$f":"+[3]Tabulka!BI100","v":0},{"$f":"+[3]Tabulka!BJ100","v":{"v":0,"d":"0.00"}},{"$f":"+[3]Tabulka!AP100","v":{"v":0,"d":"0.00"}},{"$f":"+[3]Tabulka!AQ100","v":{"v":0,"d":"0.00"}},{"$f":"+[3]Tabulka!BM100","v":{"v":0.4751977435991968,"d":"0.48"}},{"$f":"+[3]Tabulka!BN100","v":1},{"$f":"+[3]Tabulka!BO100","v":{"v":0.4751977435991968,"d":"0.48"}}]
["63",{"$f":"[3]Tabulka!C101","v":"REMENÍK"},{"$f":"[3]Tabulka!D101","v":"Filip"},{"$f":"[3]Tabulka!E101","v":"2000-01-01"},{"$f":"[3]Tabulka!F101","v":"Karviná- KLUBsten KST"},{"$f":"[3]Tabulka!G101","v":"KA"},{"$f":"[3]Tabulka!H101","v":100},{"$f":"+[3]Tabulka!AU101","v":0},{"$f":"+[3]Tabulka!AV101","v":{"v":0,"d":"0.00"}},{"$f":"+[3]Tabulka!AW101","v":0},{"$f":"+[3]Tabulka!AX101","v":{"v":0,"d":"0.00"}},{"$f":"+[3]Tabulka!AY101","v":0},{"$f":"+[3]Tabulka!AZ101","v":{"v":0,"d":"0.00"}},{"$f":"+[3]Tabulka!BA101","v":41},{"$f":"+[3]Tabulka!BB101","v":{"v":0.36876921682465774,"d":"0.37"}},{"$f":"+[3]Tabulka!BC101","v":0},{"$f":"+[3]Tabulka!BD101","v":{"v":0,"d":"0.00"}},{"$f":"+[3]Tabulka!BE101","v":0},{"$f":"+[3]Tabulka!BF101","v":{"v":0,"d":"0.00"}},{"$f":"+[3]Tabulka!BG101","v":0},{"$f":"+[3]Tabulka!BH101","v":{"v":0,"d":"0.00"}},{"$f":"+[3]Tabulka!BI101","v":0},{"$f":"+[3]Tabulka!BJ101","v":{"v":0,"d":"0.00"}},{"$f":"+[3]Tabulka!AP101","v":{"v":0,"d":"0.00"}},{"$f":"+[3]Tabulka!AQ101","v":{"v":0,"d":"0.00"}},{"$f":"+[3]Tabulka!BM101","v":{"v":0.36876921682465774,"d":"0.37"}},{"$f":"+[3]Tabulka!BN101","v":1},{"$f":"+[3]Tabulka!BO101","v":{"v":0.36876921682465774,"d":"0.37"}}]
["64",{"$f":"[3]Tabulka!C102","v":"ADAMČÍK"},{"$f":"[3]Tabulka!D102","v":"Jiří"},{"$f":"[3]Tabulka!E102","v":"1997-09-03"},{"$f":"[3]Tabulka!F102","v":"Ostrava- Mittal TJ"},{"$f":"[3]Tabulka!G102","v":"OV"},{"$f":"[3]Tabulka!H102","v":100},{"$f":"+[3]Tabulka!AU102","v":0},{"$f":"+[3]Tabulka!AV102","v":{"v":0,"d":"0.00"}},{"$f":"+[3]Tabulka!AW102","v":0},{"$f":"+[3]Tabulka!AX102","v":{"v":0,"d":"0.00"}},{"$f":"+[3]Tabulka!AY102","v":0},{"$f":"+[3]Tabulka!AZ102","v":{"v":0,"d":"0.00"}},{"$f":"+[3]Tabulka!BA102","v":0},{"$f":"+[3]Tabulka!BB102","v":{"v":0,"d":"0.00"}},{"$f":"+[3]Tabulka!BC102","v":0},{"$f":"+[3]Tabulka!BD102","v":{"v":0,"d":"0.00"}},{"$f":"+[3]Tabulka!BE102","v":0},{"$f":"+[3]Tabulka!BF102","v":{"v":0,"d":"0.00"}},{"$f":"+[3]Tabulka!BG102","v":0},{"$f":"+[3]Tabulka!BH102","v":{"v":0,"d":"0.00"}},{"$f":"+[3]Tabulka!BI102","v":0},{"$f":"+[3]Tabulka!BJ102","v":{"v":0,"d":"0.00"}},{"$f":"+[3]Tabulka!AP102","v":{"v":0.5549182969739741,"d":"0.55"}},{"$f":"+[3]Tabulka!AQ102","v":{"v":2,"d":"2.00"}},{"$f":"+[3]Tabulka!BM102","v":{"v":0,"d":"0.00"}},{"$f":"+[3]Tabulka!BN102","v":0},{"$f":"+[3]Tabulka!BO102","v":{"v":0,"d":"0.00"}}]
[null,{"$f":"[3]Tabulka!C103","v":"ANTLOVÁ"},{"$f":"[3]Tabulka!D103","v":"Vanesa"},{"$f":"[3]Tabulka!E103","v":"1997-06-26"},{"$f":"[3]Tabulka!F103","v":"Havířov- CSVČ sv. Jana Boska"},{"$f":"[3]Tabulka!G103","v":"KA"},{"$f":"[3]Tabulka!H103","v":100},{"$f":"+[3]Tabulka!AU103","v":0},{"$f":"+[3]Tabulka!AV103","v":{"v":0,"d":"0.00"}},{"$f":"+[3]Tabulka!AW103","v":0},{"$f":"+[3]Tabulka!AX103","v":{"v":0,"d":"0.00"}},{"$f":"+[3]Tabulka!AY103","v":0},{"$f":"+[3]Tabulka!AZ103","v":{"v":0,"d":"0.00"}},{"$f":"+[3]Tabulka!BA103","v":0},{"$f":"+[3]Tabulka!BB103","v":{"v":0,"d":"0.00"}},{"$f":"+[3]Tabulka!BC103","v":0},{"$f":"+[3]Tabulka!BD103","v":{"v":0,"d":"0.00"}},{"$f":"+[3]Tabulka!BE103","v":0},{"$f":"+[3]Tabulka!BF103","v":{"v":0,"d":"0.00"}},{"$f":"+[3]Tabulka!BG103","v":0},{"$f":"+[3]Tabulka!BH103","v":{"v":0,"d":"0.00"}},{"$f":"+[3]Tabulka!BI103","v":0},{"$f":"+[3]Tabulka!BJ103","v":{"v":0,"d":"0.00"}},{"$f":"+[3]Tabulka!AP103","v":{"v":0,"d":"0.00"}},{"$f":"+[3]Tabulka!AQ103","v":{"v":0,"d":"0.00"}},{"$f":"+[3]Tabulka!BM103","v":{"v":0,"d":"0.00"}},{"$f":"+[3]Tabulka!BN103","v":0},{"$f":"+[3]Tabulka!BO103","v":{"v":0,"d":"0.00"}}]
[null,{"$f":"[3]Tabulka!C104","v":"BAJER"},{"$f":"[3]Tabulka!D104","v":"Daniel"},{"$f":"[3]Tabulka!E104","v":"1998-07-27"},{"$f":"[3]Tabulka!F104","v":"Havířov- Baník SKST"},{"$f":"[3]Tabulka!G104","v":"KA"},{"$f":"[3]Tabulka!H104","v":100},{"$f":"+[3]Tabulka!AU104","v":0},{"$f":"+[3]Tabulka!AV104","v":{"v":0,"d":"0.00"}},{"$f":"+[3]Tabulka!AW104","v":0},{"$f":"+[3]Tabulka!AX104","v":{"v":0,"d":"0.00"}},{"$f":"+[3]Tabulka!AY104","v":0},{"$f":"+[3]Tabulka!AZ104","v":{"v":0,"d":"0.00"}},{"$f":"+[3]Tabulka!BA104","v":0},{"$f":"+[3]Tabulka!BB104","v":{"v":0,"d":"0.00"}},{"$f":"+[3]Tabulka!BC104","v":0},{"$f":"+[3]Tabulka!BD104","v":{"v":0,"d":"0.00"}},{"$f":"+[3]Tabulka!BE104","v":0},{"$f":"+[3]Tabulka!BF104","v":{"v":0,"d":"0.00"}},{"$f":"+[3]Tabulka!BG104","v":0},{"$f":"+[3]Tabulka!BH104","v":{"v":0,"d":"0.00"}},{"$f":"+[3]Tabulka!BI104","v":0},{"$f":"+[3]Tabulka!BJ104","v":{"v":0,"d":"0.00"}},{"$f":"+[3]Tabulka!AP104","v":{"v":10.597262848468372,"d":"10.60"}},{"$f":"+[3]Tabulka!AQ104","v":{"v":2,"d":"2.00"}},{"$f":"+[3]Tabulka!BM104","v":{"v":0,"d":"0.00"}},{"$f":"+[3]Tabulka!BN104","v":0},{"$f":"+[3]Tabulka!BO104","v":{"v":0,"d":"0.00"}}]
[null,{"$f":"[3]Tabulka!C105","v":"BANDOLA"},{"$f":"[3]Tabulka!D105","v":"Dominik"},{"$f":"[3]Tabulka!E105","v":"1998-09-08"},{"$f":"[3]Tabulka!F105","v":"Paskov- Orel"},{"$f":"[3]Tabulka!G105","v":"FM"},{"$f":"[3]Tabulka!H105","v":100},{"$f":"+[3]Tabulka!AU105","v":0},{"$f":"+[3]Tabulka!AV105","v":{"v":0,"d":"0.00"}},{"$f":"+[3]Tabulka!AW105","v":0},{"$f":"+[3]Tabulka!AX105","v":{"v":0,"d":"0.00"}},{"$f":"+[3]Tabulka!AY105","v":0},{"$f":"+[3]Tabulka!AZ105","v":{"v":0,"d":"0.00"}},{"$f":"+[3]Tabulka!BA105","v":0},{"$f":"+[3]Tabulka!BB105","v":{"v":0,"d":"0.00"}},{"$f":"+[3]Tabulka!BC105","v":0},{"$f":"+[3]Tabulka!BD105","v":{"v":0,"d":"0.00"}},{"$f":"+[3]Tabulka!BE105","v":0},{"$f":"+[3]Tabulka!BF105","v":{"v":0,"d":"0.00"}},{"$f":"+[3]Tabulka!BG105","v":0},{"$f":"+[3]Tabulka!BH105","v":{"v":0,"d":"0.00"}},{"$f":"+[3]Tabulka!BI105","v":0},{"$f":"+[3]Tabulka!BJ105","v":{"v":0,"d":"0.00"}},{"$f":"+[3]Tabulka!AP105","v":{"v":0.6026256373042295,"d":"0.60"}},{"$f":"+[3]Tabulka!AQ105","v":{"v":2,"d":"2.00"}},{"$f":"+[3]Tabulka!BM105","v":{"v":0,"d":"0.00"}},{"$f":"+[3]Tabulka!BN105","v":0},{"$f":"+[3]Tabulka!BO105","v":{"v":0,"d":"0.00"}}]
[null,{"$f":"[3]Tabulka!C106","v":"BĚLÍK"},{"$f":"[3]Tabulka!D106","v":"Šimon"},{"$f":"[3]Tabulka!E106","v":"2004-05-13"},{"$f":"[3]Tabulka!F106","v":"Ostrava- Mittal TJ"},{"$f":"[3]Tabulka!G106","v":"OV"},{"$f":"[3]Tabulka!H106","v":100},{"$f":"+[3]Tabulka!AU106","v":0},{"$f":"+[3]Tabulka!AV106","v":{"v":0,"d":"0.00"}},{"$f":"+[3]Tabulka!AW106","v":0},{"$f":"+[3]Tabulka!AX106","v":{"v":0,"d":"0.00"}},{"$f":"+[3]Tabulka!AY106","v":0},{"$f":"+[3]Tabulka!AZ106","v":{"v":0,"d":"0.00"}},{"$f":"+[3]Tabulka!BA106","v":0},{"$f":"+[3]Tabulka!BB106","v":{"v":0,"d":"0.00"}},{"$f":"+[3]Tabulka!BC106","v":0},{"$f":"+[3]Tabulka!BD106","v":{"v":0,"d":"0.00"}},{"$f":"+[3]Tabulka!BE106","v":0},{"$f":"+[3]Tabulka!BF106","v":{"v":0,"d":"0.00"}},{"$f":"+[3]Tabulka!BG106","v":0},{"$f":"+[3]Tabulka!BH106","v":{"v":0,"d":"0.00"}},{"$f":"+[3]Tabulka!BI106","v":0},{"$f":"+[3]Tabulka!BJ106","v":{"v":0,"d":"0.00"}},{"$f":"+[3]Tabulka!AP106","v":{"v":3.991156720867636,"d":"3.99"}},{"$f":"+[3]Tabulka!AQ106","v":{"v":4,"d":"4.00"}},{"$f":"+[3]Tabulka!BM106","v":{"v":0,"d":"0.00"}},{"$f":"+[3]Tabulka!BN106","v":0},{"$f":"+[3]Tabulka!BO106","v":{"v":0,"d":"0.00"}}]
[null,{"$f":"[3]Tabulka!C107","v":"BLÁHOVÁ"},{"$f":"[3]Tabulka!D107","v":"Hana"},{"$f":"[3]Tabulka!E107","v":"1900-01-01"},{"$f":"[3]Tabulka!F107","v":"Bobrovníky- Sokol TJ"},{"$f":"[3]Tabulka!G107","v":"OP"},{"$f":"[3]Tabulka!H107","v":0},{"$f":"+[3]Tabulka!AU107","v":0},{"$f":"+[3]Tabulka!AV107","v":{"v":0,"d":"0.00"}},{"$f":"+[3]Tabulka!AW107","v":0},{"$f":"+[3]Tabulka!AX107","v":{"v":0,"d":"0.00"}},{"$f":"+[3]Tabulka!AY107","v":0},{"$f":"+[3]Tabulka!AZ107","v":{"v":0,"d":"0.00"}},{"$f":"+[3]Tabulka!BA107","v":0},{"$f":"+[3]Tabulka!BB107","v":{"v":0,"d":"0.00"}},{"$f":"+[3]Tabulka!BC107","v":0},{"$f":"+[3]Tabulka!BD107","v":{"v":0,"d":"0.00"}},{"$f":"+[3]Tabulka!BE107","v":0},{"$f":"+[3]Tabulka!BF107","v":{"v":0,"d":"0.00"}},{"$f":"+[3]Tabulka!BG107","v":0},{"$f":"+[3]Tabulka!BH107","v":{"v":0,"d":"0.00"}},{"$f":"+[3]Tabulka!BI107","v":0},{"$f":"+[3]Tabulka!BJ107","v":{"v":0,"d":"0.00"}},{"$f":"+[3]Tabulka!AP107","v":{"v":0,"d":"0.00"}},{"$f":"+[3]Tabulka!AQ107","v":{"v":0,"d":"0.00"}},{"$f":"+[3]Tabulka!BM107","v":{"v":0,"d":"0.00"}},{"$f":"+[3]Tabulka!BN107","v":0},{"$f":"+[3]Tabulka!BO107","v":{"v":0,"d":"0.00"}}]
[null,{"$f":"[3]Tabulka!C108","v":"CINGELOVÁ"},{"$f":"[3]Tabulka!D108","v":"Luba"},{"$f":"[3]Tabulka!E108","v":"1998-11-05"},{"$f":"[3]Tabulka!F108","v":"Hradec nad Moravicí- FIT SPORT KLUB "},{"$f":"[3]Tabulka!G108","v":"OP"},{"$f":"[3]Tabulka!H108","v":100},{"$f":"+[3]Tabulka!AU108","v":0},{"$f":"+[3]Tabulka!AV108","v":{"v":0,"d":"0.00"}},{"$f":"+[3]Tabulka!AW108","v":0},{"$f":"+[3]Tabulka!AX108","v":{"v":0,"d":"0.00"}},{"$f":"+[3]Tabulka!AY108","v":0},{"$f":"+[3]Tabulka!AZ108","v":{"v":0,"d":"0.00"}},{"$f":"+[3]Tabulka!BA108","v":0},{"$f":"+[3]Tabulka!BB108","v":{"v":0,"d":"0.00"}},{"$f":"+[3]Tabulka!BC108","v":0},{"$f":"+[3]Tabulka!BD108","v":{"v":0,"d":"0.00"}},{"$f":"+[3]Tabulka!BE108","v":0},{"$f":"+[3]Tabulka!BF108","v":{"v":0,"d":"0.00"}},{"$f":"+[3]Tabulka!BG108","v":0},{"$f":"+[3]Tabulka!BH108","v":{"v":0,"d":"0.00"}},{"$f":"+[3]Tabulka!BI108","v":0},{"$f":"+[3]Tabulka!BJ108","v":{"v":0,"d":"0.00"}},{"$f":"+[3]Tabulka!AP108","v":{"v":0,"d":"0.00"}},{"$f":"+[3]Tabulka!AQ108","v":{"v":0,"d":"0.00"}},{"$f":"+[3]Tabulka!BM108","v":{"v":0,"d":"0.00"}},{"$f":"+[3]Tabulka!BN108","v":0},{"$f":"+[3]Tabulka!BO108","v":{"v":0,"d":"0.00"}}]
[null,{"$f":"[3]Tabulka!C109","v":"ČECHOVÁ"},{"$f":"[3]Tabulka!D109","v":"Kateřina"},{"$f":"[3]Tabulka!E109","v":"1999-03-29"},{"$f":"[3]Tabulka!F109","v":"Frýdlant nad Ostravicí- SK"},{"$f":"[3]Tabulka!G109","v":"FM"},{"$f":"[3]Tabulka!H109","v":100},{"$f":"+[3]Tabulka!AU109","v":0},{"$f":"+[3]Tabulka!AV109","v":{"v":0,"d":"0.00"}},{"$f":"+[3]Tabulka!AW109","v":0},{"$f":"+[3]Tabulka!AX109","v":{"v":0,"d":"0.00"}},{"$f":"+[3]Tabulka!AY109","v":0},{"$f":"+[3]Tabulka!AZ109","v":{"v":0,"d":"0.00"}},{"$f":"+[3]Tabulka!BA109","v":0},{"$f":"+[3]Tabulka!BB109","v":{"v":0,"d":"0.00"}},{"$f":"+[3]Tabulka!BC109","v":0},{"$f":"+[3]Tabulka!BD109","v":{"v":0,"d":"0.00"}},{"$f":"+[3]Tabulka!BE109","v":0},{"$f":"+[3]Tabulka!BF109","v":{"v":0,"d":"0.00"}},{"$f":"+[3]Tabulka!BG109","v":0},{"$f":"+[3]Tabulka!BH109","v":{"v":0,"d":"0.00"}},{"$f":"+[3]Tabulka!BI109","v":0},{"$f":"+[3]Tabulka!BJ109","v":{"v":0,"d":"0.00"}},{"$f":"+[3]Tabulka!AP109","v":{"v":61.184283113902914,"d":"61.18"}},{"$f":"+[3]Tabulka!AQ109","v":{"v":4,"d":"4.00"}},{"$f":"+[3]Tabulka!BM109","v":{"v":0,"d":"0.00"}},{"$f":"+[3]Tabulka!BN109","v":0},{"$f":"+[3]Tabulka!BO109","v":{"v":0,"d":"0.00"}}]
[null,{"$f":"[3]Tabulka!C110","v":"DANIŠKO"},{"$f":"[3]Tabulka!D110","v":"Daniel"},{"$f":"[3]Tabulka!E110","v":"1998-11-13"},{"$f":"[3]Tabulka!F110","v":"Nový Jičín- TJ"},{"$f":"[3]Tabulka!G110","v":"NJ"},{"$f":"[3]Tabulka!H110","v":100},{"$f":"+[3]Tabulka!AU110","v":0},{"$f":"+[3]Tabulka!AV110","v":{"v":0,"d":"0.00"}},{"$f":"+[3]Tabulka!AW110","v":0},{"$f":"+[3]Tabulka!AX110","v":{"v":0,"d":"0.00"}},{"$f":"+[3]Tabulka!AY110","v":0},{"$f":"+[3]Tabulka!AZ110","v":{"v":0,"d":"0.00"}},{"$f":"+[3]Tabulka!BA110","v":0},{"$f":"+[3]Tabulka!BB110","v":{"v":0,"d":"0.00"}},{"$f":"+[3]Tabulka!BC110","v":0},{"$f":"+[3]Tabulka!BD110","v":{"v":0,"d":"0.00"}},{"$f":"+[3]Tabulka!BE110","v":0},{"$f":"+[3]Tabulka!BF110","v":{"v":0,"d":"0.00"}},{"$f":"+[3]Tabulka!BG110","v":0},{"$f":"+[3]Tabulka!BH110","v":{"v":0,"d":"0.00"}},{"$f":"+[3]Tabulka!BI110","v":0},{"$f":"+[3]Tabulka!BJ110","v":{"v":0,"d":"0.00"}},{"$f":"+[3]Tabulka!AP110","v":{"v":0.9586618157672916,"d":"0.96"}},{"$f":"+[3]Tabulka!AQ110","v":{"v":2,"d":"2.00"}},{"$f":"+[3]Tabulka!BM110","v":{"v":0,"d":"0.00"}},{"$f":"+[3]Tabulka!BN110","v":0},{"$f":"+[3]Tabulka!BO110","v":{"v":0,"d":"0.00"}}]
[null,{"$f":"[3]Tabulka!C111","v":"DAŇOVÁ"},{"$f":"[3]Tabulka!D111","v":"Andrea"},{"$f":"[3]Tabulka!E111","v":"1997-03-28"},{"$f":"[3]Tabulka!F111","v":"Frýdlant nad Ostravicí- SK"},{"$f":"[3]Tabulka!G111","v":"FM"},{"$f":"[3]Tabulka!H111","v":100},{"$f":"+[3]Tabulka!AU111","v":0},{"$f":"+[3]Tabulka!AV111","v":{"v":0,"d":"0.00"}},{"$f":"+[3]Tabulka!AW111","v":0},{"$f":"+[3]Tabulka!AX111","v":{"v":0,"d":"0.00"}},{"$f":"+[3]Tabulka!AY111","v":0},{"$f":"+[3]Tabulka!AZ111","v":{"v":0,"d":"0.00"}},{"$f":"+[3]Tabulka!BA111","v":0},{"$f":"+[3]Tabulka!BB111","v":{"v":0,"d":"0.00"}},{"$f":"+[3]Tabulka!BC111","v":0},{"$f":"+[3]Tabulka!BD111","v":{"v":0,"d":"0.00"}},{"$f":"+[3]Tabulka!BE111","v":0},{"$f":"+[3]Tabulka!BF111","v":{"v":0,"d":"0.00"}},{"$f":"+[3]Tabulka!BG111","v":0},{"$f":"+[3]Tabulka!BH111","v":{"v":0,"d":"0.00"}},{"$f":"+[3]Tabulka!BI111","v":0},{"$f":"+[3]Tabulka!BJ111","v":{"v":0,"d":"0.00"}},{"$f":"+[3]Tabulka!AP111","v":{"v":10.351769161646732,"d":"10.35"}},{"$f":"+[3]Tabulka!AQ111","v":{"v":3,"d":"3.00"}},{"$f":"+[3]Tabulka!BM111","v":{"v":0,"d":"0.00"}},{"$f":"+[3]Tabulka!BN111","v":0},{"$f":"+[3]Tabulka!BO111","v":{"v":0,"d":"0.00"}}]
[null,{"$f":"[3]Tabulka!C112","v":"DAŇOVÁ"},{"$f":"[3]Tabulka!D112","v":"Barbora"},{"$f":"[3]Tabulka!E112","v":"1999-05-19"},{"$f":"[3]Tabulka!F112","v":"Frýdlant nad Ostravicí- SK"},{"$f":"[3]Tabulka!G112","v":"FM"},{"$f":"[3]Tabulka!H112","v":100},{"$f":"+[3]Tabulka!AU112","v":0},{"$f":"+[3]Tabulka!AV112","v":{"v":0,"d":"0.00"}},{"$f":"+[3]Tabulka!AW112","v":0},{"$f":"+[3]Tabulka!AX112","v":{"v":0,"d":"0.00"}},{"$f":"+[3]Tabulka!AY112","v":0},{"$f":"+[3]Tabulka!AZ112","v":{"v":0,"d":"0.00"}},{"$f":"+[3]Tabulka!BA112","v":0},{"$f":"+[3]Tabulka!BB112","v":{"v":0,"d":"0.00"}},{"$f":"+[3]Tabulka!BC112","v":0},{"$f":"+[3]Tabulka!BD112","v":{"v":0,"d":"0.00"}},{"$f":"+[3]Tabulka!BE112","v":0},{"$f":"+[3]Tabulka!BF112","v":{"v":0,"d":"0.00"}},{"$f":"+[3]Tabulka!BG112","v":0},{"$f":"+[3]Tabulka!BH112","v":{"v":0,"d":"0.00"}},{"$f":"+[3]Tabulka!BI112","v":0},{"$f":"+[3]Tabulka!BJ112","v":{"v":0,"d":"0.00"}},{"$f":"+[3]Tabulka!AP112","v":{"v":10.233571253904767,"d":"10.23"}},{"$f":"+[3]Tabulka!AQ112","v":{"v":3,"d":"3.00"}},{"$f":"+[3]Tabulka!BM112","v":{"v":0,"d":"0.00"}},{"$f":"+[3]Tabulka!BN112","v":0},{"$f":"+[3]Tabulka!BO112","v":{"v":0,"d":"0.00"}}]
[null,{"$f":"[3]Tabulka!C113","v":"DEBRECKI"},{"$f":"[3]Tabulka!D113","v":"Patrik"},{"$f":"[3]Tabulka!E113","v":"1998-01-01"},{"$f":"[3]Tabulka!F113","v":"Karviná- KLUBsten KST"},{"$f":"[3]Tabulka!G113","v":"KA"},{"$f":"[3]Tabulka!H113","v":0},{"$f":"+[3]Tabulka!AU113","v":0},{"$f":"+[3]Tabulka!AV113","v":{"v":0,"d":"0.00"}},{"$f":"+[3]Tabulka!AW113","v":0},{"$f":"+[3]Tabulka!AX113","v":{"v":0,"d":"0.00"}},{"$f":"+[3]Tabulka!AY113","v":0},{"$f":"+[3]Tabulka!AZ113","v":{"v":0,"d":"0.00"}},{"$f":"+[3]Tabulka!BA113","v":0},{"$f":"+[3]Tabulka!BB113","v":{"v":0,"d":"0.00"}},{"$f":"+[3]Tabulka!BC113","v":0},{"$f":"+[3]Tabulka!BD113","v":{"v":0,"d":"0.00"}},{"$f":"+[3]Tabulka!BE113","v":0},{"$f":"+[3]Tabulka!BF113","v":{"v":0,"d":"0.00"}},{"$f":"+[3]Tabulka!BG113","v":0},{"$f":"+[3]Tabulka!BH113","v":{"v":0,"d":"0.00"}},{"$f":"+[3]Tabulka!BI113","v":0},{"$f":"+[3]Tabulka!BJ113","v":{"v":0,"d":"0.00"}},{"$f":"+[3]Tabulka!AP113","v":{"v":0.08059656594137429,"d":"0.08"}},{"$f":"+[3]Tabulka!AQ113","v":{"v":1,"d":"1.00"}},{"$f":"+[3]Tabulka!BM113","v":{"v":0,"d":"0.00"}},{"$f":"+[3]Tabulka!BN113","v":0},{"$f":"+[3]Tabulka!BO113","v":{"v":0,"d":"0.00"}}]
[null,{"$f":"[3]Tabulka!C114","v":"DOHNAL"},{"$f":"[3]Tabulka!D114","v":"Patrik"},{"$f":"[3]Tabulka!E114","v":"1998-05-16"},{"$f":"[3]Tabulka!F114","v":"Fulnel- TJ"},{"$f":"[3]Tabulka!G114","v":"NJ"},{"$f":"[3]Tabulka!H114","v":100},{"$f":"+[3]Tabulka!AU114","v":0},{"$f":"+[3]Tabulka!AV114","v":{"v":0,"d":"0.00"}},{"$f":"+[3]Tabulka!AW114","v":0},{"$f":"+[3]Tabulka!AX114","v":{"v":0,"d":"0.00"}},{"$f":"+[3]Tabulka!AY114","v":0},{"$f":"+[3]Tabulka!AZ114","v":{"v":0,"d":"0.00"}},{"$f":"+[3]Tabulka!BA114","v":0},{"$f":"+[3]Tabulka!BB114","v":{"v":0,"d":"0.00"}},{"$f":"+[3]Tabulka!BC114","v":0},{"$f":"+[3]Tabulka!BD114","v":{"v":0,"d":"0.00"}},{"$f":"+[3]Tabulka!BE114","v":0},{"$f":"+[3]Tabulka!BF114","v":{"v":0,"d":"0.00"}},{"$f":"+[3]Tabulka!BG114","v":0},{"$f":"+[3]Tabulka!BH114","v":{"v":0,"d":"0.00"}},{"$f":"+[3]Tabulka!BI114","v":0},{"$f":"+[3]Tabulka!BJ114","v":{"v":0,"d":"0.00"}},{"$f":"+[3]Tabulka!AP114","v":{"v":8.509955616422136,"d":"8.51"}},{"$f":"+[3]Tabulka!AQ114","v":{"v":2,"d":"2.00"}},{"$f":"+[3]Tabulka!BM114","v":{"v":0,"d":"0.00"}},{"$f":"+[3]Tabulka!BN114","v":0},{"$f":"+[3]Tabulka!BO114","v":{"v":0,"d":"0.00"}}]
[null,{"$f":"[3]Tabulka!C115","v":"DOLEŽAL"},{"$f":"[3]Tabulka!D115","v":"Adam"},{"$f":"[3]Tabulka!E115","v":"1998-01-01"},{"$f":"[3]Tabulka!F115","v":"Vratimov- MG Odra Gas TTC"},{"$f":"[3]Tabulka!G115","v":"OV"},{"$f":"[3]Tabulka!H115","v":0},{"$f":"+[3]Tabulka!AU115","v":0},{"$f":"+[3]Tabulka!AV115","v":{"v":0,"d":"0.00"}},{"$f":"+[3]Tabulka!AW115","v":0},{"$f":"+[3]Tabulka!AX115","v":{"v":0,"d":"0.00"}},{"$f":"+[3]Tabulka!AY115","v":0},{"$f":"+[3]Tabulka!AZ115","v":{"v":0,"d":"0.00"}},{"$f":"+[3]Tabulka!BA115","v":0},{"$f":"+[3]Tabulka!BB115","v":{"v":0,"d":"0.00"}},{"$f":"+[3]Tabulka!BC115","v":0},{"$f":"+[3]Tabulka!BD115","v":{"v":0,"d":"0.00"}},{"$f":"+[3]Tabulka!BE115","v":0},{"$f":"+[3]Tabulka!BF115","v":{"v":0,"d":"0.00"}},{"$f":"+[3]Tabulka!BG115","v":0},{"$f":"+[3]Tabulka!BH115","v":{"v":0,"d":"0.00"}},{"$f":"+[3]Tabulka!BI115","v":0},{"$f":"+[3]Tabulka!BJ115","v":{"v":0,"d":"0.00"}},{"$f":"+[3]Tabulka!AP115","v":{"v":0,"d":"0.00"}},{"$f":"+[3]Tabulka!AQ115","v":{"v":0,"d":"0.00"}},{"$f":"+[3]Tabulka!BM115","v":{"v":0,"d":"0.00"}},{"$f":"+[3]Tabulka!BN115","v":0},{"$f":"+[3]Tabulka!BO115","v":{"v":0,"d":"0.00"}}]
[null,{"$f":"[3]Tabulka!C116","v":"DUDYS"},{"$f":"[3]Tabulka!D116","v":"Dominik"},{"$f":"[3]Tabulka!E116","v":"2001-09-28"},{"$f":"[3]Tabulka!F116","v":"Třinec- TŽ TJ"},{"$f":"[3]Tabulka!G116","v":"FM"},{"$f":"[3]Tabulka!H116","v":100},{"$f":"+[3]Tabulka!AU116","v":0},{"$f":"+[3]Tabulka!AV116","v":{"v":0,"d":"0.00"}},{"$f":"+[3]Tabulka!AW116","v":0},{"$f":"+[3]Tabulka!AX116","v":{"v":0,"d":"0.00"}},{"$f":"+[3]Tabulka!AY116","v":0},{"$f":"+[3]Tabulka!AZ116","v":{"v":0,"d":"0.00"}},{"$f":"+[3]Tabulka!BA116","v":0},{"$f":"+[3]Tabulka!BB116","v":{"v":0,"d":"0.00"}},{"$f":"+[3]Tabulka!BC116","v":0},{"$f":"+[3]Tabulka!BD116","v":{"v":0,"d":"0.00"}},{"$f":"+[3]Tabulka!BE116","v":0},{"$f":"+[3]Tabulka!BF116","v":{"v":0,"d":"0.00"}},{"$f":"+[3]Tabulka!BG116","v":0},{"$f":"+[3]Tabulka!BH116","v":{"v":0,"d":"0.00"}},{"$f":"+[3]Tabulka!BI116","v":0},{"$f":"+[3]Tabulka!BJ116","v":{"v":0,"d":"0.00"}},{"$f":"+[3]Tabulka!AP116","v":{"v":0,"d":"0.00"}},{"$f":"+[3]Tabulka!AQ116","v":{"v":0,"d":"0.00"}},{"$f":"+[3]Tabulka!BM116","v":{"v":0,"d":"0.00"}},{"$f":"+[3]Tabulka!BN116","v":0},{"$f":"+[3]Tabulka!BO116","v":{"v":0,"d":"0.00"}}]
[null,{"$f":"[3]Tabulka!C117","v":"DUFEK"},{"$f":"[3]Tabulka!D117","v":"Michal"},{"$f":"[3]Tabulka!E117","v":"2002-01-01"},{"$f":"[3]Tabulka!F117","v":"Frenštát pod Radhoštěm- TJ"},{"$f":"[3]Tabulka!G117","v":"NJ"},{"$f":"[3]Tabulka!H117","v":100},{"$f":"+[3]Tabulka!AU117","v":0},{"$f":"+[3]Tabulka!AV117","v":{"v":0,"d":"0.00"}},{"$f":"+[3]Tabulka!AW117","v":0},{"$f":"+[3]Tabulka!AX117","v":{"v":0,"d":"0.00"}},{"$f":"+[3]Tabulka!AY117","v":0},{"$f":"+[3]Tabulka!AZ117","v":{"v":0,"d":"0.00"}},{"$f":"+[3]Tabulka!BA117","v":0},{"$f":"+[3]Tabulka!BB117","v":{"v":0,"d":"0.00"}},{"$f":"+[3]Tabulka!BC117","v":0},{"$f":"+[3]Tabulka!BD117","v":{"v":0,"d":"0.00"}},{"$f":"+[3]Tabulka!BE117","v":0},{"$f":"+[3]Tabulka!BF117","v":{"v":0,"d":"0.00"}},{"$f":"+[3]Tabulka!BG117","v":0},{"$f":"+[3]Tabulka!BH117","v":{"v":0,"d":"0.00"}},{"$f":"+[3]Tabulka!BI117","v":0},{"$f":"+[3]Tabulka!BJ117","v":{"v":0,"d":"0.00"}},{"$f":"+[3]Tabulka!AP117","v":{"v":1.0006611097268048,"d":"1.00"}},{"$f":"+[3]Tabulka!AQ117","v":{"v":2,"d":"2.00"}},{"$f":"+[3]Tabulka!BM117","v":{"v":0,"d":"0.00"}},{"$f":"+[3]Tabulka!BN117","v":0},{"$f":"+[3]Tabulka!BO117","v":{"v":0,"d":"0.00"}}]
[null,{"$f":"[3]Tabulka!C118","v":"DVORSKÝ"},{"$f":"[3]Tabulka!D118","v":"Štěpán"},{"$f":"[3]Tabulka!E118","v":"2000-05-04"},{"$f":"[3]Tabulka!F118","v":"Frýdlant nad Ostravicí- SK"},{"$f":"[3]Tabulka!G118","v":"FM"},{"$f":"[3]Tabulka!H118","v":100},{"$f":"+[3]Tabulka!AU118","v":0},{"$f":"+[3]Tabulka!AV118","v":{"v":0,"d":"0.00"}},{"$f":"+[3]Tabulka!AW118","v":0},{"$f":"+[3]Tabulka!AX118","v":{"v":0,"d":"0.00"}},{"$f":"+[3]Tabulka!AY118","v":0},{"$f":"+[3]Tabulka!AZ118","v":{"v":0,"d":"0.00"}},{"$f":"+[3]Tabulka!BA118","v":0},{"$f":"+[3]Tabulka!BB118","v":{"v":0,"d":"0.00"}},{"$f":"+[3]Tabulka!BC118","v":0},{"$f":"+[3]Tabulka!BD118","v":{"v":0,"d":"0.00"}},{"$f":"+[3]Tabulka!BE118","v":0},{"$f":"+[3]Tabulka!BF118","v":{"v":0,"d":"0.00"}},{"$f":"+[3]Tabulka!BG118","v":0},{"$f":"+[3]Tabulka!BH118","v":{"v":0,"d":"0.00"}},{"$f":"+[3]Tabulka!BI118","v":0},{"$f":"+[3]Tabulka!BJ118","v":{"v":0,"d":"0.00"}},{"$f":"+[3]Tabulka!AP118","v":{"v":0,"d":"0.00"}},{"$f":"+[3]Tabulka!AQ118","v":{"v":0,"d":"0.00"}},{"$f":"+[3]Tabulka!BM118","v":{"v":0,"d":"0.00"}},{"$f":"+[3]Tabulka!BN118","v":0},{"$f":"+[3]Tabulka!BO118","v":{"v":0,"d":"0.00"}}]
[null,{"$f":"[3]Tabulka!C119","v":"DZIDA"},{"$f":"[3]Tabulka!D119","v":"Martin"},{"$f":"[3]Tabulka!E119","v":"2001-06-14"},{"$f":"[3]Tabulka!F119","v":"Opava- KST Slezan "},{"$f":"[3]Tabulka!G119","v":"OP"},{"$f":"[3]Tabulka!H119","v":100},{"$f":"+[3]Tabulka!AU119","v":0},{"$f":"+[3]Tabulka!AV119","v":{"v":0,"d":"0.00"}},{"$f":"+[3]Tabulka!AW119","v":0},{"$f":"+[3]Tabulka!AX119","v":{"v":0,"d":"0.00"}},{"$f":"+[3]Tabulka!AY119","v":0},{"$f":"+[3]Tabulka!AZ119","v":{"v":0,"d":"0.00"}},{"$f":"+[3]Tabulka!BA119","v":0},{"$f":"+[3]Tabulka!BB119","v":{"v":0,"d":"0.00"}},{"$f":"+[3]Tabulka!BC119","v":0},{"$f":"+[3]Tabulka!BD119","v":{"v":0,"d":"0.00"}},{"$f":"+[3]Tabulka!BE119","v":0},{"$f":"+[3]Tabulka!BF119","v":{"v":0,"d":"0.00"}},{"$f":"+[3]Tabulka!BG119","v":0},{"$f":"+[3]Tabulka!BH119","v":{"v":0,"d":"0.00"}},{"$f":"+[3]Tabulka!BI119","v":0},{"$f":"+[3]Tabulka!BJ119","v":{"v":0,"d":"0.00"}},{"$f":"+[3]Tabulka!AP119","v":{"v":6.01958084662256,"d":"6.02"}},{"$f":"+[3]Tabulka!AQ119","v":{"v":3,"d":"3.00"}},{"$f":"+[3]Tabulka!BM119","v":{"v":0,"d":"0.00"}},{"$f":"+[3]Tabulka!BN119","v":0},{"$f":"+[3]Tabulka!BO119","v":{"v":0,"d":"0.00"}}]
[null,{"$f":"[3]Tabulka!C120","v":"FAJKUS"},{"$f":"[3]Tabulka!D120","v":"Filip"},{"$f":"[3]Tabulka!E120","v":"1999-07-12"},{"$f":"[3]Tabulka!F120","v":"Frýdlant nad Ostravicí- SK"},{"$f":"[3]Tabulka!G120","v":"FM"},{"$f":"[3]Tabulka!H120","v":100},{"$f":"+[3]Tabulka!AU120","v":0},{"$f":"+[3]Tabulka!AV120","v":{"v":0,"d":"0.00"}},{"$f":"+[3]Tabulka!AW120","v":0},{"$f":"+[3]Tabulka!AX120","v":{"v":0,"d":"0.00"}},{"$f":"+[3]Tabulka!AY120","v":0},{"$f":"+[3]Tabulka!AZ120","v":{"v":0,"d":"0.00"}},{"$f":"+[3]Tabulka!BA120","v":0},{"$f":"+[3]Tabulka!BB120","v":{"v":0,"d":"0.00"}},{"$f":"+[3]Tabulka!BC120","v":0},{"$f":"+[3]Tabulka!BD120","v":{"v":0,"d":"0.00"}},{"$f":"+[3]Tabulka!BE120","v":0},{"$f":"+[3]Tabulka!BF120","v":{"v":0,"d":"0.00"}},{"$f":"+[3]Tabulka!BG120","v":0},{"$f":"+[3]Tabulka!BH120","v":{"v":0,"d":"0.00"}},{"$f":"+[3]Tabulka!BI120","v":0},{"$f":"+[3]Tabulka!BJ120","v":{"v":0,"d":"0.00"}},{"$f":"+[3]Tabulka!AP120","v":{"v":0,"d":"0.00"}},{"$f":"+[3]Tabulka!AQ120","v":{"v":0,"d":"0.00"}},{"$f":"+[3]Tabulka!BM120","v":{"v":0,"d":"0.00"}},{"$f":"+[3]Tabulka!BN120","v":0},{"$f":"+[3]Tabulka!BO120","v":{"v":0,"d":"0.00"}}]
[null,{"$f":"[3]Tabulka!C121","v":"FEŠAR"},{"$f":"[3]Tabulka!D121","v":"Tom "},{"$f":"[3]Tabulka!E121","v":"1999-09-09"},{"$f":"[3]Tabulka!F121","v":"Frenštát pod Radhoštěm- TJ"},{"$f":"[3]Tabulka!G121","v":"NJ"},{"$f":"[3]Tabulka!H121","v":100},{"$f":"+[3]Tabulka!AU121","v":0},{"$f":"+[3]Tabulka!AV121","v":{"v":0,"d":"0.00"}},{"$f":"+[3]Tabulka!AW121","v":0},{"$f":"+[3]Tabulka!AX121","v":{"v":0,"d":"0.00"}},{"$f":"+[3]Tabulka!AY121","v":0},{"$f":"+[3]Tabulka!AZ121","v":{"v":0,"d":"0.00"}},{"$f":"+[3]Tabulka!BA121","v":0},{"$f":"+[3]Tabulka!BB121","v":{"v":0,"d":"0.00"}},{"$f":"+[3]Tabulka!BC121","v":0},{"$f":"+[3]Tabulka!BD121","v":{"v":0,"d":"0.00"}},{"$f":"+[3]Tabulka!BE121","v":0},{"$f":"+[3]Tabulka!BF121","v":{"v":0,"d":"0.00"}},{"$f":"+[3]Tabulka!BG121","v":0},{"$f":"+[3]Tabulka!BH121","v":{"v":0,"d":"0.00"}},{"$f":"+[3]Tabulka!BI121","v":0},{"$f":"+[3]Tabulka!BJ121","v":{"v":0,"d":"0.00"}},{"$f":"+[3]Tabulka!AP121","v":{"v":9.176754081708646,"d":"9.18"}},{"$f":"+[3]Tabulka!AQ121","v":{"v":4,"d":"4.00"}},{"$f":"+[3]Tabulka!BM121","v":{"v":0,"d":"0.00"}},{"$f":"+[3]Tabulka!BN121","v":0},{"$f":"+[3]Tabulka!BO121","v":{"v":0,"d":"0.00"}}]
[null,{"$f":"[3]Tabulka!C122","v":"FRIEDEL"},{"$f":"[3]Tabulka!D122","v":"Petr"},{"$f":"[3]Tabulka!E122","v":"1999-09-06"},{"$f":"[3]Tabulka!F122","v":"Karviná- KLUBsten KST"},{"$f":"[3]Tabulka!G122","v":"KA"},{"$f":"[3]Tabulka!H122","v":100},{"$f":"+[3]Tabulka!AU122","v":0},{"$f":"+[3]Tabulka!AV122","v":{"v":0,"d":"0.00"}},{"$f":"+[3]Tabulka!AW122","v":0},{"$f":"+[3]Tabulka!AX122","v":{"v":0,"d":"0.00"}},{"$f":"+[3]Tabulka!AY122","v":0},{"$f":"+[3]Tabulka!AZ122","v":{"v":0,"d":"0.00"}},{"$f":"+[3]Tabulka!BA122","v":0},{"$f":"+[3]Tabulka!BB122","v":{"v":0,"d":"0.00"}},{"$f":"+[3]Tabulka!BC122","v":0},{"$f":"+[3]Tabulka!BD122","v":{"v":0,"d":"0.00"}},{"$f":"+[3]Tabulka!BE122","v":0},{"$f":"+[3]Tabulka!BF122","v":{"v":0,"d":"0.00"}},{"$f":"+[3]Tabulka!BG122","v":0},{"$f":"+[3]Tabulka!BH122","v":{"v":0,"d":"0.00"}},{"$f":"+[3]Tabulka!BI122","v":0},{"$f":"+[3]Tabulka!BJ122","v":{"v":0,"d":"0.00"}},{"$f":"+[3]Tabulka!AP122","v":{"v":3.9771151791057706,"d":"3.98"}},{"$f":"+[3]Tabulka!AQ122","v":{"v":2,"d":"2.00"}},{"$f":"+[3]Tabulka!BM122","v":{"v":0,"d":"0.00"}},{"$f":"+[3]Tabulka!BN122","v":0},{"$f":"+[3]Tabulka!BO122","v":{"v":0,"d":"0.00"}}]
[null,{"$f":"[3]Tabulka!C123","v":"GLOS"},{"$f":"[3]Tabulka!D123","v":"Michal"},{"$f":"[3]Tabulka!E123","v":"1999-06-08"},{"$f":"[3]Tabulka!F123","v":"Třinec- TŽ TJ"},{"$f":"[3]Tabulka!G123","v":"FM"},{"$f":"[3]Tabulka!H123","v":100},{"$f":"+[3]Tabulka!AU123","v":0},{"$f":"+[3]Tabulka!AV123","v":{"v":0,"d":"0.00"}},{"$f":"+[3]Tabulka!AW123","v":0},{"$f":"+[3]Tabulka!AX123","v":{"v":0,"d":"0.00"}},{"$f":"+[3]Tabulka!AY123","v":0},{"$f":"+[3]Tabulka!AZ123","v":{"v":0,"d":"0.00"}},{"$f":"+[3]Tabulka!BA123","v":0},{"$f":"+[3]Tabulka!BB123","v":{"v":0,"d":"0.00"}},{"$f":"+[3]Tabulka!BC123","v":0},{"$f":"+[3]Tabulka!BD123","v":{"v":0,"d":"0.00"}},{"$f":"+[3]Tabulka!BE123","v":0},{"$f":"+[3]Tabulka!BF123","v":{"v":0,"d":"0.00"}},{"$f":"+[3]Tabulka!BG123","v":0},{"$f":"+[3]Tabulka!BH123","v":{"v":0,"d":"0.00"}},{"$f":"+[3]Tabulka!BI123","v":0},{"$f":"+[3]Tabulka!BJ123","v":{"v":0,"d":"0.00"}},{"$f":"+[3]Tabulka!AP123","v":{"v":46.24099875044382,"d":"46.24"}},{"$f":"+[3]Tabulka!AQ123","v":{"v":3,"d":"3.00"}},{"$f":"+[3]Tabulka!BM123","v":{"v":0,"d":"0.00"}},{"$f":"+[3]Tabulka!BN123","v":0},{"$f":"+[3]Tabulka!BO123","v":{"v":0,"d":"0.00"}}]
[null,{"$f":"[3]Tabulka!C124","v":"GOLASOWSKI"},{"$f":"[3]Tabulka!D124","v":"Tomáš"},{"$f":"[3]Tabulka!E124","v":"1997-06-24"},{"$f":"[3]Tabulka!F124","v":"Karviná- KLUBsten KST"},{"$f":"[3]Tabulka!G124","v":"KA"},{"$f":"[3]Tabulka!H124","v":100},{"$f":"+[3]Tabulka!AU124","v":0},{"$f":"+[3]Tabulka!AV124","v":{"v":0,"d":"0.00"}},{"$f":"+[3]Tabulka!AW124","v":0},{"$f":"+[3]Tabulka!AX124","v":{"v":0,"d":"0.00"}},{"$f":"+[3]Tabulka!AY124","v":0},{"$f":"+[3]Tabulka!AZ124","v":{"v":0,"d":"0.00"}},{"$f":"+[3]Tabulka!BA124","v":0},{"$f":"+[3]Tabulka!BB124","v":{"v":0,"d":"0.00"}},{"$f":"+[3]Tabulka!BC124","v":0},{"$f":"+[3]Tabulka!BD124","v":{"v":0,"d":"0.00"}},{"$f":"+[3]Tabulka!BE124","v":0},{"$f":"+[3]Tabulka!BF124","v":{"v":0,"d":"0.00"}},{"$f":"+[3]Tabulka!BG124","v":0},{"$f":"+[3]Tabulka!BH124","v":{"v":0,"d":"0.00"}},{"$f":"+[3]Tabulka!BI124","v":0},{"$f":"+[3]Tabulka!BJ124","v":{"v":0,"d":"0.00"}},{"$f":"+[3]Tabulka!AP124","v":{"v":0,"d":"0.00"}},{"$f":"+[3]Tabulka!AQ124","v":{"v":0,"d":"0.00"}},{"$f":"+[3]Tabulka!BM124","v":{"v":0,"d":"0.00"}},{"$f":"+[3]Tabulka!BN124","v":0},{"$f":"+[3]Tabulka!BO124","v":{"v":0,"d":"0.00"}}]
[null,{"$f":"[3]Tabulka!C125","v":"HAJDUČEK"},{"$f":"[3]Tabulka!D125","v":"Jan"},{"$f":"[3]Tabulka!E125","v":"1997-03-07"},{"$f":"[3]Tabulka!F125","v":"Hať- TTC"},{"$f":"[3]Tabulka!G125","v":"OP"},{"$f":"[3]Tabulka!H125","v":100},{"$f":"+[3]Tabulka!AU125","v":0},{"$f":"+[3]Tabulka!AV125","v":{"v":0,"d":"0.00"}},{"$f":"+[3]Tabulka!AW125","v":0},{"$f":"+[3]Tabulka!AX125","v":{"v":0,"d":"0.00"}},{"$f":"+[3]Tabulka!AY125","v":0},{"$f":"+[3]Tabulka!AZ125","v":{"v":0,"d":"0.00"}},{"$f":"+[3]Tabulka!BA125","v":0},{"$f":"+[3]Tabulka!BB125","v":{"v":0,"d":"0.00"}},{"$f":"+[3]Tabulka!BC125","v":0},{"$f":"+[3]Tabulka!BD125","v":{"v":0,"d":"0.00"}},{"$f":"+[3]Tabulka!BE125","v":0},{"$f":"+[3]Tabulka!BF125","v":{"v":0,"d":"0.00"}},{"$f":"+[3]Tabulka!BG125","v":0},{"$f":"+[3]Tabulka!BH125","v":{"v":0,"d":"0.00"}},{"$f":"+[3]Tabulka!BI125","v":0},{"$f":"+[3]Tabulka!BJ125","v":{"v":0,"d":"0.00"}},{"$f":"+[3]Tabulka!AP125","v":{"v":0,"d":"0.00"}},{"$f":"+[3]Tabulka!AQ125","v":{"v":0,"d":"0.00"}},{"$f":"+[3]Tabulka!BM125","v":{"v":0,"d":"0.00"}},{"$f":"+[3]Tabulka!BN125","v":0},{"$f":"+[3]Tabulka!BO125","v":{"v":0,"d":"0.00"}}]
[null,{"$f":"[3]Tabulka!C126","v":"HALTOF"},{"$f":"[3]Tabulka!D126","v":"René"},{"$f":"[3]Tabulka!E126","v":"1900-01-01"},{"$f":"[3]Tabulka!F126","v":"Vítkov- Gymnázium"},{"$f":"[3]Tabulka!G126","v":"OP"},{"$f":"[3]Tabulka!H126","v":0},{"$f":"+[3]Tabulka!AU126","v":0},{"$f":"+[3]Tabulka!AV126","v":{"v":0,"d":"0.00"}},{"$f":"+[3]Tabulka!AW126","v":0},{"$f":"+[3]Tabulka!AX126","v":{"v":0,"d":"0.00"}},{"$f":"+[3]Tabulka!AY126","v":0},{"$f":"+[3]Tabulka!AZ126","v":{"v":0,"d":"0.00"}},{"$f":"+[3]Tabulka!BA126","v":0},{"$f":"+[3]Tabulka!BB126","v":{"v":0,"d":"0.00"}},{"$f":"+[3]Tabulka!BC126","v":0},{"$f":"+[3]Tabulka!BD126","v":{"v":0,"d":"0.00"}},{"$f":"+[3]Tabulka!BE126","v":0},{"$f":"+[3]Tabulka!BF126","v":{"v":0,"d":"0.00"}},{"$f":"+[3]Tabulka!BG126","v":0},{"$f":"+[3]Tabulka!BH126","v":{"v":0,"d":"0.00"}},{"$f":"+[3]Tabulka!BI126","v":0},{"$f":"+[3]Tabulka!BJ126","v":{"v":0,"d":"0.00"}},{"$f":"+[3]Tabulka!AP126","v":{"v":0,"d":"0.00"}},{"$f":"+[3]Tabulka!AQ126","v":{"v":0,"d":"0.00"}},{"$f":"+[3]Tabulka!BM126","v":{"v":0,"d":"0.00"}},{"$f":"+[3]Tabulka!BN126","v":0},{"$f":"+[3]Tabulka!BO126","v":{"v":0,"d":"0.00"}}]
[null,{"$f":"[3]Tabulka!C127","v":"HANÁK"},{"$f":"[3]Tabulka!D127","v":"Vojtěch"},{"$f":"[3]Tabulka!E127","v":"2000-03-08"},{"$f":"[3]Tabulka!F127","v":"Havířov- Baník SKST"},{"$f":"[3]Tabulka!G127","v":"KA"},{"$f":"[3]Tabulka!H127","v":100},{"$f":"+[3]Tabulka!AU127","v":0},{"$f":"+[3]Tabulka!AV127","v":{"v":0,"d":"0.00"}},{"$f":"+[3]Tabulka!AW127","v":0},{"$f":"+[3]Tabulka!AX127","v":{"v":0,"d":"0.00"}},{"$f":"+[3]Tabulka!AY127","v":0},{"$f":"+[3]Tabulka!AZ127","v":{"v":0,"d":"0.00"}},{"$f":"+[3]Tabulka!BA127","v":0},{"$f":"+[3]Tabulka!BB127","v":{"v":0,"d":"0.00"}},{"$f":"+[3]Tabulka!BC127","v":0},{"$f":"+[3]Tabulka!BD127","v":{"v":0,"d":"0.00"}},{"$f":"+[3]Tabulka!BE127","v":0},{"$f":"+[3]Tabulka!BF127","v":{"v":0,"d":"0.00"}},{"$f":"+[3]Tabulka!BG127","v":0},{"$f":"+[3]Tabulka!BH127","v":{"v":0,"d":"0.00"}},{"$f":"+[3]Tabulka!BI127","v":0},{"$f":"+[3]Tabulka!BJ127","v":{"v":0,"d":"0.00"}},{"$f":"+[3]Tabulka!AP127","v":{"v":1.1418567631900574,"d":"1.14"}},{"$f":"+[3]Tabulka!AQ127","v":{"v":2,"d":"2.00"}},{"$f":"+[3]Tabulka!BM127","v":{"v":0,"d":"0.00"}},{"$f":"+[3]Tabulka!BN127","v":0},{"$f":"+[3]Tabulka!BO127","v":{"v":0,"d":"0.00"}}]
[null,{"$f":"[3]Tabulka!C128","v":"HEREC"},{"$f":"[3]Tabulka!D128","v":"Lukáš"},{"$f":"[3]Tabulka!E128","v":"2000-02-24"},{"$f":"[3]Tabulka!F128","v":"Malenovice- BSK"},{"$f":"[3]Tabulka!G128","v":"FM"},{"$f":"[3]Tabulka!H128","v":100},{"$f":"+[3]Tabulka!AU128","v":0},{"$f":"+[3]Tabulka!AV128","v":{"v":0,"d":"0.00"}},{"$f":"+[3]Tabulka!AW128","v":0},{"$f":"+[3]Tabulka!AX128","v":{"v":0,"d":"0.00"}},{"$f":"+[3]Tabulka!AY128","v":0},{"$f":"+[3]Tabulka!AZ128","v":{"v":0,"d":"0.00"}},{"$f":"+[3]Tabulka!BA128","v":0},{"$f":"+[3]Tabulka!BB128","v":{"v":0,"d":"0.00"}},{"$f":"+[3]Tabulka!BC128","v":0},{"$f":"+[3]Tabulka!BD128","v":{"v":0,"d":"0.00"}},{"$f":"+[3]Tabulka!BE128","v":0},{"$f":"+[3]Tabulka!BF128","v":{"v":0,"d":"0.00"}},{"$f":"+[3]Tabulka!BG128","v":0},{"$f":"+[3]Tabulka!BH128","v":{"v":0,"d":"0.00"}},{"$f":"+[3]Tabulka!BI128","v":0},{"$f":"+[3]Tabulka!BJ128","v":{"v":0,"d":"0.00"}},{"$f":"+[3]Tabulka!AP128","v":{"v":15.025732174641847,"d":"15.03"}},{"$f":"+[3]Tabulka!AQ128","v":{"v":3,"d":"3.00"}},{"$f":"+[3]Tabulka!BM128","v":{"v":0,"d":"0.00"}},{"$f":"+[3]Tabulka!BN128","v":0},{"$f":"+[3]Tabulka!BO128","v":{"v":0,"d":"0.00"}}]
[null,{"$f":"[3]Tabulka!C129","v":"HOLEČEK"},{"$f":"[3]Tabulka!D129","v":"Lukáš"},{"$f":"[3]Tabulka!E129","v":"2001-10-05"},{"$f":"[3]Tabulka!F129","v":"Frenštát pod Radhoštěm- TJ"},{"$f":"[3]Tabulka!G129","v":"NJ"},{"$f":"[3]Tabulka!H129","v":100},{"$f":"+[3]Tabulka!AU129","v":0},{"$f":"+[3]Tabulka!AV129","v":{"v":0,"d":"0.00"}},{"$f":"+[3]Tabulka!AW129","v":0},{"$f":"+[3]Tabulka!AX129","v":{"v":0,"d":"0.00"}},{"$f":"+[3]Tabulka!AY129","v":0},{"$f":"+[3]Tabulka!AZ129","v":{"v":0,"d":"0.00"}},{"$f":"+[3]Tabulka!BA129","v":0},{"$f":"+[3]Tabulka!BB129","v":{"v":0,"d":"0.00"}},{"$f":"+[3]Tabulka!BC129","v":0},{"$f":"+[3]Tabulka!BD129","v":{"v":0,"d":"0.00"}},{"$f":"+[3]Tabulka!BE129","v":0},{"$f":"+[3]Tabulka!BF129","v":{"v":0,"d":"0.00"}},{"$f":"+[3]Tabulka!BG129","v":0},{"$f":"+[3]Tabulka!BH129","v":{"v":0,"d":"0.00"}},{"$f":"+[3]Tabulka!BI129","v":0},{"$f":"+[3]Tabulka!BJ129","v":{"v":0,"d":"0.00"}},{"$f":"+[3]Tabulka!AP129","v":{"v":0.1724549499095345,"d":"0.17"}},{"$f":"+[3]Tabulka!AQ129","v":{"v":1,"d":"1.00"}},{"$f":"+[3]Tabulka!BM129","v":{"v":0,"d":"0.00"}},{"$f":"+[3]Tabulka!BN129","v":0},{"$f":"+[3]Tabulka!BO129","v":{"v":0,"d":"0.00"}}]
[null,{"$f":"[3]Tabulka!C130","v":"HOMOLA"},{"$f":"[3]Tabulka!D130","v":"Ondřej"},{"$f":"[3]Tabulka!E130","v":"1999-01-03"},{"$f":"[3]Tabulka!F130","v":"Brušperk- Sokol TJ"},{"$f":"[3]Tabulka!G130","v":"FM"},{"$f":"[3]Tabulka!H130","v":100},{"$f":"+[3]Tabulka!AU130","v":0},{"$f":"+[3]Tabulka!AV130","v":{"v":0,"d":"0.00"}},{"$f":"+[3]Tabulka!AW130","v":0},{"$f":"+[3]Tabulka!AX130","v":{"v":0,"d":"0.00"}},{"$f":"+[3]Tabulka!AY130","v":0},{"$f":"+[3]Tabulka!AZ130","v":{"v":0,"d":"0.00"}},{"$f":"+[3]Tabulka!BA130","v":0},{"$f":"+[3]Tabulka!BB130","v":{"v":0,"d":"0.00"}},{"$f":"+[3]Tabulka!BC130","v":0},{"$f":"+[3]Tabulka!BD130","v":{"v":0,"d":"0.00"}},{"$f":"+[3]Tabulka!BE130","v":0},{"$f":"+[3]Tabulka!BF130","v":{"v":0,"d":"0.00"}},{"$f":"+[3]Tabulka!BG130","v":0},{"$f":"+[3]Tabulka!BH130","v":{"v":0,"d":"0.00"}},{"$f":"+[3]Tabulka!BI130","v":0},{"$f":"+[3]Tabulka!BJ130","v":{"v":0,"d":"0.00"}},{"$f":"+[3]Tabulka!AP130","v":{"v":5.227931416026905,"d":"5.23"}},{"$f":"+[3]Tabulka!AQ130","v":{"v":2,"d":"2.00"}},{"$f":"+[3]Tabulka!BM130","v":{"v":0,"d":"0.00"}},{"$f":"+[3]Tabulka!BN130","v":0},{"$f":"+[3]Tabulka!BO130","v":{"v":0,"d":"0.00"}}]
[null,{"$f":"[3]Tabulka!C131","v":"HRABCOVÁ"},{"$f":"[3]Tabulka!D131","v":"Anna"},{"$f":"[3]Tabulka!E131","v":"2001-11-27"},{"$f":"[3]Tabulka!F131","v":"Frýdlant nad Ostravicí- SK"},{"$f":"[3]Tabulka!G131","v":"FM"},{"$f":"[3]Tabulka!H131","v":100},{"$f":"+[3]Tabulka!AU131","v":0},{"$f":"+[3]Tabulka!AV131","v":{"v":0,"d":"0.00"}},{"$f":"+[3]Tabulka!AW131","v":0},{"$f":"+[3]Tabulka!AX131","v":{"v":0,"d":"0.00"}},{"$f":"+[3]Tabulka!AY131","v":0},{"$f":"+[3]Tabulka!AZ131","v":{"v":0,"d":"0.00"}},{"$f":"+[3]Tabulka!BA131","v":0},{"$f":"+[3]Tabulka!BB131","v":{"v":0,"d":"0.00"}},{"$f":"+[3]Tabulka!BC131","v":0},{"$f":"+[3]Tabulka!BD131","v":{"v":0,"d":"0.00"}},{"$f":"+[3]Tabulka!BE131","v":0},{"$f":"+[3]Tabulka!BF131","v":{"v":0,"d":"0.00"}},{"$f":"+[3]Tabulka!BG131","v":0},{"$f":"+[3]Tabulka!BH131","v":{"v":0,"d":"0.00"}},{"$f":"+[3]Tabulka!BI131","v":0},{"$f":"+[3]Tabulka!BJ131","v":{"v":0,"d":"0.00"}},{"$f":"+[3]Tabulka!AP131","v":{"v":1.6077928021944414,"d":"1.61"}},{"$f":"+[3]Tabulka!AQ131","v":{"v":2,"d":"2.00"}},{"$f":"+[3]Tabulka!BM131","v":{"v":0,"d":"0.00"}},{"$f":"+[3]Tabulka!BN131","v":0},{"$f":"+[3]Tabulka!BO131","v":{"v":0,"d":"0.00"}}]
[null,{"$f":"[3]Tabulka!C132","v":"HRUBÁ"},{"$f":"[3]Tabulka!D132","v":"Adéla"},{"$f":"[3]Tabulka!E132","v":"1900-01-01"},{"$f":"[3]Tabulka!F132","v":"Bobrovníky- Sokol TJ"},{"$f":"[3]Tabulka!G132","v":"OP"},{"$f":"[3]Tabulka!H132","v":0},{"$f":"+[3]Tabulka!AU132","v":0},{"$f":"+[3]Tabulka!AV132","v":{"v":0,"d":"0.00"}},{"$f":"+[3]Tabulka!AW132","v":0},{"$f":"+[3]Tabulka!AX132","v":{"v":0,"d":"0.00"}},{"$f":"+[3]Tabulka!AY132","v":0},{"$f":"+[3]Tabulka!AZ132","v":{"v":0,"d":"0.00"}},{"$f":"+[3]Tabulka!BA132","v":0},{"$f":"+[3]Tabulka!BB132","v":{"v":0,"d":"0.00"}},{"$f":"+[3]Tabulka!BC132","v":0},{"$f":"+[3]Tabulka!BD132","v":{"v":0,"d":"0.00"}},{"$f":"+[3]Tabulka!BE132","v":0},{"$f":"+[3]Tabulka!BF132","v":{"v":0,"d":"0.00"}},{"$f":"+[3]Tabulka!BG132","v":0},{"$f":"+[3]Tabulka!BH132","v":{"v":0,"d":"0.00"}},{"$f":"+[3]Tabulka!BI132","v":0},{"$f":"+[3]Tabulka!BJ132","v":{"v":0,"d":"0.00"}},{"$f":"+[3]Tabulka!AP132","v":{"v":0,"d":"0.00"}},{"$f":"+[3]Tabulka!AQ132","v":{"v":0,"d":"0.00"}},{"$f":"+[3]Tabulka!BM132","v":{"v":0,"d":"0.00"}},{"$f":"+[3]Tabulka!BN132","v":0},{"$f":"+[3]Tabulka!BO132","v":{"v":0,"d":"0.00"}}]
[null,{"$f":"[3]Tabulka!C133","v":"JANÁSEK"},{"$f":"[3]Tabulka!D133","v":"Filip"},{"$f":"[3]Tabulka!E133","v":"2003-01-01"},{"$f":"[3]Tabulka!F133","v":"Ostrava- Mittal TJ"},{"$f":"[3]Tabulka!G133","v":"OV"},{"$f":"[3]Tabulka!H133","v":0},{"$f":"+[3]Tabulka!AU133","v":0},{"$f":"+[3]Tabulka!AV133","v":{"v":0,"d":"0.00"}},{"$f":"+[3]Tabulka!AW133","v":0},{"$f":"+[3]Tabulka!AX133","v":{"v":0,"d":"0.00"}},{"$f":"+[3]Tabulka!AY133","v":0},{"$f":"+[3]Tabulka!AZ133","v":{"v":0,"d":"0.00"}},{"$f":"+[3]Tabulka!BA133","v":0},{"$f":"+[3]Tabulka!BB133","v":{"v":0,"d":"0.00"}},{"$f":"+[3]Tabulka!BC133","v":0},{"$f":"+[3]Tabulka!BD133","v":{"v":0,"d":"0.00"}},{"$f":"+[3]Tabulka!BE133","v":0},{"$f":"+[3]Tabulka!BF133","v":{"v":0,"d":"0.00"}},{"$f":"+[3]Tabulka!BG133","v":0},{"$f":"+[3]Tabulka!BH133","v":{"v":0,"d":"0.00"}},{"$f":"+[3]Tabulka!BI133","v":0},{"$f":"+[3]Tabulka!BJ133","v":{"v":0,"d":"0.00"}},{"$f":"+[3]Tabulka!AP133","v":{"v":0,"d":"0.00"}},{"$f":"+[3]Tabulka!AQ133","v":{"v":0,"d":"0.00"}},{"$f":"+[3]Tabulka!BM133","v":{"v":0,"d":"0.00"}},{"$f":"+[3]Tabulka!BN133","v":0},{"$f":"+[3]Tabulka!BO133","v":{"v":0,"d":"0.00"}}]
[null,{"$f":"[3]Tabulka!C134","v":"JEMELÍKOVÁ"},{"$f":"[3]Tabulka!D134","v":"Alice"},{"$f":"[3]Tabulka!E134","v":"1998-08-03"},{"$f":"[3]Tabulka!F134","v":"Frýdlant nad Ostravicí- SK"},{"$f":"[3]Tabulka!G134","v":"FM"},{"$f":"[3]Tabulka!H134","v":100},{"$f":"+[3]Tabulka!AU134","v":0},{"$f":"+[3]Tabulka!AV134","v":{"v":0,"d":"0.00"}},{"$f":"+[3]Tabulka!AW134","v":0},{"$f":"+[3]Tabulka!AX134","v":{"v":0,"d":"0.00"}},{"$f":"+[3]Tabulka!AY134","v":0},{"$f":"+[3]Tabulka!AZ134","v":{"v":0,"d":"0.00"}},{"$f":"+[3]Tabulka!BA134","v":0},{"$f":"+[3]Tabulka!BB134","v":{"v":0,"d":"0.00"}},{"$f":"+[3]Tabulka!BC134","v":0},{"$f":"+[3]Tabulka!BD134","v":{"v":0,"d":"0.00"}},{"$f":"+[3]Tabulka!BE134","v":0},{"$f":"+[3]Tabulka!BF134","v":{"v":0,"d":"0.00"}},{"$f":"+[3]Tabulka!BG134","v":0},{"$f":"+[3]Tabulka!BH134","v":{"v":0,"d":"0.00"}},{"$f":"+[3]Tabulka!BI134","v":0},{"$f":"+[3]Tabulka!BJ134","v":{"v":0,"d":"0.00"}},{"$f":"+[3]Tabulka!AP134","v":{"v":5.6014659596099685,"d":"5.60"}},{"$f":"+[3]Tabulka!AQ134","v":{"v":4,"d":"4.00"}},{"$f":"+[3]Tabulka!BM134","v":{"v":0,"d":"0.00"}},{"$f":"+[3]Tabulka!BN134","v":0},{"$f":"+[3]Tabulka!BO134","v":{"v":0,"d":"0.00"}}]
[null,{"$f":"[3]Tabulka!C135","v":"JEŽOWICZ"},{"$f":"[3]Tabulka!D135","v":"Filip"},{"$f":"[3]Tabulka!E135","v":"1997-01-01"},{"$f":"[3]Tabulka!F135","v":"Ostrava- Mittal TJ"},{"$f":"[3]Tabulka!G135","v":"OV"},{"$f":"[3]Tabulka!H135","v":0},{"$f":"+[3]Tabulka!AU135","v":0},{"$f":"+[3]Tabulka!AV135","v":{"v":0,"d":"0.00"}},{"$f":"+[3]Tabulka!AW135","v":0},{"$f":"+[3]Tabulka!AX135","v":{"v":0,"d":"0.00"}},{"$f":"+[3]Tabulka!AY135","v":0},{"$f":"+[3]Tabulka!AZ135","v":{"v":0,"d":"0.00"}},{"$f":"+[3]Tabulka!BA135","v":0},{"$f":"+[3]Tabulka!BB135","v":{"v":0,"d":"0.00"}},{"$f":"+[3]Tabulka!BC135","v":0},{"$f":"+[3]Tabulka!BD135","v":{"v":0,"d":"0.00"}},{"$f":"+[3]Tabulka!BE135","v":0},{"$f":"+[3]Tabulka!BF135","v":{"v":0,"d":"0.00"}},{"$f":"+[3]Tabulka!BG135","v":0},{"$f":"+[3]Tabulka!BH135","v":{"v":0,"d":"0.00"}},{"$f":"+[3]Tabulka!BI135","v":0},{"$f":"+[3]Tabulka!BJ135","v":{"v":0,"d":"0.00"}},{"$f":"+[3]Tabulka!AP135","v":{"v":0.3051019681136564,"d":"0.31"}},{"$f":"+[3]Tabulka!AQ135","v":{"v":1,"d":"1.00"}},{"$f":"+[3]Tabulka!BM135","v":{"v":0,"d":"0.00"}},{"$f":"+[3]Tabulka!BN135","v":0},{"$f":"+[3]Tabulka!BO135","v":{"v":0,"d":"0.00"}}]
[null,{"$f":"[3]Tabulka!C136","v":"JURGA"},{"$f":"[3]Tabulka!D136","v":"Filip"},{"$f":"[3]Tabulka!E136","v":"1997-07-03"},{"$f":"[3]Tabulka!F136","v":"Třinec- TŽ TJ"},{"$f":"[3]Tabulka!G136","v":"FM"},{"$f":"[3]Tabulka!H136","v":100},{"$f":"+[3]Tabulka!AU136","v":0},{"$f":"+[3]Tabulka!AV136","v":{"v":0,"d":"0.00"}},{"$f":"+[3]Tabulka!AW136","v":0},{"$f":"+[3]Tabulka!AX136","v":{"v":0,"d":"0.00"}},{"$f":"+[3]Tabulka!AY136","v":0},{"$f":"+[3]Tabulka!AZ136","v":{"v":0,"d":"0.00"}},{"$f":"+[3]Tabulka!BA136","v":0},{"$f":"+[3]Tabulka!BB136","v":{"v":0,"d":"0.00"}},{"$f":"+[3]Tabulka!BC136","v":0},{"$f":"+[3]Tabulka!BD136","v":{"v":0,"d":"0.00"}},{"$f":"+[3]Tabulka!BE136","v":0},{"$f":"+[3]Tabulka!BF136","v":{"v":0,"d":"0.00"}},{"$f":"+[3]Tabulka!BG136","v":0},{"$f":"+[3]Tabulka!BH136","v":{"v":0,"d":"0.00"}},{"$f":"+[3]Tabulka!BI136","v":0},{"$f":"+[3]Tabulka!BJ136","v":{"v":0,"d":"0.00"}},{"$f":"+[3]Tabulka!AP136","v":{"v":0.36900715807089546,"d":"0.37"}},{"$f":"+[3]Tabulka!AQ136","v":{"v":1,"d":"1.00"}},{"$f":"+[3]Tabulka!BM136","v":{"v":0,"d":"0.00"}},{"$f":"+[3]Tabulka!BN136","v":0},{"$f":"+[3]Tabulka!BO136","v":{"v":0,"d":"0.00"}}]
[null,{"$f":"[3]Tabulka!C137","v":"KADLEC"},{"$f":"[3]Tabulka!D137","v":"Ondřej"},{"$f":"[3]Tabulka!E137","v":"2001-05-28"},{"$f":"[3]Tabulka!F137","v":"Opava- KST Slezan "},{"$f":"[3]Tabulka!G137","v":"OP"},{"$f":"[3]Tabulka!H137","v":100},{"$f":"+[3]Tabulka!AU137","v":0},{"$f":"+[3]Tabulka!AV137","v":{"v":0,"d":"0.00"}},{"$f":"+[3]Tabulka!AW137","v":0},{"$f":"+[3]Tabulka!AX137","v":{"v":0,"d":"0.00"}},{"$f":"+[3]Tabulka!AY137","v":0},{"$f":"+[3]Tabulka!AZ137","v":{"v":0,"d":"0.00"}},{"$f":"+[3]Tabulka!BA137","v":0},{"$f":"+[3]Tabulka!BB137","v":{"v":0,"d":"0.00"}},{"$f":"+[3]Tabulka!BC137","v":0},{"$f":"+[3]Tabulka!BD137","v":{"v":0,"d":"0.00"}},{"$f":"+[3]Tabulka!BE137","v":0},{"$f":"+[3]Tabulka!BF137","v":{"v":0,"d":"0.00"}},{"$f":"+[3]Tabulka!BG137","v":0},{"$f":"+[3]Tabulka!BH137","v":{"v":0,"d":"0.00"}},{"$f":"+[3]Tabulka!BI137","v":0},{"$f":"+[3]Tabulka!BJ137","v":{"v":0,"d":"0.00"}},{"$f":"+[3]Tabulka!AP137","v":{"v":0.1106537594995722,"d":"0.11"}},{"$f":"+[3]Tabulka!AQ137","v":{"v":1,"d":"1.00"}},{"$f":"+[3]Tabulka!BM137","v":{"v":0,"d":"0.00"}},{"$f":"+[3]Tabulka!BN137","v":0},{"$f":"+[3]Tabulka!BO137","v":{"v":0,"d":"0.00"}}]
[null,{"$f":"[3]Tabulka!C138","v":"KANTOR"},{"$f":"[3]Tabulka!D138","v":"Lukáš"},{"$f":"[3]Tabulka!E138","v":"2000-01-01"},{"$f":"[3]Tabulka!F138","v":"Frenštát pod Radhoštěm- TJ"},{"$f":"[3]Tabulka!G138","v":"NJ"},{"$f":"[3]Tabulka!H138","v":100},{"$f":"+[3]Tabulka!AU138","v":0},{"$f":"+[3]Tabulka!AV138","v":{"v":0,"d":"0.00"}},{"$f":"+[3]Tabulka!AW138","v":0},{"$f":"+[3]Tabulka!AX138","v":{"v":0,"d":"0.00"}},{"$f":"+[3]Tabulka!AY138","v":0},{"$f":"+[3]Tabulka!AZ138","v":{"v":0,"d":"0.00"}},{"$f":"+[3]Tabulka!BA138","v":0},{"$f":"+[3]Tabulka!BB138","v":{"v":0,"d":"0.00"}},{"$f":"+[3]Tabulka!BC138","v":0},{"$f":"+[3]Tabulka!BD138","v":{"v":0,"d":"0.00"}},{"$f":"+[3]Tabulka!BE138","v":0},{"$f":"+[3]Tabulka!BF138","v":{"v":0,"d":"0.00"}},{"$f":"+[3]Tabulka!BG138","v":0},{"$f":"+[3]Tabulka!BH138","v":{"v":0,"d":"0.00"}},{"$f":"+[3]Tabulka!BI138","v":0},{"$f":"+[3]Tabulka!BJ138","v":{"v":0,"d":"0.00"}},{"$f":"+[3]Tabulka!AP138","v":{"v":0.2085765337890901,"d":"0.21"}},{"$f":"+[3]Tabulka!AQ138","v":{"v":1,"d":"1.00"}},{"$f":"+[3]Tabulka!BM138","v":{"v":0,"d":"0.00"}},{"$f":"+[3]Tabulka!BN138","v":0},{"$f":"+[3]Tabulka!BO138","v":{"v":0,"d":"0.00"}}]
[null,{"$f":"[3]Tabulka!C139","v":"KAŠTOVSKÝ"},{"$f":"[3]Tabulka!D139","v":"Jan"},{"$f":"[3]Tabulka!E139","v":"1997-11-28"},{"$f":"[3]Tabulka!F139","v":"Opava- KST Slezan "},{"$f":"[3]Tabulka!G139","v":"OP"},{"$f":"[3]Tabulka!H139","v":100},{"$f":"+[3]Tabulka!AU139","v":0},{"$f":"+[3]Tabulka!AV139","v":{"v":0,"d":"0.00"}},{"$f":"+[3]Tabulka!AW139","v":0},{"$f":"+[3]Tabulka!AX139","v":{"v":0,"d":"0.00"}},{"$f":"+[3]Tabulka!AY139","v":0},{"$f":"+[3]Tabulka!AZ139","v":{"v":0,"d":"0.00"}},{"$f":"+[3]Tabulka!BA139","v":0},{"$f":"+[3]Tabulka!BB139","v":{"v":0,"d":"0.00"}},{"$f":"+[3]Tabulka!BC139","v":0},{"$f":"+[3]Tabulka!BD139","v":{"v":0,"d":"0.00"}},{"$f":"+[3]Tabulka!BE139","v":0},{"$f":"+[3]Tabulka!BF139","v":{"v":0,"d":"0.00"}},{"$f":"+[3]Tabulka!BG139","v":0},{"$f":"+[3]Tabulka!BH139","v":{"v":0,"d":"0.00"}},{"$f":"+[3]Tabulka!BI139","v":0},{"$f":"+[3]Tabulka!BJ139","v":{"v":0,"d":"0.00"}},{"$f":"+[3]Tabulka!AP139","v":{"v":0,"d":"0.00"}},{"$f":"+[3]Tabulka!AQ139","v":{"v":0,"d":"0.00"}},{"$f":"+[3]Tabulka!BM139","v":{"v":0,"d":"0.00"}},{"$f":"+[3]Tabulka!BN139","v":0},{"$f":"+[3]Tabulka!BO139","v":{"v":0,"d":"0.00"}}]
[null,{"$f":"[3]Tabulka!C140","v":"KESSELGRUBER"},{"$f":"[3]Tabulka!D140","v":"Vít"},{"$f":"[3]Tabulka!E140","v":"2000-07-07"},{"$f":"[3]Tabulka!F140","v":"Kateřinky- Sokol TJ"},{"$f":"[3]Tabulka!G140","v":"OP"},{"$f":"[3]Tabulka!H140","v":100},{"$f":"+[3]Tabulka!AU140","v":0},{"$f":"+[3]Tabulka!AV140","v":{"v":0,"d":"0.00"}},{"$f":"+[3]Tabulka!AW140","v":0},{"$f":"+[3]Tabulka!AX140","v":{"v":0,"d":"0.00"}},{"$f":"+[3]Tabulka!AY140","v":0},{"$f":"+[3]Tabulka!AZ140","v":{"v":0,"d":"0.00"}},{"$f":"+[3]Tabulka!BA140","v":0},{"$f":"+[3]Tabulka!BB140","v":{"v":0,"d":"0.00"}},{"$f":"+[3]Tabulka!BC140","v":0},{"$f":"+[3]Tabulka!BD140","v":{"v":0,"d":"0.00"}},{"$f":"+[3]Tabulka!BE140","v":0},{"$f":"+[3]Tabulka!BF140","v":{"v":0,"d":"0.00"}},{"$f":"+[3]Tabulka!BG140","v":0},{"$f":"+[3]Tabulka!BH140","v":{"v":0,"d":"0.00"}},{"$f":"+[3]Tabulka!BI140","v":0},{"$f":"+[3]Tabulka!BJ140","v":{"v":0,"d":"0.00"}},{"$f":"+[3]Tabulka!AP140","v":{"v":0.11789519388974339,"d":"0.12"}},{"$f":"+[3]Tabulka!AQ140","v":{"v":1,"d":"1.00"}},{"$f":"+[3]Tabulka!BM140","v":{"v":0,"d":"0.00"}},{"$f":"+[3]Tabulka!BN140","v":0},{"$f":"+[3]Tabulka!BO140","v":{"v":0,"d":"0.00"}}]
[null,{"$f":"[3]Tabulka!C141","v":"KOBLOVSKÁ"},{"$f":"[3]Tabulka!D141","v":"Dominika"},{"$f":"[3]Tabulka!E141","v":"1998-08-30"},{"$f":"[3]Tabulka!F141","v":"Ostrava- Mittal TJ"},{"$f":"[3]Tabulka!G141","v":"OV"},{"$f":"[3]Tabulka!H141","v":100},{"$f":"+[3]Tabulka!AU141","v":0},{"$f":"+[3]Tabulka!AV141","v":{"v":0,"d":"0.00"}},{"$f":"+[3]Tabulka!AW141","v":0},{"$f":"+[3]Tabulka!AX141","v":{"v":0,"d":"0.00"}},{"$f":"+[3]Tabulka!AY141","v":0},{"$f":"+[3]Tabulka!AZ141","v":{"v":0,"d":"0.00"}},{"$f":"+[3]Tabulka!BA141","v":0},{"$f":"+[3]Tabulka!BB141","v":{"v":0,"d":"0.00"}},{"$f":"+[3]Tabulka!BC141","v":0},{"$f":"+[3]Tabulka!BD141","v":{"v":0,"d":"0.00"}},{"$f":"+[3]Tabulka!BE141","v":0},{"$f":"+[3]Tabulka!BF141","v":{"v":0,"d":"0.00"}},{"$f":"+[3]Tabulka!BG141","v":0},{"$f":"+[3]Tabulka!BH141","v":{"v":0,"d":"0.00"}},{"$f":"+[3]Tabulka!BI141","v":0},{"$f":"+[3]Tabulka!BJ141","v":{"v":0,"d":"0.00"}},{"$f":"+[3]Tabulka!AP141","v":{"v":38.176772868582,"d":"38.18"}},{"$f":"+[3]Tabulka!AQ141","v":{"v":4,"d":"4.00"}},{"$f":"+[3]Tabulka!BM141","v":{"v":0,"d":"0.00"}},{"$f":"+[3]Tabulka!BN141","v":0},{"$f":"+[3]Tabulka!BO141","v":{"v":0,"d":"0.00"}}]
[null,{"$f":"[3]Tabulka!C142","v":"KOLONIČNÁ"},{"$f":"[3]Tabulka!D142","v":"Markéta"},{"$f":"[3]Tabulka!E142","v":"2002-12-12"},{"$f":"[3]Tabulka!F142","v":"Hrabůvka- Sokol TJ"},{"$f":"[3]Tabulka!G142","v":"OV"},{"$f":"[3]Tabulka!H142","v":100},{"$f":"+[3]Tabulka!AU142","v":0},{"$f":"+[3]Tabulka!AV142","v":{"v":0,"d":"0.00"}},{"$f":"+[3]Tabulka!AW142","v":0},{"$f":"+[3]Tabulka!AX142","v":{"v":0,"d":"0.00"}},{"$f":"+[3]Tabulka!AY142","v":0},{"$f":"+[3]Tabulka!AZ142","v":{"v":0,"d":"0.00"}},{"$f":"+[3]Tabulka!BA142","v":0},{"$f":"+[3]Tabulka!BB142","v":{"v":0,"d":"0.00"}},{"$f":"+[3]Tabulka!BC142","v":0},{"$f":"+[3]Tabulka!BD142","v":{"v":0,"d":"0.00"}},{"$f":"+[3]Tabulka!BE142","v":0},{"$f":"+[3]Tabulka!BF142","v":{"v":0,"d":"0.00"}},{"$f":"+[3]Tabulka!BG142","v":0},{"$f":"+[3]Tabulka!BH142","v":{"v":0,"d":"0.00"}},{"$f":"+[3]Tabulka!BI142","v":0},{"$f":"+[3]Tabulka!BJ142","v":{"v":0,"d":"0.00"}},{"$f":"+[3]Tabulka!AP142","v":{"v":1.9445533451413237,"d":"1.94"}},{"$f":"+[3]Tabulka!AQ142","v":{"v":2,"d":"2.00"}},{"$f":"+[3]Tabulka!BM142","v":{"v":0,"d":"0.00"}},{"$f":"+[3]Tabulka!BN142","v":0},{"$f":"+[3]Tabulka!BO142","v":{"v":0,"d":"0.00"}}]
[null,{"$f":"[3]Tabulka!C143","v":"KOMENDER"},{"$f":"[3]Tabulka!D143","v":"Jan"},{"$f":"[3]Tabulka!E143","v":"1999-06-16"},{"$f":"[3]Tabulka!F143","v":"Fulnel- TJ"},{"$f":"[3]Tabulka!G143","v":"NJ"},{"$f":"[3]Tabulka!H143","v":100},{"$f":"+[3]Tabulka!AU143","v":0},{"$f":"+[3]Tabulka!AV143","v":{"v":0,"d":"0.00"}},{"$f":"+[3]Tabulka!AW143","v":0},{"$f":"+[3]Tabulka!AX143","v":{"v":0,"d":"0.00"}},{"$f":"+[3]Tabulka!AY143","v":0},{"$f":"+[3]Tabulka!AZ143","v":{"v":0,"d":"0.00"}},{"$f":"+[3]Tabulka!BA143","v":0},{"$f":"+[3]Tabulka!BB143","v":{"v":0,"d":"0.00"}},{"$f":"+[3]Tabulka!BC143","v":0},{"$f":"+[3]Tabulka!BD143","v":{"v":0,"d":"0.00"}},{"$f":"+[3]Tabulka!BE143","v":0},{"$f":"+[3]Tabulka!BF143","v":{"v":0,"d":"0.00"}},{"$f":"+[3]Tabulka!BG143","v":0},{"$f":"+[3]Tabulka!BH143","v":{"v":0,"d":"0.00"}},{"$f":"+[3]Tabulka!BI143","v":0},{"$f":"+[3]Tabulka!BJ143","v":{"v":0,"d":"0.00"}},{"$f":"+[3]Tabulka!AP143","v":{"v":0.23676925100854995,"d":"0.24"}},{"$f":"+[3]Tabulka!AQ143","v":{"v":1,"d":"1.00"}},{"$f":"+[3]Tabulka!BM143","v":{"v":0,"d":"0.00"}},{"$f":"+[3]Tabulka!BN143","v":0},{"$f":"+[3]Tabulka!BO143","v":{"v":0,"d":"0.00"}}]
[null,{"$f":"[3]Tabulka!C144","v":"KOMÍNEK"},{"$f":"[3]Tabulka!D144","v":"Daniel"},{"$f":"[3]Tabulka!E144","v":"1998-11-18"},{"$f":"[3]Tabulka!F144","v":"Frýdek-Místek- Slezan TJ"},{"$f":"[3]Tabulka!G144","v":"FM"},{"$f":"[3]Tabulka!H144","v":100},{"$f":"+[3]Tabulka!AU144","v":0},{"$f":"+[3]Tabulka!AV144","v":{"v":0,"d":"0.00"}},{"$f":"+[3]Tabulka!AW144","v":0},{"$f":"+[3]Tabulka!AX144","v":{"v":0,"d":"0.00"}},{"$f":"+[3]Tabulka!AY144","v":0},{"$f":"+[3]Tabulka!AZ144","v":{"v":0,"d":"0.00"}},{"$f":"+[3]Tabulka!BA144","v":0},{"$f":"+[3]Tabulka!BB144","v":{"v":0,"d":"0.00"}},{"$f":"+[3]Tabulka!BC144","v":0},{"$f":"+[3]Tabulka!BD144","v":{"v":0,"d":"0.00"}},{"$f":"+[3]Tabulka!BE144","v":0},{"$f":"+[3]Tabulka!BF144","v":{"v":0,"d":"0.00"}},{"$f":"+[3]Tabulka!BG144","v":0},{"$f":"+[3]Tabulka!BH144","v":{"v":0,"d":"0.00"}},{"$f":"+[3]Tabulka!BI144","v":0},{"$f":"+[3]Tabulka!BJ144","v":{"v":0,"d":"0.00"}},{"$f":"+[3]Tabulka!AP144","v":{"v":1.362284283260089,"d":"1.36"}},{"$f":"+[3]Tabulka!AQ144","v":{"v":3,"d":"3.00"}},{"$f":"+[3]Tabulka!BM144","v":{"v":0,"d":"0.00"}},{"$f":"+[3]Tabulka!BN144","v":0},{"$f":"+[3]Tabulka!BO144","v":{"v":0,"d":"0.00"}}]
[null,{"$f":"[3]Tabulka!C145","v":"KOŘÍNEK"},{"$f":"[3]Tabulka!D145","v":"Adam"},{"$f":"[3]Tabulka!E145","v":"1998-01-01"},{"$f":"[3]Tabulka!F145","v":"Havířov- Baník SKST"},{"$f":"[3]Tabulka!G145","v":"KA"},{"$f":"[3]Tabulka!H145","v":0},{"$f":"+[3]Tabulka!AU145","v":0},{"$f":"+[3]Tabulka!AV145","v":{"v":0,"d":"0.00"}},{"$f":"+[3]Tabulka!AW145","v":0},{"$f":"+[3]Tabulka!AX145","v":{"v":0,"d":"0.00"}},{"$f":"+[3]Tabulka!AY145","v":0},{"$f":"+[3]Tabulka!AZ145","v":{"v":0,"d":"0.00"}},{"$f":"+[3]Tabulka!BA145","v":0},{"$f":"+[3]Tabulka!BB145","v":{"v":0,"d":"0.00"}},{"$f":"+[3]Tabulka!BC145","v":0},{"$f":"+[3]Tabulka!BD145","v":{"v":0,"d":"0.00"}},{"$f":"+[3]Tabulka!BE145","v":0},{"$f":"+[3]Tabulka!BF145","v":{"v":0,"d":"0.00"}},{"$f":"+[3]Tabulka!BG145","v":0},{"$f":"+[3]Tabulka!BH145","v":{"v":0,"d":"0.00"}},{"$f":"+[3]Tabulka!BI145","v":0},{"$f":"+[3]Tabulka!BJ145","v":{"v":0,"d":"0.00"}},{"$f":"+[3]Tabulka!AP145","v":{"v":0,"d":"0.00"}},{"$f":"+[3]Tabulka!AQ145","v":{"v":0,"d":"0.00"}},{"$f":"+[3]Tabulka!BM145","v":{"v":0,"d":"0.00"}},{"$f":"+[3]Tabulka!BN145","v":0},{"$f":"+[3]Tabulka!BO145","v":{"v":0,"d":"0.00"}}]
[null,{"$f":"[3]Tabulka!C146","v":"KOTEK"},{"$f":"[3]Tabulka!D146","v":"Dominik"},{"$f":"[3]Tabulka!E146","v":"1999-05-20"},{"$f":"[3]Tabulka!F146","v":"Frýdlant nad Ostravicí- SK"},{"$f":"[3]Tabulka!G146","v":"FM"},{"$f":"[3]Tabulka!H146","v":100},{"$f":"+[3]Tabulka!AU146","v":0},{"$f":"+[3]Tabulka!AV146","v":{"v":0,"d":"0.00"}},{"$f":"+[3]Tabulka!AW146","v":0},{"$f":"+[3]Tabulka!AX146","v":{"v":0,"d":"0.00"}},{"$f":"+[3]Tabulka!AY146","v":0},{"$f":"+[3]Tabulka!AZ146","v":{"v":0,"d":"0.00"}},{"$f":"+[3]Tabulka!BA146","v":0},{"$f":"+[3]Tabulka!BB146","v":{"v":0,"d":"0.00"}},{"$f":"+[3]Tabulka!BC146","v":0},{"$f":"+[3]Tabulka!BD146","v":{"v":0,"d":"0.00"}},{"$f":"+[3]Tabulka!BE146","v":0},{"$f":"+[3]Tabulka!BF146","v":{"v":0,"d":"0.00"}},{"$f":"+[3]Tabulka!BG146","v":0},{"$f":"+[3]Tabulka!BH146","v":{"v":0,"d":"0.00"}},{"$f":"+[3]Tabulka!BI146","v":0},{"$f":"+[3]Tabulka!BJ146","v":{"v":0,"d":"0.00"}},{"$f":"+[3]Tabulka!AP146","v":{"v":26.879158538480596,"d":"26.88"}},{"$f":"+[3]Tabulka!AQ146","v":{"v":4,"d":"4.00"}},{"$f":"+[3]Tabulka!BM146","v":{"v":0,"d":"0.00"}},{"$f":"+[3]Tabulka!BN146","v":0},{"$f":"+[3]Tabulka!BO146","v":{"v":0,"d":"0.00"}}]
[null,{"$f":"[3]Tabulka!C147","v":"KOTKOVÁ"},{"$f":"[3]Tabulka!D147","v":"Daniela"},{"$f":"[3]Tabulka!E147","v":"2000-12-27"},{"$f":"[3]Tabulka!F147","v":"Frýdlant nad Ostravicí- SK"},{"$f":"[3]Tabulka!G147","v":"FM"},{"$f":"[3]Tabulka!H147","v":100},{"$f":"+[3]Tabulka!AU147","v":0},{"$f":"+[3]Tabulka!AV147","v":{"v":0,"d":"0.00"}},{"$f":"+[3]Tabulka!AW147","v":0},{"$f":"+[3]Tabulka!AX147","v":{"v":0,"d":"0.00"}},{"$f":"+[3]Tabulka!AY147","v":0},{"$f":"+[3]Tabulka!AZ147","v":{"v":0,"d":"0.00"}},{"$f":"+[3]Tabulka!BA147","v":0},{"$f":"+[3]Tabulka!BB147","v":{"v":0,"d":"0.00"}},{"$f":"+[3]Tabulka!BC147","v":0},{"$f":"+[3]Tabulka!BD147","v":{"v":0,"d":"0.00"}},{"$f":"+[3]Tabulka!BE147","v":0},{"$f":"+[3]Tabulka!BF147","v":{"v":0,"d":"0.00"}},{"$f":"+[3]Tabulka!BG147","v":0},{"$f":"+[3]Tabulka!BH147","v":{"v":0,"d":"0.00"}},{"$f":"+[3]Tabulka!BI147","v":0},{"$f":"+[3]Tabulka!BJ147","v":{"v":0,"d":"0.00"}},{"$f":"+[3]Tabulka!AP147","v":{"v":1.1594585061987952,"d":"1.16"}},{"$f":"+[3]Tabulka!AQ147","v":{"v":2,"d":"2.00"}},{"$f":"+[3]Tabulka!BM147","v":{"v":0,"d":"0.00"}},{"$f":"+[3]Tabulka!BN147","v":0},{"$f":"+[3]Tabulka!BO147","v":{"v":0,"d":"0.00"}}]
[null,{"$f":"[3]Tabulka!C148","v":"KOZELSKÝ"},{"$f":"[3]Tabulka!D148","v":"Martin"},{"$f":"[3]Tabulka!E148","v":"1998-02-11"},{"$f":"[3]Tabulka!F148","v":"Kateřinky- Sokol TJ"},{"$f":"[3]Tabulka!G148","v":"OP"},{"$f":"[3]Tabulka!H148","v":100},{"$f":"+[3]Tabulka!AU148","v":0},{"$f":"+[3]Tabulka!AV148","v":{"v":0,"d":"0.00"}},{"$f":"+[3]Tabulka!AW148","v":0},{"$f":"+[3]Tabulka!AX148","v":{"v":0,"d":"0.00"}},{"$f":"+[3]Tabulka!AY148","v":0},{"$f":"+[3]Tabulka!AZ148","v":{"v":0,"d":"0.00"}},{"$f":"+[3]Tabulka!BA148","v":0},{"$f":"+[3]Tabulka!BB148","v":{"v":0,"d":"0.00"}},{"$f":"+[3]Tabulka!BC148","v":0},{"$f":"+[3]Tabulka!BD148","v":{"v":0,"d":"0.00"}},{"$f":"+[3]Tabulka!BE148","v":0},{"$f":"+[3]Tabulka!BF148","v":{"v":0,"d":"0.00"}},{"$f":"+[3]Tabulka!BG148","v":0},{"$f":"+[3]Tabulka!BH148","v":{"v":0,"d":"0.00"}},{"$f":"+[3]Tabulka!BI148","v":0},{"$f":"+[3]Tabulka!BJ148","v":{"v":0,"d":"0.00"}},{"$f":"+[3]Tabulka!AP148","v":{"v":1.9638136345568649,"d":"1.96"}},{"$f":"+[3]Tabulka!AQ148","v":{"v":2,"d":"2.00"}},{"$f":"+[3]Tabulka!BM148","v":{"v":0,"d":"0.00"}},{"$f":"+[3]Tabulka!BN148","v":0},{"$f":"+[3]Tabulka!BO148","v":{"v":0,"d":"0.00"}}]
[null,{"$f":"[3]Tabulka!C149","v":"KRIVÝ"},{"$f":"[3]Tabulka!D149","v":"Jan"},{"$f":"[3]Tabulka!E149","v":"1999-07-20"},{"$f":"[3]Tabulka!F149","v":"Ostrava- Mittal TJ"},{"$f":"[3]Tabulka!G149","v":"OV"},{"$f":"[3]Tabulka!H149","v":100},{"$f":"+[3]Tabulka!AU149","v":0},{"$f":"+[3]Tabulka!AV149","v":{"v":0,"d":"0.00"}},{"$f":"+[3]Tabulka!AW149","v":0},{"$f":"+[3]Tabulka!AX149","v":{"v":0,"d":"0.00"}},{"$f":"+[3]Tabulka!AY149","v":0},{"$f":"+[3]Tabulka!AZ149","v":{"v":0,"d":"0.00"}},{"$f":"+[3]Tabulka!BA149","v":0},{"$f":"+[3]Tabulka!BB149","v":{"v":0,"d":"0.00"}},{"$f":"+[3]Tabulka!BC149","v":0},{"$f":"+[3]Tabulka!BD149","v":{"v":0,"d":"0.00"}},{"$f":"+[3]Tabulka!BE149","v":0},{"$f":"+[3]Tabulka!BF149","v":{"v":0,"d":"0.00"}},{"$f":"+[3]Tabulka!BG149","v":0},{"$f":"+[3]Tabulka!BH149","v":{"v":0,"d":"0.00"}},{"$f":"+[3]Tabulka!BI149","v":0},{"$f":"+[3]Tabulka!BJ149","v":{"v":0,"d":"0.00"}},{"$f":"+[3]Tabulka!AP149","v":{"v":4.231134200914656,"d":"4.23"}},{"$f":"+[3]Tabulka!AQ149","v":{"v":3,"d":"3.00"}},{"$f":"+[3]Tabulka!BM149","v":{"v":0,"d":"0.00"}},{"$f":"+[3]Tabulka!BN149","v":0},{"$f":"+[3]Tabulka!BO149","v":{"v":0,"d":"0.00"}}]
[null,{"$f":"[3]Tabulka!C150","v":"KROMER"},{"$f":"[3]Tabulka!D150","v":"Tomáš"},{"$f":"[3]Tabulka!E150","v":"1900-01-01"},{"$f":"[3]Tabulka!F150","v":"Darkovice- KST"},{"$f":"[3]Tabulka!G150","v":"OP"},{"$f":"[3]Tabulka!H150","v":0},{"$f":"+[3]Tabulka!AU150","v":0},{"$f":"+[3]Tabulka!AV150","v":{"v":0,"d":"0.00"}},{"$f":"+[3]Tabulka!AW150","v":0},{"$f":"+[3]Tabulka!AX150","v":{"v":0,"d":"0.00"}},{"$f":"+[3]Tabulka!AY150","v":0},{"$f":"+[3]Tabulka!AZ150","v":{"v":0,"d":"0.00"}},{"$f":"+[3]Tabulka!BA150","v":0},{"$f":"+[3]Tabulka!BB150","v":{"v":0,"d":"0.00"}},{"$f":"+[3]Tabulka!BC150","v":0},{"$f":"+[3]Tabulka!BD150","v":{"v":0,"d":"0.00"}},{"$f":"+[3]Tabulka!BE150","v":0},{"$f":"+[3]Tabulka!BF150","v":{"v":0,"d":"0.00"}},{"$f":"+[3]Tabulka!BG150","v":0},{"$f":"+[3]Tabulka!BH150","v":{"v":0,"d":"0.00"}},{"$f":"+[3]Tabulka!BI150","v":0},{"$f":"+[3]Tabulka!BJ150","v":{"v":0,"d":"0.00"}},{"$f":"+[3]Tabulka!AP150","v":{"v":0,"d":"0.00"}},{"$f":"+[3]Tabulka!AQ150","v":{"v":0,"d":"0.00"}},{"$f":"+[3]Tabulka!BM150","v":{"v":0,"d":"0.00"}},{"$f":"+[3]Tabulka!BN150","v":0},{"$f":"+[3]Tabulka!BO150","v":{"v":0,"d":"0.00"}}]
[null,{"$f":"[3]Tabulka!C151","v":"KRYSKA"},{"$f":"[3]Tabulka!D151","v":"Dominik"},{"$f":"[3]Tabulka!E151","v":"1999-09-03"},{"$f":"[3]Tabulka!F151","v":"Dětmarovice- Sokol TJ"},{"$f":"[3]Tabulka!G151","v":"KA"},{"$f":"[3]Tabulka!H151","v":100},{"$f":"+[3]Tabulka!AU151","v":0},{"$f":"+[3]Tabulka!AV151","v":{"v":0,"d":"0.00"}},{"$f":"+[3]Tabulka!AW151","v":0},{"$f":"+[3]Tabulka!AX151","v":{"v":0,"d":"0.00"}},{"$f":"+[3]Tabulka!AY151","v":0},{"$f":"+[3]Tabulka!AZ151","v":{"v":0,"d":"0.00"}},{"$f":"+[3]Tabulka!BA151","v":0},{"$f":"+[3]Tabulka!BB151","v":{"v":0,"d":"0.00"}},{"$f":"+[3]Tabulka!BC151","v":0},{"$f":"+[3]Tabulka!BD151","v":{"v":0,"d":"0.00"}},{"$f":"+[3]Tabulka!BE151","v":0},{"$f":"+[3]Tabulka!BF151","v":{"v":0,"d":"0.00"}},{"$f":"+[3]Tabulka!BG151","v":0},{"$f":"+[3]Tabulka!BH151","v":{"v":0,"d":"0.00"}},{"$f":"+[3]Tabulka!BI151","v":0},{"$f":"+[3]Tabulka!BJ151","v":{"v":0,"d":"0.00"}},{"$f":"+[3]Tabulka!AP151","v":{"v":0,"d":"0.00"}},{"$f":"+[3]Tabulka!AQ151","v":{"v":0,"d":"0.00"}},{"$f":"+[3]Tabulka!BM151","v":{"v":0,"d":"0.00"}},{"$f":"+[3]Tabulka!BN151","v":0},{"$f":"+[3]Tabulka!BO151","v":{"v":0,"d":"0.00"}}]
[null,{"$f":"[3]Tabulka!C152","v":"KUPEC"},{"$f":"[3]Tabulka!D152","v":"Rostislav"},{"$f":"[3]Tabulka!E152","v":"1997-05-20"},{"$f":"[3]Tabulka!F152","v":"Havířov- Baník SKST"},{"$f":"[3]Tabulka!G152","v":"KA"},{"$f":"[3]Tabulka!H152","v":100},{"$f":"+[3]Tabulka!AU152","v":0},{"$f":"+[3]Tabulka!AV152","v":{"v":0,"d":"0.00"}},{"$f":"+[3]Tabulka!AW152","v":0},{"$f":"+[3]Tabulka!AX152","v":{"v":0,"d":"0.00"}},{"$f":"+[3]Tabulka!AY152","v":0},{"$f":"+[3]Tabulka!AZ152","v":{"v":0,"d":"0.00"}},{"$f":"+[3]Tabulka!BA152","v":0},{"$f":"+[3]Tabulka!BB152","v":{"v":0,"d":"0.00"}},{"$f":"+[3]Tabulka!BC152","v":0},{"$f":"+[3]Tabulka!BD152","v":{"v":0,"d":"0.00"}},{"$f":"+[3]Tabulka!BE152","v":0},{"$f":"+[3]Tabulka!BF152","v":{"v":0,"d":"0.00"}},{"$f":"+[3]Tabulka!BG152","v":0},{"$f":"+[3]Tabulka!BH152","v":{"v":0,"d":"0.00"}},{"$f":"+[3]Tabulka!BI152","v":0},{"$f":"+[3]Tabulka!BJ152","v":{"v":0,"d":"0.00"}},{"$f":"+[3]Tabulka!AP152","v":{"v":62.76440250224722,"d":"62.76"}},{"$f":"+[3]Tabulka!AQ152","v":{"v":4,"d":"4.00"}},{"$f":"+[3]Tabulka!BM152","v":{"v":0,"d":"0.00"}},{"$f":"+[3]Tabulka!BN152","v":0},{"$f":"+[3]Tabulka!BO152","v":{"v":0,"d":"0.00"}}]
[null,{"$f":"[3]Tabulka!C153","v":"KUPEC"},{"$f":"[3]Tabulka!D153","v":"Ladislav"},{"$f":"[3]Tabulka!E153","v":"1998-08-27"},{"$f":"[3]Tabulka!F153","v":"Havířov- Baník SKST"},{"$f":"[3]Tabulka!G153","v":"KA"},{"$f":"[3]Tabulka!H153","v":100},{"$f":"+[3]Tabulka!AU153","v":0},{"$f":"+[3]Tabulka!AV153","v":{"v":0,"d":"0.00"}},{"$f":"+[3]Tabulka!AW153","v":0},{"$f":"+[3]Tabulka!AX153","v":{"v":0,"d":"0.00"}},{"$f":"+[3]Tabulka!AY153","v":0},{"$f":"+[3]Tabulka!AZ153","v":{"v":0,"d":"0.00"}},{"$f":"+[3]Tabulka!BA153","v":0},{"$f":"+[3]Tabulka!BB153","v":{"v":0,"d":"0.00"}},{"$f":"+[3]Tabulka!BC153","v":0},{"$f":"+[3]Tabulka!BD153","v":{"v":0,"d":"0.00"}},{"$f":"+[3]Tabulka!BE153","v":0},{"$f":"+[3]Tabulka!BF153","v":{"v":0,"d":"0.00"}},{"$f":"+[3]Tabulka!BG153","v":0},{"$f":"+[3]Tabulka!BH153","v":{"v":0,"d":"0.00"}},{"$f":"+[3]Tabulka!BI153","v":0},{"$f":"+[3]Tabulka!BJ153","v":{"v":0,"d":"0.00"}},{"$f":"+[3]Tabulka!AP153","v":{"v":32.21482425217566,"d":"32.21"}},{"$f":"+[3]Tabulka!AQ153","v":{"v":2,"d":"2.00"}},{"$f":"+[3]Tabulka!BM153","v":{"v":0,"d":"0.00"}},{"$f":"+[3]Tabulka!BN153","v":0},{"$f":"+[3]Tabulka!BO153","v":{"v":0,"d":"0.00"}}]
[null,{"$f":"[3]Tabulka!C154","v":"KURINEC"},{"$f":"[3]Tabulka!D154","v":"Martin"},{"$f":"[3]Tabulka!E154","v":"1997-01-01"},{"$f":"[3]Tabulka!F154","v":"Kravaře- SK TJ"},{"$f":"[3]Tabulka!G154","v":"OP"},{"$f":"[3]Tabulka!H154","v":0},{"$f":"+[3]Tabulka!AU154","v":0},{"$f":"+[3]Tabulka!AV154","v":{"v":0,"d":"0.00"}},{"$f":"+[3]Tabulka!AW154","v":0},{"$f":"+[3]Tabulka!AX154","v":{"v":0,"d":"0.00"}},{"$f":"+[3]Tabulka!AY154","v":0},{"$f":"+[3]Tabulka!AZ154","v":{"v":0,"d":"0.00"}},{"$f":"+[3]Tabulka!BA154","v":0},{"$f":"+[3]Tabulka!BB154","v":{"v":0,"d":"0.00"}},{"$f":"+[3]Tabulka!BC154","v":0},{"$f":"+[3]Tabulka!BD154","v":{"v":0,"d":"0.00"}},{"$f":"+[3]Tabulka!BE154","v":0},{"$f":"+[3]Tabulka!BF154","v":{"v":0,"d":"0.00"}},{"$f":"+[3]Tabulka!BG154","v":0},{"$f":"+[3]Tabulka!BH154","v":{"v":0,"d":"0.00"}},{"$f":"+[3]Tabulka!BI154","v":0},{"$f":"+[3]Tabulka!BJ154","v":{"v":0,"d":"0.00"}},{"$f":"+[3]Tabulka!AP154","v":{"v":0,"d":"0.00"}},{"$f":"+[3]Tabulka!AQ154","v":{"v":0,"d":"0.00"}},{"$f":"+[3]Tabulka!BM154","v":{"v":0,"d":"0.00"}},{"$f":"+[3]Tabulka!BN154","v":0},{"$f":"+[3]Tabulka!BO154","v":{"v":0,"d":"0.00"}}]
[null,{"$f":"[3]Tabulka!C155","v":"KUZNÍK"},{"$f":"[3]Tabulka!D155","v":"Pavel"},{"$f":"[3]Tabulka!E155","v":"1999-04-21"},{"$f":"[3]Tabulka!F155","v":"Hradec nad Moravicí- FIT SPORT KLUB "},{"$f":"[3]Tabulka!G155","v":"OP"},{"$f":"[3]Tabulka!H155","v":100},{"$f":"+[3]Tabulka!AU155","v":0},{"$f":"+[3]Tabulka!AV155","v":{"v":0,"d":"0.00"}},{"$f":"+[3]Tabulka!AW155","v":0},{"$f":"+[3]Tabulka!AX155","v":{"v":0,"d":"0.00"}},{"$f":"+[3]Tabulka!AY155","v":0},{"$f":"+[3]Tabulka!AZ155","v":{"v":0,"d":"0.00"}},{"$f":"+[3]Tabulka!BA155","v":0},{"$f":"+[3]Tabulka!BB155","v":{"v":0,"d":"0.00"}},{"$f":"+[3]Tabulka!BC155","v":0},{"$f":"+[3]Tabulka!BD155","v":{"v":0,"d":"0.00"}},{"$f":"+[3]Tabulka!BE155","v":0},{"$f":"+[3]Tabulka!BF155","v":{"v":0,"d":"0.00"}},{"$f":"+[3]Tabulka!BG155","v":0},{"$f":"+[3]Tabulka!BH155","v":{"v":0,"d":"0.00"}},{"$f":"+[3]Tabulka!BI155","v":0},{"$f":"+[3]Tabulka!BJ155","v":{"v":0,"d":"0.00"}},{"$f":"+[3]Tabulka!AP155","v":{"v":0,"d":"0.00"}},{"$f":"+[3]Tabulka!AQ155","v":{"v":0,"d":"0.00"}},{"$f":"+[3]Tabulka!BM155","v":{"v":0,"d":"0.00"}},{"$f":"+[3]Tabulka!BN155","v":0},{"$f":"+[3]Tabulka!BO155","v":{"v":0,"d":"0.00"}}]
[null,{"$f":"[3]Tabulka!C156","v":"LACHKÝ"},{"$f":"[3]Tabulka!D156","v":"Petr"},{"$f":"[3]Tabulka!E156","v":"1998-01-19"},{"$f":"[3]Tabulka!F156","v":"Fulnel- TJ"},{"$f":"[3]Tabulka!G156","v":"NJ"},{"$f":"[3]Tabulka!H156","v":100},{"$f":"+[3]Tabulka!AU156","v":0},{"$f":"+[3]Tabulka!AV156","v":{"v":0,"d":"0.00"}},{"$f":"+[3]Tabulka!AW156","v":0},{"$f":"+[3]Tabulka!AX156","v":{"v":0,"d":"0.00"}},{"$f":"+[3]Tabulka!AY156","v":0},{"$f":"+[3]Tabulka!AZ156","v":{"v":0,"d":"0.00"}},{"$f":"+[3]Tabulka!BA156","v":0},{"$f":"+[3]Tabulka!BB156","v":{"v":0,"d":"0.00"}},{"$f":"+[3]Tabulka!BC156","v":0},{"$f":"+[3]Tabulka!BD156","v":{"v":0,"d":"0.00"}},{"$f":"+[3]Tabulka!BE156","v":0},{"$f":"+[3]Tabulka!BF156","v":{"v":0,"d":"0.00"}},{"$f":"+[3]Tabulka!BG156","v":0},{"$f":"+[3]Tabulka!BH156","v":{"v":0,"d":"0.00"}},{"$f":"+[3]Tabulka!BI156","v":0},{"$f":"+[3]Tabulka!BJ156","v":{"v":0,"d":"0.00"}},{"$f":"+[3]Tabulka!AP156","v":{"v":4.391092573372136,"d":"4.39"}},{"$f":"+[3]Tabulka!AQ156","v":{"v":2,"d":"2.00"}},{"$f":"+[3]Tabulka!BM156","v":{"v":0,"d":"0.00"}},{"$f":"+[3]Tabulka!BN156","v":0},{"$f":"+[3]Tabulka!BO156","v":{"v":0,"d":"0.00"}}]
[null,{"$f":"[3]Tabulka!C157","v":"LOPOČ"},{"$f":"[3]Tabulka!D157","v":"Lukáš"},{"$f":"[3]Tabulka!E157","v":"2000-08-15"},{"$f":"[3]Tabulka!F157","v":"Kravaře- SK TJ"},{"$f":"[3]Tabulka!G157","v":"OP"},{"$f":"[3]Tabulka!H157","v":100},{"$f":"+[3]Tabulka!AU157","v":0},{"$f":"+[3]Tabulka!AV157","v":{"v":0,"d":"0.00"}},{"$f":"+[3]Tabulka!AW157","v":0},{"$f":"+[3]Tabulka!AX157","v":{"v":0,"d":"0.00"}},{"$f":"+[3]Tabulka!AY157","v":0},{"$f":"+[3]Tabulka!AZ157","v":{"v":0,"d":"0.00"}},{"$f":"+[3]Tabulka!BA157","v":0},{"$f":"+[3]Tabulka!BB157","v":{"v":0,"d":"0.00"}},{"$f":"+[3]Tabulka!BC157","v":0},{"$f":"+[3]Tabulka!BD157","v":{"v":0,"d":"0.00"}},{"$f":"+[3]Tabulka!BE157","v":0},{"$f":"+[3]Tabulka!BF157","v":{"v":0,"d":"0.00"}},{"$f":"+[3]Tabulka!BG157","v":0},{"$f":"+[3]Tabulka!BH157","v":{"v":0,"d":"0.00"}},{"$f":"+[3]Tabulka!BI157","v":0},{"$f":"+[3]Tabulka!BJ157","v":{"v":0,"d":"0.00"}},{"$f":"+[3]Tabulka!AP157","v":{"v":0,"d":"0.00"}},{"$f":"+[3]Tabulka!AQ157","v":{"v":0,"d":"0.00"}},{"$f":"+[3]Tabulka!BM157","v":{"v":0,"d":"0.00"}},{"$f":"+[3]Tabulka!BN157","v":0},{"$f":"+[3]Tabulka!BO157","v":{"v":0,"d":"0.00"}}]
[null,{"$f":"[3]Tabulka!C158","v":"LORENC"},{"$f":"[3]Tabulka!D158","v":"Martin"},{"$f":"[3]Tabulka!E158","v":"1998-12-08"},{"$f":"[3]Tabulka!F158","v":"Frenštát pod Radhoštěm- TJ"},{"$f":"[3]Tabulka!G158","v":"NJ"},{"$f":"[3]Tabulka!H158","v":100},{"$f":"+[3]Tabulka!AU158","v":0},{"$f":"+[3]Tabulka!AV158","v":{"v":0,"d":"0.00"}},{"$f":"+[3]Tabulka!AW158","v":0},{"$f":"+[3]Tabulka!AX158","v":{"v":0,"d":"0.00"}},{"$f":"+[3]Tabulka!AY158","v":0},{"$f":"+[3]Tabulka!AZ158","v":{"v":0,"d":"0.00"}},{"$f":"+[3]Tabulka!BA158","v":0},{"$f":"+[3]Tabulka!BB158","v":{"v":0,"d":"0.00"}},{"$f":"+[3]Tabulka!BC158","v":0},{"$f":"+[3]Tabulka!BD158","v":{"v":0,"d":"0.00"}},{"$f":"+[3]Tabulka!BE158","v":0},{"$f":"+[3]Tabulka!BF158","v":{"v":0,"d":"0.00"}},{"$f":"+[3]Tabulka!BG158","v":0},{"$f":"+[3]Tabulka!BH158","v":{"v":0,"d":"0.00"}},{"$f":"+[3]Tabulka!BI158","v":0},{"$f":"+[3]Tabulka!BJ158","v":{"v":0,"d":"0.00"}},{"$f":"+[3]Tabulka!AP158","v":{"v":7.159777590754742,"d":"7.16"}},{"$f":"+[3]Tabulka!AQ158","v":{"v":4,"d":"4.00"}},{"$f":"+[3]Tabulka!BM158","v":{"v":0,"d":"0.00"}},{"$f":"+[3]Tabulka!BN158","v":0},{"$f":"+[3]Tabulka!BO158","v":{"v":0,"d":"0.00"}}]
[null,{"$f":"[3]Tabulka!C159","v":"MACÁŠ"},{"$f":"[3]Tabulka!D159","v":"Miroslav"},{"$f":"[3]Tabulka!E159","v":"1900-01-01"},{"$f":"[3]Tabulka!F159","v":"Vítkov- Gymnázium"},{"$f":"[3]Tabulka!G159","v":"OP"},{"$f":"[3]Tabulka!H159","v":0},{"$f":"+[3]Tabulka!AU159","v":0},{"$f":"+[3]Tabulka!AV159","v":{"v":0,"d":"0.00"}},{"$f":"+[3]Tabulka!AW159","v":0},{"$f":"+[3]Tabulka!AX159","v":{"v":0,"d":"0.00"}},{"$f":"+[3]Tabulka!AY159","v":0},{"$f":"+[3]Tabulka!AZ159","v":{"v":0,"d":"0.00"}},{"$f":"+[3]Tabulka!BA159","v":0},{"$f":"+[3]Tabulka!BB159","v":{"v":0,"d":"0.00"}},{"$f":"+[3]Tabulka!BC159","v":0},{"$f":"+[3]Tabulka!BD159","v":{"v":0,"d":"0.00"}},{"$f":"+[3]Tabulka!BE159","v":0},{"$f":"+[3]Tabulka!BF159","v":{"v":0,"d":"0.00"}},{"$f":"+[3]Tabulka!BG159","v":0},{"$f":"+[3]Tabulka!BH159","v":{"v":0,"d":"0.00"}},{"$f":"+[3]Tabulka!BI159","v":0},{"$f":"+[3]Tabulka!BJ159","v":{"v":0,"d":"0.00"}},{"$f":"+[3]Tabulka!AP159","v":{"v":0,"d":"0.00"}},{"$f":"+[3]Tabulka!AQ159","v":{"v":0,"d":"0.00"}},{"$f":"+[3]Tabulka!BM159","v":{"v":0,"d":"0.00"}},{"$f":"+[3]Tabulka!BN159","v":0},{"$f":"+[3]Tabulka!BO159","v":{"v":0,"d":"0.00"}}]
[null,{"$f":"[3]Tabulka!C160","v":"MACKO"},{"$f":"[3]Tabulka!D160","v":"René"},{"$f":"[3]Tabulka!E160","v":"1999-01-01"},{"$f":"[3]Tabulka!F160","v":"Karviná-Lázně Darkov- Slovan VOKD TJ"},{"$f":"[3]Tabulka!G160","v":"KA"},{"$f":"[3]Tabulka!H160","v":0},{"$f":"+[3]Tabulka!AU160","v":0},{"$f":"+[3]Tabulka!AV160","v":{"v":0,"d":"0.00"}},{"$f":"+[3]Tabulka!AW160","v":0},{"$f":"+[3]Tabulka!AX160","v":{"v":0,"d":"0.00"}},{"$f":"+[3]Tabulka!AY160","v":0},{"$f":"+[3]Tabulka!AZ160","v":{"v":0,"d":"0.00"}},{"$f":"+[3]Tabulka!BA160","v":0},{"$f":"+[3]Tabulka!BB160","v":{"v":0,"d":"0.00"}},{"$f":"+[3]Tabulka!BC160","v":0},{"$f":"+[3]Tabulka!BD160","v":{"v":0,"d":"0.00"}},{"$f":"+[3]Tabulka!BE160","v":0},{"$f":"+[3]Tabulka!BF160","v":{"v":0,"d":"0.00"}},{"$f":"+[3]Tabulka!BG160","v":0},{"$f":"+[3]Tabulka!BH160","v":{"v":0,"d":"0.00"}},{"$f":"+[3]Tabulka!BI160","v":0},{"$f":"+[3]Tabulka!BJ160","v":{"v":0,"d":"0.00"}},{"$f":"+[3]Tabulka!AP160","v":{"v":0,"d":"0.00"}},{"$f":"+[3]Tabulka!AQ160","v":{"v":0,"d":"0.00"}},{"$f":"+[3]Tabulka!BM160","v":{"v":0,"d":"0.00"}},{"$f":"+[3]Tabulka!BN160","v":0},{"$f":"+[3]Tabulka!BO160","v":{"v":0,"d":"0.00"}}]
[null,{"$f":"[3]Tabulka!C161","v":"MACHALLA"},{"$f":"[3]Tabulka!D161","v":"Lubomír"},{"$f":"[3]Tabulka!E161","v":"1997-12-19"},{"$f":"[3]Tabulka!F161","v":"Hať- TTC"},{"$f":"[3]Tabulka!G161","v":"OP"},{"$f":"[3]Tabulka!H161","v":100},{"$f":"+[3]Tabulka!AU161","v":0},{"$f":"+[3]Tabulka!AV161","v":{"v":0,"d":"0.00"}},{"$f":"+[3]Tabulka!AW161","v":0},{"$f":"+[3]Tabulka!AX161","v":{"v":0,"d":"0.00"}},{"$f":"+[3]Tabulka!AY161","v":0},{"$f":"+[3]Tabulka!AZ161","v":{"v":0,"d":"0.00"}},{"$f":"+[3]Tabulka!BA161","v":0},{"$f":"+[3]Tabulka!BB161","v":{"v":0,"d":"0.00"}},{"$f":"+[3]Tabulka!BC161","v":0},{"$f":"+[3]Tabulka!BD161","v":{"v":0,"d":"0.00"}},{"$f":"+[3]Tabulka!BE161","v":0},{"$f":"+[3]Tabulka!BF161","v":{"v":0,"d":"0.00"}},{"$f":"+[3]Tabulka!BG161","v":0},{"$f":"+[3]Tabulka!BH161","v":{"v":0,"d":"0.00"}},{"$f":"+[3]Tabulka!BI161","v":0},{"$f":"+[3]Tabulka!BJ161","v":{"v":0,"d":"0.00"}},{"$f":"+[3]Tabulka!AP161","v":{"v":0,"d":"0.00"}},{"$f":"+[3]Tabulka!AQ161","v":{"v":0,"d":"0.00"}},{"$f":"+[3]Tabulka!BM161","v":{"v":0,"d":"0.00"}},{"$f":"+[3]Tabulka!BN161","v":0},{"$f":"+[3]Tabulka!BO161","v":{"v":0,"d":"0.00"}}]
[null,{"$f":"[3]Tabulka!C162","v":"MARTIŇÁK"},{"$f":"[3]Tabulka!D162","v":"Vojtěch"},{"$f":"[3]Tabulka!E162","v":"2002-05-17"},{"$f":"[3]Tabulka!F162","v":"Frenštát pod Radhoštěm- TJ"},{"$f":"[3]Tabulka!G162","v":"NJ"},{"$f":"[3]Tabulka!H162","v":100},{"$f":"+[3]Tabulka!AU162","v":0},{"$f":"+[3]Tabulka!AV162","v":{"v":0,"d":"0.00"}},{"$f":"+[3]Tabulka!AW162","v":0},{"$f":"+[3]Tabulka!AX162","v":{"v":0,"d":"0.00"}},{"$f":"+[3]Tabulka!AY162","v":0},{"$f":"+[3]Tabulka!AZ162","v":{"v":0,"d":"0.00"}},{"$f":"+[3]Tabulka!BA162","v":0},{"$f":"+[3]Tabulka!BB162","v":{"v":0,"d":"0.00"}},{"$f":"+[3]Tabulka!BC162","v":0},{"$f":"+[3]Tabulka!BD162","v":{"v":0,"d":"0.00"}},{"$f":"+[3]Tabulka!BE162","v":0},{"$f":"+[3]Tabulka!BF162","v":{"v":0,"d":"0.00"}},{"$f":"+[3]Tabulka!BG162","v":0},{"$f":"+[3]Tabulka!BH162","v":{"v":0,"d":"0.00"}},{"$f":"+[3]Tabulka!BI162","v":0},{"$f":"+[3]Tabulka!BJ162","v":{"v":0,"d":"0.00"}},{"$f":"+[3]Tabulka!AP162","v":{"v":2.0722796568924307,"d":"2.07"}},{"$f":"+[3]Tabulka!AQ162","v":{"v":4,"d":"4.00"}},{"$f":"+[3]Tabulka!BM162","v":{"v":0,"d":"0.00"}},{"$f":"+[3]Tabulka!BN162","v":0},{"$f":"+[3]Tabulka!BO162","v":{"v":0,"d":"0.00"}}]
[null,{"$f":"[3]Tabulka!C163","v":"MARTINKO"},{"$f":"[3]Tabulka!D163","v":"Jiří"},{"$f":"[3]Tabulka!E163","v":"1999-10-13"},{"$f":"[3]Tabulka!F163","v":"Ostrava- Mittal TJ"},{"$f":"[3]Tabulka!G163","v":"OV"},{"$f":"[3]Tabulka!H163","v":100},{"$f":"+[3]Tabulka!AU163","v":0},{"$f":"+[3]Tabulka!AV163","v":{"v":0,"d":"0.00"}},{"$f":"+[3]Tabulka!AW163","v":0},{"$f":"+[3]Tabulka!AX163","v":{"v":0,"d":"0.00"}},{"$f":"+[3]Tabulka!AY163","v":0},{"$f":"+[3]Tabulka!AZ163","v":{"v":0,"d":"0.00"}},{"$f":"+[3]Tabulka!BA163","v":0},{"$f":"+[3]Tabulka!BB163","v":{"v":0,"d":"0.00"}},{"$f":"+[3]Tabulka!BC163","v":0},{"$f":"+[3]Tabulka!BD163","v":{"v":0,"d":"0.00"}},{"$f":"+[3]Tabulka!BE163","v":0},{"$f":"+[3]Tabulka!BF163","v":{"v":0,"d":"0.00"}},{"$f":"+[3]Tabulka!BG163","v":0},{"$f":"+[3]Tabulka!BH163","v":{"v":0,"d":"0.00"}},{"$f":"+[3]Tabulka!BI163","v":0},{"$f":"+[3]Tabulka!BJ163","v":{"v":0,"d":"0.00"}},{"$f":"+[3]Tabulka!AP163","v":{"v":57.670342054052824,"d":"57.67"}},{"$f":"+[3]Tabulka!AQ163","v":{"v":3,"d":"3.00"}},{"$f":"+[3]Tabulka!BM163","v":{"v":0,"d":"0.00"}},{"$f":"+[3]Tabulka!BN163","v":0},{"$f":"+[3]Tabulka!BO163","v":{"v":0,"d":"0.00"}}]
[null,{"$f":"[3]Tabulka!C164","v":"MARTINKO"},{"$f":"[3]Tabulka!D164","v":"Tomáš"},{"$f":"[3]Tabulka!E164","v":"2002-07-07"},{"$f":"[3]Tabulka!F164","v":"Ostrava- Mittal TJ"},{"$f":"[3]Tabulka!G164","v":"OV"},{"$f":"[3]Tabulka!H164","v":100},{"$f":"+[3]Tabulka!AU164","v":0},{"$f":"+[3]Tabulka!AV164","v":{"v":0,"d":"0.00"}},{"$f":"+[3]Tabulka!AW164","v":0},{"$f":"+[3]Tabulka!AX164","v":{"v":0,"d":"0.00"}},{"$f":"+[3]Tabulka!AY164","v":0},{"$f":"+[3]Tabulka!AZ164","v":{"v":0,"d":"0.00"}},{"$f":"+[3]Tabulka!BA164","v":0},{"$f":"+[3]Tabulka!BB164","v":{"v":0,"d":"0.00"}},{"$f":"+[3]Tabulka!BC164","v":0},{"$f":"+[3]Tabulka!BD164","v":{"v":0,"d":"0.00"}},{"$f":"+[3]Tabulka!BE164","v":0},{"$f":"+[3]Tabulka!BF164","v":{"v":0,"d":"0.00"}},{"$f":"+[3]Tabulka!BG164","v":0},{"$f":"+[3]Tabulka!BH164","v":{"v":0,"d":"0.00"}},{"$f":"+[3]Tabulka!BI164","v":0},{"$f":"+[3]Tabulka!BJ164","v":{"v":0,"d":"0.00"}},{"$f":"+[3]Tabulka!AP164","v":{"v":24.86408514030476,"d":"24.86"}},{"$f":"+[3]Tabulka!AQ164","v":{"v":3,"d":"3.00"}},{"$f":"+[3]Tabulka!BM164","v":{"v":0,"d":"0.00"}},{"$f":"+[3]Tabulka!BN164","v":0},{"$f":"+[3]Tabulka!BO164","v":{"v":0,"d":"0.00"}}]
[null,{"$f":"[3]Tabulka!C165","v":"MECHÚR"},{"$f":"[3]Tabulka!D165","v":"Ondřej"},{"$f":"[3]Tabulka!E165","v":"2001-01-01"},{"$f":"[3]Tabulka!F165","v":"Karviná- KLUBsten KST"},{"$f":"[3]Tabulka!G165","v":"KA"},{"$f":"[3]Tabulka!H165","v":0},{"$f":"+[3]Tabulka!AU165","v":0},{"$f":"+[3]Tabulka!AV165","v":{"v":0,"d":"0.00"}},{"$f":"+[3]Tabulka!AW165","v":0},{"$f":"+[3]Tabulka!AX165","v":{"v":0,"d":"0.00"}},{"$f":"+[3]Tabulka!AY165","v":0},{"$f":"+[3]Tabulka!AZ165","v":{"v":0,"d":"0.00"}},{"$f":"+[3]Tabulka!BA165","v":0},{"$f":"+[3]Tabulka!BB165","v":{"v":0,"d":"0.00"}},{"$f":"+[3]Tabulka!BC165","v":0},{"$f":"+[3]Tabulka!BD165","v":{"v":0,"d":"0.00"}},{"$f":"+[3]Tabulka!BE165","v":0},{"$f":"+[3]Tabulka!BF165","v":{"v":0,"d":"0.00"}},{"$f":"+[3]Tabulka!BG165","v":0},{"$f":"+[3]Tabulka!BH165","v":{"v":0,"d":"0.00"}},{"$f":"+[3]Tabulka!BI165","v":0},{"$f":"+[3]Tabulka!BJ165","v":{"v":0,"d":"0.00"}},{"$f":"+[3]Tabulka!AP165","v":{"v":0,"d":"0.00"}},{"$f":"+[3]Tabulka!AQ165","v":{"v":0,"d":"0.00"}},{"$f":"+[3]Tabulka!BM165","v":{"v":0,"d":"0.00"}},{"$f":"+[3]Tabulka!BN165","v":0},{"$f":"+[3]Tabulka!BO165","v":{"v":0,"d":"0.00"}}]
[null,{"$f":"[3]Tabulka!C166","v":"MENŠÍK"},{"$f":"[3]Tabulka!D166","v":"Jiří"},{"$f":"[3]Tabulka!E166","v":"1900-01-01"},{"$f":"[3]Tabulka!F166","v":"Frýdlant nad Ostravicí- SK"},{"$f":"[3]Tabulka!G166","v":"FM"},{"$f":"[3]Tabulka!H166","v":0},{"$f":"+[3]Tabulka!AU166","v":0},{"$f":"+[3]Tabulka!AV166","v":{"v":0,"d":"0.00"}},{"$f":"+[3]Tabulka!AW166","v":0},{"$f":"+[3]Tabulka!AX166","v":{"v":0,"d":"0.00"}},{"$f":"+[3]Tabulka!AY166","v":0},{"$f":"+[3]Tabulka!AZ166","v":{"v":0,"d":"0.00"}},{"$f":"+[3]Tabulka!BA166","v":0},{"$f":"+[3]Tabulka!BB166","v":{"v":0,"d":"0.00"}},{"$f":"+[3]Tabulka!BC166","v":0},{"$f":"+[3]Tabulka!BD166","v":{"v":0,"d":"0.00"}},{"$f":"+[3]Tabulka!BE166","v":0},{"$f":"+[3]Tabulka!BF166","v":{"v":0,"d":"0.00"}},{"$f":"+[3]Tabulka!BG166","v":0},{"$f":"+[3]Tabulka!BH166","v":{"v":0,"d":"0.00"}},{"$f":"+[3]Tabulka!BI166","v":0},{"$f":"+[3]Tabulka!BJ166","v":{"v":0,"d":"0.00"}},{"$f":"+[3]Tabulka!AP166","v":{"v":0,"d":"0.00"}},{"$f":"+[3]Tabulka!AQ166","v":{"v":0,"d":"0.00"}},{"$f":"+[3]Tabulka!BM166","v":{"v":0,"d":"0.00"}},{"$f":"+[3]Tabulka!BN166","v":0},{"$f":"+[3]Tabulka!BO166","v":{"v":0,"d":"0.00"}}]
[null,{"$f":"[3]Tabulka!C167","v":"MICHNA"},{"$f":"[3]Tabulka!D167","v":"Martin"},{"$f":"[3]Tabulka!E167","v":"1999-01-01"},{"$f":"[3]Tabulka!F167","v":"Paskov- Orel"},{"$f":"[3]Tabulka!G167","v":"FM"},{"$f":"[3]Tabulka!H167","v":0},{"$f":"+[3]Tabulka!AU167","v":0},{"$f":"+[3]Tabulka!AV167","v":{"v":0,"d":"0.00"}},{"$f":"+[3]Tabulka!AW167","v":0},{"$f":"+[3]Tabulka!AX167","v":{"v":0,"d":"0.00"}},{"$f":"+[3]Tabulka!AY167","v":0},{"$f":"+[3]Tabulka!AZ167","v":{"v":0,"d":"0.00"}},{"$f":"+[3]Tabulka!BA167","v":0},{"$f":"+[3]Tabulka!BB167","v":{"v":0,"d":"0.00"}},{"$f":"+[3]Tabulka!BC167","v":0},{"$f":"+[3]Tabulka!BD167","v":{"v":0,"d":"0.00"}},{"$f":"+[3]Tabulka!BE167","v":0},{"$f":"+[3]Tabulka!BF167","v":{"v":0,"d":"0.00"}},{"$f":"+[3]Tabulka!BG167","v":0},{"$f":"+[3]Tabulka!BH167","v":{"v":0,"d":"0.00"}},{"$f":"+[3]Tabulka!BI167","v":0},{"$f":"+[3]Tabulka!BJ167","v":{"v":0,"d":"0.00"}},{"$f":"+[3]Tabulka!AP167","v":{"v":0,"d":"0.00"}},{"$f":"+[3]Tabulka!AQ167","v":{"v":0,"d":"0.00"}},{"$f":"+[3]Tabulka!BM167","v":{"v":0,"d":"0.00"}},{"$f":"+[3]Tabulka!BN167","v":0},{"$f":"+[3]Tabulka!BO167","v":{"v":0,"d":"0.00"}}]
[null,{"$f":"[3]Tabulka!C168","v":"MIKOLAŠÍK"},{"$f":"[3]Tabulka!D168","v":"Michal"},{"$f":"[3]Tabulka!E168","v":"1999-02-02"},{"$f":"[3]Tabulka!F168","v":"Havířov- Baník SKST"},{"$f":"[3]Tabulka!G168","v":"KA"},{"$f":"[3]Tabulka!H168","v":100},{"$f":"+[3]Tabulka!AU168","v":0},{"$f":"+[3]Tabulka!AV168","v":{"v":0,"d":"0.00"}},{"$f":"+[3]Tabulka!AW168","v":0},{"$f":"+[3]Tabulka!AX168","v":{"v":0,"d":"0.00"}},{"$f":"+[3]Tabulka!AY168","v":0},{"$f":"+[3]Tabulka!AZ168","v":{"v":0,"d":"0.00"}},{"$f":"+[3]Tabulka!BA168","v":0},{"$f":"+[3]Tabulka!BB168","v":{"v":0,"d":"0.00"}},{"$f":"+[3]Tabulka!BC168","v":0},{"$f":"+[3]Tabulka!BD168","v":{"v":0,"d":"0.00"}},{"$f":"+[3]Tabulka!BE168","v":0},{"$f":"+[3]Tabulka!BF168","v":{"v":0,"d":"0.00"}},{"$f":"+[3]Tabulka!BG168","v":0},{"$f":"+[3]Tabulka!BH168","v":{"v":0,"d":"0.00"}},{"$f":"+[3]Tabulka!BI168","v":0},{"$f":"+[3]Tabulka!BJ168","v":{"v":0,"d":"0.00"}},{"$f":"+[3]Tabulka!AP168","v":{"v":11.31490364584015,"d":"11.31"}},{"$f":"+[3]Tabulka!AQ168","v":{"v":1,"d":"1.00"}},{"$f":"+[3]Tabulka!BM168","v":{"v":0,"d":"0.00"}},{"$f":"+[3]Tabulka!BN168","v":0},{"$f":"+[3]Tabulka!BO168","v":{"v":0,"d":"0.00"}}]
[null,{"$f":"[3]Tabulka!C169","v":"MIKUŠ"},{"$f":"[3]Tabulka!D169","v":"Ondřej"},{"$f":"[3]Tabulka!E169","v":"2000-02-20"},{"$f":"[3]Tabulka!F169","v":"Kateřinky- Sokol TJ"},{"$f":"[3]Tabulka!G169","v":"OP"},{"$f":"[3]Tabulka!H169","v":100},{"$f":"+[3]Tabulka!AU169","v":0},{"$f":"+[3]Tabulka!AV169","v":{"v":0,"d":"0.00"}},{"$f":"+[3]Tabulka!AW169","v":0},{"$f":"+[3]Tabulka!AX169","v":{"v":0,"d":"0.00"}},{"$f":"+[3]Tabulka!AY169","v":0},{"$f":"+[3]Tabulka!AZ169","v":{"v":0,"d":"0.00"}},{"$f":"+[3]Tabulka!BA169","v":0},{"$f":"+[3]Tabulka!BB169","v":{"v":0,"d":"0.00"}},{"$f":"+[3]Tabulka!BC169","v":0},{"$f":"+[3]Tabulka!BD169","v":{"v":0,"d":"0.00"}},{"$f":"+[3]Tabulka!BE169","v":0},{"$f":"+[3]Tabulka!BF169","v":{"v":0,"d":"0.00"}},{"$f":"+[3]Tabulka!BG169","v":0},{"$f":"+[3]Tabulka!BH169","v":{"v":0,"d":"0.00"}},{"$f":"+[3]Tabulka!BI169","v":0},{"$f":"+[3]Tabulka!BJ169","v":{"v":0,"d":"0.00"}},{"$f":"+[3]Tabulka!AP169","v":{"v":0.09747793477759878,"d":"0.10"}},{"$f":"+[3]Tabulka!AQ169","v":{"v":1,"d":"1.00"}},{"$f":"+[3]Tabulka!BM169","v":{"v":0,"d":"0.00"}},{"$f":"+[3]Tabulka!BN169","v":0},{"$f":"+[3]Tabulka!BO169","v":{"v":0,"d":"0.00"}}]
[null,{"$f":"[3]Tabulka!C170","v":"MILAR"},{"$f":"[3]Tabulka!D170","v":"Matěj"},{"$f":"[3]Tabulka!E170","v":"1900-01-01"},{"$f":"[3]Tabulka!F170","v":"Frýdlant nad Ostravicí- SK"},{"$f":"[3]Tabulka!G170","v":"FM"},{"$f":"[3]Tabulka!H170","v":0},{"$f":"+[3]Tabulka!AU170","v":0},{"$f":"+[3]Tabulka!AV170","v":{"v":0,"d":"0.00"}},{"$f":"+[3]Tabulka!AW170","v":0},{"$f":"+[3]Tabulka!AX170","v":{"v":0,"d":"0.00"}},{"$f":"+[3]Tabulka!AY170","v":0},{"$f":"+[3]Tabulka!AZ170","v":{"v":0,"d":"0.00"}},{"$f":"+[3]Tabulka!BA170","v":0},{"$f":"+[3]Tabulka!BB170","v":{"v":0,"d":"0.00"}},{"$f":"+[3]Tabulka!BC170","v":0},{"$f":"+[3]Tabulka!BD170","v":{"v":0,"d":"0.00"}},{"$f":"+[3]Tabulka!BE170","v":0},{"$f":"+[3]Tabulka!BF170","v":{"v":0,"d":"0.00"}},{"$f":"+[3]Tabulka!BG170","v":0},{"$f":"+[3]Tabulka!BH170","v":{"v":0,"d":"0.00"}},{"$f":"+[3]Tabulka!BI170","v":0},{"$f":"+[3]Tabulka!BJ170","v":{"v":0,"d":"0.00"}},{"$f":"+[3]Tabulka!AP170","v":{"v":0,"d":"0.00"}},{"$f":"+[3]Tabulka!AQ170","v":{"v":0,"d":"0.00"}},{"$f":"+[3]Tabulka!BM170","v":{"v":0,"d":"0.00"}},{"$f":"+[3]Tabulka!BN170","v":0},{"$f":"+[3]Tabulka!BO170","v":{"v":0,"d":"0.00"}}]
[null,{"$f":"[3]Tabulka!C171","v":"MILOTOVÁ"},{"$f":"[3]Tabulka!D171","v":"Kateřina"},{"$f":"[3]Tabulka!E171","v":"1900-01-01"},{"$f":"[3]Tabulka!F171","v":"Bobrovníky- Sokol TJ"},{"$f":"[3]Tabulka!G171","v":"OP"},{"$f":"[3]Tabulka!H171","v":0},{"$f":"+[3]Tabulka!AU171","v":0},{"$f":"+[3]Tabulka!AV171","v":{"v":0,"d":"0.00"}},{"$f":"+[3]Tabulka!AW171","v":0},{"$f":"+[3]Tabulka!AX171","v":{"v":0,"d":"0.00"}},{"$f":"+[3]Tabulka!AY171","v":0},{"$f":"+[3]Tabulka!AZ171","v":{"v":0,"d":"0.00"}},{"$f":"+[3]Tabulka!BA171","v":0},{"$f":"+[3]Tabulka!BB171","v":{"v":0,"d":"0.00"}},{"$f":"+[3]Tabulka!BC171","v":0},{"$f":"+[3]Tabulka!BD171","v":{"v":0,"d":"0.00"}},{"$f":"+[3]Tabulka!BE171","v":0},{"$f":"+[3]Tabulka!BF171","v":{"v":0,"d":"0.00"}},{"$f":"+[3]Tabulka!BG171","v":0},{"$f":"+[3]Tabulka!BH171","v":{"v":0,"d":"0.00"}},{"$f":"+[3]Tabulka!BI171","v":0},{"$f":"+[3]Tabulka!BJ171","v":{"v":0,"d":"0.00"}},{"$f":"+[3]Tabulka!AP171","v":{"v":0,"d":"0.00"}},{"$f":"+[3]Tabulka!AQ171","v":{"v":0,"d":"0.00"}},{"$f":"+[3]Tabulka!BM171","v":{"v":0,"d":"0.00"}},{"$f":"+[3]Tabulka!BN171","v":0},{"$f":"+[3]Tabulka!BO171","v":{"v":0,"d":"0.00"}}]
[null,{"$f":"[3]Tabulka!C172","v":"MLÝNEK"},{"$f":"[3]Tabulka!D172","v":"Patrik"},{"$f":"[3]Tabulka!E172","v":"1997-04-12"},{"$f":"[3]Tabulka!F172","v":"Frýdek-Místek- Slezan TJ"},{"$f":"[3]Tabulka!G172","v":"FM"},{"$f":"[3]Tabulka!H172","v":100},{"$f":"+[3]Tabulka!AU172","v":0},{"$f":"+[3]Tabulka!AV172","v":{"v":0,"d":"0.00"}},{"$f":"+[3]Tabulka!AW172","v":0},{"$f":"+[3]Tabulka!AX172","v":{"v":0,"d":"0.00"}},{"$f":"+[3]Tabulka!AY172","v":0},{"$f":"+[3]Tabulka!AZ172","v":{"v":0,"d":"0.00"}},{"$f":"+[3]Tabulka!BA172","v":0},{"$f":"+[3]Tabulka!BB172","v":{"v":0,"d":"0.00"}},{"$f":"+[3]Tabulka!BC172","v":0},{"$f":"+[3]Tabulka!BD172","v":{"v":0,"d":"0.00"}},{"$f":"+[3]Tabulka!BE172","v":0},{"$f":"+[3]Tabulka!BF172","v":{"v":0,"d":"0.00"}},{"$f":"+[3]Tabulka!BG172","v":0},{"$f":"+[3]Tabulka!BH172","v":{"v":0,"d":"0.00"}},{"$f":"+[3]Tabulka!BI172","v":0},{"$f":"+[3]Tabulka!BJ172","v":{"v":0,"d":"0.00"}},{"$f":"+[3]Tabulka!AP172","v":{"v":0,"d":"0.00"}},{"$f":"+[3]Tabulka!AQ172","v":{"v":0,"d":"0.00"}},{"$f":"+[3]Tabulka!BM172","v":{"v":0,"d":"0.00"}},{"$f":"+[3]Tabulka!BN172","v":0},{"$f":"+[3]Tabulka!BO172","v":{"v":0,"d":"0.00"}}]
[null,{"$f":"[3]Tabulka!C173","v":"MORYS"},{"$f":"[3]Tabulka!D173","v":"Patrik"},{"$f":"[3]Tabulka!E173","v":"1999-01-01"},{"$f":"[3]Tabulka!F173","v":"Ostrava- Domik"},{"$f":"[3]Tabulka!G173","v":"OV"},{"$f":"[3]Tabulka!H173","v":0},{"$f":"+[3]Tabulka!AU173","v":0},{"$f":"+[3]Tabulka!AV173","v":{"v":0,"d":"0.00"}},{"$f":"+[3]Tabulka!AW173","v":0},{"$f":"+[3]Tabulka!AX173","v":{"v":0,"d":"0.00"}},{"$f":"+[3]Tabulka!AY173","v":0},{"$f":"+[3]Tabulka!AZ173","v":{"v":0,"d":"0.00"}},{"$f":"+[3]Tabulka!BA173","v":0},{"$f":"+[3]Tabulka!BB173","v":{"v":0,"d":"0.00"}},{"$f":"+[3]Tabulka!BC173","v":0},{"$f":"+[3]Tabulka!BD173","v":{"v":0,"d":"0.00"}},{"$f":"+[3]Tabulka!BE173","v":0},{"$f":"+[3]Tabulka!BF173","v":{"v":0,"d":"0.00"}},{"$f":"+[3]Tabulka!BG173","v":0},{"$f":"+[3]Tabulka!BH173","v":{"v":0,"d":"0.00"}},{"$f":"+[3]Tabulka!BI173","v":0},{"$f":"+[3]Tabulka!BJ173","v":{"v":0,"d":"0.00"}},{"$f":"+[3]Tabulka!AP173","v":{"v":0,"d":"0.00"}},{"$f":"+[3]Tabulka!AQ173","v":{"v":0,"d":"0.00"}},{"$f":"+[3]Tabulka!BM173","v":{"v":0,"d":"0.00"}},{"$f":"+[3]Tabulka!BN173","v":0},{"$f":"+[3]Tabulka!BO173","v":{"v":0,"d":"0.00"}}]
[null,{"$f":"[3]Tabulka!C174","v":"MUROŇ"},{"$f":"[3]Tabulka!D174","v":"Ondřej"},{"$f":"[3]Tabulka!E174","v":"1999-11-05"},{"$f":"[3]Tabulka!F174","v":"Kateřinky- Sokol TJ"},{"$f":"[3]Tabulka!G174","v":"OP"},{"$f":"[3]Tabulka!H174","v":100},{"$f":"+[3]Tabulka!AU174","v":0},{"$f":"+[3]Tabulka!AV174","v":{"v":0,"d":"0.00"}},{"$f":"+[3]Tabulka!AW174","v":0},{"$f":"+[3]Tabulka!AX174","v":{"v":0,"d":"0.00"}},{"$f":"+[3]Tabulka!AY174","v":0},{"$f":"+[3]Tabulka!AZ174","v":{"v":0,"d":"0.00"}},{"$f":"+[3]Tabulka!BA174","v":0},{"$f":"+[3]Tabulka!BB174","v":{"v":0,"d":"0.00"}},{"$f":"+[3]Tabulka!BC174","v":0},{"$f":"+[3]Tabulka!BD174","v":{"v":0,"d":"0.00"}},{"$f":"+[3]Tabulka!BE174","v":0},{"$f":"+[3]Tabulka!BF174","v":{"v":0,"d":"0.00"}},{"$f":"+[3]Tabulka!BG174","v":0},{"$f":"+[3]Tabulka!BH174","v":{"v":0,"d":"0.00"}},{"$f":"+[3]Tabulka!BI174","v":0},{"$f":"+[3]Tabulka!BJ174","v":{"v":0,"d":"0.00"}},{"$f":"+[3]Tabulka!AP174","v":{"v":1.182918619199373,"d":"1.18"}},{"$f":"+[3]Tabulka!AQ174","v":{"v":3,"d":"3.00"}},{"$f":"+[3]Tabulka!BM174","v":{"v":0,"d":"0.00"}},{"$f":"+[3]Tabulka!BN174","v":0},{"$f":"+[3]Tabulka!BO174","v":{"v":0,"d":"0.00"}}]
[null,{"$f":"[3]Tabulka!C175","v":"NAPRAVIL"},{"$f":"[3]Tabulka!D175","v":"Daniel"},{"$f":"[3]Tabulka!E175","v":"1997-01-01"},{"$f":"[3]Tabulka!F175","v":"Karviná- KLUBsten KST"},{"$f":"[3]Tabulka!G175","v":"KA"},{"$f":"[3]Tabulka!H175","v":0},{"$f":"+[3]Tabulka!AU175","v":0},{"$f":"+[3]Tabulka!AV175","v":{"v":0,"d":"0.00"}},{"$f":"+[3]Tabulka!AW175","v":0},{"$f":"+[3]Tabulka!AX175","v":{"v":0,"d":"0.00"}},{"$f":"+[3]Tabulka!AY175","v":0},{"$f":"+[3]Tabulka!AZ175","v":{"v":0,"d":"0.00"}},{"$f":"+[3]Tabulka!BA175","v":0},{"$f":"+[3]Tabulka!BB175","v":{"v":0,"d":"0.00"}},{"$f":"+[3]Tabulka!BC175","v":0},{"$f":"+[3]Tabulka!BD175","v":{"v":0,"d":"0.00"}},{"$f":"+[3]Tabulka!BE175","v":0},{"$f":"+[3]Tabulka!BF175","v":{"v":0,"d":"0.00"}},{"$f":"+[3]Tabulka!BG175","v":0},{"$f":"+[3]Tabulka!BH175","v":{"v":0,"d":"0.00"}},{"$f":"+[3]Tabulka!BI175","v":0},{"$f":"+[3]Tabulka!BJ175","v":{"v":0,"d":"0.00"}},{"$f":"+[3]Tabulka!AP175","v":{"v":0,"d":"0.00"}},{"$f":"+[3]Tabulka!AQ175","v":{"v":0,"d":"0.00"}},{"$f":"+[3]Tabulka!BM175","v":{"v":0,"d":"0.00"}},{"$f":"+[3]Tabulka!BN175","v":0},{"$f":"+[3]Tabulka!BO175","v":{"v":0,"d":"0.00"}}]
[null,{"$f":"[3]Tabulka!C176","v":"NEMÉTHOVÁ"},{"$f":"[3]Tabulka!D176","v":"Štěpánka"},{"$f":"[3]Tabulka!E176","v":"1999-01-01"},{"$f":"[3]Tabulka!F176","v":"Kopřivnice- Tatra  ASK"},{"$f":"[3]Tabulka!G176","v":"NJ"},{"$f":"[3]Tabulka!H176","v":0},{"$f":"+[3]Tabulka!AU176","v":0},{"$f":"+[3]Tabulka!AV176","v":{"v":0,"d":"0.00"}},{"$f":"+[3]Tabulka!AW176","v":0},{"$f":"+[3]Tabulka!AX176","v":{"v":0,"d":"0.00"}},{"$f":"+[3]Tabulka!AY176","v":0},{"$f":"+[3]Tabulka!AZ176","v":{"v":0,"d":"0.00"}},{"$f":"+[3]Tabulka!BA176","v":0},{"$f":"+[3]Tabulka!BB176","v":{"v":0,"d":"0.00"}},{"$f":"+[3]Tabulka!BC176","v":0},{"$f":"+[3]Tabulka!BD176","v":{"v":0,"d":"0.00"}},{"$f":"+[3]Tabulka!BE176","v":0},{"$f":"+[3]Tabulka!BF176","v":{"v":0,"d":"0.00"}},{"$f":"+[3]Tabulka!BG176","v":0},{"$f":"+[3]Tabulka!BH176","v":{"v":0,"d":"0.00"}},{"$f":"+[3]Tabulka!BI176","v":0},{"$f":"+[3]Tabulka!BJ176","v":{"v":0,"d":"0.00"}},{"$f":"+[3]Tabulka!AP176","v":{"v":0.08059656594137429,"d":"0.08"}},{"$f":"+[3]Tabulka!AQ176","v":{"v":1,"d":"1.00"}},{"$f":"+[3]Tabulka!BM176","v":{"v":0,"d":"0.00"}},{"$f":"+[3]Tabulka!BN176","v":0},{"$f":"+[3]Tabulka!BO176","v":{"v":0,"d":"0.00"}}]
[null,{"$f":"[3]Tabulka!C177","v":"NGUYEN"},{"$f":"[3]Tabulka!D177","v":"David"},{"$f":"[3]Tabulka!E177","v":"1996-03-14"},{"$f":"[3]Tabulka!F177","v":"Opava- KST Slezan "},{"$f":"[3]Tabulka!G177","v":"OP"},{"$f":"[3]Tabulka!H177","v":100},{"$f":"+[3]Tabulka!AU177","v":0},{"$f":"+[3]Tabulka!AV177","v":{"v":0,"d":"0.00"}},{"$f":"+[3]Tabulka!AW177","v":0},{"$f":"+[3]Tabulka!AX177","v":{"v":0,"d":"0.00"}},{"$f":"+[3]Tabulka!AY177","v":0},{"$f":"+[3]Tabulka!AZ177","v":{"v":0,"d":"0.00"}},{"$f":"+[3]Tabulka!BA177","v":0},{"$f":"+[3]Tabulka!BB177","v":{"v":0,"d":"0.00"}},{"$f":"+[3]Tabulka!BC177","v":0},{"$f":"+[3]Tabulka!BD177","v":{"v":0,"d":"0.00"}},{"$f":"+[3]Tabulka!BE177","v":0},{"$f":"+[3]Tabulka!BF177","v":{"v":0,"d":"0.00"}},{"$f":"+[3]Tabulka!BG177","v":0},{"$f":"+[3]Tabulka!BH177","v":{"v":0,"d":"0.00"}},{"$f":"+[3]Tabulka!BI177","v":0},{"$f":"+[3]Tabulka!BJ177","v":{"v":0,"d":"0.00"}},{"$f":"+[3]Tabulka!AP177","v":{"v":0,"d":"0.00"}},{"$f":"+[3]Tabulka!AQ177","v":{"v":0,"d":"0.00"}},{"$f":"+[3]Tabulka!BM177","v":{"v":0,"d":"0.00"}},{"$f":"+[3]Tabulka!BN177","v":0},{"$f":"+[3]Tabulka!BO177","v":{"v":0,"d":"0.00"}}]
[null,{"$f":"[3]Tabulka!C178","v":"NOVÁK"},{"$f":"[3]Tabulka!D178","v":"Michal"},{"$f":"[3]Tabulka!E178","v":"2000-01-06"},{"$f":"[3]Tabulka!F178","v":"Ostrava- Mittal TJ"},{"$f":"[3]Tabulka!G178","v":"OV"},{"$f":"[3]Tabulka!H178","v":100},{"$f":"+[3]Tabulka!AU178","v":0},{"$f":"+[3]Tabulka!AV178","v":{"v":0,"d":"0.00"}},{"$f":"+[3]Tabulka!AW178","v":0},{"$f":"+[3]Tabulka!AX178","v":{"v":0,"d":"0.00"}},{"$f":"+[3]Tabulka!AY178","v":0},{"$f":"+[3]Tabulka!AZ178","v":{"v":0,"d":"0.00"}},{"$f":"+[3]Tabulka!BA178","v":0},{"$f":"+[3]Tabulka!BB178","v":{"v":0,"d":"0.00"}},{"$f":"+[3]Tabulka!BC178","v":0},{"$f":"+[3]Tabulka!BD178","v":{"v":0,"d":"0.00"}},{"$f":"+[3]Tabulka!BE178","v":0},{"$f":"+[3]Tabulka!BF178","v":{"v":0,"d":"0.00"}},{"$f":"+[3]Tabulka!BG178","v":0},{"$f":"+[3]Tabulka!BH178","v":{"v":0,"d":"0.00"}},{"$f":"+[3]Tabulka!BI178","v":0},{"$f":"+[3]Tabulka!BJ178","v":{"v":0,"d":"0.00"}},{"$f":"+[3]Tabulka!AP178","v":{"v":0.41197232314979415,"d":"0.41"}},{"$f":"+[3]Tabulka!AQ178","v":{"v":2,"d":"2.00"}},{"$f":"+[3]Tabulka!BM178","v":{"v":0,"d":"0.00"}},{"$f":"+[3]Tabulka!BN178","v":0},{"$f":"+[3]Tabulka!BO178","v":{"v":0,"d":"0.00"}}]
[null,{"$f":"[3]Tabulka!C179","v":"NOVÁK"},{"$f":"[3]Tabulka!D179","v":"Martin"},{"$f":"[3]Tabulka!E179","v":"1997-02-09"},{"$f":"[3]Tabulka!F179","v":"Ostrava- SDDM"},{"$f":"[3]Tabulka!G179","v":"OV"},{"$f":"[3]Tabulka!H179","v":100},{"$f":"+[3]Tabulka!AU179","v":0},{"$f":"+[3]Tabulka!AV179","v":{"v":0,"d":"0.00"}},{"$f":"+[3]Tabulka!AW179","v":0},{"$f":"+[3]Tabulka!AX179","v":{"v":0,"d":"0.00"}},{"$f":"+[3]Tabulka!AY179","v":0},{"$f":"+[3]Tabulka!AZ179","v":{"v":0,"d":"0.00"}},{"$f":"+[3]Tabulka!BA179","v":0},{"$f":"+[3]Tabulka!BB179","v":{"v":0,"d":"0.00"}},{"$f":"+[3]Tabulka!BC179","v":0},{"$f":"+[3]Tabulka!BD179","v":{"v":0,"d":"0.00"}},{"$f":"+[3]Tabulka!BE179","v":0},{"$f":"+[3]Tabulka!BF179","v":{"v":0,"d":"0.00"}},{"$f":"+[3]Tabulka!BG179","v":0},{"$f":"+[3]Tabulka!BH179","v":{"v":0,"d":"0.00"}},{"$f":"+[3]Tabulka!BI179","v":0},{"$f":"+[3]Tabulka!BJ179","v":{"v":0,"d":"0.00"}},{"$f":"+[3]Tabulka!AP179","v":{"v":0.3051019681136564,"d":"0.31"}},{"$f":"+[3]Tabulka!AQ179","v":{"v":1,"d":"1.00"}},{"$f":"+[3]Tabulka!BM179","v":{"v":0,"d":"0.00"}},{"$f":"+[3]Tabulka!BN179","v":0},{"$f":"+[3]Tabulka!BO179","v":{"v":0,"d":"0.00"}}]
[null,{"$f":"[3]Tabulka!C180","v":"NOVÁK"},{"$f":"[3]Tabulka!D180","v":"Lukáš"},{"$f":"[3]Tabulka!E180","v":"1999-05-21"},{"$f":"[3]Tabulka!F180","v":"Malenovice- BSK"},{"$f":"[3]Tabulka!G180","v":"FM"},{"$f":"[3]Tabulka!H180","v":100},{"$f":"+[3]Tabulka!AU180","v":0},{"$f":"+[3]Tabulka!AV180","v":{"v":0,"d":"0.00"}},{"$f":"+[3]Tabulka!AW180","v":0},{"$f":"+[3]Tabulka!AX180","v":{"v":0,"d":"0.00"}},{"$f":"+[3]Tabulka!AY180","v":0},{"$f":"+[3]Tabulka!AZ180","v":{"v":0,"d":"0.00"}},{"$f":"+[3]Tabulka!BA180","v":0},{"$f":"+[3]Tabulka!BB180","v":{"v":0,"d":"0.00"}},{"$f":"+[3]Tabulka!BC180","v":0},{"$f":"+[3]Tabulka!BD180","v":{"v":0,"d":"0.00"}},{"$f":"+[3]Tabulka!BE180","v":0},{"$f":"+[3]Tabulka!BF180","v":{"v":0,"d":"0.00"}},{"$f":"+[3]Tabulka!BG180","v":0},{"$f":"+[3]Tabulka!BH180","v":{"v":0,"d":"0.00"}},{"$f":"+[3]Tabulka!BI180","v":0},{"$f":"+[3]Tabulka!BJ180","v":{"v":0,"d":"0.00"}},{"$f":"+[3]Tabulka!AP180","v":{"v":0,"d":"0.00"}},{"$f":"+[3]Tabulka!AQ180","v":{"v":0,"d":"0.00"}},{"$f":"+[3]Tabulka!BM180","v":{"v":0,"d":"0.00"}},{"$f":"+[3]Tabulka!BN180","v":0},{"$f":"+[3]Tabulka!BO180","v":{"v":0,"d":"0.00"}}]
[null,{"$f":"[3]Tabulka!C181","v":"NOVÁK"},{"$f":"[3]Tabulka!D181","v":"Jiří"},{"$f":"[3]Tabulka!E181","v":"1999-01-01"},{"$f":"[3]Tabulka!F181","v":"Hrabůvka- Sokol TJ"},{"$f":"[3]Tabulka!G181","v":"OV"},{"$f":"[3]Tabulka!H181","v":0},{"$f":"+[3]Tabulka!AU181","v":0},{"$f":"+[3]Tabulka!AV181","v":{"v":0,"d":"0.00"}},{"$f":"+[3]Tabulka!AW181","v":0},{"$f":"+[3]Tabulka!AX181","v":{"v":0,"d":"0.00"}},{"$f":"+[3]Tabulka!AY181","v":0},{"$f":"+[3]Tabulka!AZ181","v":{"v":0,"d":"0.00"}},{"$f":"+[3]Tabulka!BA181","v":0},{"$f":"+[3]Tabulka!BB181","v":{"v":0,"d":"0.00"}},{"$f":"+[3]Tabulka!BC181","v":0},{"$f":"+[3]Tabulka!BD181","v":{"v":0,"d":"0.00"}},{"$f":"+[3]Tabulka!BE181","v":0},{"$f":"+[3]Tabulka!BF181","v":{"v":0,"d":"0.00"}},{"$f":"+[3]Tabulka!BG181","v":0},{"$f":"+[3]Tabulka!BH181","v":{"v":0,"d":"0.00"}},{"$f":"+[3]Tabulka!BI181","v":0},{"$f":"+[3]Tabulka!BJ181","v":{"v":0,"d":"0.00"}},{"$f":"+[3]Tabulka!AP181","v":{"v":0,"d":"0.00"}},{"$f":"+[3]Tabulka!AQ181","v":{"v":0,"d":"0.00"}},{"$f":"+[3]Tabulka!BM181","v":{"v":0,"d":"0.00"}},{"$f":"+[3]Tabulka!BN181","v":0},{"$f":"+[3]Tabulka!BO181","v":{"v":0,"d":"0.00"}}]
[null,{"$f":"[3]Tabulka!C182","v":"OBORNÝ"},{"$f":"[3]Tabulka!D182","v":"Dominik"},{"$f":"[3]Tabulka!E182","v":"1999-05-10"},{"$f":"[3]Tabulka!F182","v":"Hrabůvka- Sokol TJ"},{"$f":"[3]Tabulka!G182","v":"OV"},{"$f":"[3]Tabulka!H182","v":100},{"$f":"+[3]Tabulka!AU182","v":0},{"$f":"+[3]Tabulka!AV182","v":{"v":0,"d":"0.00"}},{"$f":"+[3]Tabulka!AW182","v":0},{"$f":"+[3]Tabulka!AX182","v":{"v":0,"d":"0.00"}},{"$f":"+[3]Tabulka!AY182","v":0},{"$f":"+[3]Tabulka!AZ182","v":{"v":0,"d":"0.00"}},{"$f":"+[3]Tabulka!BA182","v":0},{"$f":"+[3]Tabulka!BB182","v":{"v":0,"d":"0.00"}},{"$f":"+[3]Tabulka!BC182","v":0},{"$f":"+[3]Tabulka!BD182","v":{"v":0,"d":"0.00"}},{"$f":"+[3]Tabulka!BE182","v":0},{"$f":"+[3]Tabulka!BF182","v":{"v":0,"d":"0.00"}},{"$f":"+[3]Tabulka!BG182","v":0},{"$f":"+[3]Tabulka!BH182","v":{"v":0,"d":"0.00"}},{"$f":"+[3]Tabulka!BI182","v":0},{"$f":"+[3]Tabulka!BJ182","v":{"v":0,"d":"0.00"}},{"$f":"+[3]Tabulka!AP182","v":{"v":4.307122146283489,"d":"4.31"}},{"$f":"+[3]Tabulka!AQ182","v":{"v":4,"d":"4.00"}},{"$f":"+[3]Tabulka!BM182","v":{"v":0,"d":"0.00"}},{"$f":"+[3]Tabulka!BN182","v":0},{"$f":"+[3]Tabulka!BO182","v":{"v":0,"d":"0.00"}}]
[null,{"$f":"[3]Tabulka!C183","v":"ONDERKA"},{"$f":"[3]Tabulka!D183","v":"František"},{"$f":"[3]Tabulka!E183","v":"2002-02-27"},{"$f":"[3]Tabulka!F183","v":"Opava- KST Slezan "},{"$f":"[3]Tabulka!G183","v":"OP"},{"$f":"[3]Tabulka!H183","v":100},{"$f":"+[3]Tabulka!AU183","v":0},{"$f":"+[3]Tabulka!AV183","v":{"v":0,"d":"0.00"}},{"$f":"+[3]Tabulka!AW183","v":0},{"$f":"+[3]Tabulka!AX183","v":{"v":0,"d":"0.00"}},{"$f":"+[3]Tabulka!AY183","v":0},{"$f":"+[3]Tabulka!AZ183","v":{"v":0,"d":"0.00"}},{"$f":"+[3]Tabulka!BA183","v":0},{"$f":"+[3]Tabulka!BB183","v":{"v":0,"d":"0.00"}},{"$f":"+[3]Tabulka!BC183","v":0},{"$f":"+[3]Tabulka!BD183","v":{"v":0,"d":"0.00"}},{"$f":"+[3]Tabulka!BE183","v":0},{"$f":"+[3]Tabulka!BF183","v":{"v":0,"d":"0.00"}},{"$f":"+[3]Tabulka!BG183","v":0},{"$f":"+[3]Tabulka!BH183","v":{"v":0,"d":"0.00"}},{"$f":"+[3]Tabulka!BI183","v":0},{"$f":"+[3]Tabulka!BJ183","v":{"v":0,"d":"0.00"}},{"$f":"+[3]Tabulka!AP183","v":{"v":6.621922197596418,"d":"6.62"}},{"$f":"+[3]Tabulka!AQ183","v":{"v":3,"d":"3.00"}},{"$f":"+[3]Tabulka!BM183","v":{"v":0,"d":"0.00"}},{"$f":"+[3]Tabulka!BN183","v":0},{"$f":"+[3]Tabulka!BO183","v":{"v":0,"d":"0.00"}}]

{"sheet":"Mladší žactvo","index":3,"n_rows":157,"n_cols":87,"rows_kept":157,"merged":[[2,1,2,6],[2,7,2,8],[2,9,2,10],[2,11,2,12],[2,13,2,14],[2,15,2,16],[2,17,2,18],[2,19,2,20],[2,21,2,22]]}
["PRŮBĚŽNÉ BODOVÉ POŘADÍ RBTM A PR KARVINÁ MLADŠÍHO ŽACTVA"]
[]
[null," - započítává se 5 nejlepších turnajů z 8 odehraných za poslední rok",{"$nulls":5},{"$f":"+Dorost!H3","v":"KARVINÁ 17.9.2011"},null,{"$f":"+Dorost!J3","v":"HAVÍŘOV 24.9.2011"},null,{"$f":"+Dorost!L3","v":"KARVINÁ 3.12.2011"},null,{"$f":"+Dorost!N3","v":"HAVÍŘOV 7.1.2012"},null,{"$f":"+Dorost!P3","v":"HAVÍŘOV 4.2.2012"},null,{"$f":"+Dorost!R3","v":"KARVINÁ 19.3.2011"},null,{"$f":"+Dorost!T3","v":"KARVINÁ 16.4.2011"},null,{"$f":"+Dorost!V3","v":"KARVINÁ 14.5.2011"}]
[{"$nulls":7},{"$f":"+[4]Tabulka!AU239","v":21},{"$f":"SUBTOTAL(9,I6:I300)","v":55.770564026755956},{"$f":"+[4]Tabulka!AW239","v":23},{"$f":"SUBTOTAL(9,K6:K300)","v":58.29694559517524},{"$f":"+[4]Tabulka!AY239","v":26},{"$f":"SUBTOTAL(9,M6:M300)","v":61.20903773085767},{"$f":"+[4]Tabulka!BA239","v":30},{"$f":"SUBTOTAL(9,O6:O300)","v":71.37411273930583},{"$f":"+[4]Tabulka!BC239","v":19},{"$f":"SUBTOTAL(9,Q6:Q300)","v":53.06432428081009},{"$f":"+[4]Tabulka!BE239","v":18},{"$f":"SUBTOTAL(9,S6:S300)","v":43.477151237466565},{"$f":"+[4]Tabulka!BG239","v":25},{"$f":"SUBTOTAL(9,U6:U300)","v":48.493222637697855},{"$f":"+[4]Tabulka!BI239","v":17},{"$f":"SUBTOTAL(9,W6:W300)","v":45.89126946937415},{"$f":"+[4]Tabulka!AP5","v":0},{"$f":"+[4]Tabulka!AQ5","v":0},{"$f":"+[4]Tabulka!AR5","v":0},{"$f":"+[4]Tabulka!AS5","v":0},{"$f":"+[4]Tabulka!AT5","v":0}]
[{"$f":"SUBTOTAL(3,A6:A340)","v":47},{"$f":"[4]Tabulka!C6","v":"Přijmení"},{"$f":"[4]Tabulka!D6","v":"jméno"},{"$f":"[4]Tabulka!E6","v":"nar"},{"$f":"[4]Tabulka!F6","v":"oddíl-klub"},{"$f":"[4]Tabulka!G6","v":"okr"},{"$f":"[4]Tabulka!H6","v":"pop"},{"$f":"+[4]Tabulka!Z6","v":"um."},{"$f":"+[4]Tabulka!AA6","v":"b."},{"$f":"+[4]Tabulka!AB6","v":"um."},{"$f":"+[4]Tabulka!AC6","v":"b."},{"$f":"+[4]Tabulka!AD6","v":"um."},{"$f":"+[4]Tabulka!AE6","v":"b."},{"$f":"+[4]Tabulka!AF6","v":"um."},{"$f":"+[4]Tabulka!AG6","v":"b."},{"$f":"+[4]Tabulka!AH6","v":"um."},{"$f":"+[4]Tabulka!AI6","v":"b."},{"$f":"+[4]Tabulka!AJ6","v":"um."},{"$f":"+[4]Tabulka!AK6","v":"b."},{"$f":"+[4]Tabulka!AL6","v":"um."},{"$f":"+[4]Tabulka!AM6","v":"b."},{"$f":"+[4]Tabulka!AN6","v":"um."},{"$f":"+[4]Tabulka!AO6","v":"b."},{"$f":"+[4]Tabulka!AP6","v":"I."},{"$f":"+[4]Tabulka!AQ6","v":"t"},{"$f":"+[4]Tabulka!AR6","v":"I.+II."},{"$f":"+[4]Tabulka!AS6","v":"t"},{"$f":"+[4]Tabulka!AT6","v":"R"},{"$nulls":5},{"$f":"[4]Tabulka!DG6","v":0},{"$f":"[4]Tabulka!DH6","v":0},{"$f":"[4]Tabulka!DI6","v":0},{"$f":"[4]Tabulka!DJ6","v":0},{"$f":"[4]Tabulka!DK6","v":0},{"$f":"[4]Tabulka!DL6","v":0},{"$f":"[4]Tabulka!DM6","v":0},{"$f":"[4]Tabulka!DN6","v":0},{"$f":"[4]Tabulka!DO6","v":0},{"$f":"[4]Tabulka!DP6","v":0},{"$f":"[4]Tabulka!DQ6","v":0},{"$f":"[4]Tabulka!DR6","v":0},{"$f":"[4]Tabulka!DS6","v":0},{"$f":"[4]Tabulka!DT6","v":0},{"$f":"[4]Tabulka!DU6","v":0},{"$f":"[4]Tabulka!DV6","v":0},{"$f":"[4]Tabulka!DW6","v":0},{"$f":"[4]Tabulka!DX6","v":0},{"$f":"[4]Tabulka!DY6","v":0},{"$f":"[4]Tabulka!DZ6","v":0},{"$f":"[4]Tabulka!EA6","v":0},{"$f":"[4]Tabulka!EB6","v":0},{"$f":"[4]Tabulka!EC6","v":0},{"$f":"[4]Tabulka!ED6","v":0},{"$f":"[4]Tabulka!EE6","v":0},{"$f":"[4]Tabulka!EF6","v":0},{"$f":"[4]Tabulka!EG6","v":0},{"$f":"[4]Tabulka!EH6","v":0},{"$f":"[4]Tabulka!EI6","v":0},{"$f":"[4]Tabulka!EJ6","v":0},{"$f":"[4]Tabulka!EK6","v":0},{"$f":"[4]Tabulka!EL6","v":0},{"$f":"[4]Tabulka!EM6","v":0},{"$f":"[4]Tabulka!EN6","v":0},{"$f":"[4]Tabulka!EO6","v":0},{"$f":"[4]Tabulka!EP6","v":0},{"$f":"[4]Tabulka!EQ6","v":0},{"$f":"[4]Tabulka!ER6","v":0},{"$f":"[4]Tabulka!ES6","v":0},{"$f":"[4]Tabulka!ET6","v":0},{"$f":"[4]Tabulka!EU6","v":0},{"$f":"[4]Tabulka!EV6","v":0},{"$f":"[4]Tabulka!EW6","v":0},{"$f":"[4]Tabulka!EX6","v":0},{"$f":"[4]Tabulka!EY6","v":0},{"$f":"[4]Tabulka!EZ6","v":0},{"$f":"[4]Tabulka!FA6","v":0},{"$f":"[4]Tabulka!FB6","v":0},{"$f":"[4]Tabulka!FC6","v":0},{"$f":"[4]Tabulka!FD6","v":0},{"$f":"[4]Tabulka!FE6","v":0},{"$f":"[4]Tabulka!FF6","v":0},{"$f":"[4]Tabulka!FG6","v":0},{"$f":"[4]Tabulka!FH6","v":0}]
["1",{"$f":"[4]Tabulka!C7","v":"PŘIBYL"},{"$f":"[4]Tabulka!D7","v":"Jan"},{"$f":"[4]Tabulka!E7","v":"2000-07-14"},{"$f":"[4]Tabulka!F7","v":"Český Těšín- SKST"},{"$f":"[4]Tabulka!G7","v":"KA"},{"$f":"[4]Tabulka!H7","v":100},{"$f":"+[4]Tabulka!AU7","v":3},{"$f":"+[4]Tabulka!AV7","v":{"v":4.101020071683792,"d":"4.10"}},{"$f":"+[4]Tabulka!AW7","v":3},{"$f":"+[4]Tabulka!AX7","v":{"v":4.101020071683792,"d":"4.10"}},{"$f":"+[4]Tabulka!AY7","v":1},{"$f":"+[4]Tabulka!AZ7","v":{"v":4.655343691373548,"d":"4.66"}},{"$f":"+[4]Tabulka!BA7","v":2},{"$f":"+[4]Tabulka!BB7","v":{"v":4.369400178389413,"d":"4.37"}},{"$f":"+[4]Tabulka!BC7","v":1},{"$f":"+[4]Tabulka!BD7","v":{"v":4.655343691373548,"d":"4.66"}},{"$f":"+[4]Tabulka!BE7","v":3},{"$f":"+[4]Tabulka!BF7","v":{"v":4.101020071683792,"d":"4.10"}},{"$f":"+[4]Tabulka!BG7","v":9},{"$f":"+[4]Tabulka!BH7","v":{"v":2.803575987529016,"d":"2.80"}},{"$f":"+[4]Tabulka!BI7","v":7},{"$f":"+[4]Tabulka!BJ7","v":{"v":3.1825276537773326,"d":"3.18"}},{"$f":"+[4]Tabulka!AP7","v":{"v":30.02056539529638,"d":"30.02"}},{"$f":"+[4]Tabulka!AQ7","v":{"v":3,"d":"3.00"}},{"$f":"+[4]Tabulka!BM7","v":{"v":31.96925141749423,"d":"31.97"}},{"$f":"+[4]Tabulka!BN7","v":8},{"$f":"+[4]Tabulka!BO7","v":{"v":21.882127704504093,"d":"21.88"}}]
["2",{"$f":"[4]Tabulka!C8","v":"REITZ"},{"$f":"[4]Tabulka!D8","v":"Aleš"},{"$f":"[4]Tabulka!E8","v":"1999-08-05"},{"$f":"[4]Tabulka!F8","v":"Karviná- KLUBsten KST"},{"$f":"[4]Tabulka!G8","v":"KA"},{"$f":"[4]Tabulka!H8","v":100},{"$f":"+[4]Tabulka!AU8","v":9},{"$f":"+[4]Tabulka!AV8","v":{"v":2.803575987529016,"d":"2.80"}},{"$f":"+[4]Tabulka!AW8","v":2},{"$f":"+[4]Tabulka!AX8","v":{"v":4.369400178389413,"d":"4.37"}},{"$f":"+[4]Tabulka!AY8","v":6},{"$f":"+[4]Tabulka!AZ8","v":{"v":3.3907995218454317,"d":"3.39"}},{"$f":"+[4]Tabulka!BA8","v":3},{"$f":"+[4]Tabulka!BB8","v":{"v":11,"d":"11.00"}},{"$f":"+[4]Tabulka!BC8","v":0},{"$f":"+[4]Tabulka!BD8","v":{"v":0,"d":"0.00"}},{"$f":"+[4]Tabulka!BE8","v":0},{"$f":"+[4]Tabulka!BF8","v":{"v":0,"d":"0.00"}},{"$f":"+[4]Tabulka!BG8","v":0},{"$f":"+[4]Tabulka!BH8","v":{"v":0,"d":"0.00"}},{"$f":"+[4]Tabulka!BI8","v":0},{"$f":"+[4]Tabulka!BJ8","v":{"v":0,"d":"0.00"}},{"$f":"+[4]Tabulka!AP8","v":{"v":3.851608154047505,"d":"3.85"}},{"$f":"+[4]Tabulka!AQ8","v":{"v":1,"d":"1.00"}},{"$f":"+[4]Tabulka!BM8","v":{"v":21.56377568776386,"d":"21.56"}},{"$f":"+[4]Tabulka!BN8","v":4},{"$f":"+[4]Tabulka!BO8","v":{"v":21.56377568776386,"d":"21.56"}}]
["3",{"$f":"[4]Tabulka!C9","v":"KRNÁČOVÁ"},{"$f":"[4]Tabulka!D9","v":"Anna"},{"$f":"[4]Tabulka!E9","v":"1999-02-09"},{"$f":"[4]Tabulka!F9","v":"Karviná- KLUBsten KST"},{"$f":"[4]Tabulka!G9","v":"KA"},{"$f":"[4]Tabulka!H9","v":100},{"$f":"+[4]Tabulka!AU9","v":2},{"$f":"+[4]Tabulka!AV9","v":{"v":4.369400178389413,"d":"4.37"}},{"$f":"+[4]Tabulka!AW9","v":0},{"$f":"+[4]Tabulka!AX9","v":{"v":0,"d":"0.00"}},{"$f":"+[4]Tabulka!AY9","v":4},{"$f":"+[4]Tabulka!AZ9","v":{"v":3.8491245804252903,"d":"3.85"}},{"$f":"+[4]Tabulka!BA9","v":4},{"$f":"+[4]Tabulka!BB9","v":{"v":3.8491245804252903,"d":"3.85"}},{"$f":"+[4]Tabulka!BC9","v":4},{"$f":"+[4]Tabulka!BD9","v":{"v":3.8491245804252903,"d":"3.85"}},{"$f":"+[4]Tabulka!BE9","v":5},{"$f":"+[4]Tabulka!BF9","v":{"v":3.6127011759664778,"d":"3.61"}},{"$f":"+[4]Tabulka!BG9","v":4},{"$f":"+[4]Tabulka!BH9","v":{"v":3.8491245804252903,"d":"3.85"}},{"$f":"+[4]Tabulka!BI9","v":4},{"$f":"+[4]Tabulka!BJ9","v":{"v":3.8491245804252903,"d":"3.85"}},{"$f":"+[4]Tabulka!AP9","v":{"v":21.334304893583965,"d":"21.33"}},{"$f":"+[4]Tabulka!AQ9","v":{"v":3,"d":"3.00"}},{"$f":"+[4]Tabulka!BM9","v":{"v":27.22772425648234,"d":"27.23"}},{"$f":"+[4]Tabulka!BN9","v":7},{"$f":"+[4]Tabulka!BO9","v":{"v":19.765898500090575,"d":"19.77"}}]
["4",{"$f":"[4]Tabulka!C10","v":"BRANNÝ"},{"$f":"[4]Tabulka!D10","v":"Tomáš"},{"$f":"[4]Tabulka!E10","v":"2002-06-04"},{"$f":"[4]Tabulka!F10","v":"Orlová- Siko TTC"},{"$f":"[4]Tabulka!G10","v":"KA"},{"$f":"[4]Tabulka!H10","v":100},{"$f":"+[4]Tabulka!AU10","v":4},{"$f":"+[4]Tabulka!AV10","v":{"v":3.8491245804252903,"d":"3.85"}},{"$f":"+[4]Tabulka!AW10","v":1},{"$f":"+[4]Tabulka!AX10","v":{"v":4.655343691373548,"d":"4.66"}},{"$f":"+[4]Tabulka!AY10","v":5},{"$f":"+[4]Tabulka!AZ10","v":{"v":3.6127011759664778,"d":"3.61"}},{"$f":"+[4]Tabulka!BA10","v":7},{"$f":"+[4]Tabulka!BB10","v":{"v":3.1825276537773326,"d":"3.18"}},{"$f":"+[4]Tabulka!BC10","v":3},{"$f":"+[4]Tabulka!BD10","v":{"v":4.101020071683792,"d":"4.10"}},{"$f":"+[4]Tabulka!BE10","v":8},{"$f":"+[4]Tabulka!BF10","v":{"v":2.987048394281082,"d":"2.99"}},{"$f":"+[4]Tabulka!BG10","v":7},{"$f":"+[4]Tabulka!BH10","v":{"v":3.1825276537773326,"d":"3.18"}},{"$f":"+[4]Tabulka!BI10","v":8},{"$f":"+[4]Tabulka!BJ10","v":{"v":2.987048394281082,"d":"2.99"}},{"$f":"+[4]Tabulka!AP10","v":{"v":22.61822016047315,"d":"22.62"}},{"$f":"+[4]Tabulka!AQ10","v":{"v":3,"d":"3.00"}},{"$f":"+[4]Tabulka!BM10","v":{"v":28.55734161556594,"d":"28.56"}},{"$f":"+[4]Tabulka!BN10","v":8},{"$f":"+[4]Tabulka!BO10","v":{"v":19.40071717322644,"d":"19.40"}}]
["5",{"$f":"[4]Tabulka!C11","v":"ADAMCZYK"},{"$f":"[4]Tabulka!D11","v":"Jiří"},{"$f":"[4]Tabulka!E11","v":"2002-02-21"},{"$f":"[4]Tabulka!F11","v":"Dětmarovice- Sokol TJ"},{"$f":"[4]Tabulka!G11","v":"KA"},{"$f":"[4]Tabulka!H11","v":100},{"$f":"+[4]Tabulka!AU11","v":6},{"$f":"+[4]Tabulka!AV11","v":{"v":3.3907995218454317,"d":"3.39"}},{"$f":"+[4]Tabulka!AW11","v":0},{"$f":"+[4]Tabulka!AX11","v":{"v":0,"d":"0.00"}},{"$f":"+[4]Tabulka!AY11","v":2},{"$f":"+[4]Tabulka!AZ11","v":{"v":4.369400178389413,"d":"4.37"}},{"$f":"+[4]Tabulka!BA11","v":5},{"$f":"+[4]Tabulka!BB11","v":{"v":3.6127011759664778,"d":"3.61"}},{"$f":"+[4]Tabulka!BC11","v":5},{"$f":"+[4]Tabulka!BD11","v":{"v":3.6127011759664778,"d":"3.61"}},{"$f":"+[4]Tabulka!BE11","v":6},{"$f":"+[4]Tabulka!BF11","v":{"v":3.3907995218454317,"d":"3.39"}},{"$f":"+[4]Tabulka!BG11","v":5},{"$f":"+[4]Tabulka!BH11","v":{"v":3.6127011759664778,"d":"3.61"}},{"$f":"+[4]Tabulka!BI11","v":5},{"$f":"+[4]Tabulka!BJ11","v":{"v":3.6127011759664778,"d":"3.61"}},{"$f":"+[4]Tabulka!AP11","v":{"v":27.181880741125205,"d":"27.18"}},{"$f":"+[4]Tabulka!AQ11","v":{"v":4,"d":"4.00"}},{"$f":"+[4]Tabulka!BM11","v":{"v":25.60180392594619,"d":"25.60"}},{"$f":"+[4]Tabulka!BN11","v":7},{"$f":"+[4]Tabulka!BO11","v":{"v":18.820204882255325,"d":"18.82"}}]
["6",{"$f":"[4]Tabulka!C12","v":"MAZŮREK"},{"$f":"[4]Tabulka!D12","v":"Matěj"},{"$f":"[4]Tabulka!E12","v":"1999-03-26"},{"$f":"[4]Tabulka!F12","v":"Havířov- CSVČ sv. Jana Boska"},{"$f":"[4]Tabulka!G12","v":"KA"},{"$f":"[4]Tabulka!H12","v":100},{"$f":"+[4]Tabulka!AU12","v":7},{"$f":"+[4]Tabulka!AV12","v":{"v":3.1825276537773326,"d":"3.18"}},{"$f":"+[4]Tabulka!AW12","v":0},{"$f":"+[4]Tabulka!AX12","v":{"v":0,"d":"0.00"}},{"$f":"+[4]Tabulka!AY12","v":3},{"$f":"+[4]Tabulka!AZ12","v":{"v":4.101020071683792,"d":"4.10"}},{"$f":"+[4]Tabulka!BA12","v":6},{"$f":"+[4]Tabulka!BB12","v":{"v":3.3907995218454317,"d":"3.39"}},{"$f":"+[4]Tabulka!BC12","v":2},{"$f":"+[4]Tabulka!BD12","v":{"v":4.369400178389413,"d":"4.37"}},{"$f":"+[4]Tabulka!BE12","v":7},{"$f":"+[4]Tabulka!BF12","v":{"v":3.1825276537773326,"d":"3.18"}},{"$f":"+[4]Tabulka!BG12","v":6},{"$f":"+[4]Tabulka!BH12","v":{"v":3.3907995218454317,"d":"3.39"}},{"$f":"+[4]Tabulka!BI12","v":6},{"$f":"+[4]Tabulka!BJ12","v":{"v":3.3907995218454317,"d":"3.39"}},{"$f":"+[4]Tabulka!AP12","v":{"v":20.83611742144474,"d":"20.84"}},{"$f":"+[4]Tabulka!AQ12","v":{"v":2,"d":"2.00"}},{"$f":"+[4]Tabulka!BM12","v":{"v":25.00787412316416,"d":"25.01"}},{"$f":"+[4]Tabulka!BN12","v":7},{"$f":"+[4]Tabulka!BO12","v":{"v":18.642818815609502,"d":"18.64"}}]
["7",{"$f":"[4]Tabulka!C13","v":"NAMYSLO"},{"$f":"[4]Tabulka!D13","v":"Tomáš"},{"$f":"[4]Tabulka!E13","v":"2000-05-09"},{"$f":"[4]Tabulka!F13","v":"Orlová- Slávie SK"},{"$f":"[4]Tabulka!G13","v":"KA"},{"$f":"[4]Tabulka!H13","v":100},{"$f":"+[4]Tabulka!AU13","v":10},{"$f":"+[4]Tabulka!AV13","v":{"v":2.6313729408930584,"d":"2.63"}},{"$f":"+[4]Tabulka!AW13","v":5},{"$f":"+[4]Tabulka!AX13","v":{"v":3.6127011759664778,"d":"3.61"}},{"$f":"+[4]Tabulka!AY13","v":10},{"$f":"+[4]Tabulka!AZ13","v":{"v":2.6313729408930584,"d":"2.63"}},{"$f":"+[4]Tabulka!BA13","v":14},{"$f":"+[4]Tabulka!BB13","v":{"v":2.0420327151325517,"d":"2.04"}},{"$f":"+[4]Tabulka!BC13","v":6},{"$f":"+[4]Tabulka!BD13","v":{"v":3.3907995218454317,"d":"3.39"}},{"$f":"+[4]Tabulka!BE13","v":13},{"$f":"+[4]Tabulka!BF13","v":{"v":2.1756679932838794,"d":"2.18"}},{"$f":"+[4]Tabulka!BG13","v":12},{"$f":"+[4]Tabulka!BH13","v":{"v":2.3180486688200013,"d":"2.32"}},{"$f":"+[4]Tabulka!BI13","v":14},{"$f":"+[4]Tabulka!BJ13","v":{"v":2.0420327151325517,"d":"2.04"}},{"$f":"+[4]Tabulka!AP13","v":{"v":0,"d":"0.00"}},{"$f":"+[4]Tabulka!AQ13","v":{"v":0,"d":"0.00"}},{"$f":"+[4]Tabulka!BM13","v":{"v":20.844028671967013,"d":"20.84"}},{"$f":"+[4]Tabulka!BN13","v":8},{"$f":"+[4]Tabulka!BO13","v":{"v":14.584295248418027,"d":"14.58"}}]
["8",{"$f":"[4]Tabulka!C14","v":"KUROVSKÝ"},{"$f":"[4]Tabulka!D14","v":"Kamil"},{"$f":"[4]Tabulka!E14","v":"1999-01-14"},{"$f":"[4]Tabulka!F14","v":"Karviná- KLUBsten KST"},{"$f":"[4]Tabulka!G14","v":"KA"},{"$f":"[4]Tabulka!H14","v":100},{"$f":"+[4]Tabulka!AU14","v":5},{"$f":"+[4]Tabulka!AV14","v":{"v":3.6127011759664778,"d":"3.61"}},{"$f":"+[4]Tabulka!AW14","v":6},{"$f":"+[4]Tabulka!AX14","v":{"v":3.3907995218454317,"d":"3.39"}},{"$f":"+[4]Tabulka!AY14","v":0},{"$f":"+[4]Tabulka!AZ14","v":{"v":0,"d":"0.00"}},{"$f":"+[4]Tabulka!BA14","v":11},{"$f":"+[4]Tabulka!BB14","v":{"v":2.4697470604914433,"d":"2.47"}},{"$f":"+[4]Tabulka!BC14","v":0},{"$f":"+[4]Tabulka!BD14","v":{"v":0,"d":"0.00"}},{"$f":"+[4]Tabulka!BE14","v":10},{"$f":"+[4]Tabulka!BF14","v":{"v":2.6313729408930584,"d":"2.63"}},{"$f":"+[4]Tabulka!BG14","v":13},{"$f":"+[4]Tabulka!BH14","v":{"v":2.1756679932838794,"d":"2.18"}},{"$f":"+[4]Tabulka!BI14","v":11},{"$f":"+[4]Tabulka!BJ14","v":{"v":2.4697470604914433,"d":"2.47"}},{"$f":"+[4]Tabulka!AP14","v":{"v":18.657261537331834,"d":"18.66"}},{"$f":"+[4]Tabulka!AQ14","v":{"v":3,"d":"3.00"}},{"$f":"+[4]Tabulka!BM14","v":{"v":16.750035752971733,"d":"16.75"}},{"$f":"+[4]Tabulka!BN14","v":6},{"$f":"+[4]Tabulka!BO14","v":{"v":14.574367759687853,"d":"14.57"}}]
["9",{"$f":"[4]Tabulka!C15","v":"MARTINKO"},{"$f":"[4]Tabulka!D15","v":"Tomáš"},{"$f":"[4]Tabulka!E15","v":"2002-07-07"},{"$f":"[4]Tabulka!F15","v":"Ostrava- Mittal TJ"},{"$f":"[4]Tabulka!G15","v":"OV"},{"$f":"[4]Tabulka!H15","v":100},{"$f":"+[4]Tabulka!AU15","v":1},{"$f":"+[4]Tabulka!AV15","v":{"v":4.655343691373548,"d":"4.66"}},{"$f":"+[4]Tabulka!AW15","v":0},{"$f":"+[4]Tabulka!AX15","v":{"v":0,"d":"0.00"}},{"$f":"+[4]Tabulka!AY15","v":1},{"$f":"+[4]Tabulka!AZ15","v":{"v":4.655343691373548,"d":"4.66"}},{"$f":"+[4]Tabulka!BA15","v":0},{"$f":"+[4]Tabulka!BB15","v":{"v":0,"d":"0.00"}},{"$f":"+[4]Tabulka!BC15","v":1},{"$f":"+[4]Tabulka!BD15","v":{"v":4.655343691373548,"d":"4.66"}},{"$f":"+[4]Tabulka!BE15","v":1},{"$f":"+[4]Tabulka!BF15","v":{"v":4.655343691373548,"d":"4.66"}},{"$f":"+[4]Tabulka!BG15","v":0},{"$f":"+[4]Tabulka!BH15","v":{"v":0,"d":"0.00"}},{"$f":"+[4]Tabulka!BI15","v":0},{"$f":"+[4]Tabulka!BJ15","v":{"v":0,"d":"0.00"}},{"$f":"+[4]Tabulka!AP15","v":{"v":37.84408065249133,"d":"37.84"}},{"$f":"+[4]Tabulka!AQ15","v":{"v":3,"d":"3.00"}},{"$f":"+[4]Tabulka!BM15","v":{"v":18.621374765494192,"d":"18.62"}},{"$f":"+[4]Tabulka!BN15","v":4},{"$f":"+[4]Tabulka!BO15","v":{"v":13.966031074120643,"d":"13.97"}}]
["9",{"$f":"[4]Tabulka!C16","v":"FREJVOLT"},{"$f":"[4]Tabulka!D16","v":"Lukáš"},{"$f":"[4]Tabulka!E16","v":"2000-04-22"},{"$f":"[4]Tabulka!F16","v":"Havířov- Baník SKST"},{"$f":"[4]Tabulka!G16","v":"KA"},{"$f":"[4]Tabulka!H16","v":100},{"$f":"+[4]Tabulka!AU16","v":1},{"$f":"+[4]Tabulka!AV16","v":{"v":4.655343691373548,"d":"4.66"}},{"$f":"+[4]Tabulka!AW16","v":0},{"$f":"+[4]Tabulka!AX16","v":{"v":0,"d":"0.00"}},{"$f":"+[4]Tabulka!AY16","v":0},{"$f":"+[4]Tabulka!AZ16","v":{"v":0,"d":"0.00"}},{"$f":"+[4]Tabulka!BA16","v":1},{"$f":"+[4]Tabulka!BB16","v":{"v":4.655343691373548,"d":"4.66"}},{"$f":"+[4]Tabulka!BC16","v":0},{"$f":"+[4]Tabulka!BD16","v":{"v":0,"d":"0.00"}},{"$f":"+[4]Tabulka!BE16","v":0},{"$f":"+[4]Tabulka!BF16","v":{"v":0,"d":"0.00"}},{"$f":"+[4]Tabulka!BG16","v":0},{"$f":"+[4]Tabulka!BH16","v":{"v":0,"d":"0.00"}},{"$f":"+[4]Tabulka!BI16","v":1},{"$f":"+[4]Tabulka!BJ16","v":{"v":4.655343691373548,"d":"4.66"}},{"$f":"+[4]Tabulka!AP16","v":{"v":28.265306855177883,"d":"28.27"}},{"$f":"+[4]Tabulka!AQ16","v":{"v":2,"d":"2.00"}},{"$f":"+[4]Tabulka!BM16","v":{"v":13.966031074120643,"d":"13.97"}},{"$f":"+[4]Tabulka!BN16","v":3},{"$f":"+[4]Tabulka!BO16","v":{"v":13.966031074120643,"d":"13.97"}}]
["0",{"$f":"[4]Tabulka!C17","v":"KUROVSKÝ"},{"$f":"[4]Tabulka!D17","v":"Filip"},{"$f":"[4]Tabulka!E17","v":"2001-05-29"},{"$f":"[4]Tabulka!F17","v":"Karviná- KLUBsten KST"},{"$f":"[4]Tabulka!G17","v":"KA"},{"$f":"[4]Tabulka!H17","v":100},{"$f":"+[4]Tabulka!AU17","v":0},{"$f":"+[4]Tabulka!AV17","v":{"v":0,"d":"0.00"}},{"$f":"+[4]Tabulka!AW17","v":4},{"$f":"+[4]Tabulka!AX17","v":{"v":3.8491245804252903,"d":"3.85"}},{"$f":"+[4]Tabulka!AY17","v":0},{"$f":"+[4]Tabulka!AZ17","v":{"v":0,"d":"0.00"}},{"$f":"+[4]Tabulka!BA17","v":12},{"$f":"+[4]Tabulka!BB17","v":{"v":2.3180486688200013,"d":"2.32"}},{"$f":"+[4]Tabulka!BC17","v":0},{"$f":"+[4]Tabulka!BD17","v":{"v":0,"d":"0.00"}},{"$f":"+[4]Tabulka!BE17","v":12},{"$f":"+[4]Tabulka!BF17","v":{"v":2.3180486688200013,"d":"2.32"}},{"$f":"+[4]Tabulka!BG17","v":11},{"$f":"+[4]Tabulka!BH17","v":{"v":2.4697470604914433,"d":"2.47"}},{"$f":"+[4]Tabulka!BI17","v":10},{"$f":"+[4]Tabulka!BJ17","v":{"v":2.6313729408930584,"d":"2.63"}},{"$f":"+[4]Tabulka!AP17","v":{"v":4.09491412312142,"d":"4.09"}},{"$f":"+[4]Tabulka!AQ17","v":{"v":2,"d":"2.00"}},{"$f":"+[4]Tabulka!BM17","v":{"v":13.586341919449794,"d":"13.59"}},{"$f":"+[4]Tabulka!BN17","v":5},{"$f":"+[4]Tabulka!BO17","v":{"v":13.586341919449794,"d":"13.59"}}]
["11",{"$f":"[4]Tabulka!C18","v":"RAŠKA"},{"$f":"[4]Tabulka!D18","v":"Michal"},{"$f":"[4]Tabulka!E18","v":"1999-01-31"},{"$f":"[4]Tabulka!F18","v":"Frýdek-Místek- Slezan TJ"},{"$f":"[4]Tabulka!G18","v":"FM"},{"$f":"[4]Tabulka!H18","v":100},{"$f":"+[4]Tabulka!AU18","v":2},{"$f":"+[4]Tabulka!AV18","v":{"v":4.369400178389413,"d":"4.37"}},{"$f":"+[4]Tabulka!AW18","v":3},{"$f":"+[4]Tabulka!AX18","v":{"v":4.101020071683792,"d":"4.10"}},{"$f":"+[4]Tabulka!AY18","v":2},{"$f":"+[4]Tabulka!AZ18","v":{"v":4.369400178389413,"d":"4.37"}},{"$f":"+[4]Tabulka!BA18","v":3},{"$f":"+[4]Tabulka!BB18","v":{"v":4.101020071683792,"d":"4.10"}},{"$f":"+[4]Tabulka!BC18","v":3},{"$f":"+[4]Tabulka!BD18","v":{"v":4.101020071683792,"d":"4.10"}},{"$f":"+[4]Tabulka!BE18","v":2},{"$f":"+[4]Tabulka!BF18","v":{"v":4.369400178389413,"d":"4.37"}},{"$f":"+[4]Tabulka!BG18","v":0},{"$f":"+[4]Tabulka!BH18","v":{"v":0,"d":"0.00"}},{"$f":"+[4]Tabulka!BI18","v":0},{"$f":"+[4]Tabulka!BJ18","v":{"v":0,"d":"0.00"}},{"$f":"+[4]Tabulka!AP18","v":{"v":11.345163444483369,"d":"11.35"}},{"$f":"+[4]Tabulka!AQ18","v":{"v":3,"d":"3.00"}},{"$f":"+[4]Tabulka!BM18","v":{"v":25.411260750219615,"d":"25.41"}},{"$f":"+[4]Tabulka!BN18","v":6},{"$f":"+[4]Tabulka!BO18","v":{"v":13.10820053516824,"d":"13.11"}}]
["11",{"$f":"[4]Tabulka!C19","v":"NĚMEC"},{"$f":"[4]Tabulka!D19","v":"Tomáš"},{"$f":"[4]Tabulka!E19","v":"2000-03-03"},{"$f":"[4]Tabulka!F19","v":"Orlová- Slávie SK"},{"$f":"[4]Tabulka!G19","v":"KA"},{"$f":"[4]Tabulka!H19","v":100},{"$f":"+[4]Tabulka!AU19","v":14},{"$f":"+[4]Tabulka!AV19","v":{"v":2.0420327151325517,"d":"2.04"}},{"$f":"+[4]Tabulka!AW19","v":7},{"$f":"+[4]Tabulka!AX19","v":{"v":3.1825276537773326,"d":"3.18"}},{"$f":"+[4]Tabulka!AY19","v":13},{"$f":"+[4]Tabulka!AZ19","v":{"v":2.1756679932838794,"d":"2.18"}},{"$f":"+[4]Tabulka!BA19","v":10},{"$f":"+[4]Tabulka!BB19","v":{"v":2.6313729408930584,"d":"2.63"}},{"$f":"+[4]Tabulka!BC19","v":11},{"$f":"+[4]Tabulka!BD19","v":{"v":2.4697470604914433,"d":"2.47"}},{"$f":"+[4]Tabulka!BE19","v":11},{"$f":"+[4]Tabulka!BF19","v":{"v":2.4697470604914433,"d":"2.47"}},{"$f":"+[4]Tabulka!BG19","v":16},{"$f":"+[4]Tabulka!BH19","v":{"v":1.7988826834228204,"d":"1.80"}},{"$f":"+[4]Tabulka!BI19","v":0},{"$f":"+[4]Tabulka!BJ19","v":{"v":0,"d":"0.00"}},{"$f":"+[4]Tabulka!AP19","v":{"v":0,"d":"0.00"}},{"$f":"+[4]Tabulka!AQ19","v":{"v":0,"d":"0.00"}},{"$f":"+[4]Tabulka!BM19","v":{"v":16.769978107492527,"d":"16.77"}},{"$f":"+[4]Tabulka!BN19","v":7},{"$f":"+[4]Tabulka!BO19","v":{"v":12.929062708937156,"d":"12.93"}}]
["12",{"$f":"[4]Tabulka!C20","v":"SIWIEC"},{"$f":"[4]Tabulka!D20","v":"Matěj"},{"$f":"[4]Tabulka!E20","v":"2001-04-17"},{"$f":"[4]Tabulka!F20","v":"Karviná- KLUBsten KST"},{"$f":"[4]Tabulka!G20","v":"KA"},{"$f":"[4]Tabulka!H20","v":100},{"$f":"+[4]Tabulka!AU20","v":0},{"$f":"+[4]Tabulka!AV20","v":{"v":0,"d":"0.00"}},{"$f":"+[4]Tabulka!AW20","v":0},{"$f":"+[4]Tabulka!AX20","v":{"v":0,"d":"0.00"}},{"$f":"+[4]Tabulka!AY20","v":0},{"$f":"+[4]Tabulka!AZ20","v":{"v":0,"d":"0.00"}},{"$f":"+[4]Tabulka!BA20","v":0},{"$f":"+[4]Tabulka!BB20","v":{"v":0,"d":"0.00"}},{"$f":"+[4]Tabulka!BC20","v":0},{"$f":"+[4]Tabulka!BD20","v":{"v":0,"d":"0.00"}},{"$f":"+[4]Tabulka!BE20","v":4},{"$f":"+[4]Tabulka!BF20","v":{"v":3.8491245804252903,"d":"3.85"}},{"$f":"+[4]Tabulka!BG20","v":1},{"$f":"+[4]Tabulka!BH20","v":{"v":4.655343691373548,"d":"4.66"}},{"$f":"+[4]Tabulka!BI20","v":2},{"$f":"+[4]Tabulka!BJ20","v":{"v":4.369400178389413,"d":"4.37"}},{"$f":"+[4]Tabulka!AP20","v":{"v":33.29520146660118,"d":"33.30"}},{"$f":"+[4]Tabulka!AQ20","v":{"v":3,"d":"3.00"}},{"$f":"+[4]Tabulka!BM20","v":{"v":12.873868450188251,"d":"12.87"}},{"$f":"+[4]Tabulka!BN20","v":3},{"$f":"+[4]Tabulka!BO20","v":{"v":12.873868450188251,"d":"12.87"}}]
["5",{"$f":"[4]Tabulka!C21","v":"PLACHTA"},{"$f":"[4]Tabulka!D21","v":"Jakub"},{"$f":"[4]Tabulka!E21","v":"2000-07-30"},{"$f":"[4]Tabulka!F21","v":"Ostrava- Mittal TJ"},{"$f":"[4]Tabulka!G21","v":"OV"},{"$f":"[4]Tabulka!H21","v":100},{"$f":"+[4]Tabulka!AU21","v":5},{"$f":"+[4]Tabulka!AV21","v":{"v":3.6127011759664778,"d":"3.61"}},{"$f":"+[4]Tabulka!AW21","v":0},{"$f":"+[4]Tabulka!AX21","v":{"v":0,"d":"0.00"}},{"$f":"+[4]Tabulka!AY21","v":0},{"$f":"+[4]Tabulka!AZ21","v":{"v":0,"d":"0.00"}},{"$f":"+[4]Tabulka!BA21","v":1},{"$f":"+[4]Tabulka!BB21","v":{"v":4.655343691373548,"d":"4.66"}},{"$f":"+[4]Tabulka!BC21","v":2},{"$f":"+[4]Tabulka!BD21","v":{"v":4.369400178389413,"d":"4.37"}},{"$f":"+[4]Tabulka!BE21","v":0},{"$f":"+[4]Tabulka!BF21","v":{"v":0,"d":"0.00"}},{"$f":"+[4]Tabulka!BG21","v":0},{"$f":"+[4]Tabulka!BH21","v":{"v":0,"d":"0.00"}},{"$f":"+[4]Tabulka!BI21","v":0},{"$f":"+[4]Tabulka!BJ21","v":{"v":0,"d":"0.00"}},{"$f":"+[4]Tabulka!AP21","v":{"v":62.200903753075806,"d":"62.20"}},{"$f":"+[4]Tabulka!AQ21","v":{"v":4,"d":"4.00"}},{"$f":"+[4]Tabulka!BM21","v":{"v":12.63744504572944,"d":"12.64"}},{"$f":"+[4]Tabulka!BN21","v":3},{"$f":"+[4]Tabulka!BO21","v":{"v":12.63744504572944,"d":"12.64"}}]
["13",{"$f":"[4]Tabulka!C22","v":"ŠMAHAJ"},{"$f":"[4]Tabulka!D22","v":"Martin"},{"$f":"[4]Tabulka!E22","v":"2001-06-18"},{"$f":"[4]Tabulka!F22","v":"Karviná- KLUBsten KST"},{"$f":"[4]Tabulka!G22","v":"KA"},{"$f":"[4]Tabulka!H22","v":100},{"$f":"+[4]Tabulka!AU22","v":13},{"$f":"+[4]Tabulka!AV22","v":{"v":2.1756679932838794,"d":"2.18"}},{"$f":"+[4]Tabulka!AW22","v":11},{"$f":"+[4]Tabulka!AX22","v":{"v":2.4697470604914433,"d":"2.47"}},{"$f":"+[4]Tabulka!AY22","v":9},{"$f":"+[4]Tabulka!AZ22","v":{"v":2.803575987529016,"d":"2.80"}},{"$f":"+[4]Tabulka!BA22","v":0},{"$f":"+[4]Tabulka!BB22","v":{"v":0,"d":"0.00"}},{"$f":"+[4]Tabulka!BC22","v":12},{"$f":"+[4]Tabulka!BD22","v":{"v":2.3180486688200013,"d":"2.32"}},{"$f":"+[4]Tabulka!BE22","v":16},{"$f":"+[4]Tabulka!BF22","v":{"v":1.7988826834228204,"d":"1.80"}},{"$f":"+[4]Tabulka!BG22","v":17},{"$f":"+[4]Tabulka!BH22","v":{"v":1.6883905547970857,"d":"1.69"}},{"$f":"+[4]Tabulka!BI22","v":13},{"$f":"+[4]Tabulka!BJ22","v":{"v":2.1756679932838794,"d":"2.18"}},{"$f":"+[4]Tabulka!AP22","v":{"v":10.429178324262086,"d":"10.43"}},{"$f":"+[4]Tabulka!AQ22","v":{"v":2,"d":"2.00"}},{"$f":"+[4]Tabulka!BM22","v":{"v":15.429980941628125,"d":"15.43"}},{"$f":"+[4]Tabulka!BN22","v":7},{"$f":"+[4]Tabulka!BO22","v":{"v":11.94270770340822,"d":"11.94"}}]
["13",{"$f":"[4]Tabulka!C23","v":"TEŠNAR"},{"$f":"[4]Tabulka!D23","v":"Oskar"},{"$f":"[4]Tabulka!E23","v":"2001-01-01"},{"$f":"[4]Tabulka!F23","v":"Děhylov- Sokol TJ"},{"$f":"[4]Tabulka!G23","v":"OP"},{"$f":"[4]Tabulka!H23","v":0},{"$f":"+[4]Tabulka!AU23","v":4},{"$f":"+[4]Tabulka!AV23","v":{"v":3.8491245804252903,"d":"3.85"}},{"$f":"+[4]Tabulka!AW23","v":2},{"$f":"+[4]Tabulka!AX23","v":{"v":4.369400178389413,"d":"4.37"}},{"$f":"+[4]Tabulka!AY23","v":0},{"$f":"+[4]Tabulka!AZ23","v":{"v":0,"d":"0.00"}},{"$f":"+[4]Tabulka!BA23","v":0},{"$f":"+[4]Tabulka!BB23","v":{"v":0,"d":"0.00"}},{"$f":"+[4]Tabulka!BC23","v":5},{"$f":"+[4]Tabulka!BD23","v":{"v":3.6127011759664778,"d":"3.61"}},{"$f":"+[4]Tabulka!BE23","v":0},{"$f":"+[4]Tabulka!BF23","v":{"v":0,"d":"0.00"}},{"$f":"+[4]Tabulka!BG23","v":0},{"$f":"+[4]Tabulka!BH23","v":{"v":0,"d":"0.00"}},{"$f":"+[4]Tabulka!BI23","v":0},{"$f":"+[4]Tabulka!BJ23","v":{"v":0,"d":"0.00"}},{"$f":"+[4]Tabulka!AP23","v":{"v":0,"d":"0.00"}},{"$f":"+[4]Tabulka!AQ23","v":{"v":0,"d":"0.00"}},{"$f":"+[4]Tabulka!BM23","v":{"v":11.831225934781182,"d":"11.83"}},{"$f":"+[4]Tabulka!BN23","v":3},{"$f":"+[4]Tabulka!BO23","v":{"v":11.831225934781182,"d":"11.83"}}]
["15",{"$f":"[4]Tabulka!C24","v":"FEŠAR"},{"$f":"[4]Tabulka!D24","v":"Tom "},{"$f":"[4]Tabulka!E24","v":"1999-09-09"},{"$f":"[4]Tabulka!F24","v":"Frenštát pod Radhoštěm- TJ"},{"$f":"[4]Tabulka!G24","v":"NJ"},{"$f":"[4]Tabulka!H24","v":100},{"$f":"+[4]Tabulka!AU24","v":6},{"$f":"+[4]Tabulka!AV24","v":{"v":3.3907995218454317,"d":"3.39"}},{"$f":"+[4]Tabulka!AW24","v":4},{"$f":"+[4]Tabulka!AX24","v":{"v":3.8491245804252903,"d":"3.85"}},{"$f":"+[4]Tabulka!AY24","v":2},{"$f":"+[4]Tabulka!AZ24","v":{"v":4.369400178389413,"d":"4.37"}},{"$f":"+[4]Tabulka!BA24","v":0},{"$f":"+[4]Tabulka!BB24","v":{"v":0,"d":"0.00"}},{"$f":"+[4]Tabulka!BC24","v":0},{"$f":"+[4]Tabulka!BD24","v":{"v":0,"d":"0.00"}},{"$f":"+[4]Tabulka!BE24","v":0},{"$f":"+[4]Tabulka!BF24","v":{"v":0,"d":"0.00"}},{"$f":"+[4]Tabulka!BG24","v":0},{"$f":"+[4]Tabulka!BH24","v":{"v":0,"d":"0.00"}},{"$f":"+[4]Tabulka!BI24","v":0},{"$f":"+[4]Tabulka!BJ24","v":{"v":0,"d":"0.00"}},{"$f":"+[4]Tabulka!AP24","v":{"v":24.771362610652485,"d":"24.77"}},{"$f":"+[4]Tabulka!AQ24","v":{"v":4,"d":"4.00"}},{"$f":"+[4]Tabulka!BM24","v":{"v":11.609324280660136,"d":"11.61"}},{"$f":"+[4]Tabulka!BN24","v":3},{"$f":"+[4]Tabulka!BO24","v":{"v":11.609324280660136,"d":"11.61"}}]
["14",{"$f":"[4]Tabulka!C25","v":"KUNZ"},{"$f":"[4]Tabulka!D25","v":"Marek"},{"$f":"[4]Tabulka!E25","v":"2001-04-08"},{"$f":"[4]Tabulka!F25","v":"Karviná- KLUBsten KST"},{"$f":"[4]Tabulka!G25","v":"KA"},{"$f":"[4]Tabulka!H25","v":100},{"$f":"+[4]Tabulka!AU25","v":0},{"$f":"+[4]Tabulka!AV25","v":{"v":0,"d":"0.00"}},{"$f":"+[4]Tabulka!AW25","v":0},{"$f":"+[4]Tabulka!AX25","v":{"v":0,"d":"0.00"}},{"$f":"+[4]Tabulka!AY25","v":7},{"$f":"+[4]Tabulka!AZ25","v":{"v":3.1825276537773326,"d":"3.18"}},{"$f":"+[4]Tabulka!BA25","v":15},{"$f":"+[4]Tabulka!BB25","v":{"v":1.91660566894571,"d":"1.92"}},{"$f":"+[4]Tabulka!BC25","v":0},{"$f":"+[4]Tabulka!BD25","v":{"v":0,"d":"0.00"}},{"$f":"+[4]Tabulka!BE25","v":15},{"$f":"+[4]Tabulka!BF25","v":{"v":1.91660566894571,"d":"1.92"}},{"$f":"+[4]Tabulka!BG25","v":18},{"$f":"+[4]Tabulka!BH25","v":{"v":1.584685144727681,"d":"1.58"}},{"$f":"+[4]Tabulka!BI25","v":9},{"$f":"+[4]Tabulka!BJ25","v":{"v":2.803575987529016,"d":"2.80"}},{"$f":"+[4]Tabulka!AP25","v":{"v":2.805384941026108,"d":"2.81"}},{"$f":"+[4]Tabulka!AQ25","v":{"v":1,"d":"1.00"}},{"$f":"+[4]Tabulka!BM25","v":{"v":11.40400012392545,"d":"11.40"}},{"$f":"+[4]Tabulka!BN25","v":5},{"$f":"+[4]Tabulka!BO25","v":{"v":11.40400012392545,"d":"11.40"}}]
["16",{"$f":"[4]Tabulka!C26","v":"VALOŠEK"},{"$f":"[4]Tabulka!D26","v":"Jakub"},{"$f":"[4]Tabulka!E26","v":"2000-06-18"},{"$f":"[4]Tabulka!F26","v":"Ostrava- Mittal TJ"},{"$f":"[4]Tabulka!G26","v":"OV"},{"$f":"[4]Tabulka!H26","v":100},{"$f":"+[4]Tabulka!AU26","v":8},{"$f":"+[4]Tabulka!AV26","v":{"v":2.987048394281082,"d":"2.99"}},{"$f":"+[4]Tabulka!AW26","v":1},{"$f":"+[4]Tabulka!AX26","v":{"v":4.655343691373548,"d":"4.66"}},{"$f":"+[4]Tabulka!AY26","v":0},{"$f":"+[4]Tabulka!AZ26","v":{"v":0,"d":"0.00"}},{"$f":"+[4]Tabulka!BA26","v":5},{"$f":"+[4]Tabulka!BB26","v":{"v":3.6127011759664778,"d":"3.61"}},{"$f":"+[4]Tabulka!BC26","v":9},{"$f":"+[4]Tabulka!BD26","v":{"v":2.803575987529016,"d":"2.80"}},{"$f":"+[4]Tabulka!BE26","v":0},{"$f":"+[4]Tabulka!BF26","v":{"v":0,"d":"0.00"}},{"$f":"+[4]Tabulka!BG26","v":0},{"$f":"+[4]Tabulka!BH26","v":{"v":0,"d":"0.00"}},{"$f":"+[4]Tabulka!BI26","v":0},{"$f":"+[4]Tabulka!BJ26","v":{"v":0,"d":"0.00"}},{"$f":"+[4]Tabulka!AP26","v":{"v":12.579551801893324,"d":"12.58"}},{"$f":"+[4]Tabulka!AQ26","v":{"v":3,"d":"3.00"}},{"$f":"+[4]Tabulka!BM26","v":{"v":14.058669249150123,"d":"14.06"}},{"$f":"+[4]Tabulka!BN26","v":4},{"$f":"+[4]Tabulka!BO26","v":{"v":11.255093261621107,"d":"11.26"}}]
["13",{"$f":"[4]Tabulka!C27","v":"ŠTEFEK"},{"$f":"[4]Tabulka!D27","v":"Aleš"},{"$f":"[4]Tabulka!E27","v":"1999-04-07"},{"$f":"[4]Tabulka!F27","v":"Frýdlant nad Ostravicí- SK"},{"$f":"[4]Tabulka!G27","v":"FM"},{"$f":"[4]Tabulka!H27","v":100},{"$f":"+[4]Tabulka!AU27","v":0},{"$f":"+[4]Tabulka!AV27","v":{"v":0,"d":"0.00"}},{"$f":"+[4]Tabulka!AW27","v":4},{"$f":"+[4]Tabulka!AX27","v":{"v":3.8491245804252903,"d":"3.85"}},{"$f":"+[4]Tabulka!AY27","v":0},{"$f":"+[4]Tabulka!AZ27","v":{"v":0,"d":"0.00"}},{"$f":"+[4]Tabulka!BA27","v":5},{"$f":"+[4]Tabulka!BB27","v":{"v":3.6127011759664778,"d":"3.61"}},{"$f":"+[4]Tabulka!BC27","v":0},{"$f":"+[4]Tabulka!BD27","v":{"v":0,"d":"0.00"}},{"$f":"+[4]Tabulka!BE27","v":5},{"$f":"+[4]Tabulka!BF27","v":{"v":3.6127011759664778,"d":"3.61"}},{"$f":"+[4]Tabulka!BG27","v":0},{"$f":"+[4]Tabulka!BH27","v":{"v":0,"d":"0.00"}},{"$f":"+[4]Tabulka!BI27","v":0},{"$f":"+[4]Tabulka!BJ27","v":{"v":0,"d":"0.00"}},{"$f":"+[4]Tabulka!AP27","v":{"v":0,"d":"0.00"}},{"$f":"+[4]Tabulka!AQ27","v":{"v":0,"d":"0.00"}},{"$f":"+[4]Tabulka!BM27","v":{"v":11.074526932358246,"d":"11.07"}},{"$f":"+[4]Tabulka!BN27","v":3},{"$f":"+[4]Tabulka!BO27","v":{"v":11.074526932358246,"d":"11.07"}}]
["14",{"$f":"[4]Tabulka!C28","v":"ŽELAZKO"},{"$f":"[4]Tabulka!D28","v":"Filip"},{"$f":"[4]Tabulka!E28","v":"2000-07-15"},{"$f":"[4]Tabulka!F28","v":"Ostrava- Mittal TJ"},{"$f":"[4]Tabulka!G28","v":"OV"},{"$f":"[4]Tabulka!H28","v":100},{"$f":"+[4]Tabulka!AU28","v":7},{"$f":"+[4]Tabulka!AV28","v":{"v":3.1825276537773326,"d":"3.18"}},{"$f":"+[4]Tabulka!AW28","v":0},{"$f":"+[4]Tabulka!AX28","v":{"v":0,"d":"0.00"}},{"$f":"+[4]Tabulka!AY28","v":4},{"$f":"+[4]Tabulka!AZ28","v":{"v":3.8491245804252903,"d":"3.85"}},{"$f":"+[4]Tabulka!BA28","v":0},{"$f":"+[4]Tabulka!BB28","v":{"v":0,"d":"0.00"}},{"$f":"+[4]Tabulka!BC28","v":0},{"$f":"+[4]Tabulka!BD28","v":{"v":0,"d":"0.00"}},{"$f":"+[4]Tabulka!BE28","v":4},{"$f":"+[4]Tabulka!BF28","v":{"v":3.8491245804252903,"d":"3.85"}},{"$f":"+[4]Tabulka!BG28","v":0},{"$f":"+[4]Tabulka!BH28","v":{"v":0,"d":"0.00"}},{"$f":"+[4]Tabulka!BI28","v":0},{"$f":"+[4]Tabulka!BJ28","v":{"v":0,"d":"0.00"}},{"$f":"+[4]Tabulka!AP28","v":{"v":2.0433502974765463,"d":"2.04"}},{"$f":"+[4]Tabulka!AQ28","v":{"v":1,"d":"1.00"}},{"$f":"+[4]Tabulka!BM28","v":{"v":10.880776814627913,"d":"10.88"}},{"$f":"+[4]Tabulka!BN28","v":3},{"$f":"+[4]Tabulka!BO28","v":{"v":10.880776814627913,"d":"10.88"}}]
["15",{"$f":"[4]Tabulka!C29","v":"KRZYZOSZCZAK"},{"$f":"[4]Tabulka!D29","v":"Karel"},{"$f":"[4]Tabulka!E29","v":"1999-08-24"},{"$f":"[4]Tabulka!F29","v":"Dětmarovice- Sokol TJ"},{"$f":"[4]Tabulka!G29","v":"KA"},{"$f":"[4]Tabulka!H29","v":100},{"$f":"+[4]Tabulka!AU29","v":16},{"$f":"+[4]Tabulka!AV29","v":{"v":1.7988826834228204,"d":"1.80"}},{"$f":"+[4]Tabulka!AW29","v":10},{"$f":"+[4]Tabulka!AX29","v":{"v":2.6313729408930584,"d":"2.63"}},{"$f":"+[4]Tabulka!AY29","v":11},{"$f":"+[4]Tabulka!AZ29","v":{"v":2.4697470604914433,"d":"2.47"}},{"$f":"+[4]Tabulka!BA29","v":17},{"$f":"+[4]Tabulka!BB29","v":{"v":1.6883905547970857,"d":"1.69"}},{"$f":"+[4]Tabulka!BC29","v":13},{"$f":"+[4]Tabulka!BD29","v":{"v":2.1756679932838794,"d":"2.18"}},{"$f":"+[4]Tabulka!BE29","v":0},{"$f":"+[4]Tabulka!BF29","v":{"v":0,"d":"0.00"}},{"$f":"+[4]Tabulka!BG29","v":0},{"$f":"+[4]Tabulka!BH29","v":{"v":0,"d":"0.00"}},{"$f":"+[4]Tabulka!BI29","v":0},{"$f":"+[4]Tabulka!BJ29","v":{"v":0,"d":"0.00"}},{"$f":"+[4]Tabulka!AP29","v":{"v":1.230561738917558,"d":"1.23"}},{"$f":"+[4]Tabulka!AQ29","v":{"v":1,"d":"1.00"}},{"$f":"+[4]Tabulka!BM29","v":{"v":10.764061232888286,"d":"10.76"}},{"$f":"+[4]Tabulka!BN29","v":5},{"$f":"+[4]Tabulka!BO29","v":{"v":10.764061232888285,"d":"10.76"}}]
["16",{"$f":"[4]Tabulka!C30","v":"SIKORA"},{"$f":"[4]Tabulka!D30","v":"Jakub"},{"$f":"[4]Tabulka!E30","v":"2000-05-13"},{"$f":"[4]Tabulka!F30","v":"Orlová- Slávie SK"},{"$f":"[4]Tabulka!G30","v":"KA"},{"$f":"[4]Tabulka!H30","v":100},{"$f":"+[4]Tabulka!AU30","v":8},{"$f":"+[4]Tabulka!AV30","v":{"v":2.987048394281082,"d":"2.99"}},{"$f":"+[4]Tabulka!AW30","v":0},{"$f":"+[4]Tabulka!AX30","v":{"v":0,"d":"0.00"}},{"$f":"+[4]Tabulka!AY30","v":0},{"$f":"+[4]Tabulka!AZ30","v":{"v":0,"d":"0.00"}},{"$f":"+[4]Tabulka!BA30","v":0},{"$f":"+[4]Tabulka!BB30","v":{"v":0,"d":"0.00"}},{"$f":"+[4]Tabulka!BC30","v":0},{"$f":"+[4]Tabulka!BD30","v":{"v":0,"d":"0.00"}},{"$f":"+[4]Tabulka!BE30","v":9},{"$f":"+[4]Tabulka!BF30","v":{"v":2.803575987529016,"d":"2.80"}},{"$f":"+[4]Tabulka!BG30","v":15},{"$f":"+[4]Tabulka!BH30","v":{"v":1.91660566894571,"d":"1.92"}},{"$f":"+[4]Tabulka!BI30","v":15},{"$f":"+[4]Tabulka!BJ30","v":{"v":1.91660566894571,"d":"1.92"}},{"$f":"+[4]Tabulka!AP30","v":{"v":0,"d":"0.00"}},{"$f":"+[4]Tabulka!AQ30","v":{"v":0,"d":"0.00"}},{"$f":"+[4]Tabulka!BM30","v":{"v":9.623835719701518,"d":"9.62"}},{"$f":"+[4]Tabulka!BN30","v":4},{"$f":"+[4]Tabulka!BO30","v":{"v":9.623835719701518,"d":"9.62"}}]
["17",{"$f":"[4]Tabulka!C31","v":"KANIA"},{"$f":"[4]Tabulka!D31","v":"Vojtěch"},{"$f":"[4]Tabulka!E31","v":"2000-03-22"},{"$f":"[4]Tabulka!F31","v":"Orlová- Siko TTC"},{"$f":"[4]Tabulka!G31","v":"KA"},{"$f":"[4]Tabulka!H31","v":100},{"$f":"+[4]Tabulka!AU31","v":15},{"$f":"+[4]Tabulka!AV31","v":{"v":1.91660566894571,"d":"1.92"}},{"$f":"+[4]Tabulka!AW31","v":12},{"$f":"+[4]Tabulka!AX31","v":{"v":2.3180486688200013,"d":"2.32"}},{"$f":"+[4]Tabulka!AY31","v":15},{"$f":"+[4]Tabulka!AZ31","v":{"v":1.91660566894571,"d":"1.92"}},{"$f":"+[4]Tabulka!BA31","v":19},{"$f":"+[4]Tabulka!BB31","v":{"v":1.4873495950244735,"d":"1.49"}},{"$f":"+[4]Tabulka!BC31","v":15},{"$f":"+[4]Tabulka!BD31","v":{"v":1.91660566894571,"d":"1.92"}},{"$f":"+[4]Tabulka!BE31","v":0},{"$f":"+[4]Tabulka!BF31","v":{"v":0,"d":"0.00"}},{"$f":"+[4]Tabulka!BG31","v":0},{"$f":"+[4]Tabulka!BH31","v":{"v":0,"d":"0.00"}},{"$f":"+[4]Tabulka!BI31","v":0},{"$f":"+[4]Tabulka!BJ31","v":{"v":0,"d":"0.00"}},{"$f":"+[4]Tabulka!AP31","v":{"v":0,"d":"0.00"}},{"$f":"+[4]Tabulka!AQ31","v":{"v":0,"d":"0.00"}},{"$f":"+[4]Tabulka!BM31","v":{"v":9.555215270681604,"d":"9.56"}},{"$f":"+[4]Tabulka!BN31","v":5},{"$f":"+[4]Tabulka!BO31","v":{"v":9.555215270681606,"d":"9.56"}}]
["18",{"$f":"[4]Tabulka!C32","v":"GORECKI"},{"$f":"[4]Tabulka!D32","v":"Jan"},{"$f":"[4]Tabulka!E32","v":"1999-09-05"},{"$f":"[4]Tabulka!F32","v":"Havířov- Baník SKST"},{"$f":"[4]Tabulka!G32","v":"KA"},{"$f":"[4]Tabulka!H32","v":100},{"$f":"+[4]Tabulka!AU32","v":0},{"$f":"+[4]Tabulka!AV32","v":{"v":0,"d":"0.00"}},{"$f":"+[4]Tabulka!AW32","v":0},{"$f":"+[4]Tabulka!AX32","v":{"v":0,"d":"0.00"}},{"$f":"+[4]Tabulka!AY32","v":0},{"$f":"+[4]Tabulka!AZ32","v":{"v":0,"d":"0.00"}},{"$f":"+[4]Tabulka!BA32","v":0},{"$f":"+[4]Tabulka!BB32","v":{"v":0,"d":"0.00"}},{"$f":"+[4]Tabulka!BC32","v":0},{"$f":"+[4]Tabulka!BD32","v":{"v":0,"d":"0.00"}},{"$f":"+[4]Tabulka!BE32","v":1},{"$f":"+[4]Tabulka!BF32","v":{"v":4.655343691373548,"d":"4.66"}},{"$f":"+[4]Tabulka!BG32","v":2},{"$f":"+[4]Tabulka!BH32","v":{"v":4.369400178389413,"d":"4.37"}},{"$f":"+[4]Tabulka!BI32","v":0},{"$f":"+[4]Tabulka!BJ32","v":{"v":0,"d":"0.00"}},{"$f":"+[4]Tabulka!AP32","v":{"v":35.7078549335433,"d":"35.71"}},{"$f":"+[4]Tabulka!AQ32","v":{"v":3,"d":"3.00"}},{"$f":"+[4]Tabulka!BM32","v":{"v":9.024743869762961,"d":"9.02"}},{"$f":"+[4]Tabulka!BN32","v":2},{"$f":"+[4]Tabulka!BO32","v":{"v":9.024743869762961,"d":"9.02"}}]
["19",{"$f":"[4]Tabulka!C33","v":"PIESZKA"},{"$f":"[4]Tabulka!D33","v":"Lukáš"},{"$f":"[4]Tabulka!E33","v":"2000-01-01"},{"$f":"[4]Tabulka!F33","v":"Chotěbuz- Sokol TJ"},{"$f":"[4]Tabulka!G33","v":"KA"},{"$f":"[4]Tabulka!H33","v":0},{"$f":"+[4]Tabulka!AU33","v":0},{"$f":"+[4]Tabulka!AV33","v":{"v":0,"d":"0.00"}},{"$f":"+[4]Tabulka!AW33","v":12},{"$f":"+[4]Tabulka!AX33","v":{"v":2.3180486688200013,"d":"2.32"}},{"$f":"+[4]Tabulka!AY33","v":0},{"$f":"+[4]Tabulka!AZ33","v":{"v":0,"d":"0.00"}},{"$f":"+[4]Tabulka!BA33","v":16},{"$f":"+[4]Tabulka!BB33","v":{"v":1.7988826834228204,"d":"1.80"}},{"$f":"+[4]Tabulka!BC33","v":8},{"$f":"+[4]Tabulka!BD33","v":{"v":2.987048394281082,"d":"2.99"}},{"$f":"+[4]Tabulka!BE33","v":0},{"$f":"+[4]Tabulka!BF33","v":{"v":0,"d":"0.00"}},{"$f":"+[4]Tabulka!BG33","v":20},{"$f":"+[4]Tabulka!BH33","v":{"v":1.3959926520290693,"d":"1.40"}},{"$f":"+[4]Tabulka!BI33","v":0},{"$f":"+[4]Tabulka!BJ33","v":{"v":0,"d":"0.00"}},{"$f":"+[4]Tabulka!AP33","v":{"v":0,"d":"0.00"}},{"$f":"+[4]Tabulka!AQ33","v":{"v":0,"d":"0.00"}},{"$f":"+[4]Tabulka!BM33","v":{"v":8.499972398552973,"d":"8.50"}},{"$f":"+[4]Tabulka!BN33","v":4},{"$f":"+[4]Tabulka!BO33","v":{"v":8.499972398552973,"d":"8.50"}}]
[null,{"$f":"[4]Tabulka!C34","v":"KUZNÍK"},{"$f":"[4]Tabulka!D34","v":"Pavel"},{"$f":"[4]Tabulka!E34","v":"1999-04-21"},{"$f":"[4]Tabulka!F34","v":"Hradec nad Moravicí- FIT SPORT KLUB "},{"$f":"[4]Tabulka!G34","v":"OP"},{"$f":"[4]Tabulka!H34","v":100},{"$f":"+[4]Tabulka!AU34","v":11},{"$f":"+[4]Tabulka!AV34","v":{"v":2.4697470604914433,"d":"2.47"}},{"$f":"+[4]Tabulka!AW34","v":7},{"$f":"+[4]Tabulka!AX34","v":{"v":3.1825276537773326,"d":"3.18"}},{"$f":"+[4]Tabulka!AY34","v":11},{"$f":"+[4]Tabulka!AZ34","v":{"v":2.4697470604914433,"d":"2.47"}},{"$f":"+[4]Tabulka!BA34","v":0},{"$f":"+[4]Tabulka!BB34","v":{"v":0,"d":"0.00"}},{"$f":"+[4]Tabulka!BC34","v":0},{"$f":"+[4]Tabulka!BD34","v":{"v":0,"d":"0.00"}},{"$f":"+[4]Tabulka!BE34","v":0},{"$f":"+[4]Tabulka!BF34","v":{"v":0,"d":"0.00"}},{"$f":"+[4]Tabulka!BG34","v":0},{"$f":"+[4]Tabulka!BH34","v":{"v":0,"d":"0.00"}},{"$f":"+[4]Tabulka!BI34","v":0},{"$f":"+[4]Tabulka!BJ34","v":{"v":0,"d":"0.00"}},{"$f":"+[4]Tabulka!AP34","v":{"v":0,"d":"0.00"}},{"$f":"+[4]Tabulka!AQ34","v":{"v":0,"d":"0.00"}},{"$f":"+[4]Tabulka!BM34","v":{"v":8.122021774760219,"d":"8.12"}},{"$f":"+[4]Tabulka!BN34","v":3},{"$f":"+[4]Tabulka!BO34","v":{"v":8.122021774760219,"d":"8.12"}}]
["20",{"$f":"[4]Tabulka!C35","v":"MARTYNEK"},{"$f":"[4]Tabulka!D35","v":"Aleš"},{"$f":"[4]Tabulka!E35","v":"1999-04-30"},{"$f":"[4]Tabulka!F35","v":"Karviná- KLUBsten KST"},{"$f":"[4]Tabulka!G35","v":"KA"},{"$f":"[4]Tabulka!H35","v":100},{"$f":"+[4]Tabulka!AU35","v":12},{"$f":"+[4]Tabulka!AV35","v":{"v":2.3180486688200013,"d":"2.32"}},{"$f":"+[4]Tabulka!AW35","v":0},{"$f":"+[4]Tabulka!AX35","v":{"v":0,"d":"0.00"}},{"$f":"+[4]Tabulka!AY35","v":8},{"$f":"+[4]Tabulka!AZ35","v":{"v":2.987048394281082,"d":"2.99"}},{"$f":"+[4]Tabulka!BA35","v":0},{"$f":"+[4]Tabulka!BB35","v":{"v":0,"d":"0.00"}},{"$f":"+[4]Tabulka!BC35","v":0},{"$f":"+[4]Tabulka!BD35","v":{"v":0,"d":"0.00"}},{"$f":"+[4]Tabulka!BE35","v":18},{"$f":"+[4]Tabulka!BF35","v":{"v":1.584685144727681,"d":"1.58"}},{"$f":"+[4]Tabulka!BG35","v":22},{"$f":"+[4]Tabulka!BH35","v":{"v":1.2297682545980093,"d":"1.23"}},{"$f":"+[4]Tabulka!BI35","v":0},{"$f":"+[4]Tabulka!BJ35","v":{"v":0,"d":"0.00"}},{"$f":"+[4]Tabulka!AP35","v":{"v":7.092641905848853,"d":"7.09"}},{"$f":"+[4]Tabulka!AQ35","v":{"v":2,"d":"2.00"}},{"$f":"+[4]Tabulka!BM35","v":{"v":8.119550462426773,"d":"8.12"}},{"$f":"+[4]Tabulka!BN35","v":4},{"$f":"+[4]Tabulka!BO35","v":{"v":8.119550462426773,"d":"8.12"}}]
["17",{"$f":"[4]Tabulka!C36","v":"ŠIMERA"},{"$f":"[4]Tabulka!D36","v":"Jiří"},{"$f":"[4]Tabulka!E36","v":"1999-09-09"},{"$f":"[4]Tabulka!F36","v":"Hradec nad Moravicí- FIT SPORT KLUB "},{"$f":"[4]Tabulka!G36","v":"OP"},{"$f":"[4]Tabulka!H36","v":100},{"$f":"+[4]Tabulka!AU36","v":10},{"$f":"+[4]Tabulka!AV36","v":{"v":2.6313729408930584,"d":"2.63"}},{"$f":"+[4]Tabulka!AW36","v":9},{"$f":"+[4]Tabulka!AX36","v":{"v":2.803575987529016,"d":"2.80"}},{"$f":"+[4]Tabulka!AY36","v":10},{"$f":"+[4]Tabulka!AZ36","v":{"v":2.6313729408930584,"d":"2.63"}},{"$f":"+[4]Tabulka!BA36","v":0},{"$f":"+[4]Tabulka!BB36","v":{"v":0,"d":"0.00"}},{"$f":"+[4]Tabulka!BC36","v":15},{"$f":"+[4]Tabulka!BD36","v":{"v":1.91660566894571,"d":"1.92"}},{"$f":"+[4]Tabulka!BE36","v":0},{"$f":"+[4]Tabulka!BF36","v":{"v":0,"d":"0.00"}},{"$f":"+[4]Tabulka!BG36","v":0},{"$f":"+[4]Tabulka!BH36","v":{"v":0,"d":"0.00"}},{"$f":"+[4]Tabulka!BI36","v":0},{"$f":"+[4]Tabulka!BJ36","v":{"v":0,"d":"0.00"}},{"$f":"+[4]Tabulka!AP36","v":{"v":0,"d":"0.00"}},{"$f":"+[4]Tabulka!AQ36","v":{"v":0,"d":"0.00"}},{"$f":"+[4]Tabulka!BM36","v":{"v":9.982927538260842,"d":"9.98"}},{"$f":"+[4]Tabulka!BN36","v":4},{"$f":"+[4]Tabulka!BO36","v":{"v":8.066321869315132,"d":"8.07"}}]
[null,{"$f":"[4]Tabulka!C37","v":"MAZŮCH"},{"$f":"[4]Tabulka!D37","v":"Filip"},{"$f":"[4]Tabulka!E37","v":"2000-01-01"},{"$f":"[4]Tabulka!F37","v":"Ostrava - Zábřeh- Domik"},{"$f":"[4]Tabulka!G37","v":"OV"},{"$f":"[4]Tabulka!H37","v":0},{"$f":"+[4]Tabulka!AU37","v":13},{"$f":"+[4]Tabulka!AV37","v":{"v":2.1756679932838794,"d":"2.18"}},{"$f":"+[4]Tabulka!AW37","v":9},{"$f":"+[4]Tabulka!AX37","v":{"v":2.803575987529016,"d":"2.80"}},{"$f":"+[4]Tabulka!AY37","v":0},{"$f":"+[4]Tabulka!AZ37","v":{"v":0,"d":"0.00"}},{"$f":"+[4]Tabulka!BA37","v":0},{"$f":"+[4]Tabulka!BB37","v":{"v":0,"d":"0.00"}},{"$f":"+[4]Tabulka!BC37","v":0},{"$f":"+[4]Tabulka!BD37","v":{"v":0,"d":"0.00"}},{"$f":"+[4]Tabulka!BE37","v":9},{"$f":"+[4]Tabulka!BF37","v":{"v":2.803575987529016,"d":"2.80"}},{"$f":"+[4]Tabulka!BG37","v":0},{"$f":"+[4]Tabulka!BH37","v":{"v":0,"d":"0.00"}},{"$f":"+[4]Tabulka!BI37","v":0},{"$f":"+[4]Tabulka!BJ37","v":{"v":0,"d":"0.00"}},{"$f":"+[4]Tabulka!AP37","v":{"v":0,"d":"0.00"}},{"$f":"+[4]Tabulka!AQ37","v":{"v":0,"d":"0.00"}},{"$f":"+[4]Tabulka!BM37","v":{"v":7.7828199683419115,"d":"7.78"}},{"$f":"+[4]Tabulka!BN37","v":3},{"$f":"+[4]Tabulka!BO37","v":{"v":7.7828199683419115,"d":"7.78"}}]
["20",{"$f":"[4]Tabulka!C38","v":"MORYS"},{"$f":"[4]Tabulka!D38","v":"Patrik"},{"$f":"[4]Tabulka!E38","v":"1999-01-01"},{"$f":"[4]Tabulka!F38","v":"Ostrava- Domik"},{"$f":"[4]Tabulka!G38","v":"OV"},{"$f":"[4]Tabulka!H38","v":0},{"$f":"+[4]Tabulka!AU38","v":13},{"$f":"+[4]Tabulka!AV38","v":{"v":2.1756679932838794,"d":"2.18"}},{"$f":"+[4]Tabulka!AW38","v":9},{"$f":"+[4]Tabulka!AX38","v":{"v":2.803575987529016,"d":"2.80"}},{"$f":"+[4]Tabulka!AY38","v":0},{"$f":"+[4]Tabulka!AZ38","v":{"v":0,"d":"0.00"}},{"$f":"+[4]Tabulka!BA38","v":0},{"$f":"+[4]Tabulka!BB38","v":{"v":0,"d":"0.00"}},{"$f":"+[4]Tabulka!BC38","v":0},{"$f":"+[4]Tabulka!BD38","v":{"v":0,"d":"0.00"}},{"$f":"+[4]Tabulka!BE38","v":9},{"$f":"+[4]Tabulka!BF38","v":{"v":2.803575987529016,"d":"2.80"}},{"$f":"+[4]Tabulka!BG38","v":0},{"$f":"+[4]Tabulka!BH38","v":{"v":0,"d":"0.00"}},{"$f":"+[4]Tabulka!BI38","v":0},{"$f":"+[4]Tabulka!BJ38","v":{"v":0,"d":"0.00"}},{"$f":"+[4]Tabulka!AP38","v":{"v":0,"d":"0.00"}},{"$f":"+[4]Tabulka!AQ38","v":{"v":0,"d":"0.00"}},{"$f":"+[4]Tabulka!BM38","v":{"v":7.7828199683419115,"d":"7.78"}},{"$f":"+[4]Tabulka!BN38","v":3},{"$f":"+[4]Tabulka!BO38","v":{"v":7.7828199683419115,"d":"7.78"}}]
["18",{"$f":"[4]Tabulka!C39","v":"VELIČKA"},{"$f":"[4]Tabulka!D39","v":"Martin"},{"$f":"[4]Tabulka!E39","v":"1999-02-18"},{"$f":"[4]Tabulka!F39","v":"Frýdlant nad Ostravicí- SK"},{"$f":"[4]Tabulka!G39","v":"FM"},{"$f":"[4]Tabulka!H39","v":100},{"$f":"+[4]Tabulka!AU39","v":0},{"$f":"+[4]Tabulka!AV39","v":{"v":0,"d":"0.00"}},{"$f":"+[4]Tabulka!AW39","v":0},{"$f":"+[4]Tabulka!AX39","v":{"v":0,"d":"0.00"}},{"$f":"+[4]Tabulka!AY39","v":0},{"$f":"+[4]Tabulka!AZ39","v":{"v":0,"d":"0.00"}},{"$f":"+[4]Tabulka!BA39","v":13},{"$f":"+[4]Tabulka!BB39","v":{"v":2.1756679932838794,"d":"2.18"}},{"$f":"+[4]Tabulka!BC39","v":9},{"$f":"+[4]Tabulka!BD39","v":{"v":2.803575987529016,"d":"2.80"}},{"$f":"+[4]Tabulka!BE39","v":9},{"$f":"+[4]Tabulka!BF39","v":{"v":2.803575987529016,"d":"2.80"}},{"$f":"+[4]Tabulka!BG39","v":0},{"$f":"+[4]Tabulka!BH39","v":{"v":0,"d":"0.00"}},{"$f":"+[4]Tabulka!BI39","v":0},{"$f":"+[4]Tabulka!BJ39","v":{"v":0,"d":"0.00"}},{"$f":"+[4]Tabulka!AP39","v":{"v":5.2880034947714405,"d":"5.29"}},{"$f":"+[4]Tabulka!AQ39","v":{"v":1,"d":"1.00"}},{"$f":"+[4]Tabulka!BM39","v":{"v":7.7828199683419115,"d":"7.78"}},{"$f":"+[4]Tabulka!BN39","v":3},{"$f":"+[4]Tabulka!BO39","v":{"v":7.7828199683419115,"d":"7.78"}}]
["21",{"$f":"[4]Tabulka!C40","v":"ŠČUKA"},{"$f":"[4]Tabulka!D40","v":"Ladislav"},{"$f":"[4]Tabulka!E40","v":"1999-01-01"},{"$f":"[4]Tabulka!F40","v":"Těrlicko- DDŠ"},{"$f":"[4]Tabulka!G40","v":"KA"},{"$f":"[4]Tabulka!H40","v":0},{"$f":"+[4]Tabulka!AU40","v":0},{"$f":"+[4]Tabulka!AV40","v":{"v":0,"d":"0.00"}},{"$f":"+[4]Tabulka!AW40","v":0},{"$f":"+[4]Tabulka!AX40","v":{"v":0,"d":"0.00"}},{"$f":"+[4]Tabulka!AY40","v":18},{"$f":"+[4]Tabulka!AZ40","v":{"v":1.584685144727681,"d":"1.58"}},{"$f":"+[4]Tabulka!BA40","v":9},{"$f":"+[4]Tabulka!BB40","v":{"v":2.803575987529016,"d":"2.80"}},{"$f":"+[4]Tabulka!BC40","v":7},{"$f":"+[4]Tabulka!BD40","v":{"v":3.1825276537773326,"d":"3.18"}},{"$f":"+[4]Tabulka!BE40","v":0},{"$f":"+[4]Tabulka!BF40","v":{"v":0,"d":"0.00"}},{"$f":"+[4]Tabulka!BG40","v":0},{"$f":"+[4]Tabulka!BH40","v":{"v":0,"d":"0.00"}},{"$f":"+[4]Tabulka!BI40","v":0},{"$f":"+[4]Tabulka!BJ40","v":{"v":0,"d":"0.00"}},{"$f":"+[4]Tabulka!AP40","v":{"v":0,"d":"0.00"}},{"$f":"+[4]Tabulka!AQ40","v":{"v":0,"d":"0.00"}},{"$f":"+[4]Tabulka!BM40","v":{"v":7.570788786034029,"d":"7.57"}},{"$f":"+[4]Tabulka!BN40","v":3},{"$f":"+[4]Tabulka!BO40","v":{"v":7.570788786034029,"d":"7.57"}}]
["22",{"$f":"[4]Tabulka!C41","v":"NOVÁK"},{"$f":"[4]Tabulka!D41","v":"Adam"},{"$f":"[4]Tabulka!E41","v":"2001-07-22"},{"$f":"[4]Tabulka!F41","v":"Karviná- KLUBsten KST"},{"$f":"[4]Tabulka!G41","v":"KA"},{"$f":"[4]Tabulka!H41","v":100},{"$f":"+[4]Tabulka!AU41","v":0},{"$f":"+[4]Tabulka!AV41","v":{"v":0,"d":"0.00"}},{"$f":"+[4]Tabulka!AW41","v":17},{"$f":"+[4]Tabulka!AX41","v":{"v":1.6883905547970857,"d":"1.69"}},{"$f":"+[4]Tabulka!AY41","v":12},{"$f":"+[4]Tabulka!AZ41","v":{"v":2.3180486688200013,"d":"2.32"}},{"$f":"+[4]Tabulka!BA41","v":0},{"$f":"+[4]Tabulka!BB41","v":{"v":0,"d":"0.00"}},{"$f":"+[4]Tabulka!BC41","v":10},{"$f":"+[4]Tabulka!BD41","v":{"v":2.6313729408930584,"d":"2.63"}},{"$f":"+[4]Tabulka!BE41","v":0},{"$f":"+[4]Tabulka!BF41","v":{"v":0,"d":"0.00"}},{"$f":"+[4]Tabulka!BG41","v":0},{"$f":"+[4]Tabulka!BH41","v":{"v":0,"d":"0.00"}},{"$f":"+[4]Tabulka!BI41","v":0},{"$f":"+[4]Tabulka!BJ41","v":{"v":0,"d":"0.00"}},{"$f":"+[4]Tabulka!AP41","v":{"v":1.154977384700709,"d":"1.15"}},{"$f":"+[4]Tabulka!AQ41","v":{"v":1,"d":"1.00"}},{"$f":"+[4]Tabulka!BM41","v":{"v":6.637812164510145,"d":"6.64"}},{"$f":"+[4]Tabulka!BN41","v":3},{"$f":"+[4]Tabulka!BO41","v":{"v":6.637812164510145,"d":"6.64"}}]
["19",{"$f":"[4]Tabulka!C42","v":"KOMENDER"},{"$f":"[4]Tabulka!D42","v":"Jan"},{"$f":"[4]Tabulka!E42","v":"1999-06-16"},{"$f":"[4]Tabulka!F42","v":"Fulnel- TJ"},{"$f":"[4]Tabulka!G42","v":"NJ"},{"$f":"[4]Tabulka!H42","v":100},{"$f":"+[4]Tabulka!AU42","v":8},{"$f":"+[4]Tabulka!AV42","v":{"v":2.987048394281082,"d":"2.99"}},{"$f":"+[4]Tabulka!AW42","v":0},{"$f":"+[4]Tabulka!AX42","v":{"v":0,"d":"0.00"}},{"$f":"+[4]Tabulka!AY42","v":5},{"$f":"+[4]Tabulka!AZ42","v":{"v":3.6127011759664778,"d":"3.61"}},{"$f":"+[4]Tabulka!BA42","v":0},{"$f":"+[4]Tabulka!BB42","v":{"v":0,"d":"0.00"}},{"$f":"+[4]Tabulka!BC42","v":0},{"$f":"+[4]Tabulka!BD42","v":{"v":0,"d":"0.00"}},{"$f":"+[4]Tabulka!BE42","v":0},{"$f":"+[4]Tabulka!BF42","v":{"v":0,"d":"0.00"}},{"$f":"+[4]Tabulka!BG42","v":0},{"$f":"+[4]Tabulka!BH42","v":{"v":0,"d":"0.00"}},{"$f":"+[4]Tabulka!BI42","v":0},{"$f":"+[4]Tabulka!BJ42","v":{"v":0,"d":"0.00"}},{"$f":"+[4]Tabulka!AP42","v":{"v":1.6894799563371699,"d":"1.69"}},{"$f":"+[4]Tabulka!AQ42","v":{"v":1,"d":"1.00"}},{"$f":"+[4]Tabulka!BM42","v":{"v":6.59974957024756,"d":"6.60"}},{"$f":"+[4]Tabulka!BN42","v":2},{"$f":"+[4]Tabulka!BO42","v":{"v":6.59974957024756,"d":"6.60"}}]
[null,{"$f":"[4]Tabulka!C43","v":"ŠTĚPÁN"},{"$f":"[4]Tabulka!D43","v":"Dominik"},{"$f":"[4]Tabulka!E43","v":"2000-01-25"},{"$f":"[4]Tabulka!F43","v":"Hlučín- DDM"},{"$f":"[4]Tabulka!G43","v":"OP"},{"$f":"[4]Tabulka!H43","v":100},{"$f":"+[4]Tabulka!AU43","v":13},{"$f":"+[4]Tabulka!AV43","v":{"v":2.1756679932838794,"d":"2.18"}},{"$f":"+[4]Tabulka!AW43","v":0},{"$f":"+[4]Tabulka!AX43","v":{"v":0,"d":"0.00"}},{"$f":"+[4]Tabulka!AY43","v":0},{"$f":"+[4]Tabulka!AZ43","v":{"v":0,"d":"0.00"}},{"$f":"+[4]Tabulka!BA43","v":13},{"$f":"+[4]Tabulka!BB43","v":{"v":2.1756679932838794,"d":"2.18"}},{"$f":"+[4]Tabulka!BC43","v":15},{"$f":"+[4]Tabulka!BD43","v":{"v":1.91660566894571,"d":"1.92"}},{"$f":"+[4]Tabulka!BE43","v":13},{"$f":"+[4]Tabulka!BF43","v":{"v":2.1756679932838794,"d":"2.18"}},{"$f":"+[4]Tabulka!BG43","v":0},{"$f":"+[4]Tabulka!BH43","v":{"v":0,"d":"0.00"}},{"$f":"+[4]Tabulka!BI43","v":0},{"$f":"+[4]Tabulka!BJ43","v":{"v":0,"d":"0.00"}},{"$f":"+[4]Tabulka!AP43","v":{"v":0,"d":"0.00"}},{"$f":"+[4]Tabulka!AQ43","v":{"v":0,"d":"0.00"}},{"$f":"+[4]Tabulka!BM43","v":{"v":8.443609648797349,"d":"8.44"}},{"$f":"+[4]Tabulka!BN43","v":4},{"$f":"+[4]Tabulka!BO43","v":{"v":6.527003979851639,"d":"6.53"}}]
["21",{"$f":"[4]Tabulka!C44","v":"MIKESKA"},{"$f":"[4]Tabulka!D44","v":"Tadeáš"},{"$f":"[4]Tabulka!E44","v":"1999-10-02"},{"$f":"[4]Tabulka!F44","v":"Hlučín- DDM"},{"$f":"[4]Tabulka!G44","v":"OP"},{"$f":"[4]Tabulka!H44","v":100},{"$f":"+[4]Tabulka!AU44","v":0},{"$f":"+[4]Tabulka!AV44","v":{"v":0,"d":"0.00"}},{"$f":"+[4]Tabulka!AW44","v":0},{"$f":"+[4]Tabulka!AX44","v":{"v":0,"d":"0.00"}},{"$f":"+[4]Tabulka!AY44","v":0},{"$f":"+[4]Tabulka!AZ44","v":{"v":0,"d":"0.00"}},{"$f":"+[4]Tabulka!BA44","v":13},{"$f":"+[4]Tabulka!BB44","v":{"v":2.1756679932838794,"d":"2.18"}},{"$f":"+[4]Tabulka!BC44","v":15},{"$f":"+[4]Tabulka!BD44","v":{"v":1.91660566894571,"d":"1.92"}},{"$f":"+[4]Tabulka!BE44","v":13},{"$f":"+[4]Tabulka!BF44","v":{"v":2.1756679932838794,"d":"2.18"}},{"$f":"+[4]Tabulka!BG44","v":0},{"$f":"+[4]Tabulka!BH44","v":{"v":0,"d":"0.00"}},{"$f":"+[4]Tabulka!BI44","v":0},{"$f":"+[4]Tabulka!BJ44","v":{"v":0,"d":"0.00"}},{"$f":"+[4]Tabulka!AP44","v":{"v":0,"d":"0.00"}},{"$f":"+[4]Tabulka!AQ44","v":{"v":0,"d":"0.00"}},{"$f":"+[4]Tabulka!BM44","v":{"v":6.267941655513468,"d":"6.27"}},{"$f":"+[4]Tabulka!BN44","v":3},{"$f":"+[4]Tabulka!BO44","v":{"v":6.267941655513469,"d":"6.27"}}]
[null,{"$f":"[4]Tabulka!C45","v":"LOPOČ"},{"$f":"[4]Tabulka!D45","v":"Lukáš"},{"$f":"[4]Tabulka!E45","v":"2000-08-15"},{"$f":"[4]Tabulka!F45","v":"Kravaře- SK TJ"},{"$f":"[4]Tabulka!G45","v":"OP"},{"$f":"[4]Tabulka!H45","v":100},{"$f":"+[4]Tabulka!AU45","v":6},{"$f":"+[4]Tabulka!AV45","v":{"v":3.3907995218454317,"d":"3.39"}},{"$f":"+[4]Tabulka!AW45","v":0},{"$f":"+[4]Tabulka!AX45","v":{"v":0,"d":"0.00"}},{"$f":"+[4]Tabulka!AY45","v":0},{"$f":"+[4]Tabulka!AZ45","v":{"v":0,"d":"0.00"}},{"$f":"+[4]Tabulka!BA45","v":9},{"$f":"+[4]Tabulka!BB45","v":{"v":2.803575987529016,"d":"2.80"}},{"$f":"+[4]Tabulka!BC45","v":0},{"$f":"+[4]Tabulka!BD45","v":{"v":0,"d":"0.00"}},{"$f":"+[4]Tabulka!BE45","v":0},{"$f":"+[4]Tabulka!BF45","v":{"v":0,"d":"0.00"}},{"$f":"+[4]Tabulka!BG45","v":0},{"$f":"+[4]Tabulka!BH45","v":{"v":0,"d":"0.00"}},{"$f":"+[4]Tabulka!BI45","v":0},{"$f":"+[4]Tabulka!BJ45","v":{"v":0,"d":"0.00"}},{"$f":"+[4]Tabulka!AP45","v":{"v":0,"d":"0.00"}},{"$f":"+[4]Tabulka!AQ45","v":{"v":0,"d":"0.00"}},{"$f":"+[4]Tabulka!BM45","v":{"v":6.1943755093744475,"d":"6.19"}},{"$f":"+[4]Tabulka!BN45","v":2},{"$f":"+[4]Tabulka!BO45","v":{"v":6.1943755093744475,"d":"6.19"}}]
["23",{"$f":"[4]Tabulka!C46","v":"FABIAN"},{"$f":"[4]Tabulka!D46","v":"Michal"},{"$f":"[4]Tabulka!E46","v":"2000-02-04"},{"$f":"[4]Tabulka!F46","v":"Orlová- Siko TTC"},{"$f":"[4]Tabulka!G46","v":"KA"},{"$f":"[4]Tabulka!H46","v":100},{"$f":"+[4]Tabulka!AU46","v":17},{"$f":"+[4]Tabulka!AV46","v":{"v":1.6883905547970857,"d":"1.69"}},{"$f":"+[4]Tabulka!AW46","v":14},{"$f":"+[4]Tabulka!AX46","v":{"v":2.0420327151325517,"d":"2.04"}},{"$f":"+[4]Tabulka!AY46","v":14},{"$f":"+[4]Tabulka!AZ46","v":{"v":2.0420327151325517,"d":"2.04"}},{"$f":"+[4]Tabulka!BA46","v":22},{"$f":"+[4]Tabulka!BB46","v":{"v":1.2297682545980093,"d":"1.23"}},{"$f":"+[4]Tabulka!BC46","v":14},{"$f":"+[4]Tabulka!BD46","v":{"v":2.0420327151325517,"d":"2.04"}},{"$f":"+[4]Tabulka!BE46","v":0},{"$f":"+[4]Tabulka!BF46","v":{"v":0,"d":"0.00"}},{"$f":"+[4]Tabulka!BG46","v":0},{"$f":"+[4]Tabulka!BH46","v":{"v":0,"d":"0.00"}},{"$f":"+[4]Tabulka!BI46","v":0},{"$f":"+[4]Tabulka!BJ46","v":{"v":0,"d":"0.00"}},{"$f":"+[4]Tabulka!AP46","v":{"v":0,"d":"0.00"}},{"$f":"+[4]Tabulka!AQ46","v":{"v":0,"d":"0.00"}},{"$f":"+[4]Tabulka!BM46","v":{"v":9.04425695479275,"d":"9.04"}},{"$f":"+[4]Tabulka!BN46","v":5},{"$f":"+[4]Tabulka!BO46","v":{"v":6.1260981453976555,"d":"6.13"}}]
["23",{"$f":"[4]Tabulka!C47","v":"VALDMANN"},{"$f":"[4]Tabulka!D47","v":"Martin"},{"$f":"[4]Tabulka!E47","v":"2001-01-01"},{"$f":"[4]Tabulka!F47","v":"Děhylov- Sokol TJ"},{"$f":"[4]Tabulka!G47","v":"OV"},{"$f":"[4]Tabulka!H47","v":0},{"$f":"+[4]Tabulka!AU47","v":0},{"$f":"+[4]Tabulka!AV47","v":{"v":0,"d":"0.00"}},{"$f":"+[4]Tabulka!AW47","v":9},{"$f":"+[4]Tabulka!AX47","v":{"v":2.803575987529016,"d":"2.80"}},{"$f":"+[4]Tabulka!AY47","v":8},{"$f":"+[4]Tabulka!AZ47","v":{"v":2.987048394281082,"d":"2.99"}},{"$f":"+[4]Tabulka!BA47","v":0},{"$f":"+[4]Tabulka!BB47","v":{"v":0,"d":"0.00"}},{"$f":"+[4]Tabulka!BC47","v":0},{"$f":"+[4]Tabulka!BD47","v":{"v":0,"d":"0.00"}},{"$f":"+[4]Tabulka!BE47","v":0},{"$f":"+[4]Tabulka!BF47","v":{"v":0,"d":"0.00"}},{"$f":"+[4]Tabulka!BG47","v":0},{"$f":"+[4]Tabulka!BH47","v":{"v":0,"d":"0.00"}},{"$f":"+[4]Tabulka!BI47","v":0},{"$f":"+[4]Tabulka!BJ47","v":{"v":0,"d":"0.00"}},{"$f":"+[4]Tabulka!AP47","v":{"v":0,"d":"0.00"}},{"$f":"+[4]Tabulka!AQ47","v":{"v":0,"d":"0.00"}},{"$f":"+[4]Tabulka!BM47","v":{"v":5.7906243818100975,"d":"5.79"}},{"$f":"+[4]Tabulka!BN47","v":2},{"$f":"+[4]Tabulka!BO47","v":{"v":5.7906243818100975,"d":"5.79"}}]
["21",{"$f":"[4]Tabulka!C48","v":"PALICA"},{"$f":"[4]Tabulka!D48","v":"Jiří"},{"$f":"[4]Tabulka!E48","v":"1999-06-17"},{"$f":"[4]Tabulka!F48","v":"Frýdek-Místek- Slezan TJ"},{"$f":"[4]Tabulka!G48","v":"FM"},{"$f":"[4]Tabulka!H48","v":100},{"$f":"+[4]Tabulka!AU48","v":0},{"$f":"+[4]Tabulka!AV48","v":{"v":0,"d":"0.00"}},{"$f":"+[4]Tabulka!AW48","v":0},{"$f":"+[4]Tabulka!AX48","v":{"v":0,"d":"0.00"}},{"$f":"+[4]Tabulka!AY48","v":0},{"$f":"+[4]Tabulka!AZ48","v":{"v":0,"d":"0.00"}},{"$f":"+[4]Tabulka!BA48","v":0},{"$f":"+[4]Tabulka!BB48","v":{"v":0,"d":"0.00"}},{"$f":"+[4]Tabulka!BC48","v":15},{"$f":"+[4]Tabulka!BD48","v":{"v":1.91660566894571,"d":"1.92"}},{"$f":"+[4]Tabulka!BE48","v":5},{"$f":"+[4]Tabulka!BF48","v":{"v":3.6127011759664778,"d":"3.61"}},{"$f":"+[4]Tabulka!BG48","v":0},{"$f":"+[4]Tabulka!BH48","v":{"v":0,"d":"0.00"}},{"$f":"+[4]Tabulka!BI48","v":0},{"$f":"+[4]Tabulka!BJ48","v":{"v":0,"d":"0.00"}},{"$f":"+[4]Tabulka!AP48","v":{"v":2.2073932801129157,"d":"2.21"}},{"$f":"+[4]Tabulka!AQ48","v":{"v":2,"d":"2.00"}},{"$f":"+[4]Tabulka!BM48","v":{"v":5.529306844912188,"d":"5.53"}},{"$f":"+[4]Tabulka!BN48","v":2},{"$f":"+[4]Tabulka!BO48","v":{"v":5.529306844912188,"d":"5.53"}}]
["24",{"$f":"[4]Tabulka!C49","v":"SIKORA"},{"$f":"[4]Tabulka!D49","v":"Robert"},{"$f":"[4]Tabulka!E49","v":"2000-01-01"},{"$f":"[4]Tabulka!F49","v":"Orlová- Siko TTC"},{"$f":"[4]Tabulka!G49","v":"KA"},{"$f":"[4]Tabulka!H49","v":0},{"$f":"+[4]Tabulka!AU49","v":0},{"$f":"+[4]Tabulka!AV49","v":{"v":0,"d":"0.00"}},{"$f":"+[4]Tabulka!AW49","v":0},{"$f":"+[4]Tabulka!AX49","v":{"v":0,"d":"0.00"}},{"$f":"+[4]Tabulka!AY49","v":20},{"$f":"+[4]Tabulka!AZ49","v":{"v":1.3959926520290693,"d":"1.40"}},{"$f":"+[4]Tabulka!BA49","v":21},{"$f":"+[4]Tabulka!BB49","v":{"v":1.3102470939168058,"d":"1.31"}},{"$f":"+[4]Tabulka!BC49","v":9},{"$f":"+[4]Tabulka!BD49","v":{"v":2.803575987529016,"d":"2.80"}},{"$f":"+[4]Tabulka!BE49","v":0},{"$f":"+[4]Tabulka!BF49","v":{"v":0,"d":"0.00"}},{"$f":"+[4]Tabulka!BG49","v":0},{"$f":"+[4]Tabulka!BH49","v":{"v":0,"d":"0.00"}},{"$f":"+[4]Tabulka!BI49","v":0},{"$f":"+[4]Tabulka!BJ49","v":{"v":0,"d":"0.00"}},{"$f":"+[4]Tabulka!AP49","v":{"v":0,"d":"0.00"}},{"$f":"+[4]Tabulka!AQ49","v":{"v":0,"d":"0.00"}},{"$f":"+[4]Tabulka!BM49","v":{"v":5.509815733474891,"d":"5.51"}},{"$f":"+[4]Tabulka!BN49","v":3},{"$f":"+[4]Tabulka!BO49","v":{"v":5.509815733474891,"d":"5.51"}}]
["25",{"$f":"[4]Tabulka!C50","v":"WILCZEK"},{"$f":"[4]Tabulka!D50","v":"Jakub"},{"$f":"[4]Tabulka!E50","v":"2004-03-30"},{"$f":"[4]Tabulka!F50","v":"Karviná- KLUBsten KST"},{"$f":"[4]Tabulka!G50","v":"KA"},{"$f":"[4]Tabulka!H50","v":100},{"$f":"+[4]Tabulka!AU50","v":0},{"$f":"+[4]Tabulka!AV50","v":{"v":0,"d":"0.00"}},{"$f":"+[4]Tabulka!AW50","v":0},{"$f":"+[4]Tabulka!AX50","v":{"v":0,"d":"0.00"}},{"$f":"+[4]Tabulka!AY50","v":17},{"$f":"+[4]Tabulka!AZ50","v":{"v":1.6883905547970857,"d":"1.69"}},{"$f":"+[4]Tabulka!BA50","v":25},{"$f":"+[4]Tabulka!BB50","v":{"v":1.0167952208923348,"d":"1.02"}},{"$f":"+[4]Tabulka!BC50","v":0},{"$f":"+[4]Tabulka!BD50","v":{"v":0,"d":"0.00"}},{"$f":"+[4]Tabulka!BE50","v":0},{"$f":"+[4]Tabulka!BF50","v":{"v":0,"d":"0.00"}},{"$f":"+[4]Tabulka!BG50","v":24},{"$f":"+[4]Tabulka!BH50","v":{"v":1.083336619156891,"d":"1.08"}},{"$f":"+[4]Tabulka!BI50","v":17},{"$f":"+[4]Tabulka!BJ50","v":{"v":1.6883905547970857,"d":"1.69"}},{"$f":"+[4]Tabulka!AP50","v":{"v":4.550913105585472,"d":"4.55"}},{"$f":"+[4]Tabulka!AQ50","v":{"v":2,"d":"2.00"}},{"$f":"+[4]Tabulka!BM50","v":{"v":5.476912949643397,"d":"5.48"}},{"$f":"+[4]Tabulka!BN50","v":4},{"$f":"+[4]Tabulka!BO50","v":{"v":5.476912949643397,"d":"5.48"}}]
["25",{"$f":"[4]Tabulka!C51","v":"PETEREK"},{"$f":"[4]Tabulka!D51","v":"Jan"},{"$f":"[4]Tabulka!E51","v":"2000-12-31"},{"$f":"[4]Tabulka!F51","v":"Kravaře- SK TJ"},{"$f":"[4]Tabulka!G51","v":"OP"},{"$f":"[4]Tabulka!H51","v":100},{"$f":"+[4]Tabulka!AU51","v":0},{"$f":"+[4]Tabulka!AV51","v":{"v":0,"d":"0.00"}},{"$f":"+[4]Tabulka!AW51","v":0},{"$f":"+[4]Tabulka!AX51","v":{"v":0,"d":"0.00"}},{"$f":"+[4]Tabulka!AY51","v":11},{"$f":"+[4]Tabulka!AZ51","v":{"v":2.4697470604914433,"d":"2.47"}},{"$f":"+[4]Tabulka!BA51","v":0},{"$f":"+[4]Tabulka!BB51","v":{"v":0,"d":"0.00"}},{"$f":"+[4]Tabulka!BC51","v":9},{"$f":"+[4]Tabulka!BD51","v":{"v":2.803575987529016,"d":"2.80"}},{"$f":"+[4]Tabulka!BE51","v":0},{"$f":"+[4]Tabulka!BF51","v":{"v":0,"d":"0.00"}},{"$f":"+[4]Tabulka!BG51","v":0},{"$f":"+[4]Tabulka!BH51","v":{"v":0,"d":"0.00"}},{"$f":"+[4]Tabulka!BI51","v":0},{"$f":"+[4]Tabulka!BJ51","v":{"v":0,"d":"0.00"}},{"$f":"+[4]Tabulka!AP51","v":{"v":0,"d":"0.00"}},{"$f":"+[4]Tabulka!AQ51","v":{"v":0,"d":"0.00"}},{"$f":"+[4]Tabulka!BM51","v":{"v":5.273323048020459,"d":"5.27"}},{"$f":"+[4]Tabulka!BN51","v":2},{"$f":"+[4]Tabulka!BO51","v":{"v":5.273323048020459,"d":"5.27"}}]
["26",{"$f":"[4]Tabulka!C52","v":"ŠEVČÍK"},{"$f":"[4]Tabulka!D52","v":"Tomáš"},{"$f":"[4]Tabulka!E52","v":"2001-08-29"},{"$f":"[4]Tabulka!F52","v":"Kravaře- SK TJ"},{"$f":"[4]Tabulka!G52","v":"OP"},{"$f":"[4]Tabulka!H52","v":100},{"$f":"+[4]Tabulka!AU52","v":0},{"$f":"+[4]Tabulka!AV52","v":{"v":0,"d":"0.00"}},{"$f":"+[4]Tabulka!AW52","v":0},{"$f":"+[4]Tabulka!AX52","v":{"v":0,"d":"0.00"}},{"$f":"+[4]Tabulka!AY52","v":11},{"$f":"+[4]Tabulka!AZ52","v":{"v":2.4697470604914433,"d":"2.47"}},{"$f":"+[4]Tabulka!BA52","v":0},{"$f":"+[4]Tabulka!BB52","v":{"v":0,"d":"0.00"}},{"$f":"+[4]Tabulka!BC52","v":9},{"$f":"+[4]Tabulka!BD52","v":{"v":2.803575987529016,"d":"2.80"}},{"$f":"+[4]Tabulka!BE52","v":0},{"$f":"+[4]Tabulka!BF52","v":{"v":0,"d":"0.00"}},{"$f":"+[4]Tabulka!BG52","v":0},{"$f":"+[4]Tabulka!BH52","v":{"v":0,"d":"0.00"}},{"$f":"+[4]Tabulka!BI52","v":0},{"$f":"+[4]Tabulka!BJ52","v":{"v":0,"d":"0.00"}},{"$f":"+[4]Tabulka!AP52","v":{"v":0,"d":"0.00"}},{"$f":"+[4]Tabulka!AQ52","v":{"v":0,"d":"0.00"}},{"$f":"+[4]Tabulka!BM52","v":{"v":5.273323048020459,"d":"5.27"}},{"$f":"+[4]Tabulka!BN52","v":2},{"$f":"+[4]Tabulka!BO52","v":{"v":5.273323048020459,"d":"5.27"}}]
["26",{"$f":"[4]Tabulka!C53","v":"LUKOSZ"},{"$f":"[4]Tabulka!D53","v":"Richard"},{"$f":"[4]Tabulka!E53","v":"2002-08-28"},{"$f":"[4]Tabulka!F53","v":"Orlová- Siko TTC"},{"$f":"[4]Tabulka!G53","v":"KA"},{"$f":"[4]Tabulka!H53","v":100},{"$f":"+[4]Tabulka!AU53","v":18},{"$f":"+[4]Tabulka!AV53","v":{"v":1.584685144727681,"d":"1.58"}},{"$f":"+[4]Tabulka!AW53","v":16},{"$f":"+[4]Tabulka!AX53","v":{"v":1.7988826834228204,"d":"1.80"}},{"$f":"+[4]Tabulka!AY53","v":16},{"$f":"+[4]Tabulka!AZ53","v":{"v":1.7988826834228204,"d":"1.80"}},{"$f":"+[4]Tabulka!BA53","v":0},{"$f":"+[4]Tabulka!BB53","v":{"v":0,"d":"0.00"}},{"$f":"+[4]Tabulka!BC53","v":0},{"$f":"+[4]Tabulka!BD53","v":{"v":0,"d":"0.00"}},{"$f":"+[4]Tabulka!BE53","v":0},{"$f":"+[4]Tabulka!BF53","v":{"v":0,"d":"0.00"}},{"$f":"+[4]Tabulka!BG53","v":0},{"$f":"+[4]Tabulka!BH53","v":{"v":0,"d":"0.00"}},{"$f":"+[4]Tabulka!BI53","v":0},{"$f":"+[4]Tabulka!BJ53","v":{"v":0,"d":"0.00"}},{"$f":"+[4]Tabulka!AP53","v":{"v":0,"d":"0.00"}},{"$f":"+[4]Tabulka!AQ53","v":{"v":0,"d":"0.00"}},{"$f":"+[4]Tabulka!BM53","v":{"v":5.182450511573322,"d":"5.18"}},{"$f":"+[4]Tabulka!BN53","v":3},{"$f":"+[4]Tabulka!BO53","v":{"v":5.182450511573322,"d":"5.18"}}]
["27",{"$f":"[4]Tabulka!C54","v":"FLORKOVÁ"},{"$f":"[4]Tabulka!D54","v":"Adéla"},{"$f":"[4]Tabulka!E54","v":"2001-09-04"},{"$f":"[4]Tabulka!F54","v":"Orlová- Siko TTC"},{"$f":"[4]Tabulka!G54","v":"KA"},{"$f":"[4]Tabulka!H54","v":100},{"$f":"+[4]Tabulka!AU54","v":19},{"$f":"+[4]Tabulka!AV54","v":{"v":1.4873495950244735,"d":"1.49"}},{"$f":"+[4]Tabulka!AW54","v":15},{"$f":"+[4]Tabulka!AX54","v":{"v":1.91660566894571,"d":"1.92"}},{"$f":"+[4]Tabulka!AY54","v":0},{"$f":"+[4]Tabulka!AZ54","v":{"v":0,"d":"0.00"}},{"$f":"+[4]Tabulka!BA54","v":20},{"$f":"+[4]Tabulka!BB54","v":{"v":1.3959926520290693,"d":"1.40"}},{"$f":"+[4]Tabulka!BC54","v":0},{"$f":"+[4]Tabulka!BD54","v":{"v":0,"d":"0.00"}},{"$f":"+[4]Tabulka!BE54","v":0},{"$f":"+[4]Tabulka!BF54","v":{"v":0,"d":"0.00"}},{"$f":"+[4]Tabulka!BG54","v":0},{"$f":"+[4]Tabulka!BH54","v":{"v":0,"d":"0.00"}},{"$f":"+[4]Tabulka!BI54","v":0},{"$f":"+[4]Tabulka!BJ54","v":{"v":0,"d":"0.00"}},{"$f":"+[4]Tabulka!AP54","v":{"v":0,"d":"0.00"}},{"$f":"+[4]Tabulka!AQ54","v":{"v":0,"d":"0.00"}},{"$f":"+[4]Tabulka!BM54","v":{"v":4.799947915999253,"d":"4.80"}},{"$f":"+[4]Tabulka!BN54","v":3},{"$f":"+[4]Tabulka!BO54","v":{"v":4.799947915999253,"d":"4.80"}}]
["28",{"$f":"[4]Tabulka!C55","v":"LÝSEK"},{"$f":"[4]Tabulka!D55","v":"Tomáš"},{"$f":"[4]Tabulka!E55","v":"2001-01-01"},{"$f":"[4]Tabulka!F55","v":"Ostrava- Domik"},{"$f":"[4]Tabulka!G55","v":"OV"},{"$f":"[4]Tabulka!H55","v":0},{"$f":"+[4]Tabulka!AU55","v":13},{"$f":"+[4]Tabulka!AV55","v":{"v":2.1756679932838794,"d":"2.18"}},{"$f":"+[4]Tabulka!AW55","v":0},{"$f":"+[4]Tabulka!AX55","v":{"v":0,"d":"0.00"}},{"$f":"+[4]Tabulka!AY55","v":0},{"$f":"+[4]Tabulka!AZ55","v":{"v":0,"d":"0.00"}},{"$f":"+[4]Tabulka!BA55","v":0},{"$f":"+[4]Tabulka!BB55","v":{"v":0,"d":"0.00"}},{"$f":"+[4]Tabulka!BC55","v":0},{"$f":"+[4]Tabulka!BD55","v":{"v":0,"d":"0.00"}},{"$f":"+[4]Tabulka!BE55","v":13},{"$f":"+[4]Tabulka!BF55","v":{"v":2.1756679932838794,"d":"2.18"}},{"$f":"+[4]Tabulka!BG55","v":0},{"$f":"+[4]Tabulka!BH55","v":{"v":0,"d":"0.00"}},{"$f":"+[4]Tabulka!BI55","v":0},{"$f":"+[4]Tabulka!BJ55","v":{"v":0,"d":"0.00"}},{"$f":"+[4]Tabulka!AP55","v":{"v":0,"d":"0.00"}},{"$f":"+[4]Tabulka!AQ55","v":{"v":0,"d":"0.00"}},{"$f":"+[4]Tabulka!BM55","v":{"v":4.351335986567759,"d":"4.35"}},{"$f":"+[4]Tabulka!BN55","v":2},{"$f":"+[4]Tabulka!BO55","v":{"v":4.351335986567759,"d":"4.35"}}]
["28",{"$f":"[4]Tabulka!C56","v":"IŠTVÁN"},{"$f":"[4]Tabulka!D56","v":"Jakub"},{"$f":"[4]Tabulka!E56","v":"2000-01-01"},{"$f":"[4]Tabulka!F56","v":"Orlová- Slávie SK"},{"$f":"[4]Tabulka!G56","v":"KA"},{"$f":"[4]Tabulka!H56","v":0},{"$f":"+[4]Tabulka!AU56","v":0},{"$f":"+[4]Tabulka!AV56","v":{"v":0,"d":"0.00"}},{"$f":"+[4]Tabulka!AW56","v":18},{"$f":"+[4]Tabulka!AX56","v":{"v":1.584685144727681,"d":"1.58"}},{"$f":"+[4]Tabulka!AY56","v":24},{"$f":"+[4]Tabulka!AZ56","v":{"v":1.083336619156891,"d":"1.08"}},{"$f":"+[4]Tabulka!BA56","v":18},{"$f":"+[4]Tabulka!BB56","v":{"v":1.584685144727681,"d":"1.58"}},{"$f":"+[4]Tabulka!BC56","v":0},{"$f":"+[4]Tabulka!BD56","v":{"v":0,"d":"0.00"}},{"$f":"+[4]Tabulka!BE56","v":0},{"$f":"+[4]Tabulka!BF56","v":{"v":0,"d":"0.00"}},{"$f":"+[4]Tabulka!BG56","v":0},{"$f":"+[4]Tabulka!BH56","v":{"v":0,"d":"0.00"}},{"$f":"+[4]Tabulka!BI56","v":0},{"$f":"+[4]Tabulka!BJ56","v":{"v":0,"d":"0.00"}},{"$f":"+[4]Tabulka!AP56","v":{"v":0,"d":"0.00"}},{"$f":"+[4]Tabulka!AQ56","v":{"v":0,"d":"0.00"}},{"$f":"+[4]Tabulka!BM56","v":{"v":4.252706908612253,"d":"4.25"}},{"$f":"+[4]Tabulka!BN56","v":3},{"$f":"+[4]Tabulka!BO56","v":{"v":4.252706908612253,"d":"4.25"}}]
["29",{"$f":"[4]Tabulka!C57","v":"PINDUR"},{"$f":"[4]Tabulka!D57","v":"Jakub"},{"$f":"[4]Tabulka!E57","v":"2000-09-17"},{"$f":"[4]Tabulka!F57","v":"Havířov- Baník SKST"},{"$f":"[4]Tabulka!G57","v":"KA"},{"$f":"[4]Tabulka!H57","v":100},{"$f":"+[4]Tabulka!AU57","v":20},{"$f":"+[4]Tabulka!AV57","v":{"v":1.3959926520290693,"d":"1.40"}},{"$f":"+[4]Tabulka!AW57","v":9},{"$f":"+[4]Tabulka!AX57","v":{"v":2.803575987529016,"d":"2.80"}},{"$f":"+[4]Tabulka!AY57","v":0},{"$f":"+[4]Tabulka!AZ57","v":{"v":0,"d":"0.00"}},{"$f":"+[4]Tabulka!BA57","v":0},{"$f":"+[4]Tabulka!BB57","v":{"v":0,"d":"0.00"}},{"$f":"+[4]Tabulka!BC57","v":0},{"$f":"+[4]Tabulka!BD57","v":{"v":0,"d":"0.00"}},{"$f":"+[4]Tabulka!BE57","v":0},{"$f":"+[4]Tabulka!BF57","v":{"v":0,"d":"0.00"}},{"$f":"+[4]Tabulka!BG57","v":0},{"$f":"+[4]Tabulka!BH57","v":{"v":0,"d":"0.00"}},{"$f":"+[4]Tabulka!BI57","v":0},{"$f":"+[4]Tabulka!BJ57","v":{"v":0,"d":"0.00"}},{"$f":"+[4]Tabulka!AP57","v":{"v":5.562822811451799,"d":"5.56"}},{"$f":"+[4]Tabulka!AQ57","v":{"v":3,"d":"3.00"}},{"$f":"+[4]Tabulka!BM57","v":{"v":4.199568639558085,"d":"4.20"}},{"$f":"+[4]Tabulka!BN57","v":2},{"$f":"+[4]Tabulka!BO57","v":{"v":4.199568639558085,"d":"4.20"}}]
["30",{"$f":"[4]Tabulka!C58","v":"PIESZKA"},{"$f":"[4]Tabulka!D58","v":"Patrik"},{"$f":"[4]Tabulka!E58","v":"2000-01-01"},{"$f":"[4]Tabulka!F58","v":"Chotěbuz- Sokol TJ"},{"$f":"[4]Tabulka!G58","v":"KA"},{"$f":"[4]Tabulka!H58","v":0},{"$f":"+[4]Tabulka!AU58","v":0},{"$f":"+[4]Tabulka!AV58","v":{"v":0,"d":"0.00"}},{"$f":"+[4]Tabulka!AW58","v":0},{"$f":"+[4]Tabulka!AX58","v":{"v":0,"d":"0.00"}},{"$f":"+[4]Tabulka!AY58","v":0},{"$f":"+[4]Tabulka!AZ58","v":{"v":0,"d":"0.00"}},{"$f":"+[4]Tabulka!BA58","v":23},{"$f":"+[4]Tabulka!BB58","v":{"v":1.1542326382851416,"d":"1.15"}},{"$f":"+[4]Tabulka!BC58","v":16},{"$f":"+[4]Tabulka!BD58","v":{"v":1.7988826834228204,"d":"1.80"}},{"$f":"+[4]Tabulka!BE58","v":0},{"$f":"+[4]Tabulka!BF58","v":{"v":0,"d":"0.00"}},{"$f":"+[4]Tabulka!BG58","v":23},{"$f":"+[4]Tabulka!BH58","v":{"v":1.1542326382851416,"d":"1.15"}},{"$f":"+[4]Tabulka!BI58","v":0},{"$f":"+[4]Tabulka!BJ58","v":{"v":0,"d":"0.00"}},{"$f":"+[4]Tabulka!AP58","v":{"v":0,"d":"0.00"}},{"$f":"+[4]Tabulka!AQ58","v":{"v":0,"d":"0.00"}},{"$f":"+[4]Tabulka!BM58","v":{"v":4.1073479599931035,"d":"4.11"}},{"$f":"+[4]Tabulka!BN58","v":3},{"$f":"+[4]Tabulka!BO58","v":{"v":4.1073479599931035,"d":"4.11"}}]
["29",{"$f":"[4]Tabulka!C59","v":"HENDRYCH"},{"$f":"[4]Tabulka!D59","v":"Daniel"},{"$f":"[4]Tabulka!E59","v":"1998-08-08"},{"$f":"[4]Tabulka!F59","v":"Odry- TJ"},{"$f":"[4]Tabulka!G59","v":"NJ"},{"$f":"[4]Tabulka!H59","v":100},{"$f":"+[4]Tabulka!AU59","v":3},{"$f":"+[4]Tabulka!AV59","v":{"v":4.101020071683792,"d":"4.10"}},{"$f":"+[4]Tabulka!AW59","v":0},{"$f":"+[4]Tabulka!AX59","v":{"v":0,"d":"0.00"}},{"$f":"+[4]Tabulka!AY59","v":0},{"$f":"+[4]Tabulka!AZ59","v":{"v":0,"d":"0.00"}},{"$f":"+[4]Tabulka!BA59","v":0},{"$f":"+[4]Tabulka!BB59","v":{"v":0,"d":"0.00"}},{"$f":"+[4]Tabulka!BC59","v":0},{"$f":"+[4]Tabulka!BD59","v":{"v":0,"d":"0.00"}},{"$f":"+[4]Tabulka!BE59","v":0},{"$f":"+[4]Tabulka!BF59","v":{"v":0,"d":"0.00"}},{"$f":"+[4]Tabulka!BG59","v":0},{"$f":"+[4]Tabulka!BH59","v":{"v":0,"d":"0.00"}},{"$f":"+[4]Tabulka!BI59","v":0},{"$f":"+[4]Tabulka!BJ59","v":{"v":0,"d":"0.00"}},{"$f":"+[4]Tabulka!AP59","v":{"v":0,"d":"0.00"}},{"$f":"+[4]Tabulka!AQ59","v":{"v":0,"d":"0.00"}},{"$f":"+[4]Tabulka!BM59","v":{"v":4.101020071683792,"d":"4.10"}},{"$f":"+[4]Tabulka!BN59","v":1},{"$f":"+[4]Tabulka!BO59","v":{"v":4.101020071683792,"d":"4.10"}}]
["26",{"$f":"[4]Tabulka!C60","v":"BĚLÍK"},{"$f":"[4]Tabulka!D60","v":"Šimon"},{"$f":"[4]Tabulka!E60","v":"2004-05-13"},{"$f":"[4]Tabulka!F60","v":"Ostrava- Mittal TJ"},{"$f":"[4]Tabulka!G60","v":"OV"},{"$f":"[4]Tabulka!H60","v":100},{"$f":"+[4]Tabulka!AU60","v":0},{"$f":"+[4]Tabulka!AV60","v":{"v":0,"d":"0.00"}},{"$f":"+[4]Tabulka!AW60","v":0},{"$f":"+[4]Tabulka!AX60","v":{"v":0,"d":"0.00"}},{"$f":"+[4]Tabulka!AY60","v":0},{"$f":"+[4]Tabulka!AZ60","v":{"v":0,"d":"0.00"}},{"$f":"+[4]Tabulka!BA60","v":0},{"$f":"+[4]Tabulka!BB60","v":{"v":0,"d":"0.00"}},{"$f":"+[4]Tabulka!BC60","v":15},{"$f":"+[4]Tabulka!BD60","v":{"v":1.91660566894571,"d":"1.92"}},{"$f":"+[4]Tabulka!BE60","v":13},{"$f":"+[4]Tabulka!BF60","v":{"v":2.1756679932838794,"d":"2.18"}},{"$f":"+[4]Tabulka!BG60","v":0},{"$f":"+[4]Tabulka!BH60","v":{"v":0,"d":"0.00"}},{"$f":"+[4]Tabulka!BI60","v":0},{"$f":"+[4]Tabulka!BJ60","v":{"v":0,"d":"0.00"}},{"$f":"+[4]Tabulka!AP60","v":{"v":15.337983959881603,"d":"15.34"}},{"$f":"+[4]Tabulka!AQ60","v":{"v":4,"d":"4.00"}},{"$f":"+[4]Tabulka!BM60","v":{"v":4.092273662229589,"d":"4.09"}},{"$f":"+[4]Tabulka!BN60","v":2},{"$f":"+[4]Tabulka!BO60","v":{"v":4.092273662229589,"d":"4.09"}}]
["30",{"$f":"[4]Tabulka!C61","v":"OSMANČÍK"},{"$f":"[4]Tabulka!D61","v":"Jakub"},{"$f":"[4]Tabulka!E61","v":"2002-04-02"},{"$f":"[4]Tabulka!F61","v":"Děhylov- Sokol TJ"},{"$f":"[4]Tabulka!G61","v":"OP"},{"$f":"[4]Tabulka!H61","v":100},{"$f":"+[4]Tabulka!AU61","v":0},{"$f":"+[4]Tabulka!AV61","v":{"v":0,"d":"0.00"}},{"$f":"+[4]Tabulka!AW61","v":0},{"$f":"+[4]Tabulka!AX61","v":{"v":0,"d":"0.00"}},{"$f":"+[4]Tabulka!AY61","v":0},{"$f":"+[4]Tabulka!AZ61","v":{"v":0,"d":"0.00"}},{"$f":"+[4]Tabulka!BA61","v":13},{"$f":"+[4]Tabulka!BB61","v":{"v":2.1756679932838794,"d":"2.18"}},{"$f":"+[4]Tabulka!BC61","v":15},{"$f":"+[4]Tabulka!BD61","v":{"v":1.91660566894571,"d":"1.92"}},{"$f":"+[4]Tabulka!BE61","v":0},{"$f":"+[4]Tabulka!BF61","v":{"v":0,"d":"0.00"}},{"$f":"+[4]Tabulka!BG61","v":0},{"$f":"+[4]Tabulka!BH61","v":{"v":0,"d":"0.00"}},{"$f":"+[4]Tabulka!BI61","v":0},{"$f":"+[4]Tabulka!BJ61","v":{"v":0,"d":"0.00"}},{"$f":"+[4]Tabulka!AP61","v":{"v":0,"d":"0.00"}},{"$f":"+[4]Tabulka!AQ61","v":{"v":0,"d":"0.00"}},{"$f":"+[4]Tabulka!BM61","v":{"v":4.092273662229589,"d":"4.09"}},{"$f":"+[4]Tabulka!BN61","v":2},{"$f":"+[4]Tabulka!BO61","v":{"v":4.092273662229589,"d":"4.09"}}]
["31",{"$f":"[4]Tabulka!C62","v":"RASZKA"},{"$f":"[4]Tabulka!D62","v":"Filip"},{"$f":"[4]Tabulka!E62","v":"2002-01-01"},{"$f":"[4]Tabulka!F62","v":"Orlová- Slávie SK"},{"$f":"[4]Tabulka!G62","v":"KA"},{"$f":"[4]Tabulka!H62","v":0},{"$f":"+[4]Tabulka!AU62","v":21},{"$f":"+[4]Tabulka!AV62","v":{"v":1.3102470939168058,"d":"1.31"}},{"$f":"+[4]Tabulka!AW62","v":0},{"$f":"+[4]Tabulka!AX62","v":{"v":0,"d":"0.00"}},{"$f":"+[4]Tabulka!AY62","v":0},{"$f":"+[4]Tabulka!AZ62","v":{"v":0,"d":"0.00"}},{"$f":"+[4]Tabulka!BA62","v":24},{"$f":"+[4]Tabulka!BB62","v":{"v":1.083336619156891,"d":"1.08"}},{"$f":"+[4]Tabulka!BC62","v":19},{"$f":"+[4]Tabulka!BD62","v":{"v":1.4873495950244735,"d":"1.49"}},{"$f":"+[4]Tabulka!BE62","v":0},{"$f":"+[4]Tabulka!BF62","v":{"v":0,"d":"0.00"}},{"$f":"+[4]Tabulka!BG62","v":0},{"$f":"+[4]Tabulka!BH62","v":{"v":0,"d":"0.00"}},{"$f":"+[4]Tabulka!BI62","v":0},{"$f":"+[4]Tabulka!BJ62","v":{"v":0,"d":"0.00"}},{"$f":"+[4]Tabulka!AP62","v":{"v":0,"d":"0.00"}},{"$f":"+[4]Tabulka!AQ62","v":{"v":0,"d":"0.00"}},{"$f":"+[4]Tabulka!BM62","v":{"v":3.88093330809817,"d":"3.88"}},{"$f":"+[4]Tabulka!BN62","v":3},{"$f":"+[4]Tabulka!BO62","v":{"v":3.88093330809817,"d":"3.88"}}]
["32",{"$f":"[4]Tabulka!C63","v":"LARYŠ"},{"$f":"[4]Tabulka!D63","v":"Vojtěch"},{"$f":"[4]Tabulka!E63","v":"2003-10-10"},{"$f":"[4]Tabulka!F63","v":"Karviná- KLUBsten KST"},{"$f":"[4]Tabulka!G63","v":"KA"},{"$f":"[4]Tabulka!H63","v":100},{"$f":"+[4]Tabulka!AU63","v":0},{"$f":"+[4]Tabulka!AV63","v":{"v":0,"d":"0.00"}},{"$f":"+[4]Tabulka!AW63","v":0},{"$f":"+[4]Tabulka!AX63","v":{"v":0,"d":"0.00"}},{"$f":"+[4]Tabulka!AY63","v":23},{"$f":"+[4]Tabulka!AZ63","v":{"v":1.1542326382851416,"d":"1.15"}},{"$f":"+[4]Tabulka!BA63","v":0},{"$f":"+[4]Tabulka!BB63","v":{"v":0,"d":"0.00"}},{"$f":"+[4]Tabulka!BC63","v":17},{"$f":"+[4]Tabulka!BD63","v":{"v":1.6883905547970857,"d":"1.69"}},{"$f":"+[4]Tabulka!BE63","v":0},{"$f":"+[4]Tabulka!BF63","v":{"v":0,"d":"0.00"}},{"$f":"+[4]Tabulka!BG63","v":25},{"$f":"+[4]Tabulka!BH63","v":{"v":1.0167952208923348,"d":"1.02"}},{"$f":"+[4]Tabulka!BI63","v":0},{"$f":"+[4]Tabulka!BJ63","v":{"v":0,"d":"0.00"}},{"$f":"+[4]Tabulka!AP63","v":{"v":0,"d":"0.00"}},{"$f":"+[4]Tabulka!AQ63","v":{"v":0,"d":"0.00"}},{"$f":"+[4]Tabulka!BM63","v":{"v":3.859418413974562,"d":"3.86"}},{"$f":"+[4]Tabulka!BN63","v":3},{"$f":"+[4]Tabulka!BO63","v":{"v":3.859418413974562,"d":"3.86"}}]
[null,{"$f":"[4]Tabulka!C64","v":"ONDERKA"},{"$f":"[4]Tabulka!D64","v":"František"},{"$f":"[4]Tabulka!E64","v":"2002-02-27"},{"$f":"[4]Tabulka!F64","v":"Opava- KST Slezan "},{"$f":"[4]Tabulka!G64","v":"OP"},{"$f":"[4]Tabulka!H64","v":100},{"$f":"+[4]Tabulka!AU64","v":0},{"$f":"+[4]Tabulka!AV64","v":{"v":0,"d":"0.00"}},{"$f":"+[4]Tabulka!AW64","v":0},{"$f":"+[4]Tabulka!AX64","v":{"v":0,"d":"0.00"}},{"$f":"+[4]Tabulka!AY64","v":0},{"$f":"+[4]Tabulka!AZ64","v":{"v":0,"d":"0.00"}},{"$f":"+[4]Tabulka!BA64","v":4},{"$f":"+[4]Tabulka!BB64","v":{"v":3.8491245804252903,"d":"3.85"}},{"$f":"+[4]Tabulka!BC64","v":0},{"$f":"+[4]Tabulka!BD64","v":{"v":0,"d":"0.00"}},{"$f":"+[4]Tabulka!BE64","v":0},{"$f":"+[4]Tabulka!BF64","v":{"v":0,"d":"0.00"}},{"$f":"+[4]Tabulka!BG64","v":0},{"$f":"+[4]Tabulka!BH64","v":{"v":0,"d":"0.00"}},{"$f":"+[4]Tabulka!BI64","v":0},{"$f":"+[4]Tabulka!BJ64","v":{"v":0,"d":"0.00"}},{"$f":"+[4]Tabulka!AP64","v":{"v":17.558099301215815,"d":"17.56"}},{"$f":"+[4]Tabulka!AQ64","v":{"v":3,"d":"3.00"}},{"$f":"+[4]Tabulka!BM64","v":{"v":3.8491245804252903,"d":"3.85"}},{"$f":"+[4]Tabulka!BN64","v":1},{"$f":"+[4]Tabulka!BO64","v":{"v":3.8491245804252903,"d":"3.85"}}]
["33",{"$f":"[4]Tabulka!C65","v":"NIEDOBA"},{"$f":"[4]Tabulka!D65","v":"Marek"},{"$f":"[4]Tabulka!E65","v":"1999-01-01"},{"$f":"[4]Tabulka!F65","v":"Orlová- Siko TTC"},{"$f":"[4]Tabulka!G65","v":"KA"},{"$f":"[4]Tabulka!H65","v":0},{"$f":"+[4]Tabulka!AU65","v":0},{"$f":"+[4]Tabulka!AV65","v":{"v":0,"d":"0.00"}},{"$f":"+[4]Tabulka!AW65","v":0},{"$f":"+[4]Tabulka!AX65","v":{"v":0,"d":"0.00"}},{"$f":"+[4]Tabulka!AY65","v":19},{"$f":"+[4]Tabulka!AZ65","v":{"v":1.4873495950244735,"d":"1.49"}},{"$f":"+[4]Tabulka!BA65","v":13},{"$f":"+[4]Tabulka!BB65","v":{"v":2.1756679932838794,"d":"2.18"}},{"$f":"+[4]Tabulka!BC65","v":0},{"$f":"+[4]Tabulka!BD65","v":{"v":0,"d":"0.00"}},{"$f":"+[4]Tabulka!BE65","v":0},{"$f":"+[4]Tabulka!BF65","v":{"v":0,"d":"0.00"}},{"$f":"+[4]Tabulka!BG65","v":0},{"$f":"+[4]Tabulka!BH65","v":{"v":0,"d":"0.00"}},{"$f":"+[4]Tabulka!BI65","v":0},{"$f":"+[4]Tabulka!BJ65","v":{"v":0,"d":"0.00"}},{"$f":"+[4]Tabulka!AP65","v":{"v":0,"d":"0.00"}},{"$f":"+[4]Tabulka!AQ65","v":{"v":0,"d":"0.00"}},{"$f":"+[4]Tabulka!BM65","v":{"v":3.663017588308353,"d":"3.66"}},{"$f":"+[4]Tabulka!BN65","v":2},{"$f":"+[4]Tabulka!BO65","v":{"v":3.663017588308353,"d":"3.66"}}]
["31",{"$f":"[4]Tabulka!C66","v":"DUDYS"},{"$f":"[4]Tabulka!D66","v":"Dominik"},{"$f":"[4]Tabulka!E66","v":"2001-09-28"},{"$f":"[4]Tabulka!F66","v":"Třinec- TŽ TJ"},{"$f":"[4]Tabulka!G66","v":"FM"},{"$f":"[4]Tabulka!H66","v":100},{"$f":"+[4]Tabulka!AU66","v":0},{"$f":"+[4]Tabulka!AV66","v":{"v":0,"d":"0.00"}},{"$f":"+[4]Tabulka!AW66","v":0},{"$f":"+[4]Tabulka!AX66","v":{"v":0,"d":"0.00"}},{"$f":"+[4]Tabulka!AY66","v":0},{"$f":"+[4]Tabulka!AZ66","v":{"v":0,"d":"0.00"}},{"$f":"+[4]Tabulka!BA66","v":5},{"$f":"+[4]Tabulka!BB66","v":{"v":3.6127011759664778,"d":"3.61"}},{"$f":"+[4]Tabulka!BC66","v":0},{"$f":"+[4]Tabulka!BD66","v":{"v":0,"d":"0.00"}},{"$f":"+[4]Tabulka!BE66","v":0},{"$f":"+[4]Tabulka!BF66","v":{"v":0,"d":"0.00"}},{"$f":"+[4]Tabulka!BG66","v":0},{"$f":"+[4]Tabulka!BH66","v":{"v":0,"d":"0.00"}},{"$f":"+[4]Tabulka!BI66","v":0},{"$f":"+[4]Tabulka!BJ66","v":{"v":0,"d":"0.00"}},{"$f":"+[4]Tabulka!AP66","v":{"v":0,"d":"0.00"}},{"$f":"+[4]Tabulka!AQ66","v":{"v":0,"d":"0.00"}},{"$f":"+[4]Tabulka!BM66","v":{"v":3.6127011759664778,"d":"3.61"}},{"$f":"+[4]Tabulka!BN66","v":1},{"$f":"+[4]Tabulka!BO66","v":{"v":3.6127011759664778,"d":"3.61"}}]
[null,{"$f":"[4]Tabulka!C67","v":"HEREC"},{"$f":"[4]Tabulka!D67","v":"Lukáš"},{"$f":"[4]Tabulka!E67","v":"2000-02-24"},{"$f":"[4]Tabulka!F67","v":"Malenovice- BSK"},{"$f":"[4]Tabulka!G67","v":"FM"},{"$f":"[4]Tabulka!H67","v":100},{"$f":"+[4]Tabulka!AU67","v":0},{"$f":"+[4]Tabulka!AV67","v":{"v":0,"d":"0.00"}},{"$f":"+[4]Tabulka!AW67","v":0},{"$f":"+[4]Tabulka!AX67","v":{"v":0,"d":"0.00"}},{"$f":"+[4]Tabulka!AY67","v":0},{"$f":"+[4]Tabulka!AZ67","v":{"v":0,"d":"0.00"}},{"$f":"+[4]Tabulka!BA67","v":5},{"$f":"+[4]Tabulka!BB67","v":{"v":3.6127011759664778,"d":"3.61"}},{"$f":"+[4]Tabulka!BC67","v":0},{"$f":"+[4]Tabulka!BD67","v":{"v":0,"d":"0.00"}},{"$f":"+[4]Tabulka!BE67","v":0},{"$f":"+[4]Tabulka!BF67","v":{"v":0,"d":"0.00"}},{"$f":"+[4]Tabulka!BG67","v":0},{"$f":"+[4]Tabulka!BH67","v":{"v":0,"d":"0.00"}},{"$f":"+[4]Tabulka!BI67","v":0},{"$f":"+[4]Tabulka!BJ67","v":{"v":0,"d":"0.00"}},{"$f":"+[4]Tabulka!AP67","v":{"v":30.63788529288684,"d":"30.64"}},{"$f":"+[4]Tabulka!AQ67","v":{"v":3,"d":"3.00"}},{"$f":"+[4]Tabulka!BM67","v":{"v":3.6127011759664778,"d":"3.61"}},{"$f":"+[4]Tabulka!BN67","v":1},{"$f":"+[4]Tabulka!BO67","v":{"v":3.6127011759664778,"d":"3.61"}}]
["34",{"$f":"[4]Tabulka!C68","v":"BURDEK"},{"$f":"[4]Tabulka!D68","v":"Filip"},{"$f":"[4]Tabulka!E68","v":"2001-01-01"},{"$f":"[4]Tabulka!F68","v":"Dětmarovice- Sokol TJ"},{"$f":"[4]Tabulka!G68","v":"KA"},{"$f":"[4]Tabulka!H68","v":0},{"$f":"+[4]Tabulka!AU68","v":0},{"$f":"+[4]Tabulka!AV68","v":{"v":0,"d":"0.00"}},{"$f":"+[4]Tabulka!AW68","v":0},{"$f":"+[4]Tabulka!AX68","v":{"v":0,"d":"0.00"}},{"$f":"+[4]Tabulka!AY68","v":22},{"$f":"+[4]Tabulka!AZ68","v":{"v":1.2297682545980093,"d":"1.23"}},{"$f":"+[4]Tabulka!BA68","v":30},{"$f":"+[4]Tabulka!BB68","v":{"v":0.7406002601279904,"d":"0.74"}},{"$f":"+[4]Tabulka!BC68","v":18},{"$f":"+[4]Tabulka!BD68","v":{"v":1.584685144727681,"d":"1.58"}},{"$f":"+[4]Tabulka!BE68","v":0},{"$f":"+[4]Tabulka!BF68","v":{"v":0,"d":"0.00"}},{"$f":"+[4]Tabulka!BG68","v":0},{"$f":"+[4]Tabulka!BH68","v":{"v":0,"d":"0.00"}},{"$f":"+[4]Tabulka!BI68","v":0},{"$f":"+[4]Tabulka!BJ68","v":{"v":0,"d":"0.00"}},{"$f":"+[4]Tabulka!AP68","v":{"v":0,"d":"0.00"}},{"$f":"+[4]Tabulka!AQ68","v":{"v":0,"d":"0.00"}},{"$f":"+[4]Tabulka!BM68","v":{"v":3.555053659453681,"d":"3.56"}},{"$f":"+[4]Tabulka!BN68","v":3},{"$f":"+[4]Tabulka!BO68","v":{"v":3.5550536594536806,"d":"3.56"}}]
[null,{"$f":"[4]Tabulka!C69","v":"KUBĚNA"},{"$f":"[4]Tabulka!D69","v":"Tomáš"},{"$f":"[4]Tabulka!E69","v":"1900-01-01"},{"$f":"[4]Tabulka!F69","v":"Nový Jičín- TJ"},{"$f":"[4]Tabulka!G69","v":"NJ"},{"$f":"[4]Tabulka!H69","v":0},{"$f":"+[4]Tabulka!AU69","v":0},{"$f":"+[4]Tabulka!AV69","v":{"v":0,"d":"0.00"}},{"$f":"+[4]Tabulka!AW69","v":0},{"$f":"+[4]Tabulka!AX69","v":{"v":0,"d":"0.00"}},{"$f":"+[4]Tabulka!AY69","v":7},{"$f":"+[4]Tabulka!AZ69","v":{"v":3.1825276537773326,"d":"3.18"}},{"$f":"+[4]Tabulka!BA69","v":0},{"$f":"+[4]Tabulka!BB69","v":{"v":0,"d":"0.00"}},{"$f":"+[4]Tabulka!BC69","v":0},{"$f":"+[4]Tabulka!BD69","v":{"v":0,"d":"0.00"}},{"$f":"+[4]Tabulka!BE69","v":0},{"$f":"+[4]Tabulka!BF69","v":{"v":0,"d":"0.00"}},{"$f":"+[4]Tabulka!BG69","v":0},{"$f":"+[4]Tabulka!BH69","v":{"v":0,"d":"0.00"}},{"$f":"+[4]Tabulka!BI69","v":0},{"$f":"+[4]Tabulka!BJ69","v":{"v":0,"d":"0.00"}},{"$f":"+[4]Tabulka!AP69","v":{"v":0,"d":"0.00"}},{"$f":"+[4]Tabulka!AQ69","v":{"v":0,"d":"0.00"}},{"$f":"+[4]Tabulka!BM69","v":{"v":3.1825276537773326,"d":"3.18"}},{"$f":"+[4]Tabulka!BN69","v":1},{"$f":"+[4]Tabulka!BO69","v":{"v":3.1825276537773326,"d":"3.18"}}]
["33",{"$f":"[4]Tabulka!C70","v":"ŽINGOR"},{"$f":"[4]Tabulka!D70","v":"Ondřej"},{"$f":"[4]Tabulka!E70","v":"1900-01-01"},{"$f":"[4]Tabulka!F70","v":"Frenštát pod Radhoštěm- TJ"},{"$f":"[4]Tabulka!G70","v":"NJ"},{"$f":"[4]Tabulka!H70","v":0},{"$f":"+[4]Tabulka!AU70","v":0},{"$f":"+[4]Tabulka!AV70","v":{"v":0,"d":"0.00"}},{"$f":"+[4]Tabulka!AW70","v":7},{"$f":"+[4]Tabulka!AX70","v":{"v":3.1825276537773326,"d":"3.18"}},{"$f":"+[4]Tabulka!AY70","v":0},{"$f":"+[4]Tabulka!AZ70","v":{"v":0,"d":"0.00"}},{"$f":"+[4]Tabulka!BA70","v":0},{"$f":"+[4]Tabulka!BB70","v":{"v":0,"d":"0.00"}},{"$f":"+[4]Tabulka!BC70","v":0},{"$f":"+[4]Tabulka!BD70","v":{"v":0,"d":"0.00"}},{"$f":"+[4]Tabulka!BE70","v":0},{"$f":"+[4]Tabulka!BF70","v":{"v":0,"d":"0.00"}},{"$f":"+[4]Tabulka!BG70","v":0},{"$f":"+[4]Tabulka!BH70","v":{"v":0,"d":"0.00"}},{"$f":"+[4]Tabulka!BI70","v":0},{"$f":"+[4]Tabulka!BJ70","v":{"v":0,"d":"0.00"}},{"$f":"+[4]Tabulka!AP70","v":{"v":0,"d":"0.00"}},{"$f":"+[4]Tabulka!AQ70","v":{"v":0,"d":"0.00"}},{"$f":"+[4]Tabulka!BM70","v":{"v":3.1825276537773326,"d":"3.18"}},{"$f":"+[4]Tabulka!BN70","v":1},{"$f":"+[4]Tabulka!BO70","v":{"v":3.1825276537773326,"d":"3.18"}}]
["35",{"$f":"[4]Tabulka!C71","v":"GALGANÁK"},{"$f":"[4]Tabulka!D71","v":"Adam"},{"$f":"[4]Tabulka!E71","v":"2002-05-10"},{"$f":"[4]Tabulka!F71","v":"Orlová- Siko TTC"},{"$f":"[4]Tabulka!G71","v":"KA"},{"$f":"[4]Tabulka!H71","v":100},{"$f":"+[4]Tabulka!AU71","v":0},{"$f":"+[4]Tabulka!AV71","v":{"v":0,"d":"0.00"}},{"$f":"+[4]Tabulka!AW71","v":23},{"$f":"+[4]Tabulka!AX71","v":{"v":1.1542326382851416,"d":"1.15"}},{"$f":"+[4]Tabulka!AY71","v":26},{"$f":"+[4]Tabulka!AZ71","v":{"v":0.9543409711693354,"d":"0.95"}},{"$f":"+[4]Tabulka!BA71","v":26},{"$f":"+[4]Tabulka!BB71","v":{"v":0.9543409711693354,"d":"0.95"}},{"$f":"+[4]Tabulka!BC71","v":0},{"$f":"+[4]Tabulka!BD71","v":{"v":0,"d":"0.00"}},{"$f":"+[4]Tabulka!BE71","v":0},{"$f":"+[4]Tabulka!BF71","v":{"v":0,"d":"0.00"}},{"$f":"+[4]Tabulka!BG71","v":0},{"$f":"+[4]Tabulka!BH71","v":{"v":0,"d":"0.00"}},{"$f":"+[4]Tabulka!BI71","v":0},{"$f":"+[4]Tabulka!BJ71","v":{"v":0,"d":"0.00"}},{"$f":"+[4]Tabulka!AP71","v":{"v":0,"d":"0.00"}},{"$f":"+[4]Tabulka!AQ71","v":{"v":0,"d":"0.00"}},{"$f":"+[4]Tabulka!BM71","v":{"v":3.0629145806238123,"d":"3.06"}},{"$f":"+[4]Tabulka!BN71","v":3},{"$f":"+[4]Tabulka!BO71","v":{"v":3.0629145806238123,"d":"3.06"}}]
["22",{"$f":"[4]Tabulka!C72","v":"BERNÁTEK"},{"$f":"[4]Tabulka!D72","v":"Daniel"},{"$f":"[4]Tabulka!E72","v":"1900-01-01"},{"$f":"[4]Tabulka!F72","v":"Frenštát pod Radhoštěm- TJ"},{"$f":"[4]Tabulka!G72","v":"NJ"},{"$f":"[4]Tabulka!H72","v":0},{"$f":"+[4]Tabulka!AU72","v":0},{"$f":"+[4]Tabulka!AV72","v":{"v":0,"d":"0.00"}},{"$f":"+[4]Tabulka!AW72","v":8},{"$f":"+[4]Tabulka!AX72","v":{"v":2.987048394281082,"d":"2.99"}},{"$f":"+[4]Tabulka!AY72","v":0},{"$f":"+[4]Tabulka!AZ72","v":{"v":0,"d":"0.00"}},{"$f":"+[4]Tabulka!BA72","v":0},{"$f":"+[4]Tabulka!BB72","v":{"v":0,"d":"0.00"}},{"$f":"+[4]Tabulka!BC72","v":0},{"$f":"+[4]Tabulka!BD72","v":{"v":0,"d":"0.00"}},{"$f":"+[4]Tabulka!BE72","v":0},{"$f":"+[4]Tabulka!BF72","v":{"v":0,"d":"0.00"}},{"$f":"+[4]Tabulka!BG72","v":0},{"$f":"+[4]Tabulka!BH72","v":{"v":0,"d":"0.00"}},{"$f":"+[4]Tabulka!BI72","v":0},{"$f":"+[4]Tabulka!BJ72","v":{"v":0,"d":"0.00"}},{"$f":"+[4]Tabulka!AP72","v":{"v":0,"d":"0.00"}},{"$f":"+[4]Tabulka!AQ72","v":{"v":0,"d":"0.00"}},{"$f":"+[4]Tabulka!BM72","v":{"v":2.987048394281082,"d":"2.99"}},{"$f":"+[4]Tabulka!BN72","v":1},{"$f":"+[4]Tabulka!BO72","v":{"v":2.987048394281082,"d":"2.99"}}]
["36",{"$f":"[4]Tabulka!C73","v":"ENDAL"},{"$f":"[4]Tabulka!D73","v":"Sebastián"},{"$f":"[4]Tabulka!E73","v":"1999-11-10"},{"$f":"[4]Tabulka!F73","v":"Havířov- Baník SKST"},{"$f":"[4]Tabulka!G73","v":"KA"},{"$f":"[4]Tabulka!H73","v":100},{"$f":"+[4]Tabulka!AU73","v":0},{"$f":"+[4]Tabulka!AV73","v":{"v":0,"d":"0.00"}},{"$f":"+[4]Tabulka!AW73","v":0},{"$f":"+[4]Tabulka!AX73","v":{"v":0,"d":"0.00"}},{"$f":"+[4]Tabulka!AY73","v":0},{"$f":"+[4]Tabulka!AZ73","v":{"v":0,"d":"0.00"}},{"$f":"+[4]Tabulka!BA73","v":8},{"$f":"+[4]Tabulka!BB73","v":{"v":2.987048394281082,"d":"2.99"}},{"$f":"+[4]Tabulka!BC73","v":0},{"$f":"+[4]Tabulka!BD73","v":{"v":0,"d":"0.00"}},{"$f":"+[4]Tabulka!BE73","v":0},{"$f":"+[4]Tabulka!BF73","v":{"v":0,"d":"0.00"}},{"$f":"+[4]Tabulka!BG73","v":0},{"$f":"+[4]Tabulka!BH73","v":{"v":0,"d":"0.00"}},{"$f":"+[4]Tabulka!BI73","v":0},{"$f":"+[4]Tabulka!BJ73","v":{"v":0,"d":"0.00"}},{"$f":"+[4]Tabulka!AP73","v":{"v":40.9104252087707,"d":"40.91"}},{"$f":"+[4]Tabulka!AQ73","v":{"v":4,"d":"4.00"}},{"$f":"+[4]Tabulka!BM73","v":{"v":2.987048394281082,"d":"2.99"}},{"$f":"+[4]Tabulka!BN73","v":1},{"$f":"+[4]Tabulka!BO73","v":{"v":2.987048394281082,"d":"2.99"}}]
["29",{"$f":"[4]Tabulka!C74","v":"KOSTKA"},{"$f":"[4]Tabulka!D74","v":"Martin"},{"$f":"[4]Tabulka!E74","v":"1999-01-01"},{"$f":"[4]Tabulka!F74","v":"Nový Jičín- TJ"},{"$f":"[4]Tabulka!G74","v":"NJ"},{"$f":"[4]Tabulka!H74","v":0},{"$f":"+[4]Tabulka!AU74","v":0},{"$f":"+[4]Tabulka!AV74","v":{"v":0,"d":"0.00"}},{"$f":"+[4]Tabulka!AW74","v":0},{"$f":"+[4]Tabulka!AX74","v":{"v":0,"d":"0.00"}},{"$f":"+[4]Tabulka!AY74","v":8},{"$f":"+[4]Tabulka!AZ74","v":{"v":2.987048394281082,"d":"2.99"}},{"$f":"+[4]Tabulka!BA74","v":0},{"$f":"+[4]Tabulka!BB74","v":{"v":0,"d":"0.00"}},{"$f":"+[4]Tabulka!BC74","v":0},{"$f":"+[4]Tabulka!BD74","v":{"v":0,"d":"0.00"}},{"$f":"+[4]Tabulka!BE74","v":0},{"$f":"+[4]Tabulka!BF74","v":{"v":0,"d":"0.00"}},{"$f":"+[4]Tabulka!BG74","v":0},{"$f":"+[4]Tabulka!BH74","v":{"v":0,"d":"0.00"}},{"$f":"+[4]Tabulka!BI74","v":0},{"$f":"+[4]Tabulka!BJ74","v":{"v":0,"d":"0.00"}},{"$f":"+[4]Tabulka!AP74","v":{"v":0,"d":"0.00"}},{"$f":"+[4]Tabulka!AQ74","v":{"v":0,"d":"0.00"}},{"$f":"+[4]Tabulka!BM74","v":{"v":2.987048394281082,"d":"2.99"}},{"$f":"+[4]Tabulka!BN74","v":1},{"$f":"+[4]Tabulka!BO74","v":{"v":2.987048394281082,"d":"2.99"}}]
["37",{"$f":"[4]Tabulka!C75","v":"URBÁNEK"},{"$f":"[4]Tabulka!D75","v":"Filip"},{"$f":"[4]Tabulka!E75","v":"2001-05-31"},{"$f":"[4]Tabulka!F75","v":"Havířov- Baník SKST"},{"$f":"[4]Tabulka!G75","v":"KA"},{"$f":"[4]Tabulka!H75","v":100},{"$f":"+[4]Tabulka!AU75","v":0},{"$f":"+[4]Tabulka!AV75","v":{"v":0,"d":"0.00"}},{"$f":"+[4]Tabulka!AW75","v":8},{"$f":"+[4]Tabulka!AX75","v":{"v":2.987048394281082,"d":"2.99"}},{"$f":"+[4]Tabulka!AY75","v":0},{"$f":"+[4]Tabulka!AZ75","v":{"v":0,"d":"0.00"}},{"$f":"+[4]Tabulka!BA75","v":0},{"$f":"+[4]Tabulka!BB75","v":{"v":0,"d":"0.00"}},{"$f":"+[4]Tabulka!BC75","v":0},{"$f":"+[4]Tabulka!BD75","v":{"v":0,"d":"0.00"}},{"$f":"+[4]Tabulka!BE75","v":0},{"$f":"+[4]Tabulka!BF75","v":{"v":0,"d":"0.00"}},{"$f":"+[4]Tabulka!BG75","v":0},{"$f":"+[4]Tabulka!BH75","v":{"v":0,"d":"0.00"}},{"$f":"+[4]Tabulka!BI75","v":0},{"$f":"+[4]Tabulka!BJ75","v":{"v":0,"d":"0.00"}},{"$f":"+[4]Tabulka!AP75","v":{"v":6.035982079746216,"d":"6.04"}},{"$f":"+[4]Tabulka!AQ75","v":{"v":3,"d":"3.00"}},{"$f":"+[4]Tabulka!BM75","v":{"v":2.987048394281082,"d":"2.99"}},{"$f":"+[4]Tabulka!BN75","v":1},{"$f":"+[4]Tabulka!BO75","v":{"v":2.987048394281082,"d":"2.99"}}]
[null,{"$f":"[4]Tabulka!C76","v":"DZIDA"},{"$f":"[4]Tabulka!D76","v":"Martin"},{"$f":"[4]Tabulka!E76","v":"2001-06-14"},{"$f":"[4]Tabulka!F76","v":"Opava- KST Slezan "},{"$f":"[4]Tabulka!G76","v":"OP"},{"$f":"[4]Tabulka!H76","v":100},{"$f":"+[4]Tabulka!AU76","v":0},{"$f":"+[4]Tabulka!AV76","v":{"v":0,"d":"0.00"}},{"$f":"+[4]Tabulka!AW76","v":0},{"$f":"+[4]Tabulka!AX76","v":{"v":0,"d":"0.00"}},{"$f":"+[4]Tabulka!AY76","v":0},{"$f":"+[4]Tabulka!AZ76","v":{"v":0,"d":"0.00"}},{"$f":"+[4]Tabulka!BA76","v":9},{"$f":"+[4]Tabulka!BB76","v":{"v":2.803575987529016,"d":"2.80"}},{"$f":"+[4]Tabulka!BC76","v":0},{"$f":"+[4]Tabulka!BD76","v":{"v":0,"d":"0.00"}},{"$f":"+[4]Tabulka!BE76","v":0},{"$f":"+[4]Tabulka!BF76","v":{"v":0,"d":"0.00"}},{"$f":"+[4]Tabulka!BG76","v":0},{"$f":"+[4]Tabulka!BH76","v":{"v":0,"d":"0.00"}},{"$f":"+[4]Tabulka!BI76","v":0},{"$f":"+[4]Tabulka!BJ76","v":{"v":0,"d":"0.00"}},{"$f":"+[4]Tabulka!AP76","v":{"v":11.632298835464507,"d":"11.63"}},{"$f":"+[4]Tabulka!AQ76","v":{"v":2,"d":"2.00"}},{"$f":"+[4]Tabulka!BM76","v":{"v":2.803575987529016,"d":"2.80"}},{"$f":"+[4]Tabulka!BN76","v":1},{"$f":"+[4]Tabulka!BO76","v":{"v":2.803575987529016,"d":"2.80"}}]
[null,{"$f":"[4]Tabulka!C77","v":"HOLEČEK"},{"$f":"[4]Tabulka!D77","v":"Lukáš"},{"$f":"[4]Tabulka!E77","v":"2001-10-05"},{"$f":"[4]Tabulka!F77","v":"Frenštát pod Radhoštěm- TJ"},{"$f":"[4]Tabulka!G77","v":"NJ"},{"$f":"[4]Tabulka!H77","v":100},{"$f":"+[4]Tabulka!AU77","v":0},{"$f":"+[4]Tabulka!AV77","v":{"v":0,"d":"0.00"}},{"$f":"+[4]Tabulka!AW77","v":9},{"$f":"+[4]Tabulka!AX77","v":{"v":2.803575987529016,"d":"2.80"}},{"$f":"+[4]Tabulka!AY77","v":0},{"$f":"+[4]Tabulka!AZ77","v":{"v":0,"d":"0.00"}},{"$f":"+[4]Tabulka!BA77","v":0},{"$f":"+[4]Tabulka!BB77","v":{"v":0,"d":"0.00"}},{"$f":"+[4]Tabulka!BC77","v":0},{"$f":"+[4]Tabulka!BD77","v":{"v":0,"d":"0.00"}},{"$f":"+[4]Tabulka!BE77","v":0},{"$f":"+[4]Tabulka!BF77","v":{"v":0,"d":"0.00"}},{"$f":"+[4]Tabulka!BG77","v":0},{"$f":"+[4]Tabulka!BH77","v":{"v":0,"d":"0.00"}},{"$f":"+[4]Tabulka!BI77","v":0},{"$f":"+[4]Tabulka!BJ77","v":{"v":0,"d":"0.00"}},{"$f":"+[4]Tabulka!AP77","v":{"v":1.311092505659929,"d":"1.31"}},{"$f":"+[4]Tabulka!AQ77","v":{"v":1,"d":"1.00"}},{"$f":"+[4]Tabulka!BM77","v":{"v":2.803575987529016,"d":"2.80"}},{"$f":"+[4]Tabulka!BN77","v":1},{"$f":"+[4]Tabulka!BO77","v":{"v":2.803575987529016,"d":"2.80"}}]
["34",{"$f":"[4]Tabulka!C78","v":"KANIA"},{"$f":"[4]Tabulka!D78","v":"Jan "},{"$f":"[4]Tabulka!E78","v":"1999-04-23"},{"$f":"[4]Tabulka!F78","v":"Hlučín- DDM"},{"$f":"[4]Tabulka!G78","v":"OP"},{"$f":"[4]Tabulka!H78","v":100},{"$f":"+[4]Tabulka!AU78","v":0},{"$f":"+[4]Tabulka!AV78","v":{"v":0,"d":"0.00"}},{"$f":"+[4]Tabulka!AW78","v":9},{"$f":"+[4]Tabulka!AX78","v":{"v":2.803575987529016,"d":"2.80"}},{"$f":"+[4]Tabulka!AY78","v":0},{"$f":"+[4]Tabulka!AZ78","v":{"v":0,"d":"0.00"}},{"$f":"+[4]Tabulka!BA78","v":0},{"$f":"+[4]Tabulka!BB78","v":{"v":0,"d":"0.00"}},{"$f":"+[4]Tabulka!BC78","v":0},{"$f":"+[4]Tabulka!BD78","v":{"v":0,"d":"0.00"}},{"$f":"+[4]Tabulka!BE78","v":0},{"$f":"+[4]Tabulka!BF78","v":{"v":0,"d":"0.00"}},{"$f":"+[4]Tabulka!BG78","v":0},{"$f":"+[4]Tabulka!BH78","v":{"v":0,"d":"0.00"}},{"$f":"+[4]Tabulka!BI78","v":0},{"$f":"+[4]Tabulka!BJ78","v":{"v":0,"d":"0.00"}},{"$f":"+[4]Tabulka!AP78","v":{"v":0,"d":"0.00"}},{"$f":"+[4]Tabulka!AQ78","v":{"v":0,"d":"0.00"}},{"$f":"+[4]Tabulka!BM78","v":{"v":2.803575987529016,"d":"2.80"}},{"$f":"+[4]Tabulka!BN78","v":1},{"$f":"+[4]Tabulka!BO78","v":{"v":2.803575987529016,"d":"2.80"}}]
["35",{"$f":"[4]Tabulka!C79","v":"NOVÁK"},{"$f":"[4]Tabulka!D79","v":"Michal"},{"$f":"[4]Tabulka!E79","v":"2000-01-06"},{"$f":"[4]Tabulka!F79","v":"Ostrava- Mittal TJ"},{"$f":"[4]Tabulka!G79","v":"OV"},{"$f":"[4]Tabulka!H79","v":100},{"$f":"+[4]Tabulka!AU79","v":0},{"$f":"+[4]Tabulka!AV79","v":{"v":0,"d":"0.00"}},{"$f":"+[4]Tabulka!AW79","v":0},{"$f":"+[4]Tabulka!AX79","v":{"v":0,"d":"0.00"}},{"$f":"+[4]Tabulka!AY79","v":0},{"$f":"+[4]Tabulka!AZ79","v":{"v":0,"d":"0.00"}},{"$f":"+[4]Tabulka!BA79","v":9},{"$f":"+[4]Tabulka!BB79","v":{"v":2.803575987529016,"d":"2.80"}},{"$f":"+[4]Tabulka!BC79","v":0},{"$f":"+[4]Tabulka!BD79","v":{"v":0,"d":"0.00"}},{"$f":"+[4]Tabulka!BE79","v":0},{"$f":"+[4]Tabulka!BF79","v":{"v":0,"d":"0.00"}},{"$f":"+[4]Tabulka!BG79","v":0},{"$f":"+[4]Tabulka!BH79","v":{"v":0,"d":"0.00"}},{"$f":"+[4]Tabulka!BI79","v":0},{"$f":"+[4]Tabulka!BJ79","v":{"v":0,"d":"0.00"}},{"$f":"+[4]Tabulka!AP79","v":{"v":2.4143446779018563,"d":"2.41"}},{"$f":"+[4]Tabulka!AQ79","v":{"v":2,"d":"2.00"}},{"$f":"+[4]Tabulka!BM79","v":{"v":2.803575987529016,"d":"2.80"}},{"$f":"+[4]Tabulka!BN79","v":1},{"$f":"+[4]Tabulka!BO79","v":{"v":2.803575987529016,"d":"2.80"}}]
["32",{"$f":"[4]Tabulka!C80","v":"OBORNÝ"},{"$f":"[4]Tabulka!D80","v":"Dominik"},{"$f":"[4]Tabulka!E80","v":"1999-05-10"},{"$f":"[4]Tabulka!F80","v":"Hrabůvka- Sokol TJ"},{"$f":"[4]Tabulka!G80","v":"OV"},{"$f":"[4]Tabulka!H80","v":100},{"$f":"+[4]Tabulka!AU80","v":0},{"$f":"+[4]Tabulka!AV80","v":{"v":0,"d":"0.00"}},{"$f":"+[4]Tabulka!AW80","v":0},{"$f":"+[4]Tabulka!AX80","v":{"v":0,"d":"0.00"}},{"$f":"+[4]Tabulka!AY80","v":0},{"$f":"+[4]Tabulka!AZ80","v":{"v":0,"d":"0.00"}},{"$f":"+[4]Tabulka!BA80","v":0},{"$f":"+[4]Tabulka!BB80","v":{"v":0,"d":"0.00"}},{"$f":"+[4]Tabulka!BC80","v":0},{"$f":"+[4]Tabulka!BD80","v":{"v":0,"d":"0.00"}},{"$f":"+[4]Tabulka!BE80","v":9},{"$f":"+[4]Tabulka!BF80","v":{"v":2.803575987529016,"d":"2.80"}},{"$f":"+[4]Tabulka!BG80","v":0},{"$f":"+[4]Tabulka!BH80","v":{"v":0,"d":"0.00"}},{"$f":"+[4]Tabulka!BI80","v":0},{"$f":"+[4]Tabulka!BJ80","v":{"v":0,"d":"0.00"}},{"$f":"+[4]Tabulka!AP80","v":{"v":16.65398987825592,"d":"16.65"}},{"$f":"+[4]Tabulka!AQ80","v":{"v":4,"d":"4.00"}},{"$f":"+[4]Tabulka!BM80","v":{"v":2.803575987529016,"d":"2.80"}},{"$f":"+[4]Tabulka!BN80","v":1},{"$f":"+[4]Tabulka!BO80","v":{"v":2.803575987529016,"d":"2.80"}}]
[null,{"$f":"[4]Tabulka!C81","v":"RONGE"},{"$f":"[4]Tabulka!D81","v":"Tomáš"},{"$f":"[4]Tabulka!E81","v":"2002-08-16"},{"$f":"[4]Tabulka!F81","v":"Odry- TJ"},{"$f":"[4]Tabulka!G81","v":"NJ"},{"$f":"[4]Tabulka!H81","v":100},{"$f":"+[4]Tabulka!AU81","v":9},{"$f":"+[4]Tabulka!AV81","v":{"v":2.803575987529016,"d":"2.80"}},{"$f":"+[4]Tabulka!AW81","v":0},{"$f":"+[4]Tabulka!AX81","v":{"v":0,"d":"0.00"}},{"$f":"+[4]Tabulka!AY81","v":0},{"$f":"+[4]Tabulka!AZ81","v":{"v":0,"d":"0.00"}},{"$f":"+[4]Tabulka!BA81","v":0},{"$f":"+[4]Tabulka!BB81","v":{"v":0,"d":"0.00"}},{"$f":"+[4]Tabulka!BC81","v":0},{"$f":"+[4]Tabulka!BD81","v":{"v":0,"d":"0.00"}},{"$f":"+[4]Tabulka!BE81","v":0},{"$f":"+[4]Tabulka!BF81","v":{"v":0,"d":"0.00"}},{"$f":"+[4]Tabulka!BG81","v":0},{"$f":"+[4]Tabulka!BH81","v":{"v":0,"d":"0.00"}},{"$f":"+[4]Tabulka!BI81","v":0},{"$f":"+[4]Tabulka!BJ81","v":{"v":0,"d":"0.00"}},{"$f":"+[4]Tabulka!AP81","v":{"v":0,"d":"0.00"}},{"$f":"+[4]Tabulka!AQ81","v":{"v":0,"d":"0.00"}},{"$f":"+[4]Tabulka!BM81","v":{"v":2.803575987529016,"d":"2.80"}},{"$f":"+[4]Tabulka!BN81","v":1},{"$f":"+[4]Tabulka!BO81","v":{"v":2.803575987529016,"d":"2.80"}}]
["33",{"$f":"[4]Tabulka!C82","v":"SOCHACY"},{"$f":"[4]Tabulka!D82","v":"Václav"},{"$f":"[4]Tabulka!E82","v":"2000-06-17"},{"$f":"[4]Tabulka!F82","v":"Frýdek-Místek- Slezan TJ"},{"$f":"[4]Tabulka!G82","v":"FM"},{"$f":"[4]Tabulka!H82","v":100},{"$f":"+[4]Tabulka!AU82","v":0},{"$f":"+[4]Tabulka!AV82","v":{"v":0,"d":"0.00"}},{"$f":"+[4]Tabulka!AW82","v":0},{"$f":"+[4]Tabulka!AX82","v":{"v":0,"d":"0.00"}},{"$f":"+[4]Tabulka!AY82","v":0},{"$f":"+[4]Tabulka!AZ82","v":{"v":0,"d":"0.00"}},{"$f":"+[4]Tabulka!BA82","v":0},{"$f":"+[4]Tabulka!BB82","v":{"v":0,"d":"0.00"}},{"$f":"+[4]Tabulka!BC82","v":9},{"$f":"+[4]Tabulka!BD82","v":{"v":2.803575987529016,"d":"2.80"}},{"$f":"+[4]Tabulka!BE82","v":0},{"$f":"+[4]Tabulka!BF82","v":{"v":0,"d":"0.00"}},{"$f":"+[4]Tabulka!BG82","v":0},{"$f":"+[4]Tabulka!BH82","v":{"v":0,"d":"0.00"}},{"$f":"+[4]Tabulka!BI82","v":0},{"$f":"+[4]Tabulka!BJ82","v":{"v":0,"d":"0.00"}},{"$f":"+[4]Tabulka!AP82","v":{"v":0,"d":"0.00"}},{"$f":"+[4]Tabulka!AQ82","v":{"v":0,"d":"0.00"}},{"$f":"+[4]Tabulka!BM82","v":{"v":2.803575987529016,"d":"2.80"}},{"$f":"+[4]Tabulka!BN82","v":1},{"$f":"+[4]Tabulka!BO82","v":{"v":2.803575987529016,"d":"2.80"}}]
["38",{"$f":"[4]Tabulka!C83","v":"MACURÁK"},{"$f":"[4]Tabulka!D83","v":"Michal"},{"$f":"[4]Tabulka!E83","v":"2002-11-30"},{"$f":"[4]Tabulka!F83","v":"Havířov- Baník SKST"},{"$f":"[4]Tabulka!G83","v":"KA"},{"$f":"[4]Tabulka!H83","v":100},{"$f":"+[4]Tabulka!AU83","v":0},{"$f":"+[4]Tabulka!AV83","v":{"v":0,"d":"0.00"}},{"$f":"+[4]Tabulka!AW83","v":19},{"$f":"+[4]Tabulka!AX83","v":{"v":1.4873495950244735,"d":"1.49"}},{"$f":"+[4]Tabulka!AY83","v":21},{"$f":"+[4]Tabulka!AZ83","v":{"v":1.3102470939168058,"d":"1.31"}},{"$f":"+[4]Tabulka!BA83","v":0},{"$f":"+[4]Tabulka!BB83","v":{"v":0,"d":"0.00"}},{"$f":"+[4]Tabulka!BC83","v":0},{"$f":"+[4]Tabulka!BD83","v":{"v":0,"d":"0.00"}},{"$f":"+[4]Tabulka!BE83","v":0},{"$f":"+[4]Tabulka!BF83","v":{"v":0,"d":"0.00"}},{"$f":"+[4]Tabulka!BG83","v":0},{"$f":"+[4]Tabulka!BH83","v":{"v":0,"d":"0.00"}},{"$f":"+[4]Tabulka!BI83","v":0},{"$f":"+[4]Tabulka!BJ83","v":{"v":0,"d":"0.00"}},{"$f":"+[4]Tabulka!AP83","v":{"v":0,"d":"0.00"}},{"$f":"+[4]Tabulka!AQ83","v":{"v":0,"d":"0.00"}},{"$f":"+[4]Tabulka!BM83","v":{"v":2.7975966889412796,"d":"2.80"}},{"$f":"+[4]Tabulka!BN83","v":2},{"$f":"+[4]Tabulka!BO83","v":{"v":2.7975966889412796,"d":"2.80"}}]
["37",{"$f":"[4]Tabulka!C84","v":"SOUDIL"},{"$f":"[4]Tabulka!D84","v":"Adam"},{"$f":"[4]Tabulka!E84","v":"2001-10-03"},{"$f":"[4]Tabulka!F84","v":"Frenštát pod Radhoštěm- TJ"},{"$f":"[4]Tabulka!G84","v":"NJ"},{"$f":"[4]Tabulka!H84","v":100},{"$f":"+[4]Tabulka!AU84","v":10},{"$f":"+[4]Tabulka!AV84","v":{"v":2.6313729408930584,"d":"2.63"}},{"$f":"+[4]Tabulka!AW84","v":0},{"$f":"+[4]Tabulka!AX84","v":{"v":0,"d":"0.00"}},{"$f":"+[4]Tabulka!AY84","v":0},{"$f":"+[4]Tabulka!AZ84","v":{"v":0,"d":"0.00"}},{"$f":"+[4]Tabulka!BA84","v":0},{"$f":"+[4]Tabulka!BB84","v":{"v":0,"d":"0.00"}},{"$f":"+[4]Tabulka!BC84","v":0},{"$f":"+[4]Tabulka!BD84","v":{"v":0,"d":"0.00"}},{"$f":"+[4]Tabulka!BE84","v":0},{"$f":"+[4]Tabulka!BF84","v":{"v":0,"d":"0.00"}},{"$f":"+[4]Tabulka!BG84","v":0},{"$f":"+[4]Tabulka!BH84","v":{"v":0,"d":"0.00"}},{"$f":"+[4]Tabulka!BI84","v":0},{"$f":"+[4]Tabulka!BJ84","v":{"v":0,"d":"0.00"}},{"$f":"+[4]Tabulka!AP84","v":{"v":4.241350730482675,"d":"4.24"}},{"$f":"+[4]Tabulka!AQ84","v":{"v":3,"d":"3.00"}},{"$f":"+[4]Tabulka!BM84","v":{"v":2.6313729408930584,"d":"2.63"}},{"$f":"+[4]Tabulka!BN84","v":1},{"$f":"+[4]Tabulka!BO84","v":{"v":2.6313729408930584,"d":"2.63"}}]
["38",{"$f":"[4]Tabulka!C85","v":"CIGÁN"},{"$f":"[4]Tabulka!D85","v":"Antonín"},{"$f":"[4]Tabulka!E85","v":"2002-08-30"},{"$f":"[4]Tabulka!F85","v":"Dolní Benešov- MSA TJ"},{"$f":"[4]Tabulka!G85","v":"OP"},{"$f":"[4]Tabulka!H85","v":100},{"$f":"+[4]Tabulka!AU85","v":0},{"$f":"+[4]Tabulka!AV85","v":{"v":0,"d":"0.00"}},{"$f":"+[4]Tabulka!AW85","v":0},{"$f":"+[4]Tabulka!AX85","v":{"v":0,"d":"0.00"}},{"$f":"+[4]Tabulka!AY85","v":11},{"$f":"+[4]Tabulka!AZ85","v":{"v":2.4697470604914433,"d":"2.47"}},{"$f":"+[4]Tabulka!BA85","v":0},{"$f":"+[4]Tabulka!BB85","v":{"v":0,"d":"0.00"}},{"$f":"+[4]Tabulka!BC85","v":0},{"$f":"+[4]Tabulka!BD85","v":{"v":0,"d":"0.00"}},{"$f":"+[4]Tabulka!BE85","v":0},{"$f":"+[4]Tabulka!BF85","v":{"v":0,"d":"0.00"}},{"$f":"+[4]Tabulka!BG85","v":0},{"$f":"+[4]Tabulka!BH85","v":{"v":0,"d":"0.00"}},{"$f":"+[4]Tabulka!BI85","v":0},{"$f":"+[4]Tabulka!BJ85","v":{"v":0,"d":"0.00"}},{"$f":"+[4]Tabulka!AP85","v":{"v":0,"d":"0.00"}},{"$f":"+[4]Tabulka!AQ85","v":{"v":0,"d":"0.00"}},{"$f":"+[4]Tabulka!BM85","v":{"v":2.4697470604914433,"d":"2.47"}},{"$f":"+[4]Tabulka!BN85","v":1},{"$f":"+[4]Tabulka!BO85","v":{"v":2.4697470604914433,"d":"2.47"}}]
[null,{"$f":"[4]Tabulka!C86","v":"NEMÉTHOVÁ"},{"$f":"[4]Tabulka!D86","v":"Štěpánka"},{"$f":"[4]Tabulka!E86","v":"1999-01-01"},{"$f":"[4]Tabulka!F86","v":"Kopřivnice- Tatra  ASK"},{"$f":"[4]Tabulka!G86","v":"NJ"},{"$f":"[4]Tabulka!H86","v":0},{"$f":"+[4]Tabulka!AU86","v":0},{"$f":"+[4]Tabulka!AV86","v":{"v":0,"d":"0.00"}},{"$f":"+[4]Tabulka!AW86","v":0},{"$f":"+[4]Tabulka!AX86","v":{"v":0,"d":"0.00"}},{"$f":"+[4]Tabulka!AY86","v":11},{"$f":"+[4]Tabulka!AZ86","v":{"v":2.4697470604914433,"d":"2.47"}},{"$f":"+[4]Tabulka!BA86","v":0},{"$f":"+[4]Tabulka!BB86","v":{"v":0,"d":"0.00"}},{"$f":"+[4]Tabulka!BC86","v":0},{"$f":"+[4]Tabulka!BD86","v":{"v":0,"d":"0.00"}},{"$f":"+[4]Tabulka!BE86","v":0},{"$f":"+[4]Tabulka!BF86","v":{"v":0,"d":"0.00"}},{"$f":"+[4]Tabulka!BG86","v":0},{"$f":"+[4]Tabulka!BH86","v":{"v":0,"d":"0.00"}},{"$f":"+[4]Tabulka!BI86","v":0},{"$f":"+[4]Tabulka!BJ86","v":{"v":0,"d":"0.00"}},{"$f":"+[4]Tabulka!AP86","v":{"v":0.6955591416131484,"d":"0.70"}},{"$f":"+[4]Tabulka!AQ86","v":{"v":1,"d":"1.00"}},{"$f":"+[4]Tabulka!BM86","v":{"v":2.4697470604914433,"d":"2.47"}},{"$f":"+[4]Tabulka!BN86","v":1},{"$f":"+[4]Tabulka!BO86","v":{"v":2.4697470604914433,"d":"2.47"}}]
["39",{"$f":"[4]Tabulka!C87","v":"PAZDERA"},{"$f":"[4]Tabulka!D87","v":"Jan"},{"$f":"[4]Tabulka!E87","v":"1999-09-20"},{"$f":"[4]Tabulka!F87","v":"Karviná- KLUBsten KST"},{"$f":"[4]Tabulka!G87","v":"KA"},{"$f":"[4]Tabulka!H87","v":100},{"$f":"+[4]Tabulka!AU87","v":11},{"$f":"+[4]Tabulka!AV87","v":{"v":2.4697470604914433,"d":"2.47"}},{"$f":"+[4]Tabulka!AW87","v":0},{"$f":"+[4]Tabulka!AX87","v":{"v":0,"d":"0.00"}},{"$f":"+[4]Tabulka!AY87","v":0},{"$f":"+[4]Tabulka!AZ87","v":{"v":0,"d":"0.00"}},{"$f":"+[4]Tabulka!BA87","v":0},{"$f":"+[4]Tabulka!BB87","v":{"v":0,"d":"0.00"}},{"$f":"+[4]Tabulka!BC87","v":0},{"$f":"+[4]Tabulka!BD87","v":{"v":0,"d":"0.00"}},{"$f":"+[4]Tabulka!BE87","v":0},{"$f":"+[4]Tabulka!BF87","v":{"v":0,"d":"0.00"}},{"$f":"+[4]Tabulka!BG87","v":0},{"$f":"+[4]Tabulka!BH87","v":{"v":0,"d":"0.00"}},{"$f":"+[4]Tabulka!BI87","v":0},{"$f":"+[4]Tabulka!BJ87","v":{"v":0,"d":"0.00"}},{"$f":"+[4]Tabulka!AP87","v":{"v":0,"d":"0.00"}},{"$f":"+[4]Tabulka!AQ87","v":{"v":0,"d":"0.00"}},{"$f":"+[4]Tabulka!BM87","v":{"v":2.4697470604914433,"d":"2.47"}},{"$f":"+[4]Tabulka!BN87","v":1},{"$f":"+[4]Tabulka!BO87","v":{"v":2.4697470604914433,"d":"2.47"}}]
["40",{"$f":"[4]Tabulka!C88","v":"WITOSZOVÁ"},{"$f":"[4]Tabulka!D88","v":"Klára"},{"$f":"[4]Tabulka!E88","v":"2003-09-25"},{"$f":"[4]Tabulka!F88","v":"Havířov- Baník SKST"},{"$f":"[4]Tabulka!G88","v":"KA"},{"$f":"[4]Tabulka!H88","v":100},{"$f":"+[4]Tabulka!AU88","v":0},{"$f":"+[4]Tabulka!AV88","v":{"v":0,"d":"0.00"}},{"$f":"+[4]Tabulka!AW88","v":20},{"$f":"+[4]Tabulka!AX88","v":{"v":1.3959926520290693,"d":"1.40"}},{"$f":"+[4]Tabulka!AY88","v":25},{"$f":"+[4]Tabulka!AZ88","v":{"v":1.0167952208923348,"d":"1.02"}},{"$f":"+[4]Tabulka!BA88","v":0},{"$f":"+[4]Tabulka!BB88","v":{"v":0,"d":"0.00"}},{"$f":"+[4]Tabulka!BC88","v":0},{"$f":"+[4]Tabulka!BD88","v":{"v":0,"d":"0.00"}},{"$f":"+[4]Tabulka!BE88","v":0},{"$f":"+[4]Tabulka!BF88","v":{"v":0,"d":"0.00"}},{"$f":"+[4]Tabulka!BG88","v":0},{"$f":"+[4]Tabulka!BH88","v":{"v":0,"d":"0.00"}},{"$f":"+[4]Tabulka!BI88","v":0},{"$f":"+[4]Tabulka!BJ88","v":{"v":0,"d":"0.00"}},{"$f":"+[4]Tabulka!AP88","v":{"v":0,"d":"0.00"}},{"$f":"+[4]Tabulka!AQ88","v":{"v":0,"d":"0.00"}},{"$f":"+[4]Tabulka!BM88","v":{"v":2.4127878729214043,"d":"2.41"}},{"$f":"+[4]Tabulka!BN88","v":2},{"$f":"+[4]Tabulka!BO88","v":{"v":2.4127878729214043,"d":"2.41"}}]
["41",{"$f":"[4]Tabulka!C89","v":"KARASOVÁ"},{"$f":"[4]Tabulka!D89","v":"Viktorie"},{"$f":"[4]Tabulka!E89","v":"2001-01-01"},{"$f":"[4]Tabulka!F89","v":"Nový Jičín- TJ"},{"$f":"[4]Tabulka!G89","v":"NJ"},{"$f":"[4]Tabulka!H89","v":0},{"$f":"+[4]Tabulka!AU89","v":0},{"$f":"+[4]Tabulka!AV89","v":{"v":0,"d":"0.00"}},{"$f":"+[4]Tabulka!AW89","v":0},{"$f":"+[4]Tabulka!AX89","v":{"v":0,"d":"0.00"}},{"$f":"+[4]Tabulka!AY89","v":12},{"$f":"+[4]Tabulka!AZ89","v":{"v":2.3180486688200013,"d":"2.32"}},{"$f":"+[4]Tabulka!BA89","v":0},{"$f":"+[4]Tabulka!BB89","v":{"v":0,"d":"0.00"}},{"$f":"+[4]Tabulka!BC89","v":0},{"$f":"+[4]Tabulka!BD89","v":{"v":0,"d":"0.00"}},{"$f":"+[4]Tabulka!BE89","v":0},{"$f":"+[4]Tabulka!BF89","v":{"v":0,"d":"0.00"}},{"$f":"+[4]Tabulka!BG89","v":0},{"$f":"+[4]Tabulka!BH89","v":{"v":0,"d":"0.00"}},{"$f":"+[4]Tabulka!BI89","v":0},{"$f":"+[4]Tabulka!BJ89","v":{"v":0,"d":"0.00"}},{"$f":"+[4]Tabulka!AP89","v":{"v":0,"d":"0.00"}},{"$f":"+[4]Tabulka!AQ89","v":{"v":0,"d":"0.00"}},{"$f":"+[4]Tabulka!BM89","v":{"v":2.3180486688200013,"d":"2.32"}},{"$f":"+[4]Tabulka!BN89","v":1},{"$f":"+[4]Tabulka!BO89","v":{"v":2.3180486688200013,"d":"2.32"}}]
["41",{"$f":"[4]Tabulka!C90","v":"SLIWKA"},{"$f":"[4]Tabulka!D90","v":"Martin"},{"$f":"[4]Tabulka!E90","v":"2000-07-18"},{"$f":"[4]Tabulka!F90","v":"Karviná- KLUBsten KST"},{"$f":"[4]Tabulka!G90","v":"KA"},{"$f":"[4]Tabulka!H90","v":100},{"$f":"+[4]Tabulka!AU90","v":0},{"$f":"+[4]Tabulka!AV90","v":{"v":0,"d":"0.00"}},{"$f":"+[4]Tabulka!AW90","v":0},{"$f":"+[4]Tabulka!AX90","v":{"v":0,"d":"0.00"}},{"$f":"+[4]Tabulka!AY90","v":0},{"$f":"+[4]Tabulka!AZ90","v":{"v":0,"d":"0.00"}},{"$f":"+[4]Tabulka!BA90","v":0},{"$f":"+[4]Tabulka!BB90","v":{"v":0,"d":"0.00"}},{"$f":"+[4]Tabulka!BC90","v":0},{"$f":"+[4]Tabulka!BD90","v":{"v":0,"d":"0.00"}},{"$f":"+[4]Tabulka!BE90","v":0},{"$f":"+[4]Tabulka!BF90","v":{"v":0,"d":"0.00"}},{"$f":"+[4]Tabulka!BG90","v":0},{"$f":"+[4]Tabulka!BH90","v":{"v":0,"d":"0.00"}},{"$f":"+[4]Tabulka!BI90","v":12},{"$f":"+[4]Tabulka!BJ90","v":{"v":2.3180486688200013,"d":"2.32"}},{"$f":"+[4]Tabulka!AP90","v":{"v":0,"d":"0.00"}},{"$f":"+[4]Tabulka!AQ90","v":{"v":0,"d":"0.00"}},{"$f":"+[4]Tabulka!BM90","v":{"v":2.3180486688200013,"d":"2.32"}},{"$f":"+[4]Tabulka!BN90","v":1},{"$f":"+[4]Tabulka!BO90","v":{"v":2.3180486688200013,"d":"2.32"}}]
["42",{"$f":"[4]Tabulka!C91","v":"CZOLKO"},{"$f":"[4]Tabulka!D91","v":"Daniel"},{"$f":"[4]Tabulka!E91","v":"2002-06-08"},{"$f":"[4]Tabulka!F91","v":"Orlová- Siko TTC"},{"$f":"[4]Tabulka!G91","v":"KA"},{"$f":"[4]Tabulka!H91","v":100},{"$f":"+[4]Tabulka!AU91","v":0},{"$f":"+[4]Tabulka!AV91","v":{"v":0,"d":"0.00"}},{"$f":"+[4]Tabulka!AW91","v":21},{"$f":"+[4]Tabulka!AX91","v":{"v":1.3102470939168058,"d":"1.31"}},{"$f":"+[4]Tabulka!AY91","v":0},{"$f":"+[4]Tabulka!AZ91","v":{"v":0,"d":"0.00"}},{"$f":"+[4]Tabulka!BA91","v":27},{"$f":"+[4]Tabulka!BB91","v":{"v":0.8957228265226755,"d":"0.90"}},{"$f":"+[4]Tabulka!BC91","v":0},{"$f":"+[4]Tabulka!BD91","v":{"v":0,"d":"0.00"}},{"$f":"+[4]Tabulka!BE91","v":0},{"$f":"+[4]Tabulka!BF91","v":{"v":0,"d":"0.00"}},{"$f":"+[4]Tabulka!BG91","v":0},{"$f":"+[4]Tabulka!BH91","v":{"v":0,"d":"0.00"}},{"$f":"+[4]Tabulka!BI91","v":0},{"$f":"+[4]Tabulka!BJ91","v":{"v":0,"d":"0.00"}},{"$f":"+[4]Tabulka!AP91","v":{"v":0,"d":"0.00"}},{"$f":"+[4]Tabulka!AQ91","v":{"v":0,"d":"0.00"}},{"$f":"+[4]Tabulka!BM91","v":{"v":2.2059699204394816,"d":"2.21"}},{"$f":"+[4]Tabulka!BN91","v":2},{"$f":"+[4]Tabulka!BO91","v":{"v":2.2059699204394816,"d":"2.21"}}]
["35",{"$f":"[4]Tabulka!C92","v":"ČERNOCH"},{"$f":"[4]Tabulka!D92","v":"Kryštof"},{"$f":"[4]Tabulka!E92","v":"1900-01-01"},{"$f":"[4]Tabulka!F92","v":"Nový Jičín- TJ"},{"$f":"[4]Tabulka!G92","v":"NJ"},{"$f":"[4]Tabulka!H92","v":0},{"$f":"+[4]Tabulka!AU92","v":0},{"$f":"+[4]Tabulka!AV92","v":{"v":0,"d":"0.00"}},{"$f":"+[4]Tabulka!AW92","v":0},{"$f":"+[4]Tabulka!AX92","v":{"v":0,"d":"0.00"}},{"$f":"+[4]Tabulka!AY92","v":13},{"$f":"+[4]Tabulka!AZ92","v":{"v":2.1756679932838794,"d":"2.18"}},{"$f":"+[4]Tabulka!BA92","v":0},{"$f":"+[4]Tabulka!BB92","v":{"v":0,"d":"0.00"}},{"$f":"+[4]Tabulka!BC92","v":0},{"$f":"+[4]Tabulka!BD92","v":{"v":0,"d":"0.00"}},{"$f":"+[4]Tabulka!BE92","v":0},{"$f":"+[4]Tabulka!BF92","v":{"v":0,"d":"0.00"}},{"$f":"+[4]Tabulka!BG92","v":0},{"$f":"+[4]Tabulka!BH92","v":{"v":0,"d":"0.00"}},{"$f":"+[4]Tabulka!BI92","v":0},{"$f":"+[4]Tabulka!BJ92","v":{"v":0,"d":"0.00"}},{"$f":"+[4]Tabulka!AP92","v":{"v":0,"d":"0.00"}},{"$f":"+[4]Tabulka!AQ92","v":{"v":0,"d":"0.00"}},{"$f":"+[4]Tabulka!BM92","v":{"v":2.1756679932838794,"d":"2.18"}},{"$f":"+[4]Tabulka!BN92","v":1},{"$f":"+[4]Tabulka!BO92","v":{"v":2.1756679932838794,"d":"2.18"}}]
["36",{"$f":"[4]Tabulka!C93","v":"FARKAŠ"},{"$f":"[4]Tabulka!D93","v":"Robin"},{"$f":"[4]Tabulka!E93","v":"2001-01-01"},{"$f":"[4]Tabulka!F93","v":"Ostrava- Domik"},{"$f":"[4]Tabulka!G93","v":"OV"},{"$f":"[4]Tabulka!H93","v":0},{"$f":"+[4]Tabulka!AU93","v":13},{"$f":"+[4]Tabulka!AV93","v":{"v":2.1756679932838794,"d":"2.18"}},{"$f":"+[4]Tabulka!AW93","v":0},{"$f":"+[4]Tabulka!AX93","v":{"v":0,"d":"0.00"}},{"$f":"+[4]Tabulka!AY93","v":0},{"$f":"+[4]Tabulka!AZ93","v":{"v":0,"d":"0.00"}},{"$f":"+[4]Tabulka!BA93","v":0},{"$f":"+[4]Tabulka!BB93","v":{"v":0,"d":"0.00"}},{"$f":"+[4]Tabulka!BC93","v":0},{"$f":"+[4]Tabulka!BD93","v":{"v":0,"d":"0.00"}},{"$f":"+[4]Tabulka!BE93","v":0},{"$f":"+[4]Tabulka!BF93","v":{"v":0,"d":"0.00"}},{"$f":"+[4]Tabulka!BG93","v":0},{"$f":"+[4]Tabulka!BH93","v":{"v":0,"d":"0.00"}},{"$f":"+[4]Tabulka!BI93","v":0},{"$f":"+[4]Tabulka!BJ93","v":{"v":0,"d":"0.00"}},{"$f":"+[4]Tabulka!AP93","v":{"v":0,"d":"0.00"}},{"$f":"+[4]Tabulka!AQ93","v":{"v":0,"d":"0.00"}},{"$f":"+[4]Tabulka!BM93","v":{"v":2.1756679932838794,"d":"2.18"}},{"$f":"+[4]Tabulka!BN93","v":1},{"$f":"+[4]Tabulka!BO93","v":{"v":2.1756679932838794,"d":"2.18"}}]
["37",{"$f":"[4]Tabulka!C94","v":"MLÝNEK"},{"$f":"[4]Tabulka!D94","v":"Denis"},{"$f":"[4]Tabulka!E94","v":"1999-01-01"},{"$f":"[4]Tabulka!F94","v":"Ostrava- Zábřeh- Domik"},{"$f":"[4]Tabulka!G94","v":"OV"},{"$f":"[4]Tabulka!H94","v":0},{"$f":"+[4]Tabulka!AU94","v":0},{"$f":"+[4]Tabulka!AV94","v":{"v":0,"d":"0.00"}},{"$f":"+[4]Tabulka!AW94","v":0},{"$f":"+[4]Tabulka!AX94","v":{"v":0,"d":"0.00"}},{"$f":"+[4]Tabulka!AY94","v":0},{"$f":"+[4]Tabulka!AZ94","v":{"v":0,"d":"0.00"}},{"$f":"+[4]Tabulka!BA94","v":13},{"$f":"+[4]Tabulka!BB94","v":{"v":2.1756679932838794,"d":"2.18"}},{"$f":"+[4]Tabulka!BC94","v":0},{"$f":"+[4]Tabulka!BD94","v":{"v":0,"d":"0.00"}},{"$f":"+[4]Tabulka!BE94","v":0},{"$f":"+[4]Tabulka!BF94","v":{"v":0,"d":"0.00"}},{"$f":"+[4]Tabulka!BG94","v":0},{"$f":"+[4]Tabulka!BH94","v":{"v":0,"d":"0.00"}},{"$f":"+[4]Tabulka!BI94","v":0},{"$f":"+[4]Tabulka!BJ94","v":{"v":0,"d":"0.00"}},{"$f":"+[4]Tabulka!AP94","v":{"v":0,"d":"0.00"}},{"$f":"+[4]Tabulka!AQ94","v":{"v":0,"d":"0.00"}},{"$f":"+[4]Tabulka!BM94","v":{"v":2.1756679932838794,"d":"2.18"}},{"$f":"+[4]Tabulka!BN94","v":1},{"$f":"+[4]Tabulka!BO94","v":{"v":2.1756679932838794,"d":"2.18"}}]
["42",{"$f":"[4]Tabulka!C95","v":"ŠTEFEK"},{"$f":"[4]Tabulka!D95","v":"Martin"},{"$f":"[4]Tabulka!E95","v":"2000-01-01"},{"$f":"[4]Tabulka!F95","v":"Ostrava- Zábřeh- Domik"},{"$f":"[4]Tabulka!G95","v":"OV"},{"$f":"[4]Tabulka!H95","v":0},{"$f":"+[4]Tabulka!AU95","v":0},{"$f":"+[4]Tabulka!AV95","v":{"v":0,"d":"0.00"}},{"$f":"+[4]Tabulka!AW95","v":0},{"$f":"+[4]Tabulka!AX95","v":{"v":0,"d":"0.00"}},{"$f":"+[4]Tabulka!AY95","v":0},{"$f":"+[4]Tabulka!AZ95","v":{"v":0,"d":"0.00"}},{"$f":"+[4]Tabulka!BA95","v":13},{"$f":"+[4]Tabulka!BB95","v":{"v":2.1756679932838794,"d":"2.18"}},{"$f":"+[4]Tabulka!BC95","v":0},{"$f":"+[4]Tabulka!BD95","v":{"v":0,"d":"0.00"}},{"$f":"+[4]Tabulka!BE95","v":0},{"$f":"+[4]Tabulka!BF95","v":{"v":0,"d":"0.00"}},{"$f":"+[4]Tabulka!BG95","v":0},{"$f":"+[4]Tabulka!BH95","v":{"v":0,"d":"0.00"}},{"$f":"+[4]Tabulka!BI95","v":0},{"$f":"+[4]Tabulka!BJ95","v":{"v":0,"d":"0.00"}},{"$f":"+[4]Tabulka!AP95","v":{"v":0,"d":"0.00"}},{"$f":"+[4]Tabulka!AQ95","v":{"v":0,"d":"0.00"}},{"$f":"+[4]Tabulka!BM95","v":{"v":2.1756679932838794,"d":"2.18"}},{"$f":"+[4]Tabulka!BN95","v":1},{"$f":"+[4]Tabulka!BO95","v":{"v":2.1756679932838794,"d":"2.18"}}]
["43",{"$f":"[4]Tabulka!C96","v":"VAVREČKA"},{"$f":"[4]Tabulka!D96","v":"Radek"},{"$f":"[4]Tabulka!E96","v":"2000-07-14"},{"$f":"[4]Tabulka!F96","v":"Hrabůvka- Sokol TJ"},{"$f":"[4]Tabulka!G96","v":"OV"},{"$f":"[4]Tabulka!H96","v":100},{"$f":"+[4]Tabulka!AU96","v":0},{"$f":"+[4]Tabulka!AV96","v":{"v":0,"d":"0.00"}},{"$f":"+[4]Tabulka!AW96","v":0},{"$f":"+[4]Tabulka!AX96","v":{"v":0,"d":"0.00"}},{"$f":"+[4]Tabulka!AY96","v":0},{"$f":"+[4]Tabulka!AZ96","v":{"v":0,"d":"0.00"}},{"$f":"+[4]Tabulka!BA96","v":0},{"$f":"+[4]Tabulka!BB96","v":{"v":0,"d":"0.00"}},{"$f":"+[4]Tabulka!BC96","v":0},{"$f":"+[4]Tabulka!BD96","v":{"v":0,"d":"0.00"}},{"$f":"+[4]Tabulka!BE96","v":13},{"$f":"+[4]Tabulka!BF96","v":{"v":2.1756679932838794,"d":"2.18"}},{"$f":"+[4]Tabulka!BG96","v":0},{"$f":"+[4]Tabulka!BH96","v":{"v":0,"d":"0.00"}},{"$f":"+[4]Tabulka!BI96","v":0},{"$f":"+[4]Tabulka!BJ96","v":{"v":0,"d":"0.00"}},{"$f":"+[4]Tabulka!AP96","v":{"v":0,"d":"0.00"}},{"$f":"+[4]Tabulka!AQ96","v":{"v":0,"d":"0.00"}},{"$f":"+[4]Tabulka!BM96","v":{"v":2.1756679932838794,"d":"2.18"}},{"$f":"+[4]Tabulka!BN96","v":1},{"$f":"+[4]Tabulka!BO96","v":{"v":2.1756679932838794,"d":"2.18"}}]
["43",{"$f":"[4]Tabulka!C97","v":"CZOLKOVÁ"},{"$f":"[4]Tabulka!D97","v":"Adéla"},{"$f":"[4]Tabulka!E97","v":"1999-01-01"},{"$f":"[4]Tabulka!F97","v":"Orlová- Siko TTC"},{"$f":"[4]Tabulka!G97","v":"KA"},{"$f":"[4]Tabulka!H97","v":0},{"$f":"+[4]Tabulka!AU97","v":0},{"$f":"+[4]Tabulka!AV97","v":{"v":0,"d":"0.00"}},{"$f":"+[4]Tabulka!AW97","v":22},{"$f":"+[4]Tabulka!AX97","v":{"v":1.2297682545980093,"d":"1.23"}},{"$f":"+[4]Tabulka!AY97","v":0},{"$f":"+[4]Tabulka!AZ97","v":{"v":0,"d":"0.00"}},{"$f":"+[4]Tabulka!BA97","v":28},{"$f":"+[4]Tabulka!BB97","v":{"v":0.8407051632402461,"d":"0.84"}},{"$f":"+[4]Tabulka!BC97","v":0},{"$f":"+[4]Tabulka!BD97","v":{"v":0,"d":"0.00"}},{"$f":"+[4]Tabulka!BE97","v":0},{"$f":"+[4]Tabulka!BF97","v":{"v":0,"d":"0.00"}},{"$f":"+[4]Tabulka!BG97","v":0},{"$f":"+[4]Tabulka!BH97","v":{"v":0,"d":"0.00"}},{"$f":"+[4]Tabulka!BI97","v":0},{"$f":"+[4]Tabulka!BJ97","v":{"v":0,"d":"0.00"}},{"$f":"+[4]Tabulka!AP97","v":{"v":0,"d":"0.00"}},{"$f":"+[4]Tabulka!AQ97","v":{"v":0,"d":"0.00"}},{"$f":"+[4]Tabulka!BM97","v":{"v":2.0704734178382553,"d":"2.07"}},{"$f":"+[4]Tabulka!BN97","v":2},{"$f":"+[4]Tabulka!BO97","v":{"v":2.0704734178382553,"d":"2.07"}}]
["44",{"$f":"[4]Tabulka!C98","v":"KOSTUROVÁ"},{"$f":"[4]Tabulka!D98","v":"Michaela"},{"$f":"[4]Tabulka!E98","v":"2000-01-01"},{"$f":"[4]Tabulka!F98","v":"Nový Jičín- TJ"},{"$f":"[4]Tabulka!G98","v":"NJ"},{"$f":"[4]Tabulka!H98","v":0},{"$f":"+[4]Tabulka!AU98","v":0},{"$f":"+[4]Tabulka!AV98","v":{"v":0,"d":"0.00"}},{"$f":"+[4]Tabulka!AW98","v":0},{"$f":"+[4]Tabulka!AX98","v":{"v":0,"d":"0.00"}},{"$f":"+[4]Tabulka!AY98","v":14},{"$f":"+[4]Tabulka!AZ98","v":{"v":2.0420327151325517,"d":"2.04"}},{"$f":"+[4]Tabulka!BA98","v":0},{"$f":"+[4]Tabulka!BB98","v":{"v":0,"d":"0.00"}},{"$f":"+[4]Tabulka!BC98","v":0},{"$f":"+[4]Tabulka!BD98","v":{"v":0,"d":"0.00"}},{"$f":"+[4]Tabulka!BE98","v":0},{"$f":"+[4]Tabulka!BF98","v":{"v":0,"d":"0.00"}},{"$f":"+[4]Tabulka!BG98","v":0},{"$f":"+[4]Tabulka!BH98","v":{"v":0,"d":"0.00"}},{"$f":"+[4]Tabulka!BI98","v":0},{"$f":"+[4]Tabulka!BJ98","v":{"v":0,"d":"0.00"}},{"$f":"+[4]Tabulka!AP98","v":{"v":0,"d":"0.00"}},{"$f":"+[4]Tabulka!AQ98","v":{"v":0,"d":"0.00"}},{"$f":"+[4]Tabulka!BM98","v":{"v":2.0420327151325517,"d":"2.04"}},{"$f":"+[4]Tabulka!BN98","v":1},{"$f":"+[4]Tabulka!BO98","v":{"v":2.0420327151325517,"d":"2.04"}}]
["42",{"$f":"[4]Tabulka!C99","v":"OSTÁREK"},{"$f":"[4]Tabulka!D99","v":"Martin"},{"$f":"[4]Tabulka!E99","v":"2003-05-08"},{"$f":"[4]Tabulka!F99","v":"Děhylov- Sokol TJ"},{"$f":"[4]Tabulka!G99","v":"OP"},{"$f":"[4]Tabulka!H99","v":100},{"$f":"+[4]Tabulka!AU99","v":0},{"$f":"+[4]Tabulka!AV99","v":{"v":0,"d":"0.00"}},{"$f":"+[4]Tabulka!AW99","v":0},{"$f":"+[4]Tabulka!AX99","v":{"v":0,"d":"0.00"}},{"$f":"+[4]Tabulka!AY99","v":0},{"$f":"+[4]Tabulka!AZ99","v":{"v":0,"d":"0.00"}},{"$f":"+[4]Tabulka!BA99","v":0},{"$f":"+[4]Tabulka!BB99","v":{"v":0,"d":"0.00"}},{"$f":"+[4]Tabulka!BC99","v":15},{"$f":"+[4]Tabulka!BD99","v":{"v":1.91660566894571,"d":"1.92"}},{"$f":"+[4]Tabulka!BE99","v":0},{"$f":"+[4]Tabulka!BF99","v":{"v":0,"d":"0.00"}},{"$f":"+[4]Tabulka!BG99","v":0},{"$f":"+[4]Tabulka!BH99","v":{"v":0,"d":"0.00"}},{"$f":"+[4]Tabulka!BI99","v":0},{"$f":"+[4]Tabulka!BJ99","v":{"v":0,"d":"0.00"}},{"$f":"+[4]Tabulka!AP99","v":{"v":0,"d":"0.00"}},{"$f":"+[4]Tabulka!AQ99","v":{"v":0,"d":"0.00"}},{"$f":"+[4]Tabulka!BM99","v":{"v":1.91660566894571,"d":"1.92"}},{"$f":"+[4]Tabulka!BN99","v":1},{"$f":"+[4]Tabulka!BO99","v":{"v":1.91660566894571,"d":"1.92"}}]
["43",{"$f":"[4]Tabulka!C100","v":"ŠODEK"},{"$f":"[4]Tabulka!D100","v":"Michalea"},{"$f":"[4]Tabulka!E100","v":"1900-01-01"},{"$f":"[4]Tabulka!F100","v":"Nový Jičín- TJ"},{"$f":"[4]Tabulka!G100","v":"NJ"},{"$f":"[4]Tabulka!H100","v":0},{"$f":"+[4]Tabulka!AU100","v":0},{"$f":"+[4]Tabulka!AV100","v":{"v":0,"d":"0.00"}},{"$f":"+[4]Tabulka!AW100","v":0},{"$f":"+[4]Tabulka!AX100","v":{"v":0,"d":"0.00"}},{"$f":"+[4]Tabulka!AY100","v":15},{"$f":"+[4]Tabulka!AZ100","v":{"v":1.91660566894571,"d":"1.92"}},{"$f":"+[4]Tabulka!BA100","v":0},{"$f":"+[4]Tabulka!BB100","v":{"v":0,"d":"0.00"}},{"$f":"+[4]Tabulka!BC100","v":0},{"$f":"+[4]Tabulka!BD100","v":{"v":0,"d":"0.00"}},{"$f":"+[4]Tabulka!BE100","v":0},{"$f":"+[4]Tabulka!BF100","v":{"v":0,"d":"0.00"}},{"$f":"+[4]Tabulka!BG100","v":0},{"$f":"+[4]Tabulka!BH100","v":{"v":0,"d":"0.00"}},{"$f":"+[4]Tabulka!BI100","v":0},{"$f":"+[4]Tabulka!BJ100","v":{"v":0,"d":"0.00"}},{"$f":"+[4]Tabulka!AP100","v":{"v":0,"d":"0.00"}},{"$f":"+[4]Tabulka!AQ100","v":{"v":0,"d":"0.00"}},{"$f":"+[4]Tabulka!BM100","v":{"v":1.91660566894571,"d":"1.92"}},{"$f":"+[4]Tabulka!BN100","v":1},{"$f":"+[4]Tabulka!BO100","v":{"v":1.91660566894571,"d":"1.92"}}]
["44",{"$f":"[4]Tabulka!C101","v":"RASZYK"},{"$f":"[4]Tabulka!D101","v":"Kristián"},{"$f":"[4]Tabulka!E101","v":"1999-01-01"},{"$f":"[4]Tabulka!F101","v":"Karviná- KLUBsten KST"},{"$f":"[4]Tabulka!G101","v":"KA"},{"$f":"[4]Tabulka!H101","v":0},{"$f":"+[4]Tabulka!AU101","v":0},{"$f":"+[4]Tabulka!AV101","v":{"v":0,"d":"0.00"}},{"$f":"+[4]Tabulka!AW101","v":0},{"$f":"+[4]Tabulka!AX101","v":{"v":0,"d":"0.00"}},{"$f":"+[4]Tabulka!AY101","v":0},{"$f":"+[4]Tabulka!AZ101","v":{"v":0,"d":"0.00"}},{"$f":"+[4]Tabulka!BA101","v":0},{"$f":"+[4]Tabulka!BB101","v":{"v":0,"d":"0.00"}},{"$f":"+[4]Tabulka!BC101","v":0},{"$f":"+[4]Tabulka!BD101","v":{"v":0,"d":"0.00"}},{"$f":"+[4]Tabulka!BE101","v":0},{"$f":"+[4]Tabulka!BF101","v":{"v":0,"d":"0.00"}},{"$f":"+[4]Tabulka!BG101","v":0},{"$f":"+[4]Tabulka!BH101","v":{"v":0,"d":"0.00"}},{"$f":"+[4]Tabulka!BI101","v":16},{"$f":"+[4]Tabulka!BJ101","v":{"v":1.7988826834228204,"d":"1.80"}},{"$f":"+[4]Tabulka!AP101","v":{"v":0,"d":"0.00"}},{"$f":"+[4]Tabulka!AQ101","v":{"v":0,"d":"0.00"}},{"$f":"+[4]Tabulka!BM101","v":{"v":1.7988826834228204,"d":"1.80"}},{"$f":"+[4]Tabulka!BN101","v":1},{"$f":"+[4]Tabulka!BO101","v":{"v":1.7988826834228204,"d":"1.80"}}]
["45",{"$f":"[4]Tabulka!C102","v":"SLÍŽ"},{"$f":"[4]Tabulka!D102","v":"Viktor"},{"$f":"[4]Tabulka!E102","v":"1999-01-01"},{"$f":"[4]Tabulka!F102","v":"Havířov- Baník SKST"},{"$f":"[4]Tabulka!G102","v":"KA"},{"$f":"[4]Tabulka!H102","v":0},{"$f":"+[4]Tabulka!AU102","v":0},{"$f":"+[4]Tabulka!AV102","v":{"v":0,"d":"0.00"}},{"$f":"+[4]Tabulka!AW102","v":0},{"$f":"+[4]Tabulka!AX102","v":{"v":0,"d":"0.00"}},{"$f":"+[4]Tabulka!AY102","v":0},{"$f":"+[4]Tabulka!AZ102","v":{"v":0,"d":"0.00"}},{"$f":"+[4]Tabulka!BA102","v":0},{"$f":"+[4]Tabulka!BB102","v":{"v":0,"d":"0.00"}},{"$f":"+[4]Tabulka!BC102","v":0},{"$f":"+[4]Tabulka!BD102","v":{"v":0,"d":"0.00"}},{"$f":"+[4]Tabulka!BE102","v":0},{"$f":"+[4]Tabulka!BF102","v":{"v":0,"d":"0.00"}},{"$f":"+[4]Tabulka!BG102","v":19},{"$f":"+[4]Tabulka!BH102","v":{"v":1.4873495950244735,"d":"1.49"}},{"$f":"+[4]Tabulka!BI102","v":0},{"$f":"+[4]Tabulka!BJ102","v":{"v":0,"d":"0.00"}},{"$f":"+[4]Tabulka!AP102","v":{"v":0,"d":"0.00"}},{"$f":"+[4]Tabulka!AQ102","v":{"v":0,"d":"0.00"}},{"$f":"+[4]Tabulka!BM102","v":{"v":1.4873495950244735,"d":"1.49"}},{"$f":"+[4]Tabulka!BN102","v":1},{"$f":"+[4]Tabulka!BO102","v":{"v":1.4873495950244735,"d":"1.49"}}]
["46",{"$f":"[4]Tabulka!C103","v":"TUROŇ"},{"$f":"[4]Tabulka!D103","v":"Vojtěch"},{"$f":"[4]Tabulka!E103","v":"2001-09-21"},{"$f":"[4]Tabulka!F103","v":"Český Těšín- SKST"},{"$f":"[4]Tabulka!G103","v":"KA"},{"$f":"[4]Tabulka!H103","v":100},{"$f":"+[4]Tabulka!AU103","v":0},{"$f":"+[4]Tabulka!AV103","v":{"v":0,"d":"0.00"}},{"$f":"+[4]Tabulka!AW103","v":0},{"$f":"+[4]Tabulka!AX103","v":{"v":0,"d":"0.00"}},{"$f":"+[4]Tabulka!AY103","v":0},{"$f":"+[4]Tabulka!AZ103","v":{"v":0,"d":"0.00"}},{"$f":"+[4]Tabulka!BA103","v":0},{"$f":"+[4]Tabulka!BB103","v":{"v":0,"d":"0.00"}},{"$f":"+[4]Tabulka!BC103","v":0},{"$f":"+[4]Tabulka!BD103","v":{"v":0,"d":"0.00"}},{"$f":"+[4]Tabulka!BE103","v":0},{"$f":"+[4]Tabulka!BF103","v":{"v":0,"d":"0.00"}},{"$f":"+[4]Tabulka!BG103","v":21},{"$f":"+[4]Tabulka!BH103","v":{"v":1.3102470939168058,"d":"1.31"}},{"$f":"+[4]Tabulka!BI103","v":0},{"$f":"+[4]Tabulka!BJ103","v":{"v":0,"d":"0.00"}},{"$f":"+[4]Tabulka!AP103","v":{"v":0,"d":"0.00"}},{"$f":"+[4]Tabulka!AQ103","v":{"v":0,"d":"0.00"}},{"$f":"+[4]Tabulka!BM103","v":{"v":1.3102470939168058,"d":"1.31"}},{"$f":"+[4]Tabulka!BN103","v":1},{"$f":"+[4]Tabulka!BO103","v":{"v":1.3102470939168058,"d":"1.31"}}]
["47",{"$f":"[4]Tabulka!C104","v":"REMENÍK"},{"$f":"[4]Tabulka!D104","v":"Filip"},{"$f":"[4]Tabulka!E104","v":"2000-01-01"},{"$f":"[4]Tabulka!F104","v":"Karviná- KLUBsten KST"},{"$f":"[4]Tabulka!G104","v":"KA"},{"$f":"[4]Tabulka!H104","v":100},{"$f":"+[4]Tabulka!AU104","v":0},{"$f":"+[4]Tabulka!AV104","v":{"v":0,"d":"0.00"}},{"$f":"+[4]Tabulka!AW104","v":0},{"$f":"+[4]Tabulka!AX104","v":{"v":0,"d":"0.00"}},{"$f":"+[4]Tabulka!AY104","v":0},{"$f":"+[4]Tabulka!AZ104","v":{"v":0,"d":"0.00"}},{"$f":"+[4]Tabulka!BA104","v":29},{"$f":"+[4]Tabulka!BB104","v":{"v":0.7890668302410581,"d":"0.79"}},{"$f":"+[4]Tabulka!BC104","v":0},{"$f":"+[4]Tabulka!BD104","v":{"v":0,"d":"0.00"}},{"$f":"+[4]Tabulka!BE104","v":0},{"$f":"+[4]Tabulka!BF104","v":{"v":0,"d":"0.00"}},{"$f":"+[4]Tabulka!BG104","v":0},{"$f":"+[4]Tabulka!BH104","v":{"v":0,"d":"0.00"}},{"$f":"+[4]Tabulka!BI104","v":0},{"$f":"+[4]Tabulka!BJ104","v":{"v":0,"d":"0.00"}},{"$f":"+[4]Tabulka!AP104","v":{"v":0,"d":"0.00"}},{"$f":"+[4]Tabulka!AQ104","v":{"v":0,"d":"0.00"}},{"$f":"+[4]Tabulka!BM104","v":{"v":0.7890668302410581,"d":"0.79"}},{"$f":"+[4]Tabulka!BN104","v":1},{"$f":"+[4]Tabulka!BO104","v":{"v":0.7890668302410581,"d":"0.79"}}]
["49",{"$f":"[4]Tabulka!C105","v":"ČECHOVÁ"},{"$f":"[4]Tabulka!D105","v":"Kateřina"},{"$f":"[4]Tabulka!E105","v":"1999-03-29"},{"$f":"[4]Tabulka!F105","v":"Frýdlant nad Ostravicí- SK"},{"$f":"[4]Tabulka!G105","v":"FM"},{"$f":"[4]Tabulka!H105","v":100},{"$f":"+[4]Tabulka!AU105","v":0},{"$f":"+[4]Tabulka!AV105","v":{"v":0,"d":"0.00"}},{"$f":"+[4]Tabulka!AW105","v":0},{"$f":"+[4]Tabulka!AX105","v":{"v":0,"d":"0.00"}},{"$f":"+[4]Tabulka!AY105","v":0},{"$f":"+[4]Tabulka!AZ105","v":{"v":0,"d":"0.00"}},{"$f":"+[4]Tabulka!BA105","v":0},{"$f":"+[4]Tabulka!BB105","v":{"v":0,"d":"0.00"}},{"$f":"+[4]Tabulka!BC105","v":0},{"$f":"+[4]Tabulka!BD105","v":{"v":0,"d":"0.00"}},{"$f":"+[4]Tabulka!BE105","v":0},{"$f":"+[4]Tabulka!BF105","v":{"v":0,"d":"0.00"}},{"$f":"+[4]Tabulka!BG105","v":0},{"$f":"+[4]Tabulka!BH105","v":{"v":0,"d":"0.00"}},{"$f":"+[4]Tabulka!BI105","v":0},{"$f":"+[4]Tabulka!BJ105","v":{"v":0,"d":"0.00"}},{"$f":"+[4]Tabulka!AP105","v":{"v":68.50865782779938,"d":"68.51"}},{"$f":"+[4]Tabulka!AQ105","v":{"v":4,"d":"4.00"}},{"$f":"+[4]Tabulka!BM105","v":{"v":0,"d":"0.00"}},{"$f":"+[4]Tabulka!BN105","v":0},{"$f":"+[4]Tabulka!BO105","v":{"v":0,"d":"0.00"}}]
[null,{"$f":"[4]Tabulka!C106","v":"DAŇOVÁ"},{"$f":"[4]Tabulka!D106","v":"Barbora"},{"$f":"[4]Tabulka!E106","v":"1999-05-19"},{"$f":"[4]Tabulka!F106","v":"Frýdlant nad Ostravicí- SK"},{"$f":"[4]Tabulka!G106","v":"FM"},{"$f":"[4]Tabulka!H106","v":100},{"$f":"+[4]Tabulka!AU106","v":0},{"$f":"+[4]Tabulka!AV106","v":{"v":0,"d":"0.00"}},{"$f":"+[4]Tabulka!AW106","v":0},{"$f":"+[4]Tabulka!AX106","v":{"v":0,"d":"0.00"}},{"$f":"+[4]Tabulka!AY106","v":0},{"$f":"+[4]Tabulka!AZ106","v":{"v":0,"d":"0.00"}},{"$f":"+[4]Tabulka!BA106","v":0},{"$f":"+[4]Tabulka!BB106","v":{"v":0,"d":"0.00"}},{"$f":"+[4]Tabulka!BC106","v":0},{"$f":"+[4]Tabulka!BD106","v":{"v":0,"d":"0.00"}},{"$f":"+[4]Tabulka!BE106","v":0},{"$f":"+[4]Tabulka!BF106","v":{"v":0,"d":"0.00"}},{"$f":"+[4]Tabulka!BG106","v":0},{"$f":"+[4]Tabulka!BH106","v":{"v":0,"d":"0.00"}},{"$f":"+[4]Tabulka!BI106","v":0},{"$f":"+[4]Tabulka!BJ106","v":{"v":0,"d":"0.00"}},{"$f":"+[4]Tabulka!AP106","v":{"v":23.71179545390281,"d":"23.71"}},{"$f":"+[4]Tabulka!AQ106","v":{"v":3,"d":"3.00"}},{"$f":"+[4]Tabulka!BM106","v":{"v":0,"d":"0.00"}},{"$f":"+[4]Tabulka!BN106","v":0},{"$f":"+[4]Tabulka!BO106","v":{"v":0,"d":"0.00"}}]
[null,{"$f":"[4]Tabulka!C107","v":"DUDEK"},{"$f":"[4]Tabulka!D107","v":"Adam"},{"$f":"[4]Tabulka!E107","v":"2002-02-27"},{"$f":"[4]Tabulka!F107","v":"Darkovice- KST"},{"$f":"[4]Tabulka!G107","v":"OP"},{"$f":"[4]Tabulka!H107","v":100},{"$f":"+[4]Tabulka!AU107","v":0},{"$f":"+[4]Tabulka!AV107","v":{"v":0,"d":"0.00"}},{"$f":"+[4]Tabulka!AW107","v":0},{"$f":"+[4]Tabulka!AX107","v":{"v":0,"d":"0.00"}},{"$f":"+[4]Tabulka!AY107","v":0},{"$f":"+[4]Tabulka!AZ107","v":{"v":0,"d":"0.00"}},{"$f":"+[4]Tabulka!BA107","v":0},{"$f":"+[4]Tabulka!BB107","v":{"v":0,"d":"0.00"}},{"$f":"+[4]Tabulka!BC107","v":0},{"$f":"+[4]Tabulka!BD107","v":{"v":0,"d":"0.00"}},{"$f":"+[4]Tabulka!BE107","v":0},{"$f":"+[4]Tabulka!BF107","v":{"v":0,"d":"0.00"}},{"$f":"+[4]Tabulka!BG107","v":0},{"$f":"+[4]Tabulka!BH107","v":{"v":0,"d":"0.00"}},{"$f":"+[4]Tabulka!BI107","v":0},{"$f":"+[4]Tabulka!BJ107","v":{"v":0,"d":"0.00"}},{"$f":"+[4]Tabulka!AP107","v":{"v":0,"d":"0.00"}},{"$f":"+[4]Tabulka!AQ107","v":{"v":0,"d":"0.00"}},{"$f":"+[4]Tabulka!BM107","v":{"v":0,"d":"0.00"}},{"$f":"+[4]Tabulka!BN107","v":0},{"$f":"+[4]Tabulka!BO107","v":{"v":0,"d":"0.00"}}]
[null,{"$f":"[4]Tabulka!C108","v":"DUFEK"},{"$f":"[4]Tabulka!D108","v":"Michal"},{"$f":"[4]Tabulka!E108","v":"2002-01-01"},{"$f":"[4]Tabulka!F108","v":"Frenštát pod Radhoštěm- TJ"},{"$f":"[4]Tabulka!G108","v":"NJ"},{"$f":"[4]Tabulka!H108","v":100},{"$f":"+[4]Tabulka!AU108","v":0},{"$f":"+[4]Tabulka!AV108","v":{"v":0,"d":"0.00"}},{"$f":"+[4]Tabulka!AW108","v":0},{"$f":"+[4]Tabulka!AX108","v":{"v":0,"d":"0.00"}},{"$f":"+[4]Tabulka!AY108","v":0},{"$f":"+[4]Tabulka!AZ108","v":{"v":0,"d":"0.00"}},{"$f":"+[4]Tabulka!BA108","v":0},{"$f":"+[4]Tabulka!BB108","v":{"v":0,"d":"0.00"}},{"$f":"+[4]Tabulka!BC108","v":0},{"$f":"+[4]Tabulka!BD108","v":{"v":0,"d":"0.00"}},{"$f":"+[4]Tabulka!BE108","v":0},{"$f":"+[4]Tabulka!BF108","v":{"v":0,"d":"0.00"}},{"$f":"+[4]Tabulka!BG108","v":0},{"$f":"+[4]Tabulka!BH108","v":{"v":0,"d":"0.00"}},{"$f":"+[4]Tabulka!BI108","v":0},{"$f":"+[4]Tabulka!BJ108","v":{"v":0,"d":"0.00"}},{"$f":"+[4]Tabulka!AP108","v":{"v":5.102423440450298,"d":"5.10"}},{"$f":"+[4]Tabulka!AQ108","v":{"v":2,"d":"2.00"}},{"$f":"+[4]Tabulka!BM108","v":{"v":0,"d":"0.00"}},{"$f":"+[4]Tabulka!BN108","v":0},{"$f":"+[4]Tabulka!BO108","v":{"v":0,"d":"0.00"}}]
[null,{"$f":"[4]Tabulka!C109","v":"DVORSKÝ"},{"$f":"[4]Tabulka!D109","v":"Štěpán"},{"$f":"[4]Tabulka!E109","v":"2000-05-04"},{"$f":"[4]Tabulka!F109","v":"Frýdlant nad Ostravicí- SK"},{"$f":"[4]Tabulka!G109","v":"FM"},{"$f":"[4]Tabulka!H109","v":100},{"$f":"+[4]Tabulka!AU109","v":0},{"$f":"+[4]Tabulka!AV109","v":{"v":0,"d":"0.00"}},{"$f":"+[4]Tabulka!AW109","v":0},{"$f":"+[4]Tabulka!AX109","v":{"v":0,"d":"0.00"}},{"$f":"+[4]Tabulka!AY109","v":0},{"$f":"+[4]Tabulka!AZ109","v":{"v":0,"d":"0.00"}},{"$f":"+[4]Tabulka!BA109","v":0},{"$f":"+[4]Tabulka!BB109","v":{"v":0,"d":"0.00"}},{"$f":"+[4]Tabulka!BC109","v":0},{"$f":"+[4]Tabulka!BD109","v":{"v":0,"d":"0.00"}},{"$f":"+[4]Tabulka!BE109","v":0},{"$f":"+[4]Tabulka!BF109","v":{"v":0,"d":"0.00"}},{"$f":"+[4]Tabulka!BG109","v":0},{"$f":"+[4]Tabulka!BH109","v":{"v":0,"d":"0.00"}},{"$f":"+[4]Tabulka!BI109","v":0},{"$f":"+[4]Tabulka!BJ109","v":{"v":0,"d":"0.00"}},{"$f":"+[4]Tabulka!AP109","v":{"v":4.372219449837039,"d":"4.37"}},{"$f":"+[4]Tabulka!AQ109","v":{"v":1,"d":"1.00"}},{"$f":"+[4]Tabulka!BM109","v":{"v":0,"d":"0.00"}},{"$f":"+[4]Tabulka!BN109","v":0},{"$f":"+[4]Tabulka!BO109","v":{"v":0,"d":"0.00"}}]
[null,{"$f":"[4]Tabulka!C110","v":"FAJKUS"},{"$f":"[4]Tabulka!D110","v":"Filip"},{"$f":"[4]Tabulka!E110","v":"1999-07-12"},{"$f":"[4]Tabulka!F110","v":"Frýdlant nad Ostravicí- SK"},{"$f":"[4]Tabulka!G110","v":"FM"},{"$f":"[4]Tabulka!H110","v":100},{"$f":"+[4]Tabulka!AU110","v":0},{"$f":"+[4]Tabulka!AV110","v":{"v":0,"d":"0.00"}},{"$f":"+[4]Tabulka!AW110","v":0},{"$f":"+[4]Tabulka!AX110","v":{"v":0,"d":"0.00"}},{"$f":"+[4]Tabulka!AY110","v":0},{"$f":"+[4]Tabulka!AZ110","v":{"v":0,"d":"0.00"}},{"$f":"+[4]Tabulka!BA110","v":0},{"$f":"+[4]Tabulka!BB110","v":{"v":0,"d":"0.00"}},{"$f":"+[4]Tabulka!BC110","v":0},{"$f":"+[4]Tabulka!BD110","v":{"v":0,"d":"0.00"}},{"$f":"+[4]Tabulka!BE110","v":0},{"$f":"+[4]Tabulka!BF110","v":{"v":0,"d":"0.00"}},{"$f":"+[4]Tabulka!BG110","v":0},{"$f":"+[4]Tabulka!BH110","v":{"v":0,"d":"0.00"}},{"$f":"+[4]Tabulka!BI110","v":0},{"$f":"+[4]Tabulka!BJ110","v":{"v":0,"d":"0.00"}},{"$f":"+[4]Tabulka!AP110","v":{"v":0,"d":"0.00"}},{"$f":"+[4]Tabulka!AQ110","v":{"v":0,"d":"0.00"}},{"$f":"+[4]Tabulka!BM110","v":{"v":0,"d":"0.00"}},{"$f":"+[4]Tabulka!BN110","v":0},{"$f":"+[4]Tabulka!BO110","v":{"v":0,"d":"0.00"}}]
[null,{"$f":"[4]Tabulka!C111","v":"FRIEDEL"},{"$f":"[4]Tabulka!D111","v":"Petr"},{"$f":"[4]Tabulka!E111","v":"1999-09-06"},{"$f":"[4]Tabulka!F111","v":"Karviná- KLUBsten KST"},{"$f":"[4]Tabulka!G111","v":"KA"},{"$f":"[4]Tabulka!H111","v":100},{"$f":"+[4]Tabulka!AU111","v":0},{"$f":"+[4]Tabulka!AV111","v":{"v":0,"d":"0.00"}},{"$f":"+[4]Tabulka!AW111","v":0},{"$f":"+[4]Tabulka!AX111","v":{"v":0,"d":"0.00"}},{"$f":"+[4]Tabulka!AY111","v":0},{"$f":"+[4]Tabulka!AZ111","v":{"v":0,"d":"0.00"}},{"$f":"+[4]Tabulka!BA111","v":0},{"$f":"+[4]Tabulka!BB111","v":{"v":0,"d":"0.00"}},{"$f":"+[4]Tabulka!BC111","v":0},{"$f":"+[4]Tabulka!BD111","v":{"v":0,"d":"0.00"}},{"$f":"+[4]Tabulka!BE111","v":0},{"$f":"+[4]Tabulka!BF111","v":{"v":0,"d":"0.00"}},{"$f":"+[4]Tabulka!BG111","v":0},{"$f":"+[4]Tabulka!BH111","v":{"v":0,"d":"0.00"}},{"$f":"+[4]Tabulka!BI111","v":0},{"$f":"+[4]Tabulka!BJ111","v":{"v":0,"d":"0.00"}},{"$f":"+[4]Tabulka!AP111","v":{"v":12.10214961710047,"d":"12.10"}},{"$f":"+[4]Tabulka!AQ111","v":{"v":2,"d":"2.00"}},{"$f":"+[4]Tabulka!BM111","v":{"v":0,"d":"0.00"}},{"$f":"+[4]Tabulka!BN111","v":0},{"$f":"+[4]Tabulka!BO111","v":{"v":0,"d":"0.00"}}]
[null,{"$f":"[4]Tabulka!C112","v":"GLOS"},{"$f":"[4]Tabulka!D112","v":"Michal"},{"$f":"[4]Tabulka!E112","v":"1999-06-08"},{"$f":"[4]Tabulka!F112","v":"Třinec- TŽ TJ"},{"$f":"[4]Tabulka!G112","v":"FM"},{"$f":"[4]Tabulka!H112","v":100},{"$f":"+[4]Tabulka!AU112","v":0},{"$f":"+[4]Tabulka!AV112","v":{"v":0,"d":"0.00"}},{"$f":"+[4]Tabulka!AW112","v":0},{"$f":"+[4]Tabulka!AX112","v":{"v":0,"d":"0.00"}},{"$f":"+[4]Tabulka!AY112","v":0},{"$f":"+[4]Tabulka!AZ112","v":{"v":0,"d":"0.00"}},{"$f":"+[4]Tabulka!BA112","v":0},{"$f":"+[4]Tabulka!BB112","v":{"v":0,"d":"0.00"}},{"$f":"+[4]Tabulka!BC112","v":0},{"$f":"+[4]Tabulka!BD112","v":{"v":0,"d":"0.00"}},{"$f":"+[4]Tabulka!BE112","v":0},{"$f":"+[4]Tabulka!BF112","v":{"v":0,"d":"0.00"}},{"$f":"+[4]Tabulka!BG112","v":0},{"$f":"+[4]Tabulka!BH112","v":{"v":0,"d":"0.00"}},{"$f":"+[4]Tabulka!BI112","v":0},{"$f":"+[4]Tabulka!BJ112","v":{"v":0,"d":"0.00"}},{"$f":"+[4]Tabulka!AP112","v":{"v":49.72023706072491,"d":"49.72"}},{"$f":"+[4]Tabulka!AQ112","v":{"v":3,"d":"3.00"}},{"$f":"+[4]Tabulka!BM112","v":{"v":0,"d":"0.00"}},{"$f":"+[4]Tabulka!BN112","v":0},{"$f":"+[4]Tabulka!BO112","v":{"v":0,"d":"0.00"}}]
[null,{"$f":"[4]Tabulka!C113","v":"HANÁK"},{"$f":"[4]Tabulka!D113","v":"Vojtěch"},{"$f":"[4]Tabulka!E113","v":"2000-03-08"},{"$f":"[4]Tabulka!F113","v":"Havířov- Baník SKST"},{"$f":"[4]Tabulka!G113","v":"KA"},{"$f":"[4]Tabulka!H113","v":100},{"$f":"+[4]Tabulka!AU113","v":0},{"$f":"+[4]Tabulka!AV113","v":{"v":0,"d":"0.00"}},{"$f":"+[4]Tabulka!AW113","v":0},{"$f":"+[4]Tabulka!AX113","v":{"v":0,"d":"0.00"}},{"$f":"+[4]Tabulka!AY113","v":0},{"$f":"+[4]Tabulka!AZ113","v":{"v":0,"d":"0.00"}},{"$f":"+[4]Tabulka!BA113","v":0},{"$f":"+[4]Tabulka!BB113","v":{"v":0,"d":"0.00"}},{"$f":"+[4]Tabulka!BC113","v":0},{"$f":"+[4]Tabulka!BD113","v":{"v":0,"d":"0.00"}},{"$f":"+[4]Tabulka!BE113","v":0},{"$f":"+[4]Tabulka!BF113","v":{"v":0,"d":"0.00"}},{"$f":"+[4]Tabulka!BG113","v":0},{"$f":"+[4]Tabulka!BH113","v":{"v":0,"d":"0.00"}},{"$f":"+[4]Tabulka!BI113","v":0},{"$f":"+[4]Tabulka!BJ113","v":{"v":0,"d":"0.00"}},{"$f":"+[4]Tabulka!AP113","v":{"v":4.648412418513908,"d":"4.65"}},{"$f":"+[4]Tabulka!AQ113","v":{"v":2,"d":"2.00"}},{"$f":"+[4]Tabulka!BM113","v":{"v":0,"d":"0.00"}},{"$f":"+[4]Tabulka!BN113","v":0},{"$f":"+[4]Tabulka!BO113","v":{"v":0,"d":"0.00"}}]
[null,{"$f":"[4]Tabulka!C114","v":"HOMOLA"},{"$f":"[4]Tabulka!D114","v":"Ondřej"},{"$f":"[4]Tabulka!E114","v":"1999-01-03"},{"$f":"[4]Tabulka!F114","v":"Brušperk- Sokol TJ"},{"$f":"[4]Tabulka!G114","v":"FM"},{"$f":"[4]Tabulka!H114","v":100},{"$f":"+[4]Tabulka!AU114","v":0},{"$f":"+[4]Tabulka!AV114","v":{"v":0,"d":"0.00"}},{"$f":"+[4]Tabulka!AW114","v":0},{"$f":"+[4]Tabulka!AX114","v":{"v":0,"d":"0.00"}},{"$f":"+[4]Tabulka!AY114","v":0},{"$f":"+[4]Tabulka!AZ114","v":{"v":0,"d":"0.00"}},{"$f":"+[4]Tabulka!BA114","v":0},{"$f":"+[4]Tabulka!BB114","v":{"v":0,"d":"0.00"}},{"$f":"+[4]Tabulka!BC114","v":0},{"$f":"+[4]Tabulka!BD114","v":{"v":0,"d":"0.00"}},{"$f":"+[4]Tabulka!BE114","v":0},{"$f":"+[4]Tabulka!BF114","v":{"v":0,"d":"0.00"}},{"$f":"+[4]Tabulka!BG114","v":0},{"$f":"+[4]Tabulka!BH114","v":{"v":0,"d":"0.00"}},{"$f":"+[4]Tabulka!BI114","v":0},{"$f":"+[4]Tabulka!BJ114","v":{"v":0,"d":"0.00"}},{"$f":"+[4]Tabulka!AP114","v":{"v":12.0296657624475,"d":"12.03"}},{"$f":"+[4]Tabulka!AQ114","v":{"v":2,"d":"2.00"}},{"$f":"+[4]Tabulka!BM114","v":{"v":0,"d":"0.00"}},{"$f":"+[4]Tabulka!BN114","v":0},{"$f":"+[4]Tabulka!BO114","v":{"v":0,"d":"0.00"}}]
[null,{"$f":"[4]Tabulka!C115","v":"HRABCOVÁ"},{"$f":"[4]Tabulka!D115","v":"Anna"},{"$f":"[4]Tabulka!E115","v":"2001-11-27"},{"$f":"[4]Tabulka!F115","v":"Frýdlant nad Ostravicí- SK"},{"$f":"[4]Tabulka!G115","v":"FM"},{"$f":"[4]Tabulka!H115","v":100},{"$f":"+[4]Tabulka!AU115","v":0},{"$f":"+[4]Tabulka!AV115","v":{"v":0,"d":"0.00"}},{"$f":"+[4]Tabulka!AW115","v":0},{"$f":"+[4]Tabulka!AX115","v":{"v":0,"d":"0.00"}},{"$f":"+[4]Tabulka!AY115","v":0},{"$f":"+[4]Tabulka!AZ115","v":{"v":0,"d":"0.00"}},{"$f":"+[4]Tabulka!BA115","v":0},{"$f":"+[4]Tabulka!BB115","v":{"v":0,"d":"0.00"}},{"$f":"+[4]Tabulka!BC115","v":0},{"$f":"+[4]Tabulka!BD115","v":{"v":0,"d":"0.00"}},{"$f":"+[4]Tabulka!BE115","v":0},{"$f":"+[4]Tabulka!BF115","v":{"v":0,"d":"0.00"}},{"$f":"+[4]Tabulka!BG115","v":0},{"$f":"+[4]Tabulka!BH115","v":{"v":0,"d":"0.00"}},{"$f":"+[4]Tabulka!BI115","v":0},{"$f":"+[4]Tabulka!BJ115","v":{"v":0,"d":"0.00"}},{"$f":"+[4]Tabulka!AP115","v":{"v":5.794360670846819,"d":"5.79"}},{"$f":"+[4]Tabulka!AQ115","v":{"v":2,"d":"2.00"}},{"$f":"+[4]Tabulka!BM115","v":{"v":0,"d":"0.00"}},{"$f":"+[4]Tabulka!BN115","v":0},{"$f":"+[4]Tabulka!BO115","v":{"v":0,"d":"0.00"}}]
[null,{"$f":"[4]Tabulka!C116","v":"JANÁSEK"},{"$f":"[4]Tabulka!D116","v":"Filip"},{"$f":"[4]Tabulka!E116","v":"2003-01-01"},{"$f":"[4]Tabulka!F116","v":"Ostrava- Mittal TJ"},{"$f":"[4]Tabulka!G116","v":"OV"},{"$f":"[4]Tabulka!H116","v":0},{"$f":"+[4]Tabulka!AU116","v":0},{"$f":"+[4]Tabulka!AV116","v":{"v":0,"d":"0.00"}},{"$f":"+[4]Tabulka!AW116","v":0},{"$f":"+[4]Tabulka!AX116","v":{"v":0,"d":"0.00"}},{"$f":"+[4]Tabulka!AY116","v":0},{"$f":"+[4]Tabulka!AZ116","v":{"v":0,"d":"0.00"}},{"$f":"+[4]Tabulka!BA116","v":0},{"$f":"+[4]Tabulka!BB116","v":{"v":0,"d":"0.00"}},{"$f":"+[4]Tabulka!BC116","v":0},{"$f":"+[4]Tabulka!BD116","v":{"v":0,"d":"0.00"}},{"$f":"+[4]Tabulka!BE116","v":0},{"$f":"+[4]Tabulka!BF116","v":{"v":0,"d":"0.00"}},{"$f":"+[4]Tabulka!BG116","v":0},{"$f":"+[4]Tabulka!BH116","v":{"v":0,"d":"0.00"}},{"$f":"+[4]Tabulka!BI116","v":0},{"$f":"+[4]Tabulka!BJ116","v":{"v":0,"d":"0.00"}},{"$f":"+[4]Tabulka!AP116","v":{"v":0,"d":"0.00"}},{"$f":"+[4]Tabulka!AQ116","v":{"v":0,"d":"0.00"}},{"$f":"+[4]Tabulka!BM116","v":{"v":0,"d":"0.00"}},{"$f":"+[4]Tabulka!BN116","v":0},{"$f":"+[4]Tabulka!BO116","v":{"v":0,"d":"0.00"}}]
[null,{"$f":"[4]Tabulka!C117","v":"KADLEC"},{"$f":"[4]Tabulka!D117","v":"Ondřej"},{"$f":"[4]Tabulka!E117","v":"2001-05-28"},{"$f":"[4]Tabulka!F117","v":"Opava- KST Slezan "},{"$f":"[4]Tabulka!G117","v":"OP"},{"$f":"[4]Tabulka!H117","v":100},{"$f":"+[4]Tabulka!AU117","v":0},{"$f":"+[4]Tabulka!AV117","v":{"v":0,"d":"0.00"}},{"$f":"+[4]Tabulka!AW117","v":0},{"$f":"+[4]Tabulka!AX117","v":{"v":0,"d":"0.00"}},{"$f":"+[4]Tabulka!AY117","v":0},{"$f":"+[4]Tabulka!AZ117","v":{"v":0,"d":"0.00"}},{"$f":"+[4]Tabulka!BA117","v":0},{"$f":"+[4]Tabulka!BB117","v":{"v":0,"d":"0.00"}},{"$f":"+[4]Tabulka!BC117","v":0},{"$f":"+[4]Tabulka!BD117","v":{"v":0,"d":"0.00"}},{"$f":"+[4]Tabulka!BE117","v":0},{"$f":"+[4]Tabulka!BF117","v":{"v":0,"d":"0.00"}},{"$f":"+[4]Tabulka!BG117","v":0},{"$f":"+[4]Tabulka!BH117","v":{"v":0,"d":"0.00"}},{"$f":"+[4]Tabulka!BI117","v":0},{"$f":"+[4]Tabulka!BJ117","v":{"v":0,"d":"0.00"}},{"$f":"+[4]Tabulka!AP117","v":{"v":0.8963007744529867,"d":"0.90"}},{"$f":"+[4]Tabulka!AQ117","v":{"v":1,"d":"1.00"}},{"$f":"+[4]Tabulka!BM117","v":{"v":0,"d":"0.00"}},{"$f":"+[4]Tabulka!BN117","v":0},{"$f":"+[4]Tabulka!BO117","v":{"v":0,"d":"0.00"}}]
[null,{"$f":"[4]Tabulka!C118","v":"KANTOR"},{"$f":"[4]Tabulka!D118","v":"Lukáš"},{"$f":"[4]Tabulka!E118","v":"2000-01-01"},{"$f":"[4]Tabulka!F118","v":"Frenštát pod Radhoštěm- TJ"},{"$f":"[4]Tabulka!G118","v":"NJ"},{"$f":"[4]Tabulka!H118","v":100},{"$f":"+[4]Tabulka!AU118","v":0},{"$f":"+[4]Tabulka!AV118","v":{"v":0,"d":"0.00"}},{"$f":"+[4]Tabulka!AW118","v":0},{"$f":"+[4]Tabulka!AX118","v":{"v":0,"d":"0.00"}},{"$f":"+[4]Tabulka!AY118","v":0},{"$f":"+[4]Tabulka!AZ118","v":{"v":0,"d":"0.00"}},{"$f":"+[4]Tabulka!BA118","v":0},{"$f":"+[4]Tabulka!BB118","v":{"v":0,"d":"0.00"}},{"$f":"+[4]Tabulka!BC118","v":0},{"$f":"+[4]Tabulka!BD118","v":{"v":0,"d":"0.00"}},{"$f":"+[4]Tabulka!BE118","v":0},{"$f":"+[4]Tabulka!BF118","v":{"v":0,"d":"0.00"}},{"$f":"+[4]Tabulka!BG118","v":0},{"$f":"+[4]Tabulka!BH118","v":{"v":0,"d":"0.00"}},{"$f":"+[4]Tabulka!BI118","v":0},{"$f":"+[4]Tabulka!BJ118","v":{"v":0,"d":"0.00"}},{"$f":"+[4]Tabulka!AP118","v":{"v":1.4883092787510015,"d":"1.49"}},{"$f":"+[4]Tabulka!AQ118","v":{"v":1,"d":"1.00"}},{"$f":"+[4]Tabulka!BM118","v":{"v":0,"d":"0.00"}},{"$f":"+[4]Tabulka!BN118","v":0},{"$f":"+[4]Tabulka!BO118","v":{"v":0,"d":"0.00"}}]
[null,{"$f":"[4]Tabulka!C119","v":"KESSELGRUBER"},{"$f":"[4]Tabulka!D119","v":"Vít"},{"$f":"[4]Tabulka!E119","v":"2000-07-07"},{"$f":"[4]Tabulka!F119","v":"Kateřinky- Sokol TJ"},{"$f":"[4]Tabulka!G119","v":"OP"},{"$f":"[4]Tabulka!H119","v":100},{"$f":"+[4]Tabulka!AU119","v":0},{"$f":"+[4]Tabulka!AV119","v":{"v":0,"d":"0.00"}},{"$f":"+[4]Tabulka!AW119","v":0},{"$f":"+[4]Tabulka!AX119","v":{"v":0,"d":"0.00"}},{"$f":"+[4]Tabulka!AY119","v":0},{"$f":"+[4]Tabulka!AZ119","v":{"v":0,"d":"0.00"}},{"$f":"+[4]Tabulka!BA119","v":0},{"$f":"+[4]Tabulka!BB119","v":{"v":0,"d":"0.00"}},{"$f":"+[4]Tabulka!BC119","v":0},{"$f":"+[4]Tabulka!BD119","v":{"v":0,"d":"0.00"}},{"$f":"+[4]Tabulka!BE119","v":0},{"$f":"+[4]Tabulka!BF119","v":{"v":0,"d":"0.00"}},{"$f":"+[4]Tabulka!BG119","v":0},{"$f":"+[4]Tabulka!BH119","v":{"v":0,"d":"0.00"}},{"$f":"+[4]Tabulka!BI119","v":0},{"$f":"+[4]Tabulka!BJ119","v":{"v":0,"d":"0.00"}},{"$f":"+[4]Tabulka!AP119","v":{"v":0.9549567413303346,"d":"0.95"}},{"$f":"+[4]Tabulka!AQ119","v":{"v":1,"d":"1.00"}},{"$f":"+[4]Tabulka!BM119","v":{"v":0,"d":"0.00"}},{"$f":"+[4]Tabulka!BN119","v":0},{"$f":"+[4]Tabulka!BO119","v":{"v":0,"d":"0.00"}}]
[null,{"$f":"[4]Tabulka!C120","v":"KOLONIČNÁ"},{"$f":"[4]Tabulka!D120","v":"Markéta"},{"$f":"[4]Tabulka!E120","v":"2002-12-12"},{"$f":"[4]Tabulka!F120","v":"Hrabůvka- Sokol TJ"},{"$f":"[4]Tabulka!G120","v":"OV"},{"$f":"[4]Tabulka!H120","v":100},{"$f":"+[4]Tabulka!AU120","v":0},{"$f":"+[4]Tabulka!AV120","v":{"v":0,"d":"0.00"}},{"$f":"+[4]Tabulka!AW120","v":0},{"$f":"+[4]Tabulka!AX120","v":{"v":0,"d":"0.00"}},{"$f":"+[4]Tabulka!AY120","v":0},{"$f":"+[4]Tabulka!AZ120","v":{"v":0,"d":"0.00"}},{"$f":"+[4]Tabulka!BA120","v":0},{"$f":"+[4]Tabulka!BB120","v":{"v":0,"d":"0.00"}},{"$f":"+[4]Tabulka!BC120","v":0},{"$f":"+[4]Tabulka!BD120","v":{"v":0,"d":"0.00"}},{"$f":"+[4]Tabulka!BE120","v":0},{"$f":"+[4]Tabulka!BF120","v":{"v":0,"d":"0.00"}},{"$f":"+[4]Tabulka!BG120","v":0},{"$f":"+[4]Tabulka!BH120","v":{"v":0,"d":"0.00"}},{"$f":"+[4]Tabulka!BI120","v":0},{"$f":"+[4]Tabulka!BJ120","v":{"v":0,"d":"0.00"}},{"$f":"+[4]Tabulka!AP120","v":{"v":8.27337966430769,"d":"8.27"}},{"$f":"+[4]Tabulka!AQ120","v":{"v":2,"d":"2.00"}},{"$f":"+[4]Tabulka!BM120","v":{"v":0,"d":"0.00"}},{"$f":"+[4]Tabulka!BN120","v":0},{"$f":"+[4]Tabulka!BO120","v":{"v":0,"d":"0.00"}}]
[null,{"$f":"[4]Tabulka!C121","v":"KOTEK"},{"$f":"[4]Tabulka!D121","v":"Dominik"},{"$f":"[4]Tabulka!E121","v":"1999-05-20"},{"$f":"[4]Tabulka!F121","v":"Frýdlant nad Ostravicí- SK"},{"$f":"[4]Tabulka!G121","v":"FM"},{"$f":"[4]Tabulka!H121","v":100},{"$f":"+[4]Tabulka!AU121","v":0},{"$f":"+[4]Tabulka!AV121","v":{"v":0,"d":"0.00"}},{"$f":"+[4]Tabulka!AW121","v":0},{"$f":"+[4]Tabulka!AX121","v":{"v":0,"d":"0.00"}},{"$f":"+[4]Tabulka!AY121","v":0},{"$f":"+[4]Tabulka!AZ121","v":{"v":0,"d":"0.00"}},{"$f":"+[4]Tabulka!BA121","v":0},{"$f":"+[4]Tabulka!BB121","v":{"v":0,"d":"0.00"}},{"$f":"+[4]Tabulka!BC121","v":0},{"$f":"+[4]Tabulka!BD121","v":{"v":0,"d":"0.00"}},{"$f":"+[4]Tabulka!BE121","v":0},{"$f":"+[4]Tabulka!BF121","v":{"v":0,"d":"0.00"}},{"$f":"+[4]Tabulka!BG121","v":0},{"$f":"+[4]Tabulka!BH121","v":{"v":0,"d":"0.00"}},{"$f":"+[4]Tabulka!BI121","v":0},{"$f":"+[4]Tabulka!BJ121","v":{"v":0,"d":"0.00"}},{"$f":"+[4]Tabulka!AP121","v":{"v":46.926045844791766,"d":"46.93"}},{"$f":"+[4]Tabulka!AQ121","v":{"v":4,"d":"4.00"}},{"$f":"+[4]Tabulka!BM121","v":{"v":0,"d":"0.00"}},{"$f":"+[4]Tabulka!BN121","v":0},{"$f":"+[4]Tabulka!BO121","v":{"v":0,"d":"0.00"}}]
[null,{"$f":"[4]Tabulka!C122","v":"KOTKOVÁ"},{"$f":"[4]Tabulka!D122","v":"Daniela"},{"$f":"[4]Tabulka!E122","v":"2000-12-27"},{"$f":"[4]Tabulka!F122","v":"Frýdlant nad Ostravicí- SK"},{"$f":"[4]Tabulka!G122","v":"FM"},{"$f":"[4]Tabulka!H122","v":100},{"$f":"+[4]Tabulka!AU122","v":0},{"$f":"+[4]Tabulka!AV122","v":{"v":0,"d":"0.00"}},{"$f":"+[4]Tabulka!AW122","v":0},{"$f":"+[4]Tabulka!AX122","v":{"v":0,"d":"0.00"}},{"$f":"+[4]Tabulka!AY122","v":0},{"$f":"+[4]Tabulka!AZ122","v":{"v":0,"d":"0.00"}},{"$f":"+[4]Tabulka!BA122","v":0},{"$f":"+[4]Tabulka!BB122","v":{"v":0,"d":"0.00"}},{"$f":"+[4]Tabulka!BC122","v":0},{"$f":"+[4]Tabulka!BD122","v":{"v":0,"d":"0.00"}},{"$f":"+[4]Tabulka!BE122","v":0},{"$f":"+[4]Tabulka!BF122","v":{"v":0,"d":"0.00"}},{"$f":"+[4]Tabulka!BG122","v":0},{"$f":"+[4]Tabulka!BH122","v":{"v":0,"d":"0.00"}},{"$f":"+[4]Tabulka!BI122","v":0},{"$f":"+[4]Tabulka!BJ122","v":{"v":0,"d":"0.00"}},{"$f":"+[4]Tabulka!AP122","v":{"v":5.989966059576467,"d":"5.99"}},{"$f":"+[4]Tabulka!AQ122","v":{"v":2,"d":"2.00"}},{"$f":"+[4]Tabulka!BM122","v":{"v":0,"d":"0.00"}},{"$f":"+[4]Tabulka!BN122","v":0},{"$f":"+[4]Tabulka!BO122","v":{"v":0,"d":"0.00"}}]
[null,{"$f":"[4]Tabulka!C123","v":"KRIVÝ"},{"$f":"[4]Tabulka!D123","v":"Jan"},{"$f":"[4]Tabulka!E123","v":"1999-07-20"},{"$f":"[4]Tabulka!F123","v":"Ostrava- Mittal TJ"},{"$f":"[4]Tabulka!G123","v":"OV"},{"$f":"[4]Tabulka!H123","v":100},{"$f":"+[4]Tabulka!AU123","v":0},{"$f":"+[4]Tabulka!AV123","v":{"v":0,"d":"0.00"}},{"$f":"+[4]Tabulka!AW123","v":0},{"$f":"+[4]Tabulka!AX123","v":{"v":0,"d":"0.00"}},{"$f":"+[4]Tabulka!AY123","v":0},{"$f":"+[4]Tabulka!AZ123","v":{"v":0,"d":"0.00"}},{"$f":"+[4]Tabulka!BA123","v":0},{"$f":"+[4]Tabulka!BB123","v":{"v":0,"d":"0.00"}},{"$f":"+[4]Tabulka!BC123","v":0},{"$f":"+[4]Tabulka!BD123","v":{"v":0,"d":"0.00"}},{"$f":"+[4]Tabulka!BE123","v":0},{"$f":"+[4]Tabulka!BF123","v":{"v":0,"d":"0.00"}},{"$f":"+[4]Tabulka!BG123","v":0},{"$f":"+[4]Tabulka!BH123","v":{"v":0,"d":"0.00"}},{"$f":"+[4]Tabulka!BI123","v":0},{"$f":"+[4]Tabulka!BJ123","v":{"v":0,"d":"0.00"}},{"$f":"+[4]Tabulka!AP123","v":{"v":14.382854910375332,"d":"14.38"}},{"$f":"+[4]Tabulka!AQ123","v":{"v":3,"d":"3.00"}},{"$f":"+[4]Tabulka!BM123","v":{"v":0,"d":"0.00"}},{"$f":"+[4]Tabulka!BN123","v":0},{"$f":"+[4]Tabulka!BO123","v":{"v":0,"d":"0.00"}}]
[null,{"$f":"[4]Tabulka!C124","v":"KRYSKA"},{"$f":"[4]Tabulka!D124","v":"Dominik"},{"$f":"[4]Tabulka!E124","v":"1999-09-03"},{"$f":"[4]Tabulka!F124","v":"Dětmarovice- Sokol TJ"},{"$f":"[4]Tabulka!G124","v":"KA"},{"$f":"[4]Tabulka!H124","v":100},{"$f":"+[4]Tabulka!AU124","v":0},{"$f":"+[4]Tabulka!AV124","v":{"v":0,"d":"0.00"}},{"$f":"+[4]Tabulka!AW124","v":0},{"$f":"+[4]Tabulka!AX124","v":{"v":0,"d":"0.00"}},{"$f":"+[4]Tabulka!AY124","v":0},{"$f":"+[4]Tabulka!AZ124","v":{"v":0,"d":"0.00"}},{"$f":"+[4]Tabulka!BA124","v":0},{"$f":"+[4]Tabulka!BB124","v":{"v":0,"d":"0.00"}},{"$f":"+[4]Tabulka!BC124","v":0},{"$f":"+[4]Tabulka!BD124","v":{"v":0,"d":"0.00"}},{"$f":"+[4]Tabulka!BE124","v":0},{"$f":"+[4]Tabulka!BF124","v":{"v":0,"d":"0.00"}},{"$f":"+[4]Tabulka!BG124","v":0},{"$f":"+[4]Tabulka!BH124","v":{"v":0,"d":"0.00"}},{"$f":"+[4]Tabulka!BI124","v":0},{"$f":"+[4]Tabulka!BJ124","v":{"v":0,"d":"0.00"}},{"$f":"+[4]Tabulka!AP124","v":{"v":0,"d":"0.00"}},{"$f":"+[4]Tabulka!AQ124","v":{"v":0,"d":"0.00"}},{"$f":"+[4]Tabulka!BM124","v":{"v":0,"d":"0.00"}},{"$f":"+[4]Tabulka!BN124","v":0},{"$f":"+[4]Tabulka!BO124","v":{"v":0,"d":"0.00"}}]
[null,{"$f":"[4]Tabulka!C125","v":"LAZAR"},{"$f":"[4]Tabulka!D125","v":"Jan"},{"$f":"[4]Tabulka!E125","v":"2003-04-20"},{"$f":"[4]Tabulka!F125","v":"Darkovice- KST"},{"$f":"[4]Tabulka!G125","v":"OP"},{"$f":"[4]Tabulka!H125","v":100},{"$f":"+[4]Tabulka!AU125","v":0},{"$f":"+[4]Tabulka!AV125","v":{"v":0,"d":"0.00"}},{"$f":"+[4]Tabulka!AW125","v":0},{"$f":"+[4]Tabulka!AX125","v":{"v":0,"d":"0.00"}},{"$f":"+[4]Tabulka!AY125","v":0},{"$f":"+[4]Tabulka!AZ125","v":{"v":0,"d":"0.00"}},{"$f":"+[4]Tabulka!BA125","v":0},{"$f":"+[4]Tabulka!BB125","v":{"v":0,"d":"0.00"}},{"$f":"+[4]Tabulka!BC125","v":0},{"$f":"+[4]Tabulka!BD125","v":{"v":0,"d":"0.00"}},{"$f":"+[4]Tabulka!BE125","v":0},{"$f":"+[4]Tabulka!BF125","v":{"v":0,"d":"0.00"}},{"$f":"+[4]Tabulka!BG125","v":0},{"$f":"+[4]Tabulka!BH125","v":{"v":0,"d":"0.00"}},{"$f":"+[4]Tabulka!BI125","v":0},{"$f":"+[4]Tabulka!BJ125","v":{"v":0,"d":"0.00"}},{"$f":"+[4]Tabulka!AP125","v":{"v":0,"d":"0.00"}},{"$f":"+[4]Tabulka!AQ125","v":{"v":0,"d":"0.00"}},{"$f":"+[4]Tabulka!BM125","v":{"v":0,"d":"0.00"}},{"$f":"+[4]Tabulka!BN125","v":0},{"$f":"+[4]Tabulka!BO125","v":{"v":0,"d":"0.00"}}]
[null,{"$f":"[4]Tabulka!C126","v":"MACKO"},{"$f":"[4]Tabulka!D126","v":"René"},{"$f":"[4]Tabulka!E126","v":"1999-01-01"},{"$f":"[4]Tabulka!F126","v":"Karviná-Lázně Darkov- Slovan VOKD TJ"},{"$f":"[4]Tabulka!G126","v":"KA"},{"$f":"[4]Tabulka!H126","v":0},{"$f":"+[4]Tabulka!AU126","v":0},{"$f":"+[4]Tabulka!AV126","v":{"v":0,"d":"0.00"}},{"$f":"+[4]Tabulka!AW126","v":0},{"$f":"+[4]Tabulka!AX126","v":{"v":0,"d":"0.00"}},{"$f":"+[4]Tabulka!AY126","v":0},{"$f":"+[4]Tabulka!AZ126","v":{"v":0,"d":"0.00"}},{"$f":"+[4]Tabulka!BA126","v":0},{"$f":"+[4]Tabulka!BB126","v":{"v":0,"d":"0.00"}},{"$f":"+[4]Tabulka!BC126","v":0},{"$f":"+[4]Tabulka!BD126","v":{"v":0,"d":"0.00"}},{"$f":"+[4]Tabulka!BE126","v":0},{"$f":"+[4]Tabulka!BF126","v":{"v":0,"d":"0.00"}},{"$f":"+[4]Tabulka!BG126","v":0},{"$f":"+[4]Tabulka!BH126","v":{"v":0,"d":"0.00"}},{"$f":"+[4]Tabulka!BI126","v":0},{"$f":"+[4]Tabulka!BJ126","v":{"v":0,"d":"0.00"}},{"$f":"+[4]Tabulka!AP126","v":{"v":0,"d":"0.00"}},{"$f":"+[4]Tabulka!AQ126","v":{"v":0,"d":"0.00"}},{"$f":"+[4]Tabulka!BM126","v":{"v":0,"d":"0.00"}},{"$f":"+[4]Tabulka!BN126","v":0},{"$f":"+[4]Tabulka!BO126","v":{"v":0,"d":"0.00"}}]
[null,{"$f":"[4]Tabulka!C127","v":"MARTIŇÁK"},{"$f":"[4]Tabulka!D127","v":"Vojtěch"},{"$f":"[4]Tabulka!E127","v":"2002-05-17"},{"$f":"[4]Tabulka!F127","v":"Frenštát pod Radhoštěm- TJ"},{"$f":"[4]Tabulka!G127","v":"NJ"},{"$f":"[4]Tabulka!H127","v":100},{"$f":"+[4]Tabulka!AU127","v":0},{"$f":"+[4]Tabulka!AV127","v":{"v":0,"d":"0.00"}},{"$f":"+[4]Tabulka!AW127","v":0},{"$f":"+[4]Tabulka!AX127","v":{"v":0,"d":"0.00"}},{"$f":"+[4]Tabulka!AY127","v":0},{"$f":"+[4]Tabulka!AZ127","v":{"v":0,"d":"0.00"}},{"$f":"+[4]Tabulka!BA127","v":0},{"$f":"+[4]Tabulka!BB127","v":{"v":0,"d":"0.00"}},{"$f":"+[4]Tabulka!BC127","v":0},{"$f":"+[4]Tabulka!BD127","v":{"v":0,"d":"0.00"}},{"$f":"+[4]Tabulka!BE127","v":0},{"$f":"+[4]Tabulka!BF127","v":{"v":0,"d":"0.00"}},{"$f":"+[4]Tabulka!BG127","v":0},{"$f":"+[4]Tabulka!BH127","v":{"v":0,"d":"0.00"}},{"$f":"+[4]Tabulka!BI127","v":0},{"$f":"+[4]Tabulka!BJ127","v":{"v":0,"d":"0.00"}},{"$f":"+[4]Tabulka!AP127","v":{"v":9.732149944488752,"d":"9.73"}},{"$f":"+[4]Tabulka!AQ127","v":{"v":4,"d":"4.00"}},{"$f":"+[4]Tabulka!BM127","v":{"v":0,"d":"0.00"}},{"$f":"+[4]Tabulka!BN127","v":0},{"$f":"+[4]Tabulka!BO127","v":{"v":0,"d":"0.00"}}]
[null,{"$f":"[4]Tabulka!C128","v":"MARTINKO"},{"$f":"[4]Tabulka!D128","v":"Jiří"},{"$f":"[4]Tabulka!E128","v":"1999-10-13"},{"$f":"[4]Tabulka!F128","v":"Ostrava- Mittal TJ"},{"$f":"[4]Tabulka!G128","v":"OV"},{"$f":"[4]Tabulka!H128","v":100},{"$f":"+[4]Tabulka!AU128","v":0},{"$f":"+[4]Tabulka!AV128","v":{"v":0,"d":"0.00"}},{"$f":"+[4]Tabulka!AW128","v":0},{"$f":"+[4]Tabulka!AX128","v":{"v":0,"d":"0.00"}},{"$f":"+[4]Tabulka!AY128","v":0},{"$f":"+[4]Tabulka!AZ128","v":{"v":0,"d":"0.00"}},{"$f":"+[4]Tabulka!BA128","v":0},{"$f":"+[4]Tabulka!BB128","v":{"v":0,"d":"0.00"}},{"$f":"+[4]Tabulka!BC128","v":0},{"$f":"+[4]Tabulka!BD128","v":{"v":0,"d":"0.00"}},{"$f":"+[4]Tabulka!BE128","v":0},{"$f":"+[4]Tabulka!BF128","v":{"v":0,"d":"0.00"}},{"$f":"+[4]Tabulka!BG128","v":0},{"$f":"+[4]Tabulka!BH128","v":{"v":0,"d":"0.00"}},{"$f":"+[4]Tabulka!BI128","v":0},{"$f":"+[4]Tabulka!BJ128","v":{"v":0,"d":"0.00"}},{"$f":"+[4]Tabulka!AP128","v":{"v":60.05393361871877,"d":"60.05"}},{"$f":"+[4]Tabulka!AQ128","v":{"v":3,"d":"3.00"}},{"$f":"+[4]Tabulka!BM128","v":{"v":0,"d":"0.00"}},{"$f":"+[4]Tabulka!BN128","v":0},{"$f":"+[4]Tabulka!BO128","v":{"v":0,"d":"0.00"}}]
[null,{"$f":"[4]Tabulka!C129","v":"MENŠÍK"},{"$f":"[4]Tabulka!D129","v":"Jiří"},{"$f":"[4]Tabulka!E129","v":"1900-01-01"},{"$f":"[4]Tabulka!F129","v":"Frýdlant nad Ostravicí- SK"},{"$f":"[4]Tabulka!G129","v":"FM"},{"$f":"[4]Tabulka!H129","v":0},{"$f":"+[4]Tabulka!AU129","v":0},{"$f":"+[4]Tabulka!AV129","v":{"v":0,"d":"0.00"}},{"$f":"+[4]Tabulka!AW129","v":0},{"$f":"+[4]Tabulka!AX129","v":{"v":0,"d":"0.00"}},{"$f":"+[4]Tabulka!AY129","v":0},{"$f":"+[4]Tabulka!AZ129","v":{"v":0,"d":"0.00"}},{"$f":"+[4]Tabulka!BA129","v":0},{"$f":"+[4]Tabulka!BB129","v":{"v":0,"d":"0.00"}},{"$f":"+[4]Tabulka!BC129","v":0},{"$f":"+[4]Tabulka!BD129","v":{"v":0,"d":"0.00"}},{"$f":"+[4]Tabulka!BE129","v":0},{"$f":"+[4]Tabulka!BF129","v":{"v":0,"d":"0.00"}},{"$f":"+[4]Tabulka!BG129","v":0},{"$f":"+[4]Tabulka!BH129","v":{"v":0,"d":"0.00"}},{"$f":"+[4]Tabulka!BI129","v":0},{"$f":"+[4]Tabulka!BJ129","v":{"v":0,"d":"0.00"}},{"$f":"+[4]Tabulka!AP129","v":{"v":0,"d":"0.00"}},{"$f":"+[4]Tabulka!AQ129","v":{"v":0,"d":"0.00"}},{"$f":"+[4]Tabulka!BM129","v":{"v":0,"d":"0.00"}},{"$f":"+[4]Tabulka!BN129","v":0},{"$f":"+[4]Tabulka!BO129","v":{"v":0,"d":"0.00"}}]
[null,{"$f":"[4]Tabulka!C130","v":"MIKOLAŠÍK"},{"$f":"[4]Tabulka!D130","v":"Michal"},{"$f":"[4]Tabulka!E130","v":"1999-02-02"},{"$f":"[4]Tabulka!F130","v":"Havířov- Baník SKST"},{"$f":"[4]Tabulka!G130","v":"KA"},{"$f":"[4]Tabulka!H130","v":100},{"$f":"+[4]Tabulka!AU130","v":0},{"$f":"+[4]Tabulka!AV130","v":{"v":0,"d":"0.00"}},{"$f":"+[4]Tabulka!AW130","v":0},{"$f":"+[4]Tabulka!AX130","v":{"v":0,"d":"0.00"}},{"$f":"+[4]Tabulka!AY130","v":0},{"$f":"+[4]Tabulka!AZ130","v":{"v":0,"d":"0.00"}},{"$f":"+[4]Tabulka!BA130","v":0},{"$f":"+[4]Tabulka!BB130","v":{"v":0,"d":"0.00"}},{"$f":"+[4]Tabulka!BC130","v":0},{"$f":"+[4]Tabulka!BD130","v":{"v":0,"d":"0.00"}},{"$f":"+[4]Tabulka!BE130","v":0},{"$f":"+[4]Tabulka!BF130","v":{"v":0,"d":"0.00"}},{"$f":"+[4]Tabulka!BG130","v":0},{"$f":"+[4]Tabulka!BH130","v":{"v":0,"d":"0.00"}},{"$f":"+[4]Tabulka!BI130","v":0},{"$f":"+[4]Tabulka!BJ130","v":{"v":0,"d":"0.00"}},{"$f":"+[4]Tabulka!AP130","v":{"v":14.580437943935355,"d":"14.58"}},{"$f":"+[4]Tabulka!AQ130","v":{"v":1,"d":"1.00"}},{"$f":"+[4]Tabulka!BM130","v":{"v":0,"d":"0.00"}},{"$f":"+[4]Tabulka!BN130","v":0},{"$f":"+[4]Tabulka!BO130","v":{"v":0,"d":"0.00"}}]
[null,{"$f":"[4]Tabulka!C131","v":"MIKUŠ"},{"$f":"[4]Tabulka!D131","v":"Ondřej"},{"$f":"[4]Tabulka!E131","v":"2000-02-20"},{"$f":"[4]Tabulka!F131","v":"Kateřinky- Sokol TJ"},{"$f":"[4]Tabulka!G131","v":"OP"},{"$f":"[4]Tabulka!H131","v":100},{"$f":"+[4]Tabulka!AU131","v":0},{"$f":"+[4]Tabulka!AV131","v":{"v":0,"d":"0.00"}},{"$f":"+[4]Tabulka!AW131","v":0},{"$f":"+[4]Tabulka!AX131","v":{"v":0,"d":"0.00"}},{"$f":"+[4]Tabulka!AY131","v":0},{"$f":"+[4]Tabulka!AZ131","v":{"v":0,"d":"0.00"}},{"$f":"+[4]Tabulka!BA131","v":0},{"$f":"+[4]Tabulka!BB131","v":{"v":0,"d":"0.00"}},{"$f":"+[4]Tabulka!BC131","v":0},{"$f":"+[4]Tabulka!BD131","v":{"v":0,"d":"0.00"}},{"$f":"+[4]Tabulka!BE131","v":0},{"$f":"+[4]Tabulka!BF131","v":{"v":0,"d":"0.00"}},{"$f":"+[4]Tabulka!BG131","v":0},{"$f":"+[4]Tabulka!BH131","v":{"v":0,"d":"0.00"}},{"$f":"+[4]Tabulka!BI131","v":0},{"$f":"+[4]Tabulka!BJ131","v":{"v":0,"d":"0.00"}},{"$f":"+[4]Tabulka!AP131","v":{"v":0.7895759604406147,"d":"0.79"}},{"$f":"+[4]Tabulka!AQ131","v":{"v":1,"d":"1.00"}},{"$f":"+[4]Tabulka!BM131","v":{"v":0,"d":"0.00"}},{"$f":"+[4]Tabulka!BN131","v":0},{"$f":"+[4]Tabulka!BO131","v":{"v":0,"d":"0.00"}}]
[null,{"$f":"[4]Tabulka!C132","v":"MILAR"},{"$f":"[4]Tabulka!D132","v":"Matěj"},{"$f":"[4]Tabulka!E132","v":"1900-01-01"},{"$f":"[4]Tabulka!F132","v":"Frýdlant nad Ostravicí- SK"},{"$f":"[4]Tabulka!G132","v":"FM"},{"$f":"[4]Tabulka!H132","v":0},{"$f":"+[4]Tabulka!AU132","v":0},{"$f":"+[4]Tabulka!AV132","v":{"v":0,"d":"0.00"}},{"$f":"+[4]Tabulka!AW132","v":0},{"$f":"+[4]Tabulka!AX132","v":{"v":0,"d":"0.00"}},{"$f":"+[4]Tabulka!AY132","v":0},{"$f":"+[4]Tabulka!AZ132","v":{"v":0,"d":"0.00"}},{"$f":"+[4]Tabulka!BA132","v":0},{"$f":"+[4]Tabulka!BB132","v":{"v":0,"d":"0.00"}},{"$f":"+[4]Tabulka!BC132","v":0},{"$f":"+[4]Tabulka!BD132","v":{"v":0,"d":"0.00"}},{"$f":"+[4]Tabulka!BE132","v":0},{"$f":"+[4]Tabulka!BF132","v":{"v":0,"d":"0.00"}},{"$f":"+[4]Tabulka!BG132","v":0},{"$f":"+[4]Tabulka!BH132","v":{"v":0,"d":"0.00"}},{"$f":"+[4]Tabulka!BI132","v":0},{"$f":"+[4]Tabulka!BJ132","v":{"v":0,"d":"0.00"}},{"$f":"+[4]Tabulka!AP132","v":{"v":0,"d":"0.00"}},{"$f":"+[4]Tabulka!AQ132","v":{"v":0,"d":"0.00"}},{"$f":"+[4]Tabulka!BM132","v":{"v":0,"d":"0.00"}},{"$f":"+[4]Tabulka!BN132","v":0},{"$f":"+[4]Tabulka!BO132","v":{"v":0,"d":"0.00"}}]
[null,{"$f":"[4]Tabulka!C133","v":"MUROŇ"},{"$f":"[4]Tabulka!D133","v":"Ondřej"},{"$f":"[4]Tabulka!E133","v":"1999-11-05"},{"$f":"[4]Tabulka!F133","v":"Kateřinky- Sokol TJ"},{"$f":"[4]Tabulka!G133","v":"OP"},{"$f":"[4]Tabulka!H133","v":100},{"$f":"+[4]Tabulka!AU133","v":0},{"$f":"+[4]Tabulka!AV133","v":{"v":0,"d":"0.00"}},{"$f":"+[4]Tabulka!AW133","v":0},{"$f":"+[4]Tabulka!AX133","v":{"v":0,"d":"0.00"}},{"$f":"+[4]Tabulka!AY133","v":0},{"$f":"+[4]Tabulka!AZ133","v":{"v":0,"d":"0.00"}},{"$f":"+[4]Tabulka!BA133","v":0},{"$f":"+[4]Tabulka!BB133","v":{"v":0,"d":"0.00"}},{"$f":"+[4]Tabulka!BC133","v":0},{"$f":"+[4]Tabulka!BD133","v":{"v":0,"d":"0.00"}},{"$f":"+[4]Tabulka!BE133","v":0},{"$f":"+[4]Tabulka!BF133","v":{"v":0,"d":"0.00"}},{"$f":"+[4]Tabulka!BG133","v":0},{"$f":"+[4]Tabulka!BH133","v":{"v":0,"d":"0.00"}},{"$f":"+[4]Tabulka!BI133","v":0},{"$f":"+[4]Tabulka!BJ133","v":{"v":0,"d":"0.00"}},{"$f":"+[4]Tabulka!AP133","v":{"v":5.397793100613022,"d":"5.40"}},{"$f":"+[4]Tabulka!AQ133","v":{"v":3,"d":"3.00"}},{"$f":"+[4]Tabulka!BM133","v":{"v":0,"d":"0.00"}},{"$f":"+[4]Tabulka!BN133","v":0},{"$f":"+[4]Tabulka!BO133","v":{"v":0,"d":"0.00"}}]
[null,{"$f":"[4]Tabulka!C134","v":"NOVÁK"},{"$f":"[4]Tabulka!D134","v":"Lukáš"},{"$f":"[4]Tabulka!E134","v":"1999-05-21"},{"$f":"[4]Tabulka!F134","v":"Malenovice- BSK"},{"$f":"[4]Tabulka!G134","v":"FM"},{"$f":"[4]Tabulka!H134","v":100},{"$f":"+[4]Tabulka!AU134","v":0},{"$f":"+[4]Tabulka!AV134","v":{"v":0,"d":"0.00"}},{"$f":"+[4]Tabulka!AW134","v":0},{"$f":"+[4]Tabulka!AX134","v":{"v":0,"d":"0.00"}},{"$f":"+[4]Tabulka!AY134","v":0},{"$f":"+[4]Tabulka!AZ134","v":{"v":0,"d":"0.00"}},{"$f":"+[4]Tabulka!BA134","v":0},{"$f":"+[4]Tabulka!BB134","v":{"v":0,"d":"0.00"}},{"$f":"+[4]Tabulka!BC134","v":0},{"$f":"+[4]Tabulka!BD134","v":{"v":0,"d":"0.00"}},{"$f":"+[4]Tabulka!BE134","v":0},{"$f":"+[4]Tabulka!BF134","v":{"v":0,"d":"0.00"}},{"$f":"+[4]Tabulka!BG134","v":0},{"$f":"+[4]Tabulka!BH134","v":{"v":0,"d":"0.00"}},{"$f":"+[4]Tabulka!BI134","v":0},{"$f":"+[4]Tabulka!BJ134","v":{"v":0,"d":"0.00"}},{"$f":"+[4]Tabulka!AP134","v":{"v":0,"d":"0.00"}},{"$f":"+[4]Tabulka!AQ134","v":{"v":0,"d":"0.00"}},{"$f":"+[4]Tabulka!BM134","v":{"v":0,"d":"0.00"}},{"$f":"+[4]Tabulka!BN134","v":0},{"$f":"+[4]Tabulka!BO134","v":{"v":0,"d":"0.00"}}]
[null,{"$f":"[4]Tabulka!C135","v":"NOVÁK"},{"$f":"[4]Tabulka!D135","v":"Jiří"},{"$f":"[4]Tabulka!E135","v":"1999-01-01"},{"$f":"[4]Tabulka!F135","v":"Hrabůvka- Sokol TJ"},{"$f":"[4]Tabulka!G135","v":"OV"},{"$f":"[4]Tabulka!H135","v":0},{"$f":"+[4]Tabulka!AU135","v":0},{"$f":"+[4]Tabulka!AV135","v":{"v":0,"d":"0.00"}},{"$f":"+[4]Tabulka!AW135","v":0},{"$f":"+[4]Tabulka!AX135","v":{"v":0,"d":"0.00"}},{"$f":"+[4]Tabulka!AY135","v":0},{"$f":"+[4]Tabulka!AZ135","v":{"v":0,"d":"0.00"}},{"$f":"+[4]Tabulka!BA135","v":0},{"$f":"+[4]Tabulka!BB135","v":{"v":0,"d":"0.00"}},{"$f":"+[4]Tabulka!BC135","v":0},{"$f":"+[4]Tabulka!BD135","v":{"v":0,"d":"0.00"}},{"$f":"+[4]Tabulka!BE135","v":0},{"$f":"+[4]Tabulka!BF135","v":{"v":0,"d":"0.00"}},{"$f":"+[4]Tabulka!BG135","v":0},{"$f":"+[4]Tabulka!BH135","v":{"v":0,"d":"0.00"}},{"$f":"+[4]Tabulka!BI135","v":0},{"$f":"+[4]Tabulka!BJ135","v":{"v":0,"d":"0.00"}},{"$f":"+[4]Tabulka!AP135","v":{"v":0,"d":"0.00"}},{"$f":"+[4]Tabulka!AQ135","v":{"v":0,"d":"0.00"}},{"$f":"+[4]Tabulka!BM135","v":{"v":0,"d":"0.00"}},{"$f":"+[4]Tabulka!BN135","v":0},{"$f":"+[4]Tabulka!BO135","v":{"v":0,"d":"0.00"}}]
[null,{"$f":"[4]Tabulka!C136","v":"PALETOVÁ"},{"$f":"[4]Tabulka!D136","v":"Barbora"},{"$f":"[4]Tabulka!E136","v":"2001-07-14"},{"$f":"[4]Tabulka!F136","v":"Děhylov- Sokol TJ"},{"$f":"[4]Tabulka!G136","v":"OP"},{"$f":"[4]Tabulka!H136","v":100},{"$f":"+[4]Tabulka!AU136","v":0},{"$f":"+[4]Tabulka!AV136","v":{"v":0,"d":"0.00"}},{"$f":"+[4]Tabulka!AW136","v":0},{"$f":"+[4]Tabulka!AX136","v":{"v":0,"d":"0.00"}},{"$f":"+[4]Tabulka!AY136","v":0},{"$f":"+[4]Tabulka!AZ136","v":{"v":0,"d":"0.00"}},{"$f":"+[4]Tabulka!BA136","v":0},{"$f":"+[4]Tabulka!BB136","v":{"v":0,"d":"0.00"}},{"$f":"+[4]Tabulka!BC136","v":0},{"$f":"+[4]Tabulka!BD136","v":{"v":0,"d":"0.00"}},{"$f":"+[4]Tabulka!BE136","v":0},{"$f":"+[4]Tabulka!BF136","v":{"v":0,"d":"0.00"}},{"$f":"+[4]Tabulka!BG136","v":0},{"$f":"+[4]Tabulka!BH136","v":{"v":0,"d":"0.00"}},{"$f":"+[4]Tabulka!BI136","v":0},{"$f":"+[4]Tabulka!BJ136","v":{"v":0,"d":"0.00"}},{"$f":"+[4]Tabulka!AP136","v":{"v":13.100702859822828,"d":"13.10"}},{"$f":"+[4]Tabulka!AQ136","v":{"v":3,"d":"3.00"}},{"$f":"+[4]Tabulka!BM136","v":{"v":0,"d":"0.00"}},{"$f":"+[4]Tabulka!BN136","v":0},{"$f":"+[4]Tabulka!BO136","v":{"v":0,"d":"0.00"}}]
[null,{"$f":"[4]Tabulka!C137","v":"PASKUDA"},{"$f":"[4]Tabulka!D137","v":"Jan"},{"$f":"[4]Tabulka!E137","v":"2001-01-01"},{"$f":"[4]Tabulka!F137","v":"Darkovice- KST"},{"$f":"[4]Tabulka!G137","v":"OP"},{"$f":"[4]Tabulka!H137","v":0},{"$f":"+[4]Tabulka!AU137","v":0},{"$f":"+[4]Tabulka!AV137","v":{"v":0,"d":"0.00"}},{"$f":"+[4]Tabulka!AW137","v":0},{"$f":"+[4]Tabulka!AX137","v":{"v":0,"d":"0.00"}},{"$f":"+[4]Tabulka!AY137","v":0},{"$f":"+[4]Tabulka!AZ137","v":{"v":0,"d":"0.00"}},{"$f":"+[4]Tabulka!BA137","v":0},{"$f":"+[4]Tabulka!BB137","v":{"v":0,"d":"0.00"}},{"$f":"+[4]Tabulka!BC137","v":0},{"$f":"+[4]Tabulka!BD137","v":{"v":0,"d":"0.00"}},{"$f":"+[4]Tabulka!BE137","v":0},{"$f":"+[4]Tabulka!BF137","v":{"v":0,"d":"0.00"}},{"$f":"+[4]Tabulka!BG137","v":0},{"$f":"+[4]Tabulka!BH137","v":{"v":0,"d":"0.00"}},{"$f":"+[4]Tabulka!BI137","v":0},{"$f":"+[4]Tabulka!BJ137","v":{"v":0,"d":"0.00"}},{"$f":"+[4]Tabulka!AP137","v":{"v":0,"d":"0.00"}},{"$f":"+[4]Tabulka!AQ137","v":{"v":0,"d":"0.00"}},{"$f":"+[4]Tabulka!BM137","v":{"v":0,"d":"0.00"}},{"$f":"+[4]Tabulka!BN137","v":0},{"$f":"+[4]Tabulka!BO137","v":{"v":0,"d":"0.00"}}]
[null,{"$f":"[4]Tabulka!C138","v":"PETROVOVÁ"},{"$f":"[4]Tabulka!D138","v":"Nikita"},{"$f":"[4]Tabulka!E138","v":"1999-09-26"},{"$f":"[4]Tabulka!F138","v":"Frýdlant nad Ostravicí- SK"},{"$f":"[4]Tabulka!G138","v":"FM"},{"$f":"[4]Tabulka!H138","v":100},{"$f":"+[4]Tabulka!AU138","v":0},{"$f":"+[4]Tabulka!AV138","v":{"v":0,"d":"0.00"}},{"$f":"+[4]Tabulka!AW138","v":0},{"$f":"+[4]Tabulka!AX138","v":{"v":0,"d":"0.00"}},{"$f":"+[4]Tabulka!AY138","v":0},{"$f":"+[4]Tabulka!AZ138","v":{"v":0,"d":"0.00"}},{"$f":"+[4]Tabulka!BA138","v":0},{"$f":"+[4]Tabulka!BB138","v":{"v":0,"d":"0.00"}},{"$f":"+[4]Tabulka!BC138","v":0},{"$f":"+[4]Tabulka!BD138","v":{"v":0,"d":"0.00"}},{"$f":"+[4]Tabulka!BE138","v":0},{"$f":"+[4]Tabulka!BF138","v":{"v":0,"d":"0.00"}},{"$f":"+[4]Tabulka!BG138","v":0},{"$f":"+[4]Tabulka!BH138","v":{"v":0,"d":"0.00"}},{"$f":"+[4]Tabulka!BI138","v":0},{"$f":"+[4]Tabulka!BJ138","v":{"v":0,"d":"0.00"}},{"$f":"+[4]Tabulka!AP138","v":{"v":12.844308095408651,"d":"12.84"}},{"$f":"+[4]Tabulka!AQ138","v":{"v":1,"d":"1.00"}},{"$f":"+[4]Tabulka!BM138","v":{"v":0,"d":"0.00"}},{"$f":"+[4]Tabulka!BN138","v":0},{"$f":"+[4]Tabulka!BO138","v":{"v":0,"d":"0.00"}}]
[null,{"$f":"[4]Tabulka!C139","v":"PILCH"},{"$f":"[4]Tabulka!D139","v":"Jakub"},{"$f":"[4]Tabulka!E139","v":"1999-07-17"},{"$f":"[4]Tabulka!F139","v":"Třinec- TŽ TJ"},{"$f":"[4]Tabulka!G139","v":"FM"},{"$f":"[4]Tabulka!H139","v":100},{"$f":"+[4]Tabulka!AU139","v":0},{"$f":"+[4]Tabulka!AV139","v":{"v":0,"d":"0.00"}},{"$f":"+[4]Tabulka!AW139","v":0},{"$f":"+[4]Tabulka!AX139","v":{"v":0,"d":"0.00"}},{"$f":"+[4]Tabulka!AY139","v":0},{"$f":"+[4]Tabulka!AZ139","v":{"v":0,"d":"0.00"}},{"$f":"+[4]Tabulka!BA139","v":0},{"$f":"+[4]Tabulka!BB139","v":{"v":0,"d":"0.00"}},{"$f":"+[4]Tabulka!BC139","v":0},{"$f":"+[4]Tabulka!BD139","v":{"v":0,"d":"0.00"}},{"$f":"+[4]Tabulka!BE139","v":0},{"$f":"+[4]Tabulka!BF139","v":{"v":0,"d":"0.00"}},{"$f":"+[4]Tabulka!BG139","v":0},{"$f":"+[4]Tabulka!BH139","v":{"v":0,"d":"0.00"}},{"$f":"+[4]Tabulka!BI139","v":0},{"$f":"+[4]Tabulka!BJ139","v":{"v":0,"d":"0.00"}},{"$f":"+[4]Tabulka!AP139","v":{"v":70.60842907938385,"d":"70.61"}},{"$f":"+[4]Tabulka!AQ139","v":{"v":4,"d":"4.00"}},{"$f":"+[4]Tabulka!BM139","v":{"v":0,"d":"0.00"}},{"$f":"+[4]Tabulka!BN139","v":0},{"$f":"+[4]Tabulka!BO139","v":{"v":0,"d":"0.00"}}]
[null,{"$f":"[4]Tabulka!C140","v":"PODMOL"},{"$f":"[4]Tabulka!D140","v":"Jan"},{"$f":"[4]Tabulka!E140","v":"1999-03-09"},{"$f":"[4]Tabulka!F140","v":"Kravaře- SK TJ"},{"$f":"[4]Tabulka!G140","v":"OP"},{"$f":"[4]Tabulka!H140","v":100},{"$f":"+[4]Tabulka!AU140","v":0},{"$f":"+[4]Tabulka!AV140","v":{"v":0,"d":"0.00"}},{"$f":"+[4]Tabulka!AW140","v":0},{"$f":"+[4]Tabulka!AX140","v":{"v":0,"d":"0.00"}},{"$f":"+[4]Tabulka!AY140","v":0},{"$f":"+[4]Tabulka!AZ140","v":{"v":0,"d":"0.00"}},{"$f":"+[4]Tabulka!BA140","v":0},{"$f":"+[4]Tabulka!BB140","v":{"v":0,"d":"0.00"}},{"$f":"+[4]Tabulka!BC140","v":0},{"$f":"+[4]Tabulka!BD140","v":{"v":0,"d":"0.00"}},{"$f":"+[4]Tabulka!BE140","v":0},{"$f":"+[4]Tabulka!BF140","v":{"v":0,"d":"0.00"}},{"$f":"+[4]Tabulka!BG140","v":0},{"$f":"+[4]Tabulka!BH140","v":{"v":0,"d":"0.00"}},{"$f":"+[4]Tabulka!BI140","v":0},{"$f":"+[4]Tabulka!BJ140","v":{"v":0,"d":"0.00"}},{"$f":"+[4]Tabulka!AP140","v":{"v":0,"d":"0.00"}},{"$f":"+[4]Tabulka!AQ140","v":{"v":0,"d":"0.00"}},{"$f":"+[4]Tabulka!BM140","v":{"v":0,"d":"0.00"}},{"$f":"+[4]Tabulka!BN140","v":0},{"$f":"+[4]Tabulka!BO140","v":{"v":0,"d":"0.00"}}]
[null,{"$f":"[4]Tabulka!C141","v":"PODMOL"},{"$f":"[4]Tabulka!D141","v":"Tomáš"},{"$f":"[4]Tabulka!E141","v":"2001-06-09"},{"$f":"[4]Tabulka!F141","v":"Kravaře- SK TJ"},{"$f":"[4]Tabulka!G141","v":"OP"},{"$f":"[4]Tabulka!H141","v":100},{"$f":"+[4]Tabulka!AU141","v":0},{"$f":"+[4]Tabulka!AV141","v":{"v":0,"d":"0.00"}},{"$f":"+[4]Tabulka!AW141","v":0},{"$f":"+[4]Tabulka!AX141","v":{"v":0,"d":"0.00"}},{"$f":"+[4]Tabulka!AY141","v":0},{"$f":"+[4]Tabulka!AZ141","v":{"v":0,"d":"0.00"}},{"$f":"+[4]Tabulka!BA141","v":0},{"$f":"+[4]Tabulka!BB141","v":{"v":0,"d":"0.00"}},{"$f":"+[4]Tabulka!BC141","v":0},{"$f":"+[4]Tabulka!BD141","v":{"v":0,"d":"0.00"}},{"$f":"+[4]Tabulka!BE141","v":0},{"$f":"+[4]Tabulka!BF141","v":{"v":0,"d":"0.00"}},{"$f":"+[4]Tabulka!BG141","v":0},{"$f":"+[4]Tabulka!BH141","v":{"v":0,"d":"0.00"}},{"$f":"+[4]Tabulka!BI141","v":0},{"$f":"+[4]Tabulka!BJ141","v":{"v":0,"d":"0.00"}},{"$f":"+[4]Tabulka!AP141","v":{"v":0,"d":"0.00"}},{"$f":"+[4]Tabulka!AQ141","v":{"v":0,"d":"0.00"}},{"$f":"+[4]Tabulka!BM141","v":{"v":0,"d":"0.00"}},{"$f":"+[4]Tabulka!BN141","v":0},{"$f":"+[4]Tabulka!BO141","v":{"v":0,"d":"0.00"}}]
[null,{"$f":"[4]Tabulka!C142","v":"PUSTKA"},{"$f":"[4]Tabulka!D142","v":"Matouš"},{"$f":"[4]Tabulka!E142","v":"2001-06-14"},{"$f":"[4]Tabulka!F142","v":"Kozlovice- Sokol TJ"},{"$f":"[4]Tabulka!G142","v":"FM"},{"$f":"[4]Tabulka!H142","v":100},{"$f":"+[4]Tabulka!AU142","v":0},{"$f":"+[4]Tabulka!AV142","v":{"v":0,"d":"0.00"}},{"$f":"+[4]Tabulka!AW142","v":0},{"$f":"+[4]Tabulka!AX142","v":{"v":0,"d":"0.00"}},{"$f":"+[4]Tabulka!AY142","v":0},{"$f":"+[4]Tabulka!AZ142","v":{"v":0,"d":"0.00"}},{"$f":"+[4]Tabulka!BA142","v":0},{"$f":"+[4]Tabulka!BB142","v":{"v":0,"d":"0.00"}},{"$f":"+[4]Tabulka!BC142","v":0},{"$f":"+[4]Tabulka!BD142","v":{"v":0,"d":"0.00"}},{"$f":"+[4]Tabulka!BE142","v":0},{"$f":"+[4]Tabulka!BF142","v":{"v":0,"d":"0.00"}},{"$f":"+[4]Tabulka!BG142","v":0},{"$f":"+[4]Tabulka!BH142","v":{"v":0,"d":"0.00"}},{"$f":"+[4]Tabulka!BI142","v":0},{"$f":"+[4]Tabulka!BJ142","v":{"v":0,"d":"0.00"}},{"$f":"+[4]Tabulka!AP142","v":{"v":0,"d":"0.00"}},{"$f":"+[4]Tabulka!AQ142","v":{"v":0,"d":"0.00"}},{"$f":"+[4]Tabulka!BM142","v":{"v":0,"d":"0.00"}},{"$f":"+[4]Tabulka!BN142","v":0},{"$f":"+[4]Tabulka!BO142","v":{"v":0,"d":"0.00"}}]
[null,{"$f":"[4]Tabulka!C143","v":"ROZKYDALOVÁ"},{"$f":"[4]Tabulka!D143","v":"Eliška"},{"$f":"[4]Tabulka!E143","v":"2002-01-11"},{"$f":"[4]Tabulka!F143","v":"Frýdlant nad Ostravicí- SK"},{"$f":"[4]Tabulka!G143","v":"FM"},{"$f":"[4]Tabulka!H143","v":100},{"$f":"+[4]Tabulka!AU143","v":0},{"$f":"+[4]Tabulka!AV143","v":{"v":0,"d":"0.00"}},{"$f":"+[4]Tabulka!AW143","v":0},{"$f":"+[4]Tabulka!AX143","v":{"v":0,"d":"0.00"}},{"$f":"+[4]Tabulka!AY143","v":0},{"$f":"+[4]Tabulka!AZ143","v":{"v":0,"d":"0.00"}},{"$f":"+[4]Tabulka!BA143","v":0},{"$f":"+[4]Tabulka!BB143","v":{"v":0,"d":"0.00"}},{"$f":"+[4]Tabulka!BC143","v":0},{"$f":"+[4]Tabulka!BD143","v":{"v":0,"d":"0.00"}},{"$f":"+[4]Tabulka!BE143","v":0},{"$f":"+[4]Tabulka!BF143","v":{"v":0,"d":"0.00"}},{"$f":"+[4]Tabulka!BG143","v":0},{"$f":"+[4]Tabulka!BH143","v":{"v":0,"d":"0.00"}},{"$f":"+[4]Tabulka!BI143","v":0},{"$f":"+[4]Tabulka!BJ143","v":{"v":0,"d":"0.00"}},{"$f":"+[4]Tabulka!AP143","v":{"v":7.59627112831164,"d":"7.60"}},{"$f":"+[4]Tabulka!AQ143","v":{"v":2,"d":"2.00"}},{"$f":"+[4]Tabulka!BM143","v":{"v":0,"d":"0.00"}},{"$f":"+[4]Tabulka!BN143","v":0},{"$f":"+[4]Tabulka!BO143","v":{"v":0,"d":"0.00"}}]
[null,{"$f":"[4]Tabulka!C144","v":"RUSNÁK"},{"$f":"[4]Tabulka!D144","v":"Aleš"},{"$f":"[4]Tabulka!E144","v":"2002-05-14"},{"$f":"[4]Tabulka!F144","v":"Ropice- Sokol TJ"},{"$f":"[4]Tabulka!G144","v":"FM"},{"$f":"[4]Tabulka!H144","v":100},{"$f":"+[4]Tabulka!AU144","v":0},{"$f":"+[4]Tabulka!AV144","v":{"v":0,"d":"0.00"}},{"$f":"+[4]Tabulka!AW144","v":0},{"$f":"+[4]Tabulka!AX144","v":{"v":0,"d":"0.00"}},{"$f":"+[4]Tabulka!AY144","v":0},{"$f":"+[4]Tabulka!AZ144","v":{"v":0,"d":"0.00"}},{"$f":"+[4]Tabulka!BA144","v":0},{"$f":"+[4]Tabulka!BB144","v":{"v":0,"d":"0.00"}},{"$f":"+[4]Tabulka!BC144","v":0},{"$f":"+[4]Tabulka!BD144","v":{"v":0,"d":"0.00"}},{"$f":"+[4]Tabulka!BE144","v":0},{"$f":"+[4]Tabulka!BF144","v":{"v":0,"d":"0.00"}},{"$f":"+[4]Tabulka!BG144","v":0},{"$f":"+[4]Tabulka!BH144","v":{"v":0,"d":"0.00"}},{"$f":"+[4]Tabulka!BI144","v":0},{"$f":"+[4]Tabulka!BJ144","v":{"v":0,"d":"0.00"}},{"$f":"+[4]Tabulka!AP144","v":{"v":0,"d":"0.00"}},{"$f":"+[4]Tabulka!AQ144","v":{"v":0,"d":"0.00"}},{"$f":"+[4]Tabulka!BM144","v":{"v":0,"d":"0.00"}},{"$f":"+[4]Tabulka!BN144","v":0},{"$f":"+[4]Tabulka!BO144","v":{"v":0,"d":"0.00"}}]
[null,{"$f":"[4]Tabulka!C145","v":"SLOBODNÍK"},{"$f":"[4]Tabulka!D145","v":"Martin"},{"$f":"[4]Tabulka!E145","v":"2000-01-31"},{"$f":"[4]Tabulka!F145","v":"Hrabůvka- Sokol TJ"},{"$f":"[4]Tabulka!G145","v":"OV"},{"$f":"[4]Tabulka!H145","v":100},{"$f":"+[4]Tabulka!AU145","v":0},{"$f":"+[4]Tabulka!AV145","v":{"v":0,"d":"0.00"}},{"$f":"+[4]Tabulka!AW145","v":0},{"$f":"+[4]Tabulka!AX145","v":{"v":0,"d":"0.00"}},{"$f":"+[4]Tabulka!AY145","v":0},{"$f":"+[4]Tabulka!AZ145","v":{"v":0,"d":"0.00"}},{"$f":"+[4]Tabulka!BA145","v":0},{"$f":"+[4]Tabulka!BB145","v":{"v":0,"d":"0.00"}},{"$f":"+[4]Tabulka!BC145","v":0},{"$f":"+[4]Tabulka!BD145","v":{"v":0,"d":"0.00"}},{"$f":"+[4]Tabulka!BE145","v":0},{"$f":"+[4]Tabulka!BF145","v":{"v":0,"d":"0.00"}},{"$f":"+[4]Tabulka!BG145","v":0},{"$f":"+[4]Tabulka!BH145","v":{"v":0,"d":"0.00"}},{"$f":"+[4]Tabulka!BI145","v":0},{"$f":"+[4]Tabulka!BJ145","v":{"v":0,"d":"0.00"}},{"$f":"+[4]Tabulka!AP145","v":{"v":3.615032201933058,"d":"3.62"}},{"$f":"+[4]Tabulka!AQ145","v":{"v":1,"d":"1.00"}},{"$f":"+[4]Tabulka!BM145","v":{"v":0,"d":"0.00"}},{"$f":"+[4]Tabulka!BN145","v":0},{"$f":"+[4]Tabulka!BO145","v":{"v":0,"d":"0.00"}}]
[null,{"$f":"[4]Tabulka!C146","v":"SMIEŠKOVÁ"},{"$f":"[4]Tabulka!D146","v":"Adéla"},{"$f":"[4]Tabulka!E146","v":"1999-06-08"},{"$f":"[4]Tabulka!F146","v":"Hrabůvka- Sokol TJ"},{"$f":"[4]Tabulka!G146","v":"OV"},{"$f":"[4]Tabulka!H146","v":100},{"$f":"+[4]Tabulka!AU146","v":0},{"$f":"+[4]Tabulka!AV146","v":{"v":0,"d":"0.00"}},{"$f":"+[4]Tabulka!AW146","v":0},{"$f":"+[4]Tabulka!AX146","v":{"v":0,"d":"0.00"}},{"$f":"+[4]Tabulka!AY146","v":0},{"$f":"+[4]Tabulka!AZ146","v":{"v":0,"d":"0.00"}},{"$f":"+[4]Tabulka!BA146","v":0},{"$f":"+[4]Tabulka!BB146","v":{"v":0,"d":"0.00"}},{"$f":"+[4]Tabulka!BC146","v":0},{"$f":"+[4]Tabulka!BD146","v":{"v":0,"d":"0.00"}},{"$f":"+[4]Tabulka!BE146","v":0},{"$f":"+[4]Tabulka!BF146","v":{"v":0,"d":"0.00"}},{"$f":"+[4]Tabulka!BG146","v":0},{"$f":"+[4]Tabulka!BH146","v":{"v":0,"d":"0.00"}},{"$f":"+[4]Tabulka!BI146","v":0},{"$f":"+[4]Tabulka!BJ146","v":{"v":0,"d":"0.00"}},{"$f":"+[4]Tabulka!AP146","v":{"v":8.116214632962597,"d":"8.12"}},{"$f":"+[4]Tabulka!AQ146","v":{"v":3,"d":"3.00"}},{"$f":"+[4]Tabulka!BM146","v":{"v":0,"d":"0.00"}},{"$f":"+[4]Tabulka!BN146","v":0},{"$f":"+[4]Tabulka!BO146","v":{"v":0,"d":"0.00"}}]
[null,{"$f":"[4]Tabulka!C147","v":"SVENNSEN"},{"$f":"[4]Tabulka!D147","v":"Erik"},{"$f":"[4]Tabulka!E147","v":"1900-01-01"},{"$f":"[4]Tabulka!F147","v":"Frýdlant nad Ostravicí- SK"},{"$f":"[4]Tabulka!G147","v":"FM"},{"$f":"[4]Tabulka!H147","v":0},{"$f":"+[4]Tabulka!AU147","v":0},{"$f":"+[4]Tabulka!AV147","v":{"v":0,"d":"0.00"}},{"$f":"+[4]Tabulka!AW147","v":0},{"$f":"+[4]Tabulka!AX147","v":{"v":0,"d":"0.00"}},{"$f":"+[4]Tabulka!AY147","v":0},{"$f":"+[4]Tabulka!AZ147","v":{"v":0,"d":"0.00"}},{"$f":"+[4]Tabulka!BA147","v":0},{"$f":"+[4]Tabulka!BB147","v":{"v":0,"d":"0.00"}},{"$f":"+[4]Tabulka!BC147","v":0},{"$f":"+[4]Tabulka!BD147","v":{"v":0,"d":"0.00"}},{"$f":"+[4]Tabulka!BE147","v":0},{"$f":"+[4]Tabulka!BF147","v":{"v":0,"d":"0.00"}},{"$f":"+[4]Tabulka!BG147","v":0},{"$f":"+[4]Tabulka!BH147","v":{"v":0,"d":"0.00"}},{"$f":"+[4]Tabulka!BI147","v":0},{"$f":"+[4]Tabulka!BJ147","v":{"v":0,"d":"0.00"}},{"$f":"+[4]Tabulka!AP147","v":{"v":0,"d":"0.00"}},{"$f":"+[4]Tabulka!AQ147","v":{"v":0,"d":"0.00"}},{"$f":"+[4]Tabulka!BM147","v":{"v":0,"d":"0.00"}},{"$f":"+[4]Tabulka!BN147","v":0},{"$f":"+[4]Tabulka!BO147","v":{"v":0,"d":"0.00"}}]
[null,{"$f":"[4]Tabulka!C148","v":"SVOBODA"},{"$f":"[4]Tabulka!D148","v":"Lukáš"},{"$f":"[4]Tabulka!E148","v":"1999-01-18"},{"$f":"[4]Tabulka!F148","v":"Český Těšín- SKST"},{"$f":"[4]Tabulka!G148","v":"KA"},{"$f":"[4]Tabulka!H148","v":100},{"$f":"+[4]Tabulka!AU148","v":0},{"$f":"+[4]Tabulka!AV148","v":{"v":0,"d":"0.00"}},{"$f":"+[4]Tabulka!AW148","v":0},{"$f":"+[4]Tabulka!AX148","v":{"v":0,"d":"0.00"}},{"$f":"+[4]Tabulka!AY148","v":0},{"$f":"+[4]Tabulka!AZ148","v":{"v":0,"d":"0.00"}},{"$f":"+[4]Tabulka!BA148","v":0},{"$f":"+[4]Tabulka!BB148","v":{"v":0,"d":"0.00"}},{"$f":"+[4]Tabulka!BC148","v":0},{"$f":"+[4]Tabulka!BD148","v":{"v":0,"d":"0.00"}},{"$f":"+[4]Tabulka!BE148","v":0},{"$f":"+[4]Tabulka!BF148","v":{"v":0,"d":"0.00"}},{"$f":"+[4]Tabulka!BG148","v":0},{"$f":"+[4]Tabulka!BH148","v":{"v":0,"d":"0.00"}},{"$f":"+[4]Tabulka!BI148","v":0},{"$f":"+[4]Tabulka!BJ148","v":{"v":0,"d":"0.00"}},{"$f":"+[4]Tabulka!AP148","v":{"v":7.36119517965775,"d":"7.36"}},{"$f":"+[4]Tabulka!AQ148","v":{"v":2,"d":"2.00"}},{"$f":"+[4]Tabulka!BM148","v":{"v":0,"d":"0.00"}},{"$f":"+[4]Tabulka!BN148","v":0},{"$f":"+[4]Tabulka!BO148","v":{"v":0,"d":"0.00"}}]
[null,{"$f":"[4]Tabulka!C149","v":"SYNKOVÁ"},{"$f":"[4]Tabulka!D149","v":"Markéta"},{"$f":"[4]Tabulka!E149","v":"2001-07-30"},{"$f":"[4]Tabulka!F149","v":"Děhylov- Sokol TJ"},{"$f":"[4]Tabulka!G149","v":"OP"},{"$f":"[4]Tabulka!H149","v":100},{"$f":"+[4]Tabulka!AU149","v":0},{"$f":"+[4]Tabulka!AV149","v":{"v":0,"d":"0.00"}},{"$f":"+[4]Tabulka!AW149","v":0},{"$f":"+[4]Tabulka!AX149","v":{"v":0,"d":"0.00"}},{"$f":"+[4]Tabulka!AY149","v":0},{"$f":"+[4]Tabulka!AZ149","v":{"v":0,"d":"0.00"}},{"$f":"+[4]Tabulka!BA149","v":0},{"$f":"+[4]Tabulka!BB149","v":{"v":0,"d":"0.00"}},{"$f":"+[4]Tabulka!BC149","v":0},{"$f":"+[4]Tabulka!BD149","v":{"v":0,"d":"0.00"}},{"$f":"+[4]Tabulka!BE149","v":0},{"$f":"+[4]Tabulka!BF149","v":{"v":0,"d":"0.00"}},{"$f":"+[4]Tabulka!BG149","v":0},{"$f":"+[4]Tabulka!BH149","v":{"v":0,"d":"0.00"}},{"$f":"+[4]Tabulka!BI149","v":0},{"$f":"+[4]Tabulka!BJ149","v":{"v":0,"d":"0.00"}},{"$f":"+[4]Tabulka!AP149","v":{"v":19.16347037508026,"d":"19.16"}},{"$f":"+[4]Tabulka!AQ149","v":{"v":3,"d":"3.00"}},{"$f":"+[4]Tabulka!BM149","v":{"v":0,"d":"0.00"}},{"$f":"+[4]Tabulka!BN149","v":0},{"$f":"+[4]Tabulka!BO149","v":{"v":0,"d":"0.00"}}]
[null,{"$f":"[4]Tabulka!C150","v":"SZWARC"},{"$f":"[4]Tabulka!D150","v":"Matěj"},{"$f":"[4]Tabulka!E150","v":"2001-07-08"},{"$f":"[4]Tabulka!F150","v":"Třinec- TŽ TJ"},{"$f":"[4]Tabulka!G150","v":"FM"},{"$f":"[4]Tabulka!H150","v":100},{"$f":"+[4]Tabulka!AU150","v":0},{"$f":"+[4]Tabulka!AV150","v":{"v":0,"d":"0.00"}},{"$f":"+[4]Tabulka!AW150","v":0},{"$f":"+[4]Tabulka!AX150","v":{"v":0,"d":"0.00"}},{"$f":"+[4]Tabulka!AY150","v":0},{"$f":"+[4]Tabulka!AZ150","v":{"v":0,"d":"0.00"}},{"$f":"+[4]Tabulka!BA150","v":0},{"$f":"+[4]Tabulka!BB150","v":{"v":0,"d":"0.00"}},{"$f":"+[4]Tabulka!BC150","v":0},{"$f":"+[4]Tabulka!BD150","v":{"v":0,"d":"0.00"}},{"$f":"+[4]Tabulka!BE150","v":0},{"$f":"+[4]Tabulka!BF150","v":{"v":0,"d":"0.00"}},{"$f":"+[4]Tabulka!BG150","v":0},{"$f":"+[4]Tabulka!BH150","v":{"v":0,"d":"0.00"}},{"$f":"+[4]Tabulka!BI150","v":0},{"$f":"+[4]Tabulka!BJ150","v":{"v":0,"d":"0.00"}},{"$f":"+[4]Tabulka!AP150","v":{"v":0.7410781182051266,"d":"0.74"}},{"$f":"+[4]Tabulka!AQ150","v":{"v":1,"d":"1.00"}},{"$f":"+[4]Tabulka!BM150","v":{"v":0,"d":"0.00"}},{"$f":"+[4]Tabulka!BN150","v":0},{"$f":"+[4]Tabulka!BO150","v":{"v":0,"d":"0.00"}}]
[null,{"$f":"[4]Tabulka!C151","v":"ŠODEK"},{"$f":"[4]Tabulka!D151","v":"David"},{"$f":"[4]Tabulka!E151","v":"1900-01-01"},{"$f":"[4]Tabulka!F151","v":"Nový Jičín- TJ"},{"$f":"[4]Tabulka!G151","v":"NJ"},{"$f":"[4]Tabulka!H151","v":0},{"$f":"+[4]Tabulka!AU151","v":0},{"$f":"+[4]Tabulka!AV151","v":{"v":0,"d":"0.00"}},{"$f":"+[4]Tabulka!AW151","v":0},{"$f":"+[4]Tabulka!AX151","v":{"v":0,"d":"0.00"}},{"$f":"+[4]Tabulka!AY151","v":0},{"$f":"+[4]Tabulka!AZ151","v":{"v":0,"d":"0.00"}},{"$f":"+[4]Tabulka!BA151","v":0},{"$f":"+[4]Tabulka!BB151","v":{"v":0,"d":"0.00"}},{"$f":"+[4]Tabulka!BC151","v":0},{"$f":"+[4]Tabulka!BD151","v":{"v":0,"d":"0.00"}},{"$f":"+[4]Tabulka!BE151","v":0},{"$f":"+[4]Tabulka!BF151","v":{"v":0,"d":"0.00"}},{"$f":"+[4]Tabulka!BG151","v":0},{"$f":"+[4]Tabulka!BH151","v":{"v":0,"d":"0.00"}},{"$f":"+[4]Tabulka!BI151","v":0},{"$f":"+[4]Tabulka!BJ151","v":{"v":0,"d":"0.00"}},{"$f":"+[4]Tabulka!AP151","v":{"v":0,"d":"0.00"}},{"$f":"+[4]Tabulka!AQ151","v":{"v":0,"d":"0.00"}},{"$f":"+[4]Tabulka!BM151","v":{"v":0,"d":"0.00"}},{"$f":"+[4]Tabulka!BN151","v":0},{"$f":"+[4]Tabulka!BO151","v":{"v":0,"d":"0.00"}}]
[null,{"$f":"[4]Tabulka!C152","v":"ŠTEFÁNKOVÁ"},{"$f":"[4]Tabulka!D152","v":"Šarlota"},{"$f":"[4]Tabulka!E152","v":"2003-01-01"},{"$f":"[4]Tabulka!F152","v":"Frýdlant nad Ostravicí- SK"},{"$f":"[4]Tabulka!G152","v":"FM"},{"$f":"[4]Tabulka!H152","v":0},{"$f":"+[4]Tabulka!AU152","v":0},{"$f":"+[4]Tabulka!AV152","v":{"v":0,"d":"0.00"}},{"$f":"+[4]Tabulka!AW152","v":0},{"$f":"+[4]Tabulka!AX152","v":{"v":0,"d":"0.00"}},{"$f":"+[4]Tabulka!AY152","v":0},{"$f":"+[4]Tabulka!AZ152","v":{"v":0,"d":"0.00"}},{"$f":"+[4]Tabulka!BA152","v":0},{"$f":"+[4]Tabulka!BB152","v":{"v":0,"d":"0.00"}},{"$f":"+[4]Tabulka!BC152","v":0},{"$f":"+[4]Tabulka!BD152","v":{"v":0,"d":"0.00"}},{"$f":"+[4]Tabulka!BE152","v":0},{"$f":"+[4]Tabulka!BF152","v":{"v":0,"d":"0.00"}},{"$f":"+[4]Tabulka!BG152","v":0},{"$f":"+[4]Tabulka!BH152","v":{"v":0,"d":"0.00"}},{"$f":"+[4]Tabulka!BI152","v":0},{"$f":"+[4]Tabulka!BJ152","v":{"v":0,"d":"0.00"}},{"$f":"+[4]Tabulka!AP152","v":{"v":1.0840356212793476,"d":"1.08"}},{"$f":"+[4]Tabulka!AQ152","v":{"v":1,"d":"1.00"}},{"$f":"+[4]Tabulka!BM152","v":{"v":0,"d":"0.00"}},{"$f":"+[4]Tabulka!BN152","v":0},{"$f":"+[4]Tabulka!BO152","v":{"v":0,"d":"0.00"}}]
[null,{"$f":"[4]Tabulka!C153","v":"ŠTĚPÁNOVÁ"},{"$f":"[4]Tabulka!D153","v":"Gabriela"},{"$f":"[4]Tabulka!E153","v":"2001-03-31"},{"$f":"[4]Tabulka!F153","v":"Děhylov- Sokol TJ"},{"$f":"[4]Tabulka!G153","v":"OP"},{"$f":"[4]Tabulka!H153","v":100},{"$f":"+[4]Tabulka!AU153","v":0},{"$f":"+[4]Tabulka!AV153","v":{"v":0,"d":"0.00"}},{"$f":"+[4]Tabulka!AW153","v":0},{"$f":"+[4]Tabulka!AX153","v":{"v":0,"d":"0.00"}},{"$f":"+[4]Tabulka!AY153","v":0},{"$f":"+[4]Tabulka!AZ153","v":{"v":0,"d":"0.00"}},{"$f":"+[4]Tabulka!BA153","v":0},{"$f":"+[4]Tabulka!BB153","v":{"v":0,"d":"0.00"}},{"$f":"+[4]Tabulka!BC153","v":0},{"$f":"+[4]Tabulka!BD153","v":{"v":0,"d":"0.00"}},{"$f":"+[4]Tabulka!BE153","v":0},{"$f":"+[4]Tabulka!BF153","v":{"v":0,"d":"0.00"}},{"$f":"+[4]Tabulka!BG153","v":0},{"$f":"+[4]Tabulka!BH153","v":{"v":0,"d":"0.00"}},{"$f":"+[4]Tabulka!BI153","v":0},{"$f":"+[4]Tabulka!BJ153","v":{"v":0,"d":"0.00"}},{"$f":"+[4]Tabulka!AP153","v":{"v":28.176622928318565,"d":"28.18"}},{"$f":"+[4]Tabulka!AQ153","v":{"v":3,"d":"3.00"}},{"$f":"+[4]Tabulka!BM153","v":{"v":0,"d":"0.00"}},{"$f":"+[4]Tabulka!BN153","v":0},{"$f":"+[4]Tabulka!BO153","v":{"v":0,"d":"0.00"}}]
[null,{"$f":"[4]Tabulka!C154","v":"UVÍROVÁ"},{"$f":"[4]Tabulka!D154","v":"Nela"},{"$f":"[4]Tabulka!E154","v":"2000-12-18"},{"$f":"[4]Tabulka!F154","v":"Kateřinky- Sokol TJ"},{"$f":"[4]Tabulka!G154","v":"OP"},{"$f":"[4]Tabulka!H154","v":100},{"$f":"+[4]Tabulka!AU154","v":0},{"$f":"+[4]Tabulka!AV154","v":{"v":0,"d":"0.00"}},{"$f":"+[4]Tabulka!AW154","v":0},{"$f":"+[4]Tabulka!AX154","v":{"v":0,"d":"0.00"}},{"$f":"+[4]Tabulka!AY154","v":0},{"$f":"+[4]Tabulka!AZ154","v":{"v":0,"d":"0.00"}},{"$f":"+[4]Tabulka!BA154","v":0},{"$f":"+[4]Tabulka!BB154","v":{"v":0,"d":"0.00"}},{"$f":"+[4]Tabulka!BC154","v":0},{"$f":"+[4]Tabulka!BD154","v":{"v":0,"d":"0.00"}},{"$f":"+[4]Tabulka!BE154","v":0},{"$f":"+[4]Tabulka!BF154","v":{"v":0,"d":"0.00"}},{"$f":"+[4]Tabulka!BG154","v":0},{"$f":"+[4]Tabulka!BH154","v":{"v":0,"d":"0.00"}},{"$f":"+[4]Tabulka!BI154","v":0},{"$f":"+[4]Tabulka!BJ154","v":{"v":0,"d":"0.00"}},{"$f":"+[4]Tabulka!AP154","v":{"v":4.326392649392766,"d":"4.33"}},{"$f":"+[4]Tabulka!AQ154","v":{"v":3,"d":"3.00"}},{"$f":"+[4]Tabulka!BM154","v":{"v":0,"d":"0.00"}},{"$f":"+[4]Tabulka!BN154","v":0},{"$f":"+[4]Tabulka!BO154","v":{"v":0,"d":"0.00"}}]
[null,{"$f":"[4]Tabulka!C155","v":"VACULA"},{"$f":"[4]Tabulka!D155","v":"Jakub"},{"$f":"[4]Tabulka!E155","v":"2000-09-04"},{"$f":"[4]Tabulka!F155","v":"Frýdlant nad Ostravicí- SK"},{"$f":"[4]Tabulka!G155","v":"FM"},{"$f":"[4]Tabulka!H155","v":100},{"$f":"+[4]Tabulka!AU155","v":0},{"$f":"+[4]Tabulka!AV155","v":{"v":0,"d":"0.00"}},{"$f":"+[4]Tabulka!AW155","v":0},{"$f":"+[4]Tabulka!AX155","v":{"v":0,"d":"0.00"}},{"$f":"+[4]Tabulka!AY155","v":0},{"$f":"+[4]Tabulka!AZ155","v":{"v":0,"d":"0.00"}},{"$f":"+[4]Tabulka!BA155","v":0},{"$f":"+[4]Tabulka!BB155","v":{"v":0,"d":"0.00"}},{"$f":"+[4]Tabulka!BC155","v":0},{"$f":"+[4]Tabulka!BD155","v":{"v":0,"d":"0.00"}},{"$f":"+[4]Tabulka!BE155","v":0},{"$f":"+[4]Tabulka!BF155","v":{"v":0,"d":"0.00"}},{"$f":"+[4]Tabulka!BG155","v":0},{"$f":"+[4]Tabulka!BH155","v":{"v":0,"d":"0.00"}},{"$f":"+[4]Tabulka!BI155","v":0},{"$f":"+[4]Tabulka!BJ155","v":{"v":0,"d":"0.00"}},{"$f":"+[4]Tabulka!AP155","v":{"v":0,"d":"0.00"}},{"$f":"+[4]Tabulka!AQ155","v":{"v":0,"d":"0.00"}},{"$f":"+[4]Tabulka!BM155","v":{"v":0,"d":"0.00"}},{"$f":"+[4]Tabulka!BN155","v":0},{"$f":"+[4]Tabulka!BO155","v":{"v":0,"d":"0.00"}}]
[null,{"$f":"[4]Tabulka!C156","v":"VANTUCH"},{"$f":"[4]Tabulka!D156","v":"František"},{"$f":"[4]Tabulka!E156","v":"1999-02-25"},{"$f":"[4]Tabulka!F156","v":"Brušperk- Sokol TJ"},{"$f":"[4]Tabulka!G156","v":"FM"},{"$f":"[4]Tabulka!H156","v":100},{"$f":"+[4]Tabulka!AU156","v":0},{"$f":"+[4]Tabulka!AV156","v":{"v":0,"d":"0.00"}},{"$f":"+[4]Tabulka!AW156","v":0},{"$f":"+[4]Tabulka!AX156","v":{"v":0,"d":"0.00"}},{"$f":"+[4]Tabulka!AY156","v":0},{"$f":"+[4]Tabulka!AZ156","v":{"v":0,"d":"0.00"}},{"$f":"+[4]Tabulka!BA156","v":0},{"$f":"+[4]Tabulka!BB156","v":{"v":0,"d":"0.00"}},{"$f":"+[4]Tabulka!BC156","v":0},{"$f":"+[4]Tabulka!BD156","v":{"v":0,"d":"0.00"}},{"$f":"+[4]Tabulka!BE156","v":0},{"$f":"+[4]Tabulka!BF156","v":{"v":0,"d":"0.00"}},{"$f":"+[4]Tabulka!BG156","v":0},{"$f":"+[4]Tabulka!BH156","v":{"v":0,"d":"0.00"}},{"$f":"+[4]Tabulka!BI156","v":0},{"$f":"+[4]Tabulka!BJ156","v":{"v":0,"d":"0.00"}},{"$f":"+[4]Tabulka!AP156","v":{"v":5.974890571538397,"d":"5.97"}},{"$f":"+[4]Tabulka!AQ156","v":{"v":3,"d":"3.00"}},{"$f":"+[4]Tabulka!BM156","v":{"v":0,"d":"0.00"}},{"$f":"+[4]Tabulka!BN156","v":0},{"$f":"+[4]Tabulka!BO156","v":{"v":0,"d":"0.00"}}]
[null,{"$f":"[4]Tabulka!C157","v":"VÉVODA"},{"$f":"[4]Tabulka!D157","v":"Ondřej"},{"$f":"[4]Tabulka!E157","v":"1999-03-26"},{"$f":"[4]Tabulka!F157","v":"Malenovice- BSK"},{"$f":"[4]Tabulka!G157","v":"FM"},{"$f":"[4]Tabulka!H157","v":100},{"$f":"+[4]Tabulka!AU157","v":0},{"$f":"+[4]Tabulka!AV157","v":{"v":0,"d":"0.00"}},{"$f":"+[4]Tabulka!AW157","v":0},{"$f":"+[4]Tabulka!AX157","v":{"v":0,"d":"0.00"}},{"$f":"+[4]Tabulka!AY157","v":0},{"$f":"+[4]Tabulka!AZ157","v":{"v":0,"d":"0.00"}},{"$f":"+[4]Tabulka!BA157","v":0},{"$f":"+[4]Tabulka!BB157","v":{"v":0,"d":"0.00"}},{"$f":"+[4]Tabulka!BC157","v":0},{"$f":"+[4]Tabulka!BD157","v":{"v":0,"d":"0.00"}},{"$f":"+[4]Tabulka!BE157","v":0},{"$f":"+[4]Tabulka!BF157","v":{"v":0,"d":"0.00"}},{"$f":"+[4]Tabulka!BG157","v":0},{"$f":"+[4]Tabulka!BH157","v":{"v":0,"d":"0.00"}},{"$f":"+[4]Tabulka!BI157","v":0},{"$f":"+[4]Tabulka!BJ157","v":{"v":0,"d":"0.00"}},{"$f":"+[4]Tabulka!AP157","v":{"v":57.59481940705521,"d":"57.59"}},{"$f":"+[4]Tabulka!AQ157","v":{"v":3,"d":"3.00"}},{"$f":"+[4]Tabulka!BM157","v":{"v":0,"d":"0.00"}},{"$f":"+[4]Tabulka!BN157","v":0},{"$f":"+[4]Tabulka!BO157","v":{"v":0,"d":"0.00"}}]
[null,{"$f":"[4]Tabulka!C158","v":"VINCEK"},{"$f":"[4]Tabulka!D158","v":"Martin"},{"$f":"[4]Tabulka!E158","v":"2000-05-02"},{"$f":"[4]Tabulka!F158","v":"Ostrava- Mittal TJ"},{"$f":"[4]Tabulka!G158","v":"OV"},{"$f":"[4]Tabulka!H158","v":100},{"$f":"+[4]Tabulka!AU158","v":0},{"$f":"+[4]Tabulka!AV158","v":{"v":0,"d":"0.00"}},{"$f":"+[4]Tabulka!AW158","v":0},{"$f":"+[4]Tabulka!AX158","v":{"v":0,"d":"0.00"}},{"$f":"+[4]Tabulka!AY158","v":0},{"$f":"+[4]Tabulka!AZ158","v":{"v":0,"d":"0.00"}},{"$f":"+[4]Tabulka!BA158","v":0},{"$f":"+[4]Tabulka!BB158","v":{"v":0,"d":"0.00"}},{"$f":"+[4]Tabulka!BC158","v":0},{"$f":"+[4]Tabulka!BD158","v":{"v":0,"d":"0.00"}},{"$f":"+[4]Tabulka!BE158","v":0},{"$f":"+[4]Tabulka!BF158","v":{"v":0,"d":"0.00"}},{"$f":"+[4]Tabulka!BG158","v":0},{"$f":"+[4]Tabulka!BH158","v":{"v":0,"d":"0.00"}},{"$f":"+[4]Tabulka!BI158","v":0},{"$f":"+[4]Tabulka!BJ158","v":{"v":0,"d":"0.00"}},{"$f":"+[4]Tabulka!AP158","v":{"v":37.950718336150274,"d":"37.95"}},{"$f":"+[4]Tabulka!AQ158","v":{"v":3,"d":"3.00"}},{"$f":"+[4]Tabulka!BM158","v":{"v":0,"d":"0.00"}},{"$f":"+[4]Tabulka!BN158","v":0},{"$f":"+[4]Tabulka!BO158","v":{"v":0,"d":"0.00"}}]

{"sheet":"Nejmladší žactvo","index":4,"n_rows":106,"n_cols":87,"rows_kept":106,"merged":[[2,1,2,6],[2,7,2,8],[2,9,2,10],[2,11,2,12],[2,13,2,14],[2,15,2,16],[2,17,2,18],[2,19,2,20],[2,21,2,22]]}
["PRŮBĚŽNÉ BODOVÉ POŘADÍ RBTM A PR KARVINÁ NEJMLADŠÍHO ŽACTVA"]
[]
[null," - započítává se 5 nejlepších turnajů z 8 odehraných za poslední rok",{"$nulls":5},{"$f":"+Dorost!H3","v":"KARVINÁ 17.9.2011"},null,{"$f":"+Dorost!J3","v":"HAVÍŘOV 24.9.2011"},null,{"$f":"+Dorost!L3","v":"KARVINÁ 3.12.2011"},null,{"$f":"+Dorost!N3","v":"HAVÍŘOV 7.1.2012"},null,{"$f":"+Dorost!P3","v":"HAVÍŘOV 4.2.2012"},null,{"$f":"+Dorost!R3","v":"KARVINÁ 19.3.2011"},null,{"$f":"+Dorost!T3","v":"KARVINÁ 16.4.2011"},null,{"$f":"+Dorost!V3","v":"KARVINÁ 14.5.2011"}]
[{"$nulls":7},{"$f":"+[5]Tabulka!AU109","v":6},{"$f":"SUBTOTAL(9,I6:I300)","v":23.97838921968395},{"$f":"+[5]Tabulka!AW109","v":11},{"$f":"SUBTOTAL(9,K6:K300)","v":38.05266125665588},{"$f":"+[5]Tabulka!AY109","v":12},{"$f":"SUBTOTAL(9,M6:M300)","v":40.370709925475886},{"$f":"+[5]Tabulka!BA109","v":5},{"$f":"SUBTOTAL(9,O6:O300)","v":35.58291419616444},{"$f":"+[5]Tabulka!BC109","v":7},{"$f":"SUBTOTAL(9,Q6:Q300)","v":27.160916873461282},{"$f":"+[5]Tabulka!BE109","v":10},{"$f":"SUBTOTAL(9,S6:S300)","v":20.937021412697902},{"$f":"+[5]Tabulka!BG109","v":15},{"$f":"SUBTOTAL(9,U6:U300)","v":28.45010109873357},{"$f":"+[5]Tabulka!BI109","v":12},{"$f":"SUBTOTAL(9,W6:W300)","v":23.778073258011464},{"$f":"+[5]Tabulka!AP5","v":0},{"$f":"+[5]Tabulka!AQ5","v":0},{"$f":"+[5]Tabulka!AR5","v":0},{"$f":"+[5]Tabulka!AS5","v":0},{"$f":"+[5]Tabulka!AT5","v":0}]
[{"$f":"SUBTOTAL(3,A6:A285)","v":19},{"$f":"[5]Tabulka!C6","v":"Přijmení"},{"$f":"[5]Tabulka!D6","v":"jméno"},{"$f":"[5]Tabulka!E6","v":"nar"},{"$f":"[5]Tabulka!F6","v":"oddíl-klub"},{"$f":"[5]Tabulka!G6","v":"okr"},{"$f":"[5]Tabulka!H6","v":"pop"},{"$f":"+[5]Tabulka!Z6","v":"um."},{"$f":"+[5]Tabulka!AA6","v":"b."},{"$f":"+[5]Tabulka!AB6","v":"um."},{"$f":"+[5]Tabulka!AC6","v":"b."},{"$f":"+[5]Tabulka!AD6","v":"um."},{"$f":"+[5]Tabulka!AE6","v":"b."},{"$f":"+[5]Tabulka!AF6","v":"um."},{"$f":"+[5]Tabulka!AG6","v":"b."},{"$f":"+[5]Tabulka!AH6","v":"um."},{"$f":"+[5]Tabulka!AI6","v":"b."},{"$f":"+[5]Tabulka!AJ6","v":"um."},{"$f":"+[5]Tabulka!AK6","v":"b."},{"$f":"+[5]Tabulka!AL6","v":"um."},{"$f":"+[5]Tabulka!AM6","v":"b."},{"$f":"+[5]Tabulka!AN6","v":"um."},{"$f":"+[5]Tabulka!AO6","v":"b."},{"$f":"+[5]Tabulka!AP6","v":"I."},{"$f":"+[5]Tabulka!AQ6","v":"t"},{"$f":"+[5]Tabulka!AR6","v":"I.+II."},{"$f":"+[5]Tabulka!AS6","v":"t"},{"$f":"+[5]Tabulka!AT6","v":"R"},{"$nulls":5},{"$f":"[5]Tabulka!DG6","v":0},{"$f":"[5]Tabulka!DH6","v":0},{"$f":"[5]Tabulka!DI6","v":0},{"$f":"[5]Tabulka!DJ6","v":0},{"$f":"[5]Tabulka!DK6","v":0},{"$f":"[5]Tabulka!DL6","v":0},{"$f":"[5]Tabulka!DM6","v":0},{"$f":"[5]Tabulka!DN6","v":0},{"$f":"[5]Tabulka!DO6","v":0},{"$f":"[5]Tabulka!DP6","v":0},{"$f":"[5]Tabulka!DQ6","v":0},{"$f":"[5]Tabulka!DR6","v":0},{"$f":"[5]Tabulka!DS6","v":0},{"$f":"[5]Tabulka!DT6","v":0},{"$f":"[5]Tabulka!DU6","v":0},{"$f":"[5]Tabulka!DV6","v":0},{"$f":"[5]Tabulka!DW6","v":0},{"$f":"[5]Tabulka!DX6","v":0},{"$f":"[5]Tabulka!DY6","v":0},{"$f":"[5]Tabulka!DZ6","v":0},{"$f":"[5]Tabulka!EA6","v":0},{"$f":"[5]Tabulka!EB6","v":0},{"$f":"[5]Tabulka!EC6","v":0},{"$f":"[5]Tabulka!ED6","v":0},{"$f":"[5]Tabulka!EE6","v":0},{"$f":"[5]Tabulka!EF6","v":0},{"$f":"[5]Tabulka!EG6","v":0},{"$f":"[5]Tabulka!EH6","v":0},{"$f":"[5]Tabulka!EI6","v":0},{"$f":"[5]Tabulka!EJ6","v":0},{"$f":"[5]Tabulka!EK6","v":0},{"$f":"[5]Tabulka!EL6","v":0},{"$f":"[5]Tabulka!EM6","v":0},{"$f":"[5]Tabulka!EN6","v":0},{"$f":"[5]Tabulka!EO6","v":0},{"$f":"[5]Tabulka!EP6","v":0},{"$f":"[5]Tabulka!EQ6","v":0},{"$f":"[5]Tabulka!ER6","v":0},{"$f":"[5]Tabulka!ES6","v":0},{"$f":"[5]Tabulka!ET6","v":0},{"$f":"[5]Tabulka!EU6","v":0},{"$f":"[5]Tabulka!EV6","v":0},{"$f":"[5]Tabulka!EW6","v":0},{"$f":"[5]Tabulka!EX6","v":0},{"$f":"[5]Tabulka!EY6","v":0},{"$f":"[5]Tabulka!EZ6","v":0},{"$f":"[5]Tabulka!FA6","v":0},{"$f":"[5]Tabulka!FB6","v":0},{"$f":"[5]Tabulka!FC6","v":0},{"$f":"[5]Tabulka!FD6","v":0},{"$f":"[5]Tabulka!FE6","v":0},{"$f":"[5]Tabulka!FF6","v":0},{"$f":"[5]Tabulka!FG6","v":0},{"$f":"[5]Tabulka!FH6","v":0}]
["1",{"$f":"[5]Tabulka!C7","v":"BRANNÝ"},{"$f":"[5]Tabulka!D7","v":"Tomáš"},{"$f":"[5]Tabulka!E7","v":"2002-06-04"},{"$f":"[5]Tabulka!F7","v":"Orlová- Siko TTC"},{"$f":"[5]Tabulka!G7","v":"KA"},{"$f":"[5]Tabulka!H7","v":100},{"$f":"+[5]Tabulka!AU7","v":1},{"$f":"+[5]Tabulka!AV7","v":{"v":4.655343691373548,"d":"4.66"}},{"$f":"+[5]Tabulka!AW7","v":1},{"$f":"+[5]Tabulka!AX7","v":{"v":4.655343691373548,"d":"4.66"}},{"$f":"+[5]Tabulka!AY7","v":2},{"$f":"+[5]Tabulka!AZ7","v":{"v":4.369400178389413,"d":"4.37"}},{"$f":"+[5]Tabulka!BA7","v":2},{"$f":"+[5]Tabulka!BB7","v":{"v":4.369400178389413,"d":"4.37"}},{"$f":"+[5]Tabulka!BC7","v":1},{"$f":"+[5]Tabulka!BD7","v":{"v":4.655343691373548,"d":"4.66"}},{"$f":"+[5]Tabulka!BE7","v":4},{"$f":"+[5]Tabulka!BF7","v":{"v":3.8491245804252903,"d":"3.85"}},{"$f":"+[5]Tabulka!BG7","v":3},{"$f":"+[5]Tabulka!BH7","v":{"v":4.101020071683792,"d":"4.10"}},{"$f":"+[5]Tabulka!BI7","v":5},{"$f":"+[5]Tabulka!BJ7","v":{"v":3.6127011759664778,"d":"3.61"}},{"$f":"+[5]Tabulka!AP7","v":{"v":51.89089215873197,"d":"51.89"}},{"$f":"+[5]Tabulka!AQ7","v":{"v":3,"d":"3.00"}},{"$f":"+[5]Tabulka!BM7","v":{"v":34.26767725897503,"d":"34.27"}},{"$f":"+[5]Tabulka!BN7","v":8},{"$f":"+[5]Tabulka!BO7","v":{"v":22.704831430899468,"d":"22.70"}}]
["2",{"$f":"[5]Tabulka!C8","v":"ADAMCZYK"},{"$f":"[5]Tabulka!D8","v":"Jiří"},{"$f":"[5]Tabulka!E8","v":"2002-02-21"},{"$f":"[5]Tabulka!F8","v":"Dětmarovice- Sokol TJ"},{"$f":"[5]Tabulka!G9","v":"KA"},{"$f":"[5]Tabulka!H9","v":100},{"$f":"+[5]Tabulka!AU8","v":2},{"$f":"+[5]Tabulka!AV8","v":{"v":4.369400178389413,"d":"4.37"}},{"$f":"+[5]Tabulka!AW8","v":0},{"$f":"+[5]Tabulka!AX8","v":{"v":0,"d":"0.00"}},{"$f":"+[5]Tabulka!AY8","v":1},{"$f":"+[5]Tabulka!AZ8","v":{"v":4.655343691373548,"d":"4.66"}},{"$f":"+[5]Tabulka!BA8","v":1},{"$f":"+[5]Tabulka!BB8","v":{"v":4.655343691373548,"d":"4.66"}},{"$f":"+[5]Tabulka!BC8","v":2},{"$f":"+[5]Tabulka!BD8","v":{"v":4.369400178389413,"d":"4.37"}},{"$f":"+[5]Tabulka!BE8","v":3},{"$f":"+[5]Tabulka!BF8","v":{"v":4.101020071683792,"d":"4.10"}},{"$f":"+[5]Tabulka!BG8","v":2},{"$f":"+[5]Tabulka!BH8","v":{"v":4.369400178389413,"d":"4.37"}},{"$f":"+[5]Tabulka!BI8","v":3},{"$f":"+[5]Tabulka!BJ8","v":{"v":4.101020071683792,"d":"4.10"}},{"$f":"+[5]Tabulka!AP8","v":{"v":65.38382561707182,"d":"65.38"}},{"$f":"+[5]Tabulka!AQ8","v":{"v":4,"d":"4.00"}},{"$f":"+[5]Tabulka!BM8","v":{"v":30.620928061282918,"d":"30.62"}},{"$f":"+[5]Tabulka!BN8","v":7},{"$f":"+[5]Tabulka!BO8","v":{"v":22.418887917915335,"d":"22.42"}}]
["3",{"$f":"[5]Tabulka!C9","v":"ŠMAHAJ"},{"$f":"[5]Tabulka!D9","v":"Martin"},{"$f":"[5]Tabulka!E9","v":"2001-06-18"},{"$f":"[5]Tabulka!F9","v":"Karviná- KLUBsten KST"},{"$f":"[5]Tabulka!G8","v":"KA"},{"$f":"[5]Tabulka!H8","v":100},{"$f":"+[5]Tabulka!AU9","v":3},{"$f":"+[5]Tabulka!AV9","v":{"v":4.101020071683792,"d":"4.10"}},{"$f":"+[5]Tabulka!AW9","v":4},{"$f":"+[5]Tabulka!AX9","v":{"v":3.8491245804252903,"d":"3.85"}},{"$f":"+[5]Tabulka!AY9","v":4},{"$f":"+[5]Tabulka!AZ9","v":{"v":3.8491245804252903,"d":"3.85"}},{"$f":"+[5]Tabulka!BA9","v":0},{"$f":"+[5]Tabulka!BB9","v":{"v":0,"d":"0.00"}},{"$f":"+[5]Tabulka!BC9","v":4},{"$f":"+[5]Tabulka!BD9","v":{"v":3.8491245804252903,"d":"3.85"}},{"$f":"+[5]Tabulka!BE9","v":10},{"$f":"+[5]Tabulka!BF9","v":{"v":2.6313729408930584,"d":"2.63"}},{"$f":"+[5]Tabulka!BG9","v":9},{"$f":"+[5]Tabulka!BH9","v":{"v":2.803575987529016,"d":"2.80"}},{"$f":"+[5]Tabulka!BI9","v":9},{"$f":"+[5]Tabulka!BJ9","v":{"v":2.803575987529016,"d":"2.80"}},{"$f":"+[5]Tabulka!AP9","v":{"v":28.378923152064505,"d":"28.38"}},{"$f":"+[5]Tabulka!AQ9","v":{"v":2,"d":"2.00"}},{"$f":"+[5]Tabulka!BM9","v":{"v":23.88691872891075,"d":"23.89"}},{"$f":"+[5]Tabulka!BN9","v":7},{"$f":"+[5]Tabulka!BO9","v":{"v":18.45196980048868,"d":"18.45"}}]
["4",{"$f":"[5]Tabulka!C10","v":"KUROVSKÝ"},{"$f":"[5]Tabulka!D10","v":"Filip"},{"$f":"[5]Tabulka!E10","v":"2001-05-29"},{"$f":"[5]Tabulka!F10","v":"Karviná- KLUBsten KST"},{"$f":"[5]Tabulka!G10","v":"KA"},{"$f":"[5]Tabulka!H10","v":100},{"$f":"+[5]Tabulka!AU10","v":0},{"$f":"+[5]Tabulka!AV10","v":{"v":0,"d":"0.00"}},{"$f":"+[5]Tabulka!AW10","v":2},{"$f":"+[5]Tabulka!AX10","v":{"v":4.369400178389413,"d":"4.37"}},{"$f":"+[5]Tabulka!AY10","v":0},{"$f":"+[5]Tabulka!AZ10","v":{"v":0,"d":"0.00"}},{"$f":"+[5]Tabulka!BA10","v":3},{"$f":"+[5]Tabulka!BB10","v":{"v":4.101020071683792,"d":"4.10"}},{"$f":"+[5]Tabulka!BC10","v":0},{"$f":"+[5]Tabulka!BD10","v":{"v":0,"d":"0.00"}},{"$f":"+[5]Tabulka!BE10","v":7},{"$f":"+[5]Tabulka!BF10","v":{"v":3.1825276537773326,"d":"3.18"}},{"$f":"+[5]Tabulka!BG10","v":5},{"$f":"+[5]Tabulka!BH10","v":{"v":3.6127011759664778,"d":"3.61"}},{"$f":"+[5]Tabulka!BI10","v":7},{"$f":"+[5]Tabulka!BJ10","v":{"v":3.1825276537773326,"d":"3.18"}},{"$f":"+[5]Tabulka!AP10","v":{"v":18.748349950995976,"d":"18.75"}},{"$f":"+[5]Tabulka!AQ10","v":{"v":2,"d":"2.00"}},{"$f":"+[5]Tabulka!BM10","v":{"v":18.448176733594348,"d":"18.45"}},{"$f":"+[5]Tabulka!BN10","v":5},{"$f":"+[5]Tabulka!BO10","v":{"v":18.448176733594348,"d":"18.45"}}]
["5",{"$f":"[5]Tabulka!C11","v":"KUNZ"},{"$f":"[5]Tabulka!D11","v":"Marek"},{"$f":"[5]Tabulka!E11","v":"2001-04-08"},{"$f":"[5]Tabulka!F11","v":"Karviná- KLUBsten KST"},{"$f":"[5]Tabulka!G11","v":"KA"},{"$f":"[5]Tabulka!H11","v":100},{"$f":"+[5]Tabulka!AU11","v":0},{"$f":"+[5]Tabulka!AV11","v":{"v":0,"d":"0.00"}},{"$f":"+[5]Tabulka!AW11","v":0},{"$f":"+[5]Tabulka!AX11","v":{"v":0,"d":"0.00"}},{"$f":"+[5]Tabulka!AY11","v":3},{"$f":"+[5]Tabulka!AZ11","v":{"v":4.101020071683792,"d":"4.10"}},{"$f":"+[5]Tabulka!BA11","v":4},{"$f":"+[5]Tabulka!BB11","v":{"v":3.8491245804252903,"d":"3.85"}},{"$f":"+[5]Tabulka!BC11","v":0},{"$f":"+[5]Tabulka!BD11","v":{"v":0,"d":"0.00"}},{"$f":"+[5]Tabulka!BE11","v":9},{"$f":"+[5]Tabulka!BF11","v":{"v":2.803575987529016,"d":"2.80"}},{"$f":"+[5]Tabulka!BG11","v":10},{"$f":"+[5]Tabulka!BH11","v":{"v":2.6313729408930584,"d":"2.63"}},{"$f":"+[5]Tabulka!BI11","v":6},{"$f":"+[5]Tabulka!BJ11","v":{"v":3.3907995218454317,"d":"3.39"}},{"$f":"+[5]Tabulka!AP11","v":{"v":10.619912360113206,"d":"10.62"}},{"$f":"+[5]Tabulka!AQ11","v":{"v":1,"d":"1.00"}},{"$f":"+[5]Tabulka!BM11","v":{"v":16.77589310237659,"d":"16.78"}},{"$f":"+[5]Tabulka!BN11","v":5},{"$f":"+[5]Tabulka!BO11","v":{"v":16.77589310237659,"d":"16.78"}}]
["5",{"$f":"[5]Tabulka!C12","v":"MARTINKO"},{"$f":"[5]Tabulka!D12","v":"Tomáš"},{"$f":"[5]Tabulka!E12","v":"2002-07-07"},{"$f":"[5]Tabulka!F12","v":"Ostrava- Mittal TJ"},{"$f":"[5]Tabulka!G12","v":"OV"},{"$f":"[5]Tabulka!H12","v":100},{"$f":"+[5]Tabulka!AU12","v":1},{"$f":"+[5]Tabulka!AV12","v":{"v":4.655343691373548,"d":"4.66"}},{"$f":"+[5]Tabulka!AW12","v":0},{"$f":"+[5]Tabulka!AX12","v":{"v":0,"d":"0.00"}},{"$f":"+[5]Tabulka!AY12","v":1},{"$f":"+[5]Tabulka!AZ12","v":{"v":4.655343691373548,"d":"4.66"}},{"$f":"+[5]Tabulka!BA12","v":0},{"$f":"+[5]Tabulka!BB12","v":{"v":0,"d":"0.00"}},{"$f":"+[5]Tabulka!BC12","v":1},{"$f":"+[5]Tabulka!BD12","v":{"v":4.655343691373548,"d":"4.66"}},{"$f":"+[5]Tabulka!BE12","v":0},{"$f":"+[5]Tabulka!BF12","v":{"v":0,"d":"0.00"}},{"$f":"+[5]Tabulka!BG12","v":0},{"$f":"+[5]Tabulka!BH12","v":{"v":0,"d":"0.00"}},{"$f":"+[5]Tabulka!BI12","v":0},{"$f":"+[5]Tabulka!BJ12","v":{"v":0,"d":"0.00"}},{"$f":"+[5]Tabulka!AP12","v":{"v":60.05393361871877,"d":"60.05"}},{"$f":"+[5]Tabulka!AQ12","v":{"v":3,"d":"3.00"}},{"$f":"+[5]Tabulka!BM12","v":{"v":13.966031074120643,"d":"13.97"}},{"$f":"+[5]Tabulka!BN12","v":3},{"$f":"+[5]Tabulka!BO12","v":{"v":13.966031074120643,"d":"13.97"}}]
["6",{"$f":"[5]Tabulka!C13","v":"SIWIEC"},{"$f":"[5]Tabulka!D13","v":"Matěj"},{"$f":"[5]Tabulka!E13","v":"2001-04-17"},{"$f":"[5]Tabulka!F13","v":"Karviná- KLUBsten KST"},{"$f":"[5]Tabulka!G13","v":"KA"},{"$f":"[5]Tabulka!H13","v":100},{"$f":"+[5]Tabulka!AU13","v":0},{"$f":"+[5]Tabulka!AV13","v":{"v":0,"d":"0.00"}},{"$f":"+[5]Tabulka!AW13","v":0},{"$f":"+[5]Tabulka!AX13","v":{"v":0,"d":"0.00"}},{"$f":"+[5]Tabulka!AY13","v":0},{"$f":"+[5]Tabulka!AZ13","v":{"v":0,"d":"0.00"}},{"$f":"+[5]Tabulka!BA13","v":0},{"$f":"+[5]Tabulka!BB13","v":{"v":0,"d":"0.00"}},{"$f":"+[5]Tabulka!BC13","v":0},{"$f":"+[5]Tabulka!BD13","v":{"v":0,"d":"0.00"}},{"$f":"+[5]Tabulka!BE13","v":2},{"$f":"+[5]Tabulka!BF13","v":{"v":4.369400178389413,"d":"4.37"}},{"$f":"+[5]Tabulka!BG13","v":1},{"$f":"+[5]Tabulka!BH13","v":{"v":4.655343691373548,"d":"4.66"}},{"$f":"+[5]Tabulka!BI13","v":2},{"$f":"+[5]Tabulka!BJ13","v":{"v":4.369400178389413,"d":"4.37"}},{"$f":"+[5]Tabulka!AP13","v":{"v":56.36526230122343,"d":"56.37"}},{"$f":"+[5]Tabulka!AQ13","v":{"v":3,"d":"3.00"}},{"$f":"+[5]Tabulka!BM13","v":{"v":13.394144048152373,"d":"13.39"}},{"$f":"+[5]Tabulka!BN13","v":3},{"$f":"+[5]Tabulka!BO13","v":{"v":13.394144048152373,"d":"13.39"}}]
["6",{"$f":"[5]Tabulka!C14","v":"TEŠNAR"},{"$f":"[5]Tabulka!D14","v":"Oskar"},{"$f":"[5]Tabulka!E14","v":"2001-01-01"},{"$f":"[5]Tabulka!F14","v":"Děhylov- Sokol TJ"},{"$f":"[5]Tabulka!G14","v":"OP"},{"$f":"[5]Tabulka!H14","v":0},{"$f":"+[5]Tabulka!AU14","v":2},{"$f":"+[5]Tabulka!AV14","v":{"v":4.369400178389413,"d":"4.37"}},{"$f":"+[5]Tabulka!AW14","v":2},{"$f":"+[5]Tabulka!AX14","v":{"v":4.369400178389413,"d":"4.37"}},{"$f":"+[5]Tabulka!AY14","v":0},{"$f":"+[5]Tabulka!AZ14","v":{"v":0,"d":"0.00"}},{"$f":"+[5]Tabulka!BA14","v":0},{"$f":"+[5]Tabulka!BB14","v":{"v":0,"d":"0.00"}},{"$f":"+[5]Tabulka!BC14","v":3},{"$f":"+[5]Tabulka!BD14","v":{"v":4.101020071683792,"d":"4.10"}},{"$f":"+[5]Tabulka!BE14","v":0},{"$f":"+[5]Tabulka!BF14","v":{"v":0,"d":"0.00"}},{"$f":"+[5]Tabulka!BG14","v":0},{"$f":"+[5]Tabulka!BH14","v":{"v":0,"d":"0.00"}},{"$f":"+[5]Tabulka!BI14","v":0},{"$f":"+[5]Tabulka!BJ14","v":{"v":0,"d":"0.00"}},{"$f":"+[5]Tabulka!AP14","v":{"v":0,"d":"0.00"}},{"$f":"+[5]Tabulka!AQ14","v":{"v":0,"d":"0.00"}},{"$f":"+[5]Tabulka!BM14","v":{"v":12.83982042846262,"d":"12.84"}},{"$f":"+[5]Tabulka!BN14","v":3},{"$f":"+[5]Tabulka!BO14","v":{"v":12.83982042846262,"d":"12.84"}}]
["7",{"$f":"[5]Tabulka!C15","v":"NOVÁK"},{"$f":"[5]Tabulka!D15","v":"Adam"},{"$f":"[5]Tabulka!E15","v":"2001-07-22"},{"$f":"[5]Tabulka!F15","v":"Karviná- KLUBsten KST"},{"$f":"[5]Tabulka!G15","v":"KA"},{"$f":"[5]Tabulka!H15","v":100},{"$f":"+[5]Tabulka!AU15","v":0},{"$f":"+[5]Tabulka!AV15","v":{"v":0,"d":"0.00"}},{"$f":"+[5]Tabulka!AW15","v":7},{"$f":"+[5]Tabulka!AX15","v":{"v":3.1825276537773326,"d":"3.18"}},{"$f":"+[5]Tabulka!AY15","v":5},{"$f":"+[5]Tabulka!AZ15","v":{"v":3.6127011759664778,"d":"3.61"}},{"$f":"+[5]Tabulka!BA15","v":0},{"$f":"+[5]Tabulka!BB15","v":{"v":0,"d":"0.00"}},{"$f":"+[5]Tabulka!BC15","v":3},{"$f":"+[5]Tabulka!BD15","v":{"v":4.101020071683792,"d":"4.10"}},{"$f":"+[5]Tabulka!BE15","v":0},{"$f":"+[5]Tabulka!BF15","v":{"v":0,"d":"0.00"}},{"$f":"+[5]Tabulka!BG15","v":0},{"$f":"+[5]Tabulka!BH15","v":{"v":0,"d":"0.00"}},{"$f":"+[5]Tabulka!BI15","v":0},{"$f":"+[5]Tabulka!BJ15","v":{"v":0,"d":"0.00"}},{"$f":"+[5]Tabulka!AP15","v":{"v":8.241404376466553,"d":"8.24"}},{"$f":"+[5]Tabulka!AQ15","v":{"v":1,"d":"1.00"}},{"$f":"+[5]Tabulka!BM15","v":{"v":10.896248901427603,"d":"10.90"}},{"$f":"+[5]Tabulka!BN15","v":3},{"$f":"+[5]Tabulka!BO15","v":{"v":10.896248901427603,"d":"10.90"}}]
["8",{"$f":"[5]Tabulka!C16","v":"FLORKOVÁ"},{"$f":"[5]Tabulka!D16","v":"Adéla"},{"$f":"[5]Tabulka!E16","v":"2001-09-04"},{"$f":"[5]Tabulka!F16","v":"Orlová- Siko TTC"},{"$f":"[5]Tabulka!G16","v":"KA"},{"$f":"[5]Tabulka!H16","v":100},{"$f":"+[5]Tabulka!AU16","v":5},{"$f":"+[5]Tabulka!AV16","v":{"v":3.6127011759664778,"d":"3.61"}},{"$f":"+[5]Tabulka!AW16","v":5},{"$f":"+[5]Tabulka!AX16","v":{"v":3.6127011759664778,"d":"3.61"}},{"$f":"+[5]Tabulka!AY16","v":0},{"$f":"+[5]Tabulka!AZ16","v":{"v":0,"d":"0.00"}},{"$f":"+[5]Tabulka!BA16","v":5},{"$f":"+[5]Tabulka!BB16","v":{"v":3.6127011759664778,"d":"3.61"}},{"$f":"+[5]Tabulka!BC16","v":0},{"$f":"+[5]Tabulka!BD16","v":{"v":0,"d":"0.00"}},{"$f":"+[5]Tabulka!BE16","v":0},{"$f":"+[5]Tabulka!BF16","v":{"v":0,"d":"0.00"}},{"$f":"+[5]Tabulka!BG16","v":0},{"$f":"+[5]Tabulka!BH16","v":{"v":0,"d":"0.00"}},{"$f":"+[5]Tabulka!BI16","v":0},{"$f":"+[5]Tabulka!BJ16","v":{"v":0,"d":"0.00"}},{"$f":"+[5]Tabulka!AP16","v":{"v":0,"d":"0.00"}},{"$f":"+[5]Tabulka!AQ16","v":{"v":0,"d":"0.00"}},{"$f":"+[5]Tabulka!BM16","v":{"v":10.838103527899433,"d":"10.84"}},{"$f":"+[5]Tabulka!BN16","v":3},{"$f":"+[5]Tabulka!BO16","v":{"v":10.838103527899433,"d":"10.84"}}]
["9",{"$f":"[5]Tabulka!C17","v":"LUKOSZ"},{"$f":"[5]Tabulka!D17","v":"Richard"},{"$f":"[5]Tabulka!E17","v":"2002-08-28"},{"$f":"[5]Tabulka!F17","v":"Orlová- Siko TTC"},{"$f":"[5]Tabulka!G17","v":"KA"},{"$f":"[5]Tabulka!H17","v":100},{"$f":"+[5]Tabulka!AU17","v":4},{"$f":"+[5]Tabulka!AV17","v":{"v":3.8491245804252903,"d":"3.85"}},{"$f":"+[5]Tabulka!AW17","v":6},{"$f":"+[5]Tabulka!AX17","v":{"v":3.3907995218454317,"d":"3.39"}},{"$f":"+[5]Tabulka!AY17","v":6},{"$f":"+[5]Tabulka!AZ17","v":{"v":3.3907995218454317,"d":"3.39"}},{"$f":"+[5]Tabulka!BA17","v":0},{"$f":"+[5]Tabulka!BB17","v":{"v":0,"d":"0.00"}},{"$f":"+[5]Tabulka!BC17","v":0},{"$f":"+[5]Tabulka!BD17","v":{"v":0,"d":"0.00"}},{"$f":"+[5]Tabulka!BE17","v":0},{"$f":"+[5]Tabulka!BF17","v":{"v":0,"d":"0.00"}},{"$f":"+[5]Tabulka!BG17","v":0},{"$f":"+[5]Tabulka!BH17","v":{"v":0,"d":"0.00"}},{"$f":"+[5]Tabulka!BI17","v":0},{"$f":"+[5]Tabulka!BJ17","v":{"v":0,"d":"0.00"}},{"$f":"+[5]Tabulka!AP17","v":{"v":0,"d":"0.00"}},{"$f":"+[5]Tabulka!AQ17","v":{"v":0,"d":"0.00"}},{"$f":"+[5]Tabulka!BM17","v":{"v":10.630723624116154,"d":"10.63"}},{"$f":"+[5]Tabulka!BN17","v":3},{"$f":"+[5]Tabulka!BO17","v":{"v":10.630723624116154,"d":"10.63"}}]
["10",{"$f":"[5]Tabulka!C18","v":"RASZKA"},{"$f":"[5]Tabulka!D18","v":"Filip"},{"$f":"[5]Tabulka!E18","v":"2002-01-01"},{"$f":"[5]Tabulka!F18","v":"Orlová- Slávie SK"},{"$f":"[5]Tabulka!G18","v":"KA"},{"$f":"[5]Tabulka!H18","v":0},{"$f":"+[5]Tabulka!AU18","v":6},{"$f":"+[5]Tabulka!AV18","v":{"v":3.3907995218454317,"d":"3.39"}},{"$f":"+[5]Tabulka!AW18","v":0},{"$f":"+[5]Tabulka!AX18","v":{"v":0,"d":"0.00"}},{"$f":"+[5]Tabulka!AY18","v":0},{"$f":"+[5]Tabulka!AZ18","v":{"v":0,"d":"0.00"}},{"$f":"+[5]Tabulka!BA18","v":6},{"$f":"+[5]Tabulka!BB18","v":{"v":3.3907995218454317,"d":"3.39"}},{"$f":"+[5]Tabulka!BC18","v":7},{"$f":"+[5]Tabulka!BD18","v":{"v":3.1825276537773326,"d":"3.18"}},{"$f":"+[5]Tabulka!BE18","v":0},{"$f":"+[5]Tabulka!BF18","v":{"v":0,"d":"0.00"}},{"$f":"+[5]Tabulka!BG18","v":0},{"$f":"+[5]Tabulka!BH18","v":{"v":0,"d":"0.00"}},{"$f":"+[5]Tabulka!BI18","v":0},{"$f":"+[5]Tabulka!BJ18","v":{"v":0,"d":"0.00"}},{"$f":"+[5]Tabulka!AP18","v":{"v":0,"d":"0.00"}},{"$f":"+[5]Tabulka!AQ18","v":{"v":0,"d":"0.00"}},{"$f":"+[5]Tabulka!BM18","v":{"v":9.964126697468195,"d":"9.96"}},{"$f":"+[5]Tabulka!BN18","v":3},{"$f":"+[5]Tabulka!BO18","v":{"v":9.964126697468195,"d":"9.96"}}]
["11",{"$f":"[5]Tabulka!C19","v":"BURDEK"},{"$f":"[5]Tabulka!D19","v":"Filip"},{"$f":"[5]Tabulka!E19","v":"2001-01-01"},91,{"$f":"[5]Tabulka!G19","v":"KA"},{"$f":"[5]Tabulka!H19","v":0},{"$f":"+[5]Tabulka!AU19","v":0},{"$f":"+[5]Tabulka!AV19","v":{"v":0,"d":"0.00"}},{"$f":"+[5]Tabulka!AW19","v":0},{"$f":"+[5]Tabulka!AX19","v":{"v":0,"d":"0.00"}},{"$f":"+[5]Tabulka!AY19","v":9},{"$f":"+[5]Tabulka!AZ19","v":{"v":2.803575987529016,"d":"2.80"}},{"$f":"+[5]Tabulka!BA19","v":10},{"$f":"+[5]Tabulka!BB19","v":{"v":2.6313729408930584,"d":"2.63"}},{"$f":"+[5]Tabulka!BC19","v":6},{"$f":"+[5]Tabulka!BD19","v":{"v":3.3907995218454317,"d":"3.39"}},{"$f":"+[5]Tabulka!BE19","v":0},{"$f":"+[5]Tabulka!BF19","v":{"v":0,"d":"0.00"}},{"$f":"+[5]Tabulka!BG19","v":0},{"$f":"+[5]Tabulka!BH19","v":{"v":0,"d":"0.00"}},{"$f":"+[5]Tabulka!BI19","v":0},{"$f":"+[5]Tabulka!BJ19","v":{"v":0,"d":"0.00"}},{"$f":"+[5]Tabulka!AP19","v":{"v":0,"d":"0.00"}},{"$f":"+[5]Tabulka!AQ19","v":{"v":0,"d":"0.00"}},{"$f":"+[5]Tabulka!BM19","v":{"v":8.825748450267506,"d":"8.83"}},{"$f":"+[5]Tabulka!BN19","v":3},{"$f":"+[5]Tabulka!BO19","v":{"v":8.825748450267506,"d":"8.83"}}]
["12",{"$f":"[5]Tabulka!C20","v":"WILCZEK"},{"$f":"[5]Tabulka!D20","v":"Jakub"},{"$f":"[5]Tabulka!E20","v":"2004-03-30"},{"$f":"[5]Tabulka!F20","v":"Karviná- KLUBsten KST"},{"$f":"[5]Tabulka!G20","v":"KA"},{"$f":"[5]Tabulka!H20","v":100},{"$f":"+[5]Tabulka!AU20","v":0},{"$f":"+[5]Tabulka!AV20","v":{"v":0,"d":"0.00"}},{"$f":"+[5]Tabulka!AW20","v":0},{"$f":"+[5]Tabulka!AX20","v":{"v":0,"d":"0.00"}},{"$f":"+[5]Tabulka!AY20","v":7},{"$f":"+[5]Tabulka!AZ20","v":{"v":3.1825276537773326,"d":"3.18"}},{"$f":"+[5]Tabulka!BA20","v":7},{"$f":"+[5]Tabulka!BB20","v":{"v":3.1825276537773326,"d":"3.18"}},{"$f":"+[5]Tabulka!BC20","v":0},{"$f":"+[5]Tabulka!BD20","v":{"v":0,"d":"0.00"}},{"$f":"+[5]Tabulka!BE20","v":0},{"$f":"+[5]Tabulka!BF20","v":{"v":0,"d":"0.00"}},{"$f":"+[5]Tabulka!BG20","v":14},{"$f":"+[5]Tabulka!BH20","v":{"v":2.0420327151325517,"d":"2.04"}},{"$f":"+[5]Tabulka!BI20","v":12},{"$f":"+[5]Tabulka!BJ20","v":{"v":2.3180486688200013,"d":"2.32"}},{"$f":"+[5]Tabulka!AP20","v":{"v":17.596776747587235,"d":"17.60"}},{"$f":"+[5]Tabulka!AQ20","v":{"v":2,"d":"2.00"}},{"$f":"+[5]Tabulka!BM20","v":{"v":10.725136691507219,"d":"10.73"}},{"$f":"+[5]Tabulka!BN20","v":4},{"$f":"+[5]Tabulka!BO20","v":{"v":8.683103976374667,"d":"8.68"}}]
["11",{"$f":"[5]Tabulka!C21","v":"VALDMANN"},{"$f":"[5]Tabulka!D21","v":"Martin"},{"$f":"[5]Tabulka!E21","v":"2001-01-01"},{"$f":"[5]Tabulka!F21","v":"Děhylov- Sokol TJ"},{"$f":"[5]Tabulka!G21","v":"OV"},{"$f":"[5]Tabulka!H21","v":0},{"$f":"+[5]Tabulka!AU21","v":0},{"$f":"+[5]Tabulka!AV21","v":{"v":0,"d":"0.00"}},{"$f":"+[5]Tabulka!AW21","v":3},{"$f":"+[5]Tabulka!AX21","v":{"v":4.101020071683792,"d":"4.10"}},{"$f":"+[5]Tabulka!AY21","v":3},{"$f":"+[5]Tabulka!AZ21","v":{"v":4.101020071683792,"d":"4.10"}},{"$f":"+[5]Tabulka!BA21","v":0},{"$f":"+[5]Tabulka!BB21","v":{"v":0,"d":"0.00"}},{"$f":"+[5]Tabulka!BC21","v":0},{"$f":"+[5]Tabulka!BD21","v":{"v":0,"d":"0.00"}},{"$f":"+[5]Tabulka!BE21","v":0},{"$f":"+[5]Tabulka!BF21","v":{"v":0,"d":"0.00"}},{"$f":"+[5]Tabulka!BG21","v":0},{"$f":"+[5]Tabulka!BH21","v":{"v":0,"d":"0.00"}},{"$f":"+[5]Tabulka!BI21","v":0},{"$f":"+[5]Tabulka!BJ21","v":{"v":0,"d":"0.00"}},{"$f":"+[5]Tabulka!AP21","v":{"v":0,"d":"0.00"}},{"$f":"+[5]Tabulka!AQ21","v":{"v":0,"d":"0.00"}},{"$f":"+[5]Tabulka!BM21","v":{"v":8.202040143367585,"d":"8.20"}},{"$f":"+[5]Tabulka!BN21","v":2},{"$f":"+[5]Tabulka!BO21","v":{"v":8.202040143367585,"d":"8.20"}}]
["13",{"$f":"[5]Tabulka!C22","v":"LARYŠ"},{"$f":"[5]Tabulka!D22","v":"Vojtěch"},{"$f":"[5]Tabulka!E22","v":"2003-10-10"},{"$f":"[5]Tabulka!F22","v":"Karviná- KLUBsten KST"},{"$f":"[5]Tabulka!G22","v":"KA"},{"$f":"[5]Tabulka!H22","v":100},{"$f":"+[5]Tabulka!AU22","v":0},{"$f":"+[5]Tabulka!AV22","v":{"v":0,"d":"0.00"}},{"$f":"+[5]Tabulka!AW22","v":0},{"$f":"+[5]Tabulka!AX22","v":{"v":0,"d":"0.00"}},{"$f":"+[5]Tabulka!AY22","v":10},{"$f":"+[5]Tabulka!AZ22","v":{"v":2.6313729408930584,"d":"2.63"}},{"$f":"+[5]Tabulka!BA22","v":0},{"$f":"+[5]Tabulka!BB22","v":{"v":0,"d":"0.00"}},{"$f":"+[5]Tabulka!BC22","v":5},{"$f":"+[5]Tabulka!BD22","v":{"v":3.6127011759664778,"d":"3.61"}},{"$f":"+[5]Tabulka!BE22","v":0},{"$f":"+[5]Tabulka!BF22","v":{"v":0,"d":"0.00"}},{"$f":"+[5]Tabulka!BG22","v":15},{"$f":"+[5]Tabulka!BH22","v":{"v":1.91660566894571,"d":"1.92"}},{"$f":"+[5]Tabulka!BI22","v":0},{"$f":"+[5]Tabulka!BJ22","v":{"v":0,"d":"0.00"}},{"$f":"+[5]Tabulka!AP22","v":{"v":0,"d":"0.00"}},{"$f":"+[5]Tabulka!AQ22","v":{"v":0,"d":"0.00"}},{"$f":"+[5]Tabulka!BM22","v":{"v":8.160679785805247,"d":"8.16"}},{"$f":"+[5]Tabulka!BN22","v":3},{"$f":"+[5]Tabulka!BO22","v":{"v":8.160679785805247,"d":"8.16"}}]
["14",{"$f":"[5]Tabulka!C23","v":"GALGANÁK"},{"$f":"[5]Tabulka!D23","v":"Adam"},{"$f":"[5]Tabulka!E23","v":"2002-05-10"},{"$f":"[5]Tabulka!F23","v":"Orlová- Siko TTC"},{"$f":"[5]Tabulka!G23","v":"KA"},{"$f":"[5]Tabulka!H23","v":100},{"$f":"+[5]Tabulka!AU23","v":0},{"$f":"+[5]Tabulka!AV23","v":{"v":0,"d":"0.00"}},{"$f":"+[5]Tabulka!AW23","v":11},{"$f":"+[5]Tabulka!AX23","v":{"v":2.4697470604914433,"d":"2.47"}},{"$f":"+[5]Tabulka!AY23","v":12},{"$f":"+[5]Tabulka!AZ23","v":{"v":2.3180486688200013,"d":"2.32"}},{"$f":"+[5]Tabulka!BA23","v":8},{"$f":"+[5]Tabulka!BB23","v":{"v":2.987048394281082,"d":"2.99"}},{"$f":"+[5]Tabulka!BC23","v":0},{"$f":"+[5]Tabulka!BD23","v":{"v":0,"d":"0.00"}},{"$f":"+[5]Tabulka!BE23","v":0},{"$f":"+[5]Tabulka!BF23","v":{"v":0,"d":"0.00"}},{"$f":"+[5]Tabulka!BG23","v":0},{"$f":"+[5]Tabulka!BH23","v":{"v":0,"d":"0.00"}},{"$f":"+[5]Tabulka!BI23","v":0},{"$f":"+[5]Tabulka!BJ23","v":{"v":0,"d":"0.00"}},{"$f":"+[5]Tabulka!AP23","v":{"v":0,"d":"0.00"}},{"$f":"+[5]Tabulka!AQ23","v":{"v":0,"d":"0.00"}},{"$f":"+[5]Tabulka!BM23","v":{"v":7.774844123592526,"d":"7.77"}},{"$f":"+[5]Tabulka!BN23","v":3},{"$f":"+[5]Tabulka!BO23","v":{"v":7.774844123592526,"d":"7.77"}}]
["13",{"$f":"[5]Tabulka!C24","v":"ŠEVČÍK"},{"$f":"[5]Tabulka!D24","v":"Tomáš"},{"$f":"[5]Tabulka!E24","v":"2001-08-29"},{"$f":"[5]Tabulka!F24","v":"Kravaře- SK TJ"},{"$f":"[5]Tabulka!G24","v":"OP"},{"$f":"[5]Tabulka!H24","v":100},{"$f":"+[5]Tabulka!AU24","v":0},{"$f":"+[5]Tabulka!AV24","v":{"v":0,"d":"0.00"}},{"$f":"+[5]Tabulka!AW24","v":0},{"$f":"+[5]Tabulka!AX24","v":{"v":0,"d":"0.00"}},{"$f":"+[5]Tabulka!AY24","v":4},{"$f":"+[5]Tabulka!AZ24","v":{"v":3.8491245804252903,"d":"3.85"}},{"$f":"+[5]Tabulka!BA24","v":0},{"$f":"+[5]Tabulka!BB24","v":{"v":0,"d":"0.00"}},{"$f":"+[5]Tabulka!BC24","v":4},{"$f":"+[5]Tabulka!BD24","v":{"v":3.8491245804252903,"d":"3.85"}},{"$f":"+[5]Tabulka!BE24","v":0},{"$f":"+[5]Tabulka!BF24","v":{"v":0,"d":"0.00"}},{"$f":"+[5]Tabulka!BG24","v":0},{"$f":"+[5]Tabulka!BH24","v":{"v":0,"d":"0.00"}},{"$f":"+[5]Tabulka!BI24","v":0},{"$f":"+[5]Tabulka!BJ24","v":{"v":0,"d":"0.00"}},{"$f":"+[5]Tabulka!AP24","v":{"v":0,"d":"0.00"}},{"$f":"+[5]Tabulka!AQ24","v":{"v":0,"d":"0.00"}},{"$f":"+[5]Tabulka!BM24","v":{"v":7.6982491608505805,"d":"7.70"}},{"$f":"+[5]Tabulka!BN24","v":2},{"$f":"+[5]Tabulka!BO24","v":{"v":7.6982491608505805,"d":"7.70"}}]
["15",{"$f":"[5]Tabulka!C25","v":"MACURÁK"},{"$f":"[5]Tabulka!D25","v":"Michal"},{"$f":"[5]Tabulka!E25","v":"2002-11-30"},{"$f":"[5]Tabulka!F25","v":"Havířov- Baník SKST"},{"$f":"[5]Tabulka!G25","v":"KA"},{"$f":"[5]Tabulka!H25","v":100},{"$f":"+[5]Tabulka!AU25","v":0},{"$f":"+[5]Tabulka!AV25","v":{"v":0,"d":"0.00"}},{"$f":"+[5]Tabulka!AW25","v":8},{"$f":"+[5]Tabulka!AX25","v":{"v":2.987048394281082,"d":"2.99"}},{"$f":"+[5]Tabulka!AY25","v":8},{"$f":"+[5]Tabulka!AZ25","v":{"v":2.987048394281082,"d":"2.99"}},{"$f":"+[5]Tabulka!BA25","v":0},{"$f":"+[5]Tabulka!BB25","v":{"v":0,"d":"0.00"}},{"$f":"+[5]Tabulka!BC25","v":0},{"$f":"+[5]Tabulka!BD25","v":{"v":0,"d":"0.00"}},{"$f":"+[5]Tabulka!BE25","v":0},{"$f":"+[5]Tabulka!BF25","v":{"v":0,"d":"0.00"}},{"$f":"+[5]Tabulka!BG25","v":0},{"$f":"+[5]Tabulka!BH25","v":{"v":0,"d":"0.00"}},{"$f":"+[5]Tabulka!BI25","v":0},{"$f":"+[5]Tabulka!BJ25","v":{"v":0,"d":"0.00"}},{"$f":"+[5]Tabulka!AP25","v":{"v":0,"d":"0.00"}},{"$f":"+[5]Tabulka!AQ25","v":{"v":0,"d":"0.00"}},{"$f":"+[5]Tabulka!BM25","v":{"v":5.974096788562164,"d":"5.97"}},{"$f":"+[5]Tabulka!BN25","v":2},{"$f":"+[5]Tabulka!BO25","v":{"v":5.974096788562164,"d":"5.97"}}]
["15",{"$f":"[5]Tabulka!C26","v":"OSMANČÍK"},{"$f":"[5]Tabulka!D26","v":"Jakub"},{"$f":"[5]Tabulka!E26","v":"2002-04-02"},{"$f":"[5]Tabulka!F26","v":"Děhylov- Sokol TJ"},{"$f":"[5]Tabulka!G26","v":"OP"},{"$f":"[5]Tabulka!H26","v":100},{"$f":"+[5]Tabulka!AU26","v":0},{"$f":"+[5]Tabulka!AV26","v":{"v":0,"d":"0.00"}},{"$f":"+[5]Tabulka!AW26","v":0},{"$f":"+[5]Tabulka!AX26","v":{"v":0,"d":"0.00"}},{"$f":"+[5]Tabulka!AY26","v":0},{"$f":"+[5]Tabulka!AZ26","v":{"v":0,"d":"0.00"}},{"$f":"+[5]Tabulka!BA26","v":8},{"$f":"+[5]Tabulka!BB26","v":{"v":2.987048394281082,"d":"2.99"}},{"$f":"+[5]Tabulka!BC26","v":8},{"$f":"+[5]Tabulka!BD26","v":{"v":2.987048394281082,"d":"2.99"}},{"$f":"+[5]Tabulka!BE26","v":0},{"$f":"+[5]Tabulka!BF26","v":{"v":0,"d":"0.00"}},{"$f":"+[5]Tabulka!BG26","v":0},{"$f":"+[5]Tabulka!BH26","v":{"v":0,"d":"0.00"}},{"$f":"+[5]Tabulka!BI26","v":0},{"$f":"+[5]Tabulka!BJ26","v":{"v":0,"d":"0.00"}},{"$f":"+[5]Tabulka!AP26","v":{"v":0,"d":"0.00"}},{"$f":"+[5]Tabulka!AQ26","v":{"v":0,"d":"0.00"}},{"$f":"+[5]Tabulka!BM26","v":{"v":5.974096788562164,"d":"5.97"}},{"$f":"+[5]Tabulka!BN26","v":2},{"$f":"+[5]Tabulka!BO26","v":{"v":5.974096788562164,"d":"5.97"}}]
["16",{"$f":"[5]Tabulka!C27","v":"CZOLKO"},{"$f":"[5]Tabulka!D27","v":"Daniel"},{"$f":"[5]Tabulka!E27","v":"2002-06-08"},{"$f":"[5]Tabulka!F27","v":"Orlová- Siko TTC"},{"$f":"[5]Tabulka!G27","v":"KA"},{"$f":"[5]Tabulka!H27","v":100},{"$f":"+[5]Tabulka!AU27","v":0},{"$f":"+[5]Tabulka!AV27","v":{"v":0,"d":"0.00"}},{"$f":"+[5]Tabulka!AW27","v":10},{"$f":"+[5]Tabulka!AX27","v":{"v":2.6313729408930584,"d":"2.63"}},{"$f":"+[5]Tabulka!AY27","v":0},{"$f":"+[5]Tabulka!AZ27","v":{"v":0,"d":"0.00"}},{"$f":"+[5]Tabulka!BA27","v":9},{"$f":"+[5]Tabulka!BB27","v":{"v":2.803575987529016,"d":"2.80"}},{"$f":"+[5]Tabulka!BC27","v":0},{"$f":"+[5]Tabulka!BD27","v":{"v":0,"d":"0.00"}},{"$f":"+[5]Tabulka!BE27","v":0},{"$f":"+[5]Tabulka!BF27","v":{"v":0,"d":"0.00"}},{"$f":"+[5]Tabulka!BG27","v":0},{"$f":"+[5]Tabulka!BH27","v":{"v":0,"d":"0.00"}},{"$f":"+[5]Tabulka!BI27","v":0},{"$f":"+[5]Tabulka!BJ27","v":{"v":0,"d":"0.00"}},{"$f":"+[5]Tabulka!AP27","v":{"v":0,"d":"0.00"}},{"$f":"+[5]Tabulka!AQ27","v":{"v":0,"d":"0.00"}},{"$f":"+[5]Tabulka!BM27","v":{"v":5.434948928422074,"d":"5.43"}},{"$f":"+[5]Tabulka!BN27","v":2},{"$f":"+[5]Tabulka!BO27","v":{"v":5.434948928422074,"d":"5.43"}}]
["17",{"$f":"[5]Tabulka!C28","v":"WITOSZOVÁ"},{"$f":"[5]Tabulka!D28","v":"Klára"},{"$f":"[5]Tabulka!E28","v":"2003-09-25"},{"$f":"[5]Tabulka!F28","v":"Havířov- Baník SKST"},{"$f":"[5]Tabulka!G28","v":"KA"},{"$f":"[5]Tabulka!H28","v":100},{"$f":"+[5]Tabulka!AU28","v":0},{"$f":"+[5]Tabulka!AV28","v":{"v":0,"d":"0.00"}},{"$f":"+[5]Tabulka!AW28","v":9},{"$f":"+[5]Tabulka!AX28","v":{"v":2.803575987529016,"d":"2.80"}},{"$f":"+[5]Tabulka!AY28","v":11},{"$f":"+[5]Tabulka!AZ28","v":{"v":2.4697470604914433,"d":"2.47"}},{"$f":"+[5]Tabulka!BA28","v":0},{"$f":"+[5]Tabulka!BB28","v":{"v":0,"d":"0.00"}},{"$f":"+[5]Tabulka!BC28","v":0},{"$f":"+[5]Tabulka!BD28","v":{"v":0,"d":"0.00"}},{"$f":"+[5]Tabulka!BE28","v":0},{"$f":"+[5]Tabulka!BF28","v":{"v":0,"d":"0.00"}},{"$f":"+[5]Tabulka!BG28","v":0},{"$f":"+[5]Tabulka!BH28","v":{"v":0,"d":"0.00"}},{"$f":"+[5]Tabulka!BI28","v":0},{"$f":"+[5]Tabulka!BJ28","v":{"v":0,"d":"0.00"}},{"$f":"+[5]Tabulka!AP28","v":{"v":0,"d":"0.00"}},{"$f":"+[5]Tabulka!AQ28","v":{"v":0,"d":"0.00"}},{"$f":"+[5]Tabulka!BM28","v":{"v":5.273323048020459,"d":"5.27"}},{"$f":"+[5]Tabulka!BN28","v":2},{"$f":"+[5]Tabulka!BO28","v":{"v":5.273323048020459,"d":"5.27"}}]
[null,{"$f":"[5]Tabulka!C29","v":"ONDERKA"},{"$f":"[5]Tabulka!D29","v":"František"},{"$f":"[5]Tabulka!E29","v":"2002-02-27"},{"$f":"[5]Tabulka!F29","v":"Opava- KST Slezan "},{"$f":"[5]Tabulka!G29","v":"OP"},{"$f":"[5]Tabulka!H29","v":100},{"$f":"+[5]Tabulka!AU29","v":0},{"$f":"+[5]Tabulka!AV29","v":{"v":0,"d":"0.00"}},{"$f":"+[5]Tabulka!AW29","v":0},{"$f":"+[5]Tabulka!AX29","v":{"v":0,"d":"0.00"}},{"$f":"+[5]Tabulka!AY29","v":0},{"$f":"+[5]Tabulka!AZ29","v":{"v":0,"d":"0.00"}},{"$f":"+[5]Tabulka!BA29","v":2},{"$f":"+[5]Tabulka!BB29","v":{"v":4.369400178389413,"d":"4.37"}},{"$f":"+[5]Tabulka!BC29","v":0},{"$f":"+[5]Tabulka!BD29","v":{"v":0,"d":"0.00"}},{"$f":"+[5]Tabulka!BE29","v":0},{"$f":"+[5]Tabulka!BF29","v":{"v":0,"d":"0.00"}},{"$f":"+[5]Tabulka!BG29","v":0},{"$f":"+[5]Tabulka!BH29","v":{"v":0,"d":"0.00"}},{"$f":"+[5]Tabulka!BI29","v":0},{"$f":"+[5]Tabulka!BJ29","v":{"v":0,"d":"0.00"}},{"$f":"+[5]Tabulka!AP29","v":{"v":44.816542551006634,"d":"44.82"}},{"$f":"+[5]Tabulka!AQ29","v":{"v":3,"d":"3.00"}},{"$f":"+[5]Tabulka!BM29","v":{"v":4.369400178389413,"d":"4.37"}},{"$f":"+[5]Tabulka!BN29","v":1},{"$f":"+[5]Tabulka!BO29","v":{"v":4.369400178389413,"d":"4.37"}}]
["13",{"$f":"[5]Tabulka!C30","v":"DUDYS"},{"$f":"[5]Tabulka!D30","v":"Dominik"},{"$f":"[5]Tabulka!E30","v":"2001-09-28"},{"$f":"[5]Tabulka!F30","v":"Třinec- TŽ TJ"},{"$f":"[5]Tabulka!G30","v":"FM"},{"$f":"[5]Tabulka!H30","v":100},{"$f":"+[5]Tabulka!AU30","v":0},{"$f":"+[5]Tabulka!AV30","v":{"v":0,"d":"0.00"}},{"$f":"+[5]Tabulka!AW30","v":0},{"$f":"+[5]Tabulka!AX30","v":{"v":0,"d":"0.00"}},{"$f":"+[5]Tabulka!AY30","v":0},{"$f":"+[5]Tabulka!AZ30","v":{"v":0,"d":"0.00"}},{"$f":"+[5]Tabulka!BA30","v":3},{"$f":"+[5]Tabulka!BB30","v":{"v":4.101020071683792,"d":"4.10"}},{"$f":"+[5]Tabulka!BC30","v":0},{"$f":"+[5]Tabulka!BD30","v":{"v":0,"d":"0.00"}},{"$f":"+[5]Tabulka!BE30","v":0},{"$f":"+[5]Tabulka!BF30","v":{"v":0,"d":"0.00"}},{"$f":"+[5]Tabulka!BG30","v":0},{"$f":"+[5]Tabulka!BH30","v":{"v":0,"d":"0.00"}},{"$f":"+[5]Tabulka!BI30","v":0},{"$f":"+[5]Tabulka!BJ30","v":{"v":0,"d":"0.00"}},{"$f":"+[5]Tabulka!AP30","v":{"v":0,"d":"0.00"}},{"$f":"+[5]Tabulka!AQ30","v":{"v":0,"d":"0.00"}},{"$f":"+[5]Tabulka!BM30","v":{"v":4.101020071683792,"d":"4.10"}},{"$f":"+[5]Tabulka!BN30","v":1},{"$f":"+[5]Tabulka!BO30","v":{"v":4.101020071683792,"d":"4.10"}}]
["18",{"$f":"[5]Tabulka!C31","v":"URBÁNEK"},{"$f":"[5]Tabulka!D31","v":"Filip"},{"$f":"[5]Tabulka!E31","v":"2001-05-31"},{"$f":"[5]Tabulka!F31","v":"Havířov- Baník SKST"},{"$f":"[5]Tabulka!G31","v":"KA"},{"$f":"[5]Tabulka!H31","v":100},{"$f":"+[5]Tabulka!AU31","v":0},{"$f":"+[5]Tabulka!AV31","v":{"v":0,"d":"0.00"}},{"$f":"+[5]Tabulka!AW31","v":3},{"$f":"+[5]Tabulka!AX31","v":{"v":4.101020071683792,"d":"4.10"}},{"$f":"+[5]Tabulka!AY31","v":0},{"$f":"+[5]Tabulka!AZ31","v":{"v":0,"d":"0.00"}},{"$f":"+[5]Tabulka!BA31","v":0},{"$f":"+[5]Tabulka!BB31","v":{"v":0,"d":"0.00"}},{"$f":"+[5]Tabulka!BC31","v":0},{"$f":"+[5]Tabulka!BD31","v":{"v":0,"d":"0.00"}},{"$f":"+[5]Tabulka!BE31","v":0},{"$f":"+[5]Tabulka!BF31","v":{"v":0,"d":"0.00"}},{"$f":"+[5]Tabulka!BG31","v":0},{"$f":"+[5]Tabulka!BH31","v":{"v":0,"d":"0.00"}},{"$f":"+[5]Tabulka!BI31","v":0},{"$f":"+[5]Tabulka!BJ31","v":{"v":0,"d":"0.00"}},{"$f":"+[5]Tabulka!AP31","v":{"v":28.49990410585388,"d":"28.50"}},{"$f":"+[5]Tabulka!AQ31","v":{"v":3,"d":"3.00"}},{"$f":"+[5]Tabulka!BM31","v":{"v":4.101020071683792,"d":"4.10"}},{"$f":"+[5]Tabulka!BN31","v":1},{"$f":"+[5]Tabulka!BO31","v":{"v":4.101020071683792,"d":"4.10"}}]
["14",{"$f":"[5]Tabulka!C32","v":"CIGÁN"},{"$f":"[5]Tabulka!D32","v":"Antonín"},{"$f":"[5]Tabulka!E32","v":"2002-08-30"},{"$f":"[5]Tabulka!F32","v":"Dolní Benešov- MSA TJ"},{"$f":"[5]Tabulka!G32","v":"OP"},{"$f":"[5]Tabulka!H32","v":100},{"$f":"+[5]Tabulka!AU32","v":0},{"$f":"+[5]Tabulka!AV32","v":{"v":0,"d":"0.00"}},{"$f":"+[5]Tabulka!AW32","v":0},{"$f":"+[5]Tabulka!AX32","v":{"v":0,"d":"0.00"}},{"$f":"+[5]Tabulka!AY32","v":4},{"$f":"+[5]Tabulka!AZ32","v":{"v":3.8491245804252903,"d":"3.85"}},{"$f":"+[5]Tabulka!BA32","v":0},{"$f":"+[5]Tabulka!BB32","v":{"v":0,"d":"0.00"}},{"$f":"+[5]Tabulka!BC32","v":0},{"$f":"+[5]Tabulka!BD32","v":{"v":0,"d":"0.00"}},{"$f":"+[5]Tabulka!BE32","v":0},{"$f":"+[5]Tabulka!BF32","v":{"v":0,"d":"0.00"}},{"$f":"+[5]Tabulka!BG32","v":0},{"$f":"+[5]Tabulka!BH32","v":{"v":0,"d":"0.00"}},{"$f":"+[5]Tabulka!BI32","v":0},{"$f":"+[5]Tabulka!BJ32","v":{"v":0,"d":"0.00"}},{"$f":"+[5]Tabulka!AP32","v":{"v":0,"d":"0.00"}},{"$f":"+[5]Tabulka!AQ32","v":{"v":0,"d":"0.00"}},{"$f":"+[5]Tabulka!BM32","v":{"v":3.8491245804252903,"d":"3.85"}},{"$f":"+[5]Tabulka!BN32","v":1},{"$f":"+[5]Tabulka!BO32","v":{"v":3.8491245804252903,"d":"3.85"}}]
[null,{"$f":"[5]Tabulka!C33","v":"DZIDA"},{"$f":"[5]Tabulka!D33","v":"Martin"},{"$f":"[5]Tabulka!E33","v":"2001-06-14"},{"$f":"[5]Tabulka!F33","v":"Opava- KST Slezan "},{"$f":"[5]Tabulka!G33","v":"OP"},{"$f":"[5]Tabulka!H33","v":100},{"$f":"+[5]Tabulka!AU33","v":0},{"$f":"+[5]Tabulka!AV33","v":{"v":0,"d":"0.00"}},{"$f":"+[5]Tabulka!AW33","v":0},{"$f":"+[5]Tabulka!AX33","v":{"v":0,"d":"0.00"}},{"$f":"+[5]Tabulka!AY33","v":0},{"$f":"+[5]Tabulka!AZ33","v":{"v":0,"d":"0.00"}},{"$f":"+[5]Tabulka!BA33","v":5},{"$f":"+[5]Tabulka!BB33","v":{"v":3.6127011759664778,"d":"3.61"}},{"$f":"+[5]Tabulka!BC33","v":0},{"$f":"+[5]Tabulka!BD33","v":{"v":0,"d":"0.00"}},{"$f":"+[5]Tabulka!BE33","v":0},{"$f":"+[5]Tabulka!BF33","v":{"v":0,"d":"0.00"}},{"$f":"+[5]Tabulka!BG33","v":0},{"$f":"+[5]Tabulka!BH33","v":{"v":0,"d":"0.00"}},{"$f":"+[5]Tabulka!BI33","v":0},{"$f":"+[5]Tabulka!BJ33","v":{"v":0,"d":"0.00"}},{"$f":"+[5]Tabulka!AP33","v":{"v":42.063792063307034,"d":"42.06"}},{"$f":"+[5]Tabulka!AQ33","v":{"v":3,"d":"3.00"}},{"$f":"+[5]Tabulka!BM33","v":{"v":3.6127011759664778,"d":"3.61"}},{"$f":"+[5]Tabulka!BN33","v":1},{"$f":"+[5]Tabulka!BO33","v":{"v":3.6127011759664778,"d":"3.61"}}]
["15",{"$f":"[5]Tabulka!C34","v":"FARKAŠ"},{"$f":"[5]Tabulka!D34","v":"Robin"},{"$f":"[5]Tabulka!E34","v":"2001-01-01"},{"$f":"[5]Tabulka!F34","v":"Ostrava- Domik"},{"$f":"[5]Tabulka!G34","v":"OV"},{"$f":"[5]Tabulka!H34","v":0},{"$f":"+[5]Tabulka!AU34","v":7},{"$f":"+[5]Tabulka!AV34","v":{"v":3.1825276537773326,"d":"3.18"}},{"$f":"+[5]Tabulka!AW34","v":0},{"$f":"+[5]Tabulka!AX34","v":{"v":0,"d":"0.00"}},{"$f":"+[5]Tabulka!AY34","v":0},{"$f":"+[5]Tabulka!AZ34","v":{"v":0,"d":"0.00"}},{"$f":"+[5]Tabulka!BA34","v":0},{"$f":"+[5]Tabulka!BB34","v":{"v":0,"d":"0.00"}},{"$f":"+[5]Tabulka!BC34","v":0},{"$f":"+[5]Tabulka!BD34","v":{"v":0,"d":"0.00"}},{"$f":"+[5]Tabulka!BE34","v":0},{"$f":"+[5]Tabulka!BF34","v":{"v":0,"d":"0.00"}},{"$f":"+[5]Tabulka!BG34","v":0},{"$f":"+[5]Tabulka!BH34","v":{"v":0,"d":"0.00"}},{"$f":"+[5]Tabulka!BI34","v":0},{"$f":"+[5]Tabulka!BJ34","v":{"v":0,"d":"0.00"}},{"$f":"+[5]Tabulka!AP34","v":{"v":0,"d":"0.00"}},{"$f":"+[5]Tabulka!AQ34","v":{"v":0,"d":"0.00"}},{"$f":"+[5]Tabulka!BM34","v":{"v":3.1825276537773326,"d":"3.18"}},{"$f":"+[5]Tabulka!BN34","v":1},{"$f":"+[5]Tabulka!BO34","v":{"v":3.1825276537773326,"d":"3.18"}}]
["16",{"$f":"[5]Tabulka!C35","v":"LÝSEK"},{"$f":"[5]Tabulka!D35","v":"Tomáš"},{"$f":"[5]Tabulka!E35","v":"2001-01-01"},{"$f":"[5]Tabulka!F35","v":"Ostrava- Domik"},{"$f":"[5]Tabulka!G35","v":"OV"},{"$f":"[5]Tabulka!H35","v":0},{"$f":"+[5]Tabulka!AU35","v":7},{"$f":"+[5]Tabulka!AV35","v":{"v":3.1825276537773326,"d":"3.18"}},{"$f":"+[5]Tabulka!AW35","v":0},{"$f":"+[5]Tabulka!AX35","v":{"v":0,"d":"0.00"}},{"$f":"+[5]Tabulka!AY35","v":0},{"$f":"+[5]Tabulka!AZ35","v":{"v":0,"d":"0.00"}},{"$f":"+[5]Tabulka!BA35","v":0},{"$f":"+[5]Tabulka!BB35","v":{"v":0,"d":"0.00"}},{"$f":"+[5]Tabulka!BC35","v":0},{"$f":"+[5]Tabulka!BD35","v":{"v":0,"d":"0.00"}},{"$f":"+[5]Tabulka!BE35","v":0},{"$f":"+[5]Tabulka!BF35","v":{"v":0,"d":"0.00"}},{"$f":"+[5]Tabulka!BG35","v":0},{"$f":"+[5]Tabulka!BH35","v":{"v":0,"d":"0.00"}},{"$f":"+[5]Tabulka!BI35","v":0},{"$f":"+[5]Tabulka!BJ35","v":{"v":0,"d":"0.00"}},{"$f":"+[5]Tabulka!AP35","v":{"v":0,"d":"0.00"}},{"$f":"+[5]Tabulka!AQ35","v":{"v":0,"d":"0.00"}},{"$f":"+[5]Tabulka!BM35","v":{"v":3.1825276537773326,"d":"3.18"}},{"$f":"+[5]Tabulka!BN35","v":1},{"$f":"+[5]Tabulka!BO35","v":{"v":3.1825276537773326,"d":"3.18"}}]
["17",{"$f":"[5]Tabulka!C36","v":"BĚLÍK"},{"$f":"[5]Tabulka!D36","v":"Šimon"},{"$f":"[5]Tabulka!E36","v":"2004-05-13"},{"$f":"[5]Tabulka!F36","v":"Ostrava- Mittal TJ"},{"$f":"[5]Tabulka!G36","v":"OV"},{"$f":"[5]Tabulka!H36","v":100},{"$f":"+[5]Tabulka!AU36","v":0},{"$f":"+[5]Tabulka!AV36","v":{"v":0,"d":"0.00"}},{"$f":"+[5]Tabulka!AW36","v":0},{"$f":"+[5]Tabulka!AX36","v":{"v":0,"d":"0.00"}},{"$f":"+[5]Tabulka!AY36","v":0},{"$f":"+[5]Tabulka!AZ36","v":{"v":0,"d":"0.00"}},{"$f":"+[5]Tabulka!BA36","v":0},{"$f":"+[5]Tabulka!BB36","v":{"v":0,"d":"0.00"}},{"$f":"+[5]Tabulka!BC36","v":8},{"$f":"+[5]Tabulka!BD36","v":{"v":2.987048394281082,"d":"2.99"}},{"$f":"+[5]Tabulka!BE36","v":0},{"$f":"+[5]Tabulka!BF36","v":{"v":0,"d":"0.00"}},{"$f":"+[5]Tabulka!BG36","v":0},{"$f":"+[5]Tabulka!BH36","v":{"v":0,"d":"0.00"}},{"$f":"+[5]Tabulka!BI36","v":0},{"$f":"+[5]Tabulka!BJ36","v":{"v":0,"d":"0.00"}},{"$f":"+[5]Tabulka!AP36","v":{"v":50.100035145831974,"d":"50.10"}},{"$f":"+[5]Tabulka!AQ36","v":{"v":4,"d":"4.00"}},{"$f":"+[5]Tabulka!BM36","v":{"v":2.987048394281082,"d":"2.99"}},{"$f":"+[5]Tabulka!BN36","v":1},{"$f":"+[5]Tabulka!BO36","v":{"v":2.987048394281082,"d":"2.99"}}]
["18",{"$f":"[5]Tabulka!C37","v":"OSTÁREK"},{"$f":"[5]Tabulka!D37","v":"Martin"},{"$f":"[5]Tabulka!E37","v":"2003-05-08"},{"$f":"[5]Tabulka!F37","v":"Děhylov- Sokol TJ"},{"$f":"[5]Tabulka!G37","v":"OP"},{"$f":"[5]Tabulka!H37","v":100},{"$f":"+[5]Tabulka!AU37","v":0},{"$f":"+[5]Tabulka!AV37","v":{"v":0,"d":"0.00"}},{"$f":"+[5]Tabulka!AW37","v":0},{"$f":"+[5]Tabulka!AX37","v":{"v":0,"d":"0.00"}},{"$f":"+[5]Tabulka!AY37","v":0},{"$f":"+[5]Tabulka!AZ37","v":{"v":0,"d":"0.00"}},{"$f":"+[5]Tabulka!BA37","v":0},{"$f":"+[5]Tabulka!BB37","v":{"v":0,"d":"0.00"}},{"$f":"+[5]Tabulka!BC37","v":8},{"$f":"+[5]Tabulka!BD37","v":{"v":2.987048394281082,"d":"2.99"}},{"$f":"+[5]Tabulka!BE37","v":0},{"$f":"+[5]Tabulka!BF37","v":{"v":0,"d":"0.00"}},{"$f":"+[5]Tabulka!BG37","v":0},{"$f":"+[5]Tabulka!BH37","v":{"v":0,"d":"0.00"}},{"$f":"+[5]Tabulka!BI37","v":0},{"$f":"+[5]Tabulka!BJ37","v":{"v":0,"d":"0.00"}},{"$f":"+[5]Tabulka!AP37","v":{"v":0,"d":"0.00"}},{"$f":"+[5]Tabulka!AQ37","v":{"v":0,"d":"0.00"}},{"$f":"+[5]Tabulka!BM37","v":{"v":2.987048394281082,"d":"2.99"}},{"$f":"+[5]Tabulka!BN37","v":1},{"$f":"+[5]Tabulka!BO37","v":{"v":2.987048394281082,"d":"2.99"}}]
["19",{"$f":"[5]Tabulka!C38","v":"TUROŇ"},{"$f":"[5]Tabulka!D38","v":"Vojtěch"},{"$f":"[5]Tabulka!E38","v":"2001-09-21"},{"$f":"[5]Tabulka!F38","v":"Český Těšín- SKST"},{"$f":"[5]Tabulka!G38","v":"KA"},{"$f":"[5]Tabulka!H38","v":100},{"$f":"+[5]Tabulka!AU38","v":0},{"$f":"+[5]Tabulka!AV38","v":{"v":0,"d":"0.00"}},{"$f":"+[5]Tabulka!AW38","v":0},{"$f":"+[5]Tabulka!AX38","v":{"v":0,"d":"0.00"}},{"$f":"+[5]Tabulka!AY38","v":0},{"$f":"+[5]Tabulka!AZ38","v":{"v":0,"d":"0.00"}},{"$f":"+[5]Tabulka!BA38","v":0},{"$f":"+[5]Tabulka!BB38","v":{"v":0,"d":"0.00"}},{"$f":"+[5]Tabulka!BC38","v":0},{"$f":"+[5]Tabulka!BD38","v":{"v":0,"d":"0.00"}},{"$f":"+[5]Tabulka!BE38","v":0},{"$f":"+[5]Tabulka!BF38","v":{"v":0,"d":"0.00"}},{"$f":"+[5]Tabulka!BG38","v":12},{"$f":"+[5]Tabulka!BH38","v":{"v":2.3180486688200013,"d":"2.32"}},{"$f":"+[5]Tabulka!BI38","v":0},{"$f":"+[5]Tabulka!BJ38","v":{"v":0,"d":"0.00"}},{"$f":"+[5]Tabulka!AP38","v":{"v":0,"d":"0.00"}},{"$f":"+[5]Tabulka!AQ38","v":{"v":0,"d":"0.00"}},{"$f":"+[5]Tabulka!BM38","v":{"v":2.3180486688200013,"d":"2.32"}},{"$f":"+[5]Tabulka!BN38","v":1},{"$f":"+[5]Tabulka!BO38","v":{"v":2.3180486688200013,"d":"2.32"}}]
[null,{"$f":"[5]Tabulka!C39","v":"DUFEK"},{"$f":"[5]Tabulka!D39","v":"Michal"},{"$f":"[5]Tabulka!E39","v":"2002-01-01"},{"$f":"[5]Tabulka!F39","v":"Frenštát pod Radhoštěm- TJ"},{"$f":"[5]Tabulka!G39","v":"NJ"},{"$f":"[5]Tabulka!H39","v":100},{"$f":"+[5]Tabulka!AU39","v":0},{"$f":"+[5]Tabulka!AV39","v":{"v":0,"d":"0.00"}},{"$f":"+[5]Tabulka!AW39","v":0},{"$f":"+[5]Tabulka!AX39","v":{"v":0,"d":"0.00"}},{"$f":"+[5]Tabulka!AY39","v":0},{"$f":"+[5]Tabulka!AZ39","v":{"v":0,"d":"0.00"}},{"$f":"+[5]Tabulka!BA39","v":0},{"$f":"+[5]Tabulka!BB39","v":{"v":0,"d":"0.00"}},{"$f":"+[5]Tabulka!BC39","v":0},{"$f":"+[5]Tabulka!BD39","v":{"v":0,"d":"0.00"}},{"$f":"+[5]Tabulka!BE39","v":0},{"$f":"+[5]Tabulka!BF39","v":{"v":0,"d":"0.00"}},{"$f":"+[5]Tabulka!BG39","v":0},{"$f":"+[5]Tabulka!BH39","v":{"v":0,"d":"0.00"}},{"$f":"+[5]Tabulka!BI39","v":0},{"$f":"+[5]Tabulka!BJ39","v":{"v":0,"d":"0.00"}},{"$f":"+[5]Tabulka!AP39","v":{"v":19.556308022306702,"d":"19.56"}},{"$f":"+[5]Tabulka!AQ39","v":{"v":2,"d":"2.00"}},{"$f":"+[5]Tabulka!BM39","v":{"v":0,"d":"0.00"}},{"$f":"+[5]Tabulka!BN39","v":0},{"$f":"+[5]Tabulka!BO39","v":{"v":0,"d":"0.00"}}]
[null,{"$f":"[5]Tabulka!C40","v":"HOLEČEK"},{"$f":"[5]Tabulka!D40","v":"Lukáš"},{"$f":"[5]Tabulka!E40","v":"2001-10-05"},{"$f":"[5]Tabulka!F40","v":"Frenštát pod Radhoštěm- TJ"},{"$f":"[5]Tabulka!G40","v":"NJ"},{"$f":"[5]Tabulka!H40","v":100},{"$f":"+[5]Tabulka!AU40","v":0},{"$f":"+[5]Tabulka!AV40","v":{"v":0,"d":"0.00"}},{"$f":"+[5]Tabulka!AW40","v":0},{"$f":"+[5]Tabulka!AX40","v":{"v":0,"d":"0.00"}},{"$f":"+[5]Tabulka!AY40","v":0},{"$f":"+[5]Tabulka!AZ40","v":{"v":0,"d":"0.00"}},{"$f":"+[5]Tabulka!BA40","v":0},{"$f":"+[5]Tabulka!BB40","v":{"v":0,"d":"0.00"}},{"$f":"+[5]Tabulka!BC40","v":0},{"$f":"+[5]Tabulka!BD40","v":{"v":0,"d":"0.00"}},{"$f":"+[5]Tabulka!BE40","v":0},{"$f":"+[5]Tabulka!BF40","v":{"v":0,"d":"0.00"}},{"$f":"+[5]Tabulka!BG40","v":0},{"$f":"+[5]Tabulka!BH40","v":{"v":0,"d":"0.00"}},{"$f":"+[5]Tabulka!BI40","v":0},{"$f":"+[5]Tabulka!BJ40","v":{"v":0,"d":"0.00"}},{"$f":"+[5]Tabulka!AP40","v":{"v":9.967609275926005,"d":"9.97"}},{"$f":"+[5]Tabulka!AQ40","v":{"v":1,"d":"1.00"}},{"$f":"+[5]Tabulka!BM40","v":{"v":0,"d":"0.00"}},{"$f":"+[5]Tabulka!BN40","v":0},{"$f":"+[5]Tabulka!BO40","v":{"v":0,"d":"0.00"}}]
[null,{"$f":"[5]Tabulka!C41","v":"HRABCOVÁ"},{"$f":"[5]Tabulka!D41","v":"Anna"},{"$f":"[5]Tabulka!E41","v":"2001-11-27"},{"$f":"[5]Tabulka!F41","v":"Frýdlant nad Ostravicí- SK"},{"$f":"[5]Tabulka!G41","v":"FM"},{"$f":"[5]Tabulka!H41","v":100},{"$f":"+[5]Tabulka!AU41","v":0},{"$f":"+[5]Tabulka!AV41","v":{"v":0,"d":"0.00"}},{"$f":"+[5]Tabulka!AW41","v":0},{"$f":"+[5]Tabulka!AX41","v":{"v":0,"d":"0.00"}},{"$f":"+[5]Tabulka!AY41","v":0},{"$f":"+[5]Tabulka!AZ41","v":{"v":0,"d":"0.00"}},{"$f":"+[5]Tabulka!BA41","v":0},{"$f":"+[5]Tabulka!BB41","v":{"v":0,"d":"0.00"}},{"$f":"+[5]Tabulka!BC41","v":0},{"$f":"+[5]Tabulka!BD41","v":{"v":0,"d":"0.00"}},{"$f":"+[5]Tabulka!BE41","v":0},{"$f":"+[5]Tabulka!BF41","v":{"v":0,"d":"0.00"}},{"$f":"+[5]Tabulka!BG41","v":0},{"$f":"+[5]Tabulka!BH41","v":{"v":0,"d":"0.00"}},{"$f":"+[5]Tabulka!BI41","v":0},{"$f":"+[5]Tabulka!BJ41","v":{"v":0,"d":"0.00"}},{"$f":"+[5]Tabulka!AP41","v":{"v":22.675289106487973,"d":"22.68"}},{"$f":"+[5]Tabulka!AQ41","v":{"v":2,"d":"2.00"}},{"$f":"+[5]Tabulka!BM41","v":{"v":0,"d":"0.00"}},{"$f":"+[5]Tabulka!BN41","v":0},{"$f":"+[5]Tabulka!BO41","v":{"v":0,"d":"0.00"}}]
[null,{"$f":"[5]Tabulka!C42","v":"KADLEC"},{"$f":"[5]Tabulka!D42","v":"Ondřej"},{"$f":"[5]Tabulka!E42","v":"2001-05-28"},{"$f":"[5]Tabulka!F42","v":"Opava- KST Slezan "},{"$f":"[5]Tabulka!G42","v":"OP"},{"$f":"[5]Tabulka!H42","v":100},{"$f":"+[5]Tabulka!AU42","v":0},{"$f":"+[5]Tabulka!AV42","v":{"v":0,"d":"0.00"}},{"$f":"+[5]Tabulka!AW42","v":0},{"$f":"+[5]Tabulka!AX42","v":{"v":0,"d":"0.00"}},{"$f":"+[5]Tabulka!AY42","v":0},{"$f":"+[5]Tabulka!AZ42","v":{"v":0,"d":"0.00"}},{"$f":"+[5]Tabulka!BA42","v":0},{"$f":"+[5]Tabulka!BB42","v":{"v":0,"d":"0.00"}},{"$f":"+[5]Tabulka!BC42","v":0},{"$f":"+[5]Tabulka!BD42","v":{"v":0,"d":"0.00"}},{"$f":"+[5]Tabulka!BE42","v":0},{"$f":"+[5]Tabulka!BF42","v":{"v":0,"d":"0.00"}},{"$f":"+[5]Tabulka!BG42","v":0},{"$f":"+[5]Tabulka!BH42","v":{"v":0,"d":"0.00"}},{"$f":"+[5]Tabulka!BI42","v":0},{"$f":"+[5]Tabulka!BJ42","v":{"v":0,"d":"0.00"}},{"$f":"+[5]Tabulka!AP42","v":{"v":6.814146122329029,"d":"6.81"}},{"$f":"+[5]Tabulka!AQ42","v":{"v":1,"d":"1.00"}},{"$f":"+[5]Tabulka!BM42","v":{"v":0,"d":"0.00"}},{"$f":"+[5]Tabulka!BN42","v":0},{"$f":"+[5]Tabulka!BO42","v":{"v":0,"d":"0.00"}}]
[null,{"$f":"[5]Tabulka!C43","v":"KIRKOPULOS"},{"$f":"[5]Tabulka!D43","v":"Christos"},{"$f":"[5]Tabulka!E43","v":"1996-01-01"},{"$f":"[5]Tabulka!F43","v":"Vratimov- MG Odra Gas TTC"},{"$f":"[5]Tabulka!G43","v":"OV"},{"$f":"[5]Tabulka!H43","v":0},{"$f":"+[5]Tabulka!AU43","v":0},{"$f":"+[5]Tabulka!AV43","v":{"v":0,"d":"0.00"}},{"$f":"+[5]Tabulka!AW43","v":0},{"$f":"+[5]Tabulka!AX43","v":{"v":0,"d":"0.00"}},{"$f":"+[5]Tabulka!AY43","v":0},{"$f":"+[5]Tabulka!AZ43","v":{"v":0,"d":"0.00"}},{"$f":"+[5]Tabulka!BA43","v":0},{"$f":"+[5]Tabulka!BB43","v":{"v":0,"d":"0.00"}},{"$f":"+[5]Tabulka!BC43","v":0},{"$f":"+[5]Tabulka!BD43","v":{"v":0,"d":"0.00"}},{"$f":"+[5]Tabulka!BE43","v":0},{"$f":"+[5]Tabulka!BF43","v":{"v":0,"d":"0.00"}},{"$f":"+[5]Tabulka!BG43","v":0},{"$f":"+[5]Tabulka!BH43","v":{"v":0,"d":"0.00"}},{"$f":"+[5]Tabulka!BI43","v":0},{"$f":"+[5]Tabulka!BJ43","v":{"v":0,"d":"0.00"}},{"$f":"+[5]Tabulka!AP43","v":{"v":0,"d":"0.00"}},{"$f":"+[5]Tabulka!AQ43","v":{"v":0,"d":"0.00"}},{"$f":"+[5]Tabulka!BM43","v":{"v":0,"d":"0.00"}},{"$f":"+[5]Tabulka!BN43","v":0},{"$f":"+[5]Tabulka!BO43","v":{"v":0,"d":"0.00"}}]
[null,{"$f":"[5]Tabulka!C44","v":"KOLONIČNÁ"},{"$f":"[5]Tabulka!D44","v":"Markéta"},{"$f":"[5]Tabulka!E44","v":"2002-12-12"},{"$f":"[5]Tabulka!F44","v":"Hrabůvka- Sokol TJ"},{"$f":"[5]Tabulka!G44","v":"OV"},{"$f":"[5]Tabulka!H44","v":100},{"$f":"+[5]Tabulka!AU44","v":0},{"$f":"+[5]Tabulka!AV44","v":{"v":0,"d":"0.00"}},{"$f":"+[5]Tabulka!AW44","v":0},{"$f":"+[5]Tabulka!AX44","v":{"v":0,"d":"0.00"}},{"$f":"+[5]Tabulka!AY44","v":0},{"$f":"+[5]Tabulka!AZ44","v":{"v":0,"d":"0.00"}},{"$f":"+[5]Tabulka!BA44","v":0},{"$f":"+[5]Tabulka!BB44","v":{"v":0,"d":"0.00"}},{"$f":"+[5]Tabulka!BC44","v":0},{"$f":"+[5]Tabulka!BD44","v":{"v":0,"d":"0.00"}},{"$f":"+[5]Tabulka!BE44","v":0},{"$f":"+[5]Tabulka!BF44","v":{"v":0,"d":"0.00"}},{"$f":"+[5]Tabulka!BG44","v":0},{"$f":"+[5]Tabulka!BH44","v":{"v":0,"d":"0.00"}},{"$f":"+[5]Tabulka!BI44","v":0},{"$f":"+[5]Tabulka!BJ44","v":{"v":0,"d":"0.00"}},{"$f":"+[5]Tabulka!AP44","v":{"v":25.688616190817303,"d":"25.69"}},{"$f":"+[5]Tabulka!AQ44","v":{"v":2,"d":"2.00"}},{"$f":"+[5]Tabulka!BM44","v":{"v":0,"d":"0.00"}},{"$f":"+[5]Tabulka!BN44","v":0},{"$f":"+[5]Tabulka!BO44","v":{"v":0,"d":"0.00"}}]
[null,{"$f":"[5]Tabulka!C45","v":"KUBĚNA"},{"$f":"[5]Tabulka!D45","v":"Tomáš"},{"$f":"[5]Tabulka!E45","v":"1900-01-01"},{"$f":"[5]Tabulka!F45","v":"Nový Jičín- TJ"},{"$f":"[5]Tabulka!G45","v":"NJ"},{"$f":"[5]Tabulka!H45","v":0},{"$f":"+[5]Tabulka!AU45","v":0},{"$f":"+[5]Tabulka!AV45","v":{"v":0,"d":"0.00"}},{"$f":"+[5]Tabulka!AW45","v":0},{"$f":"+[5]Tabulka!AX45","v":{"v":0,"d":"0.00"}},{"$f":"+[5]Tabulka!AY45","v":0},{"$f":"+[5]Tabulka!AZ45","v":{"v":0,"d":"0.00"}},{"$f":"+[5]Tabulka!BA45","v":0},{"$f":"+[5]Tabulka!BB45","v":{"v":0,"d":"0.00"}},{"$f":"+[5]Tabulka!BC45","v":0},{"$f":"+[5]Tabulka!BD45","v":{"v":0,"d":"0.00"}},{"$f":"+[5]Tabulka!BE45","v":0},{"$f":"+[5]Tabulka!BF45","v":{"v":0,"d":"0.00"}},{"$f":"+[5]Tabulka!BG45","v":0},{"$f":"+[5]Tabulka!BH45","v":{"v":0,"d":"0.00"}},{"$f":"+[5]Tabulka!BI45","v":0},{"$f":"+[5]Tabulka!BJ45","v":{"v":0,"d":"0.00"}},{"$f":"+[5]Tabulka!AP45","v":{"v":0,"d":"0.00"}},{"$f":"+[5]Tabulka!AQ45","v":{"v":0,"d":"0.00"}},{"$f":"+[5]Tabulka!BM45","v":{"v":0,"d":"0.00"}},{"$f":"+[5]Tabulka!BN45","v":0},{"$f":"+[5]Tabulka!BO45","v":{"v":0,"d":"0.00"}}]
[null,{"$f":"[5]Tabulka!C46","v":"MARTIŇÁK"},{"$f":"[5]Tabulka!D46","v":"Vojtěch"},{"$f":"[5]Tabulka!E46","v":"2002-05-17"},{"$f":"[5]Tabulka!F46","v":"Frenštát pod Radhoštěm- TJ"},{"$f":"[5]Tabulka!G46","v":"NJ"},{"$f":"[5]Tabulka!H46","v":100},{"$f":"+[5]Tabulka!AU46","v":0},{"$f":"+[5]Tabulka!AV46","v":{"v":0,"d":"0.00"}},{"$f":"+[5]Tabulka!AW46","v":0},{"$f":"+[5]Tabulka!AX46","v":{"v":0,"d":"0.00"}},{"$f":"+[5]Tabulka!AY46","v":0},{"$f":"+[5]Tabulka!AZ46","v":{"v":0,"d":"0.00"}},{"$f":"+[5]Tabulka!BA46","v":0},{"$f":"+[5]Tabulka!BB46","v":{"v":0,"d":"0.00"}},{"$f":"+[5]Tabulka!BC46","v":0},{"$f":"+[5]Tabulka!BD46","v":{"v":0,"d":"0.00"}},{"$f":"+[5]Tabulka!BE46","v":0},{"$f":"+[5]Tabulka!BF46","v":{"v":0,"d":"0.00"}},{"$f":"+[5]Tabulka!BG46","v":0},{"$f":"+[5]Tabulka!BH46","v":{"v":0,"d":"0.00"}},{"$f":"+[5]Tabulka!BI46","v":0},{"$f":"+[5]Tabulka!BJ46","v":{"v":0,"d":"0.00"}},{"$f":"+[5]Tabulka!AP46","v":{"v":40.68316595694933,"d":"40.68"}},{"$f":"+[5]Tabulka!AQ46","v":{"v":4,"d":"4.00"}},{"$f":"+[5]Tabulka!BM46","v":{"v":0,"d":"0.00"}},{"$f":"+[5]Tabulka!BN46","v":0},{"$f":"+[5]Tabulka!BO46","v":{"v":0,"d":"0.00"}}]
[null,{"$f":"[5]Tabulka!C47","v":"PALETOVÁ"},{"$f":"[5]Tabulka!D47","v":"Barbora"},{"$f":"[5]Tabulka!E47","v":"2001-07-14"},{"$f":"[5]Tabulka!F47","v":"Děhylov- Sokol TJ"},{"$f":"[5]Tabulka!G47","v":"OP"},{"$f":"[5]Tabulka!H47","v":100},{"$f":"+[5]Tabulka!AU47","v":0},{"$f":"+[5]Tabulka!AV47","v":{"v":0,"d":"0.00"}},{"$f":"+[5]Tabulka!AW47","v":0},{"$f":"+[5]Tabulka!AX47","v":{"v":0,"d":"0.00"}},{"$f":"+[5]Tabulka!AY47","v":0},{"$f":"+[5]Tabulka!AZ47","v":{"v":0,"d":"0.00"}},{"$f":"+[5]Tabulka!BA47","v":0},{"$f":"+[5]Tabulka!BB47","v":{"v":0,"d":"0.00"}},{"$f":"+[5]Tabulka!BC47","v":0},{"$f":"+[5]Tabulka!BD47","v":{"v":0,"d":"0.00"}},{"$f":"+[5]Tabulka!BE47","v":0},{"$f":"+[5]Tabulka!BF47","v":{"v":0,"d":"0.00"}},{"$f":"+[5]Tabulka!BG47","v":0},{"$f":"+[5]Tabulka!BH47","v":{"v":0,"d":"0.00"}},{"$f":"+[5]Tabulka!BI47","v":0},{"$f":"+[5]Tabulka!BJ47","v":{"v":0,"d":"0.00"}},{"$f":"+[5]Tabulka!AP47","v":{"v":39.48012278571877,"d":"39.48"}},{"$f":"+[5]Tabulka!AQ47","v":{"v":3,"d":"3.00"}},{"$f":"+[5]Tabulka!BM47","v":{"v":0,"d":"0.00"}},{"$f":"+[5]Tabulka!BN47","v":0},{"$f":"+[5]Tabulka!BO47","v":{"v":0,"d":"0.00"}}]
[null,{"$f":"[5]Tabulka!C48","v":"ROZKYDALOVÁ"},{"$f":"[5]Tabulka!D48","v":"Eliška"},{"$f":"[5]Tabulka!E48","v":"2002-01-11"},{"$f":"[5]Tabulka!F48","v":"Frýdlant nad Ostravicí- SK"},{"$f":"[5]Tabulka!G48","v":"FM"},{"$f":"[5]Tabulka!H48","v":100},{"$f":"+[5]Tabulka!AU48","v":0},{"$f":"+[5]Tabulka!AV48","v":{"v":0,"d":"0.00"}},{"$f":"+[5]Tabulka!AW48","v":0},{"$f":"+[5]Tabulka!AX48","v":{"v":0,"d":"0.00"}},{"$f":"+[5]Tabulka!AY48","v":0},{"$f":"+[5]Tabulka!AZ48","v":{"v":0,"d":"0.00"}},{"$f":"+[5]Tabulka!BA48","v":0},{"$f":"+[5]Tabulka!BB48","v":{"v":0,"d":"0.00"}},{"$f":"+[5]Tabulka!BC48","v":0},{"$f":"+[5]Tabulka!BD48","v":{"v":0,"d":"0.00"}},{"$f":"+[5]Tabulka!BE48","v":0},{"$f":"+[5]Tabulka!BF48","v":{"v":0,"d":"0.00"}},{"$f":"+[5]Tabulka!BG48","v":0},{"$f":"+[5]Tabulka!BH48","v":{"v":0,"d":"0.00"}},{"$f":"+[5]Tabulka!BI48","v":0},{"$f":"+[5]Tabulka!BJ48","v":{"v":0,"d":"0.00"}},{"$f":"+[5]Tabulka!AP48","v":{"v":24.99977255708268,"d":"25.00"}},{"$f":"+[5]Tabulka!AQ48","v":{"v":2,"d":"2.00"}},{"$f":"+[5]Tabulka!BM48","v":{"v":0,"d":"0.00"}},{"$f":"+[5]Tabulka!BN48","v":0},{"$f":"+[5]Tabulka!BO48","v":{"v":0,"d":"0.00"}}]
[null,{"$f":"[5]Tabulka!C49","v":"SOUDIL"},{"$f":"[5]Tabulka!D49","v":"Adam"},{"$f":"[5]Tabulka!E49","v":"2001-10-03"},{"$f":"[5]Tabulka!F49","v":"Frenštát pod Radhoštěm- TJ"},{"$f":"[5]Tabulka!G49","v":"NJ"},{"$f":"[5]Tabulka!H49","v":100},{"$f":"+[5]Tabulka!AU49","v":0},{"$f":"+[5]Tabulka!AV49","v":{"v":0,"d":"0.00"}},{"$f":"+[5]Tabulka!AW49","v":0},{"$f":"+[5]Tabulka!AX49","v":{"v":0,"d":"0.00"}},{"$f":"+[5]Tabulka!AY49","v":0},{"$f":"+[5]Tabulka!AZ49","v":{"v":0,"d":"0.00"}},{"$f":"+[5]Tabulka!BA49","v":0},{"$f":"+[5]Tabulka!BB49","v":{"v":0,"d":"0.00"}},{"$f":"+[5]Tabulka!BC49","v":0},{"$f":"+[5]Tabulka!BD49","v":{"v":0,"d":"0.00"}},{"$f":"+[5]Tabulka!BE49","v":0},{"$f":"+[5]Tabulka!BF49","v":{"v":0,"d":"0.00"}},{"$f":"+[5]Tabulka!BG49","v":0},{"$f":"+[5]Tabulka!BH49","v":{"v":0,"d":"0.00"}},{"$f":"+[5]Tabulka!BI49","v":0},{"$f":"+[5]Tabulka!BJ49","v":{"v":0,"d":"0.00"}},{"$f":"+[5]Tabulka!AP49","v":{"v":9.355372371120682,"d":"9.36"}},{"$f":"+[5]Tabulka!AQ49","v":{"v":1,"d":"1.00"}},{"$f":"+[5]Tabulka!BM49","v":{"v":0,"d":"0.00"}},{"$f":"+[5]Tabulka!BN49","v":0},{"$f":"+[5]Tabulka!BO49","v":{"v":0,"d":"0.00"}}]
[null,{"$f":"[5]Tabulka!C50","v":"SYNKOVÁ"},{"$f":"[5]Tabulka!D50","v":"Markéta"},{"$f":"[5]Tabulka!E50","v":"2001-07-30"},{"$f":"[5]Tabulka!F50","v":"Děhylov- Sokol TJ"},{"$f":"[5]Tabulka!G50","v":"OP"},{"$f":"[5]Tabulka!H50","v":100},{"$f":"+[5]Tabulka!AU50","v":0},{"$f":"+[5]Tabulka!AV50","v":{"v":0,"d":"0.00"}},{"$f":"+[5]Tabulka!AW50","v":0},{"$f":"+[5]Tabulka!AX50","v":{"v":0,"d":"0.00"}},{"$f":"+[5]Tabulka!AY50","v":0},{"$f":"+[5]Tabulka!AZ50","v":{"v":0,"d":"0.00"}},{"$f":"+[5]Tabulka!BA50","v":0},{"$f":"+[5]Tabulka!BB50","v":{"v":0,"d":"0.00"}},{"$f":"+[5]Tabulka!BC50","v":0},{"$f":"+[5]Tabulka!BD50","v":{"v":0,"d":"0.00"}},{"$f":"+[5]Tabulka!BE50","v":0},{"$f":"+[5]Tabulka!BF50","v":{"v":0,"d":"0.00"}},{"$f":"+[5]Tabulka!BG50","v":0},{"$f":"+[5]Tabulka!BH50","v":{"v":0,"d":"0.00"}},{"$f":"+[5]Tabulka!BI50","v":0},{"$f":"+[5]Tabulka!BJ50","v":{"v":0,"d":"0.00"}},{"$f":"+[5]Tabulka!AP50","v":{"v":45.770719663727135,"d":"45.77"}},{"$f":"+[5]Tabulka!AQ50","v":{"v":3,"d":"3.00"}},{"$f":"+[5]Tabulka!BM50","v":{"v":0,"d":"0.00"}},{"$f":"+[5]Tabulka!BN50","v":0},{"$f":"+[5]Tabulka!BO50","v":{"v":0,"d":"0.00"}}]
[null,{"$f":"[5]Tabulka!C51","v":"SZWARC"},{"$f":"[5]Tabulka!D51","v":"Matěj"},{"$f":"[5]Tabulka!E51","v":"2001-07-08"},{"$f":"[5]Tabulka!F51","v":"Třinec- TŽ TJ"},{"$f":"[5]Tabulka!G51","v":"FM"},{"$f":"[5]Tabulka!H51","v":100},{"$f":"+[5]Tabulka!AU51","v":0},{"$f":"+[5]Tabulka!AV51","v":{"v":0,"d":"0.00"}},{"$f":"+[5]Tabulka!AW51","v":0},{"$f":"+[5]Tabulka!AX51","v":{"v":0,"d":"0.00"}},{"$f":"+[5]Tabulka!AY51","v":0},{"$f":"+[5]Tabulka!AZ51","v":{"v":0,"d":"0.00"}},{"$f":"+[5]Tabulka!BA51","v":0},{"$f":"+[5]Tabulka!BB51","v":{"v":0,"d":"0.00"}},{"$f":"+[5]Tabulka!BC51","v":0},{"$f":"+[5]Tabulka!BD51","v":{"v":0,"d":"0.00"}},{"$f":"+[5]Tabulka!BE51","v":0},{"$f":"+[5]Tabulka!BF51","v":{"v":0,"d":"0.00"}},{"$f":"+[5]Tabulka!BG51","v":0},{"$f":"+[5]Tabulka!BH51","v":{"v":0,"d":"0.00"}},{"$f":"+[5]Tabulka!BI51","v":0},{"$f":"+[5]Tabulka!BJ51","v":{"v":0,"d":"0.00"}},{"$f":"+[5]Tabulka!AP51","v":{"v":6.395603258605236,"d":"6.40"}},{"$f":"+[5]Tabulka!AQ51","v":{"v":1,"d":"1.00"}},{"$f":"+[5]Tabulka!BM51","v":{"v":0,"d":"0.00"}},{"$f":"+[5]Tabulka!BN51","v":0},{"$f":"+[5]Tabulka!BO51","v":{"v":0,"d":"0.00"}}]
[null,{"$f":"[5]Tabulka!C52","v":"ŠODEK"},{"$f":"[5]Tabulka!D52","v":"Michalea"},{"$f":"[5]Tabulka!E52","v":"1900-01-01"},{"$f":"[5]Tabulka!F52","v":"Nový Jičín- TJ"},{"$f":"[5]Tabulka!G52","v":"NJ"},{"$f":"[5]Tabulka!H52","v":0},{"$f":"+[5]Tabulka!AU52","v":0},{"$f":"+[5]Tabulka!AV52","v":{"v":0,"d":"0.00"}},{"$f":"+[5]Tabulka!AW52","v":0},{"$f":"+[5]Tabulka!AX52","v":{"v":0,"d":"0.00"}},{"$f":"+[5]Tabulka!AY52","v":0},{"$f":"+[5]Tabulka!AZ52","v":{"v":0,"d":"0.00"}},{"$f":"+[5]Tabulka!BA52","v":0},{"$f":"+[5]Tabulka!BB52","v":{"v":0,"d":"0.00"}},{"$f":"+[5]Tabulka!BC52","v":0},{"$f":"+[5]Tabulka!BD52","v":{"v":0,"d":"0.00"}},{"$f":"+[5]Tabulka!BE52","v":0},{"$f":"+[5]Tabulka!BF52","v":{"v":0,"d":"0.00"}},{"$f":"+[5]Tabulka!BG52","v":0},{"$f":"+[5]Tabulka!BH52","v":{"v":0,"d":"0.00"}},{"$f":"+[5]Tabulka!BI52","v":0},{"$f":"+[5]Tabulka!BJ52","v":{"v":0,"d":"0.00"}},{"$f":"+[5]Tabulka!AP52","v":{"v":0,"d":"0.00"}},{"$f":"+[5]Tabulka!AQ52","v":{"v":0,"d":"0.00"}},{"$f":"+[5]Tabulka!BM52","v":{"v":0,"d":"0.00"}},{"$f":"+[5]Tabulka!BN52","v":0},{"$f":"+[5]Tabulka!BO52","v":{"v":0,"d":"0.00"}}]
[null,{"$f":"[5]Tabulka!C53","v":"ŠTEFÁNKOVÁ"},{"$f":"[5]Tabulka!D53","v":"Šarlota"},{"$f":"[5]Tabulka!E53","v":"2003-01-01"},{"$f":"[5]Tabulka!F53","v":"Frýdlant nad Ostravicí- SK"},{"$f":"[5]Tabulka!G53","v":"FM"},{"$f":"[5]Tabulka!H53","v":0},{"$f":"+[5]Tabulka!AU53","v":0},{"$f":"+[5]Tabulka!AV53","v":{"v":0,"d":"0.00"}},{"$f":"+[5]Tabulka!AW53","v":0},{"$f":"+[5]Tabulka!AX53","v":{"v":0,"d":"0.00"}},{"$f":"+[5]Tabulka!AY53","v":0},{"$f":"+[5]Tabulka!AZ53","v":{"v":0,"d":"0.00"}},{"$f":"+[5]Tabulka!BA53","v":0},{"$f":"+[5]Tabulka!BB53","v":{"v":0,"d":"0.00"}},{"$f":"+[5]Tabulka!BC53","v":0},{"$f":"+[5]Tabulka!BD53","v":{"v":0,"d":"0.00"}},{"$f":"+[5]Tabulka!BE53","v":0},{"$f":"+[5]Tabulka!BF53","v":{"v":0,"d":"0.00"}},{"$f":"+[5]Tabulka!BG53","v":0},{"$f":"+[5]Tabulka!BH53","v":{"v":0,"d":"0.00"}},{"$f":"+[5]Tabulka!BI53","v":0},{"$f":"+[5]Tabulka!BJ53","v":{"v":0,"d":"0.00"}},{"$f":"+[5]Tabulka!BK53","v":{"v":0,"d":"0.00"}},{"$f":"+[5]Tabulka!BL53","v":0},{"$f":"+[5]Tabulka!BM53","v":{"v":0,"d":"0.00"}},{"$f":"+[5]Tabulka!BN53","v":0},{"$f":"+[5]Tabulka!BO53","v":{"v":0,"d":"0.00"}}]
[null,{"$f":"[5]Tabulka!C54","v":"ŠTĚPÁNOVÁ"},{"$f":"[5]Tabulka!D54","v":"Gabriela"},{"$f":"[5]Tabulka!E54","v":"2001-03-31"},{"$f":"[5]Tabulka!F54","v":"Děhylov- Sokol TJ"},{"$f":"[5]Tabulka!G54","v":"OP"},{"$f":"[5]Tabulka!H54","v":100},{"$f":"+[5]Tabulka!AU54","v":0},{"$f":"+[5]Tabulka!AV54","v":{"v":0,"d":"0.00"}},{"$f":"+[5]Tabulka!AW54","v":0},{"$f":"+[5]Tabulka!AX54","v":{"v":0,"d":"0.00"}},{"$f":"+[5]Tabulka!AY54","v":0},{"$f":"+[5]Tabulka!AZ54","v":{"v":0,"d":"0.00"}},{"$f":"+[5]Tabulka!BA54","v":0},{"$f":"+[5]Tabulka!BB54","v":{"v":0,"d":"0.00"}},{"$f":"+[5]Tabulka!BC54","v":0},{"$f":"+[5]Tabulka!BD54","v":{"v":0,"d":"0.00"}},{"$f":"+[5]Tabulka!BE54","v":0},{"$f":"+[5]Tabulka!BF54","v":{"v":0,"d":"0.00"}},{"$f":"+[5]Tabulka!BG54","v":0},{"$f":"+[5]Tabulka!BH54","v":{"v":0,"d":"0.00"}},{"$f":"+[5]Tabulka!BI54","v":0},{"$f":"+[5]Tabulka!BJ54","v":{"v":0,"d":"0.00"}},{"$f":"+[5]Tabulka!BK54","v":{"v":0,"d":"0.00"}},{"$f":"+[5]Tabulka!BL54","v":0},{"$f":"+[5]Tabulka!BM54","v":{"v":0,"d":"0.00"}},{"$f":"+[5]Tabulka!BN54","v":0},{"$f":"+[5]Tabulka!BO54","v":{"v":0,"d":"0.00"}}]
[null,{"$f":"[5]Tabulka!C55","v":"ŽINGOR"},{"$f":"[5]Tabulka!D55","v":"Ondřej"},{"$f":"[5]Tabulka!E55","v":"1900-01-01"},{"$f":"[5]Tabulka!F55","v":"Frenštát pod Radhoštěm- TJ"},{"$f":"[5]Tabulka!G55","v":"NJ"},{"$f":"[5]Tabulka!H55","v":0},{"$f":"+[5]Tabulka!AU55","v":0},{"$f":"+[5]Tabulka!AV55","v":{"v":0,"d":"0.00"}},{"$f":"+[5]Tabulka!AW55","v":0},{"$f":"+[5]Tabulka!AX55","v":{"v":0,"d":"0.00"}},{"$f":"+[5]Tabulka!AY55","v":0},{"$f":"+[5]Tabulka!AZ55","v":{"v":0,"d":"0.00"}},{"$f":"+[5]Tabulka!BA55","v":0},{"$f":"+[5]Tabulka!BB55","v":{"v":0,"d":"0.00"}},{"$f":"+[5]Tabulka!BC55","v":0},{"$f":"+[5]Tabulka!BD55","v":{"v":0,"d":"0.00"}},{"$f":"+[5]Tabulka!BE55","v":0},{"$f":"+[5]Tabulka!BF55","v":{"v":0,"d":"0.00"}},{"$f":"+[5]Tabulka!BG55","v":0},{"$f":"+[5]Tabulka!BH55","v":{"v":0,"d":"0.00"}},{"$f":"+[5]Tabulka!BI55","v":0},{"$f":"+[5]Tabulka!BJ55","v":{"v":0,"d":"0.00"}},{"$f":"+[5]Tabulka!BK55","v":{"v":0,"d":"0.00"}},{"$f":"+[5]Tabulka!BL55","v":0},{"$f":"+[5]Tabulka!BM55","v":{"v":0,"d":"0.00"}},{"$f":"+[5]Tabulka!BN55","v":0},{"$f":"+[5]Tabulka!BO55","v":{"v":0,"d":"0.00"}}]
[null,{"$f":"[5]Tabulka!C56","v":0},{"$f":"[5]Tabulka!D56","v":0},{"$f":"[5]Tabulka!E56","v":"00:00:00"},{"$f":"[5]Tabulka!F56","v":0},{"$f":"[5]Tabulka!G56","v":0},{"$f":"[5]Tabulka!H56","v":0},{"$f":"+[5]Tabulka!AU56","v":0},{"$f":"+[5]Tabulka!AV56","v":{"v":0,"d":"0.00"}},{"$f":"+[5]Tabulka!AW56","v":0},{"$f":"+[5]Tabulka!AX56","v":{"v":0,"d":"0.00"}},{"$f":"+[5]Tabulka!AY56","v":0},{"$f":"+[5]Tabulka!AZ56","v":{"v":0,"d":"0.00"}},{"$f":"+[5]Tabulka!BA56","v":0},{"$f":"+[5]Tabulka!BB56","v":{"v":0,"d":"0.00"}},{"$f":"+[5]Tabulka!BC56","v":0},{"$f":"+[5]Tabulka!BD56","v":{"v":0,"d":"0.00"}},{"$f":"+[5]Tabulka!BE56","v":0},{"$f":"+[5]Tabulka!BF56","v":{"v":0,"d":"0.00"}},{"$f":"+[5]Tabulka!BG56","v":0},{"$f":"+[5]Tabulka!BH56","v":{"v":0,"d":"0.00"}},{"$f":"+[5]Tabulka!BI56","v":0},{"$f":"+[5]Tabulka!BJ56","v":{"v":0,"d":"0.00"}},{"$f":"+[5]Tabulka!BK56","v":{"v":0,"d":"0.00"}},{"$f":"+[5]Tabulka!BL56","v":0},{"$f":"+[5]Tabulka!BM56","v":{"v":0,"d":"0.00"}},{"$f":"+[5]Tabulka!BN56","v":0},{"$f":"+[5]Tabulka!BO56","v":{"v":0,"d":"0.00"}}]
[null,{"$f":"[5]Tabulka!C57","v":0},{"$f":"[5]Tabulka!D57","v":0},{"$f":"[5]Tabulka!E57","v":"00:00:00"},{"$f":"[5]Tabulka!F57","v":0},{"$f":"[5]Tabulka!G57","v":0},{"$f":"[5]Tabulka!H57","v":0},{"$f":"+[5]Tabulka!AU57","v":0},{"$f":"+[5]Tabulka!AV57","v":{"v":0,"d":"0.00"}},{"$f":"+[5]Tabulka!AW57","v":0},{"$f":"+[5]Tabulka!AX57","v":{"v":0,"d":"0.00"}},{"$f":"+[5]Tabulka!AY57","v":0},{"$f":"+[5]Tabulka!AZ57","v":{"v":0,"d":"0.00"}},{"$f":"+[5]Tabulka!BA57","v":0},{"$f":"+[5]Tabulka!BB57","v":{"v":0,"d":"0.00"}},{"$f":"+[5]Tabulka!BC57","v":0},{"$f":"+[5]Tabulka!BD57","v":{"v":0,"d":"0.00"}},{"$f":"+[5]Tabulka!BE57","v":0},{"$f":"+[5]Tabulka!BF57","v":{"v":0,"d":"0.00"}},{"$f":"+[5]Tabulka!BG57","v":0},{"$f":"+[5]Tabulka!BH57","v":{"v":0,"d":"0.00"}},{"$f":"+[5]Tabulka!BI57","v":0},{"$f":"+[5]Tabulka!BJ57","v":{"v":0,"d":"0.00"}},{"$f":"+[5]Tabulka!BK57","v":{"v":0,"d":"0.00"}},{"$f":"+[5]Tabulka!BL57","v":0},{"$f":"+[5]Tabulka!BM57","v":{"v":0,"d":"0.00"}},{"$f":"+[5]Tabulka!BN57","v":0},{"$f":"+[5]Tabulka!BO57","v":{"v":0,"d":"0.00"}}]
[null,{"$f":"[5]Tabulka!C58","v":0},{"$f":"[5]Tabulka!D58","v":0},{"$f":"[5]Tabulka!E58","v":"00:00:00"},{"$f":"[5]Tabulka!F58","v":0},{"$f":"[5]Tabulka!G58","v":0},{"$f":"[5]Tabulka!H58","v":0},{"$f":"+[5]Tabulka!AU58","v":0},{"$f":"+[5]Tabulka!AV58","v":{"v":0,"d":"0.00"}},{"$f":"+[5]Tabulka!AW58","v":0},{"$f":"+[5]Tabulka!AX58","v":{"v":0,"d":"0.00"}},{"$f":"+[5]Tabulka!AY58","v":0},{"$f":"+[5]Tabulka!AZ58","v":{"v":0,"d":"0.00"}},{"$f":"+[5]Tabulka!BA58","v":0},{"$f":"+[5]Tabulka!BB58","v":{"v":0,"d":"0.00"}},{"$f":"+[5]Tabulka!BC58","v":0},{"$f":"+[5]Tabulka!BD58","v":{"v":0,"d":"0.00"}},{"$f":"+[5]Tabulka!BE58","v":0},{"$f":"+[5]Tabulka!BF58","v":{"v":0,"d":"0.00"}},{"$f":"+[5]Tabulka!BG58","v":0},{"$f":"+[5]Tabulka!BH58","v":{"v":0,"d":"0.00"}},{"$f":"+[5]Tabulka!BI58","v":0},{"$f":"+[5]Tabulka!BJ58","v":{"v":0,"d":"0.00"}},{"$f":"+[5]Tabulka!BK58","v":{"v":0,"d":"0.00"}},{"$f":"+[5]Tabulka!BL58","v":0},{"$f":"+[5]Tabulka!BM58","v":{"v":0,"d":"0.00"}},{"$f":"+[5]Tabulka!BN58","v":0},{"$f":"+[5]Tabulka!BO58","v":{"v":0,"d":"0.00"}}]
[null,{"$f":"[5]Tabulka!C59","v":0},{"$f":"[5]Tabulka!D59","v":0},{"$f":"[5]Tabulka!E59","v":"00:00:00"},{"$f":"[5]Tabulka!F59","v":0},{"$f":"[5]Tabulka!G59","v":0},{"$f":"[5]Tabulka!H59","v":0},{"$f":"+[5]Tabulka!AU59","v":0},{"$f":"+[5]Tabulka!AV59","v":{"v":0,"d":"0.00"}},{"$f":"+[5]Tabulka!AW59","v":0},{"$f":"+[5]Tabulka!AX59","v":{"v":0,"d":"0.00"}},{"$f":"+[5]Tabulka!AY59","v":0},{"$f":"+[5]Tabulka!AZ59","v":{"v":0,"d":"0.00"}},{"$f":"+[5]Tabulka!BA59","v":0},{"$f":"+[5]Tabulka!BB59","v":{"v":0,"d":"0.00"}},{"$f":"+[5]Tabulka!BC59","v":0},{"$f":"+[5]Tabulka!BD59","v":{"v":0,"d":"0.00"}},{"$f":"+[5]Tabulka!BE59","v":0},{"$f":"+[5]Tabulka!BF59","v":{"v":0,"d":"0.00"}},{"$f":"+[5]Tabulka!BG59","v":0},{"$f":"+[5]Tabulka!BH59","v":{"v":0,"d":"0.00"}},{"$f":"+[5]Tabulka!BI59","v":0},{"$f":"+[5]Tabulka!BJ59","v":{"v":0,"d":"0.00"}},{"$f":"+[5]Tabulka!BK59","v":{"v":0,"d":"0.00"}},{"$f":"+[5]Tabulka!BL59","v":0},{"$f":"+[5]Tabulka!BM59","v":{"v":0,"d":"0.00"}},{"$f":"+[5]Tabulka!BN59","v":0},{"$f":"+[5]Tabulka!BO59","v":{"v":0,"d":"0.00"}}]
[null,{"$f":"[5]Tabulka!C60","v":0},{"$f":"[5]Tabulka!D60","v":0},{"$f":"[5]Tabulka!E60","v":"00:00:00"},{"$f":"[5]Tabulka!F60","v":0},{"$f":"[5]Tabulka!G60","v":0},{"$f":"[5]Tabulka!H60","v":0},{"$f":"+[5]Tabulka!AU60","v":0},{"$f":"+[5]Tabulka!AV60","v":{"v":0,"d":"0.00"}},{"$f":"+[5]Tabulka!AW60","v":0},{"$f":"+[5]Tabulka!AX60","v":{"v":0,"d":"0.00"}},{"$f":"+[5]Tabulka!AY60","v":0},{"$f":"+[5]Tabulka!AZ60","v":{"v":0,"d":"0.00"}},{"$f":"+[5]Tabulka!BA60","v":0},{"$f":"+[5]Tabulka!BB60","v":{"v":0,"d":"0.00"}},{"$f":"+[5]Tabulka!BC60","v":0},{"$f":"+[5]Tabulka!BD60","v":{"v":0,"d":"0.00"}},{"$f":"+[5]Tabulka!BE60","v":0},{"$f":"+[5]Tabulka!BF60","v":{"v":0,"d":"0.00"}},{"$f":"+[5]Tabulka!BG60","v":0},{"$f":"+[5]Tabulka!BH60","v":{"v":0,"d":"0.00"}},{"$f":"+[5]Tabulka!BI60","v":0},{"$f":"+[5]Tabulka!BJ60","v":{"v":0,"d":"0.00"}},{"$f":"+[5]Tabulka!BK60","v":{"v":0,"d":"0.00"}},{"$f":"+[5]Tabulka!BL60","v":0},{"$f":"+[5]Tabulka!BM60","v":{"v":0,"d":"0.00"}},{"$f":"+[5]Tabulka!BN60","v":0},{"$f":"+[5]Tabulka!BO60","v":{"v":0,"d":"0.00"}}]
[null,{"$f":"[5]Tabulka!C61","v":0},{"$f":"[5]Tabulka!D61","v":0},{"$f":"[5]Tabulka!E61","v":"00:00:00"},{"$f":"[5]Tabulka!F61","v":0},{"$f":"[5]Tabulka!G61","v":0},{"$f":"[5]Tabulka!H61","v":0},{"$f":"+[5]Tabulka!AU61","v":0},{"$f":"+[5]Tabulka!AV61","v":{"v":0,"d":"0.00"}},{"$f":"+[5]Tabulka!AW61","v":0},{"$f":"+[5]Tabulka!AX61","v":{"v":0,"d":"0.00"}},{"$f":"+[5]Tabulka!AY61","v":0},{"$f":"+[5]Tabulka!AZ61","v":{"v":0,"d":"0.00"}},{"$f":"+[5]Tabulka!BA61","v":0},{"$f":"+[5]Tabulka!BB61","v":{"v":0,"d":"0.00"}},{"$f":"+[5]Tabulka!BC61","v":0},{"$f":"+[5]Tabulka!BD61","v":{"v":0,"d":"0.00"}},{"$f":"+[5]Tabulka!BE61","v":0},{"$f":"+[5]Tabulka!BF61","v":{"v":0,"d":"0.00"}},{"$f":"+[5]Tabulka!BG61","v":0},{"$f":"+[5]Tabulka!BH61","v":{"v":0,"d":"0.00"}},{"$f":"+[5]Tabulka!BI61","v":0},{"$f":"+[5]Tabulka!BJ61","v":{"v":0,"d":"0.00"}},{"$f":"+[5]Tabulka!BK61","v":{"v":0,"d":"0.00"}},{"$f":"+[5]Tabulka!BL61","v":0},{"$f":"+[5]Tabulka!BM61","v":{"v":0,"d":"0.00"}},{"$f":"+[5]Tabulka!BN61","v":0},{"$f":"+[5]Tabulka!BO61","v":{"v":0,"d":"0.00"}}]
[null,{"$f":"[5]Tabulka!C62","v":0},{"$f":"[5]Tabulka!D62","v":0},{"$f":"[5]Tabulka!E62","v":"00:00:00"},{"$f":"[5]Tabulka!F62","v":0},{"$f":"[5]Tabulka!G62","v":0},{"$f":"[5]Tabulka!H62","v":0},{"$f":"+[5]Tabulka!AU62","v":0},{"$f":"+[5]Tabulka!AV62","v":{"v":0,"d":"0.00"}},{"$f":"+[5]Tabulka!AW62","v":0},{"$f":"+[5]Tabulka!AX62","v":{"v":0,"d":"0.00"}},{"$f":"+[5]Tabulka!AY62","v":0},{"$f":"+[5]Tabulka!AZ62","v":{"v":0,"d":"0.00"}},{"$f":"+[5]Tabulka!BA62","v":0},{"$f":"+[5]Tabulka!BB62","v":{"v":0,"d":"0.00"}},{"$f":"+[5]Tabulka!BC62","v":0},{"$f":"+[5]Tabulka!BD62","v":{"v":0,"d":"0.00"}},{"$f":"+[5]Tabulka!BE62","v":0},{"$f":"+[5]Tabulka!BF62","v":{"v":0,"d":"0.00"}},{"$f":"+[5]Tabulka!BG62","v":0},{"$f":"+[5]Tabulka!BH62","v":{"v":0,"d":"0.00"}},{"$f":"+[5]Tabulka!BI62","v":0},{"$f":"+[5]Tabulka!BJ62","v":{"v":0,"d":"0.00"}},{"$f":"+[5]Tabulka!BK62","v":{"v":0,"d":"0.00"}},{"$f":"+[5]Tabulka!BL62","v":0},{"$f":"+[5]Tabulka!BM62","v":{"v":0,"d":"0.00"}},{"$f":"+[5]Tabulka!BN62","v":0},{"$f":"+[5]Tabulka!BO62","v":{"v":0,"d":"0.00"}}]
[null,{"$f":"[5]Tabulka!C63","v":0},{"$f":"[5]Tabulka!D63","v":0},{"$f":"[5]Tabulka!E63","v":"00:00:00"},{"$f":"[5]Tabulka!F63","v":0},{"$f":"[5]Tabulka!G63","v":0},{"$f":"[5]Tabulka!H63","v":0},{"$f":"+[5]Tabulka!AU63","v":0},{"$f":"+[5]Tabulka!AV63","v":{"v":0,"d":"0.00"}},{"$f":"+[5]Tabulka!AW63","v":0},{"$f":"+[5]Tabulka!AX63","v":{"v":0,"d":"0.00"}},{"$f":"+[5]Tabulka!AY63","v":0},{"$f":"+[5]Tabulka!AZ63","v":{"v":0,"d":"0.00"}},{"$f":"+[5]Tabulka!BA63","v":0},{"$f":"+[5]Tabulka!BB63","v":{"v":0,"d":"0.00"}},{"$f":"+[5]Tabulka!BC63","v":0},{"$f":"+[5]Tabulka!BD63","v":{"v":0,"d":"0.00"}},{"$f":"+[5]Tabulka!BE63","v":0},{"$f":"+[5]Tabulka!BF63","v":{"v":0,"d":"0.00"}},{"$f":"+[5]Tabulka!BG63","v":0},{"$f":"+[5]Tabulka!BH63","v":{"v":0,"d":"0.00"}},{"$f":"+[5]Tabulka!BI63","v":0},{"$f":"+[5]Tabulka!BJ63","v":{"v":0,"d":"0.00"}},{"$f":"+[5]Tabulka!BK63","v":{"v":0,"d":"0.00"}},{"$f":"+[5]Tabulka!BL63","v":0},{"$f":"+[5]Tabulka!BM63","v":{"v":0,"d":"0.00"}},{"$f":"+[5]Tabulka!BN63","v":0},{"$f":"+[5]Tabulka!BO63","v":{"v":0,"d":"0.00"}}]
[null,{"$f":"[5]Tabulka!C64","v":0},{"$f":"[5]Tabulka!D64","v":0},{"$f":"[5]Tabulka!E64","v":"00:00:00"},{"$f":"[5]Tabulka!F64","v":0},{"$f":"[5]Tabulka!G64","v":0},{"$f":"[5]Tabulka!H64","v":0},{"$f":"+[5]Tabulka!AU64","v":0},{"$f":"+[5]Tabulka!AV64","v":{"v":0,"d":"0.00"}},{"$f":"+[5]Tabulka!AW64","v":0},{"$f":"+[5]Tabulka!AX64","v":{"v":0,"d":"0.00"}},{"$f":"+[5]Tabulka!AY64","v":0},{"$f":"+[5]Tabulka!AZ64","v":{"v":0,"d":"0.00"}},{"$f":"+[5]Tabulka!BA64","v":0},{"$f":"+[5]Tabulka!BB64","v":{"v":0,"d":"0.00"}},{"$f":"+[5]Tabulka!BC64","v":0},{"$f":"+[5]Tabulka!BD64","v":{"v":0,"d":"0.00"}},{"$f":"+[5]Tabulka!BE64","v":0},{"$f":"+[5]Tabulka!BF64","v":{"v":0,"d":"0.00"}},{"$f":"+[5]Tabulka!BG64","v":0},{"$f":"+[5]Tabulka!BH64","v":{"v":0,"d":"0.00"}},{"$f":"+[5]Tabulka!BI64","v":0},{"$f":"+[5]Tabulka!BJ64","v":{"v":0,"d":"0.00"}},{"$f":"+[5]Tabulka!BK64","v":{"v":0,"d":"0.00"}},{"$f":"+[5]Tabulka!BL64","v":0},{"$f":"+[5]Tabulka!BM64","v":{"v":0,"d":"0.00"}},{"$f":"+[5]Tabulka!BN64","v":0},{"$f":"+[5]Tabulka!BO64","v":{"v":0,"d":"0.00"}}]
[null,{"$f":"[5]Tabulka!C65","v":0},{"$f":"[5]Tabulka!D65","v":0},{"$f":"[5]Tabulka!E65","v":"00:00:00"},{"$f":"[5]Tabulka!F65","v":0},{"$f":"[5]Tabulka!G65","v":0},{"$f":"[5]Tabulka!H65","v":0},{"$f":"+[5]Tabulka!AU65","v":0},{"$f":"+[5]Tabulka!AV65","v":{"v":0,"d":"0.00"}},{"$f":"+[5]Tabulka!AW65","v":0},{"$f":"+[5]Tabulka!AX65","v":{"v":0,"d":"0.00"}},{"$f":"+[5]Tabulka!AY65","v":0},{"$f":"+[5]Tabulka!AZ65","v":{"v":0,"d":"0.00"}},{"$f":"+[5]Tabulka!BA65","v":0},{"$f":"+[5]Tabulka!BB65","v":{"v":0,"d":"0.00"}},{"$f":"+[5]Tabulka!BC65","v":0},{"$f":"+[5]Tabulka!BD65","v":{"v":0,"d":"0.00"}},{"$f":"+[5]Tabulka!BE65","v":0},{"$f":"+[5]Tabulka!BF65","v":{"v":0,"d":"0.00"}},{"$f":"+[5]Tabulka!BG65","v":0},{"$f":"+[5]Tabulka!BH65","v":{"v":0,"d":"0.00"}},{"$f":"+[5]Tabulka!BI65","v":0},{"$f":"+[5]Tabulka!BJ65","v":{"v":0,"d":"0.00"}},{"$f":"+[5]Tabulka!BK65","v":{"v":0,"d":"0.00"}},{"$f":"+[5]Tabulka!BL65","v":0},{"$f":"+[5]Tabulka!BM65","v":{"v":0,"d":"0.00"}},{"$f":"+[5]Tabulka!BN65","v":0},{"$f":"+[5]Tabulka!BO65","v":{"v":0,"d":"0.00"}}]
[null,{"$f":"[5]Tabulka!C66","v":0},{"$f":"[5]Tabulka!D66","v":0},{"$f":"[5]Tabulka!E66","v":"00:00:00"},{"$f":"[5]Tabulka!F66","v":0},{"$f":"[5]Tabulka!G66","v":0},{"$f":"[5]Tabulka!H66","v":0},{"$f":"+[5]Tabulka!AU66","v":0},{"$f":"+[5]Tabulka!AV66","v":{"v":0,"d":"0.00"}},{"$f":"+[5]Tabulka!AW66","v":0},{"$f":"+[5]Tabulka!AX66","v":{"v":0,"d":"0.00"}},{"$f":"+[5]Tabulka!AY66","v":0},{"$f":"+[5]Tabulka!AZ66","v":{"v":0,"d":"0.00"}},{"$f":"+[5]Tabulka!BA66","v":0},{"$f":"+[5]Tabulka!BB66","v":{"v":0,"d":"0.00"}},{"$f":"+[5]Tabulka!BC66","v":0},{"$f":"+[5]Tabulka!BD66","v":{"v":0,"d":"0.00"}},{"$f":"+[5]Tabulka!BE66","v":0},{"$f":"+[5]Tabulka!BF66","v":{"v":0,"d":"0.00"}},{"$f":"+[5]Tabulka!BG66","v":0},{"$f":"+[5]Tabulka!BH66","v":{"v":0,"d":"0.00"}},{"$f":"+[5]Tabulka!BI66","v":0},{"$f":"+[5]Tabulka!BJ66","v":{"v":0,"d":"0.00"}},{"$f":"+[5]Tabulka!BK66","v":{"v":0,"d":"0.00"}},{"$f":"+[5]Tabulka!BL66","v":0},{"$f":"+[5]Tabulka!BM66","v":{"v":0,"d":"0.00"}},{"$f":"+[5]Tabulka!BN66","v":0},{"$f":"+[5]Tabulka!BO66","v":{"v":0,"d":"0.00"}}]
[null,{"$f":"[5]Tabulka!C67","v":0},{"$f":"[5]Tabulka!D67","v":0},{"$f":"[5]Tabulka!E67","v":"00:00:00"},{"$f":"[5]Tabulka!F67","v":0},{"$f":"[5]Tabulka!G67","v":0},{"$f":"[5]Tabulka!H67","v":0},{"$f":"+[5]Tabulka!AU67","v":0},{"$f":"+[5]Tabulka!AV67","v":{"v":0,"d":"0.00"}},{"$f":"+[5]Tabulka!AW67","v":0},{"$f":"+[5]Tabulka!AX67","v":{"v":0,"d":"0.00"}},{"$f":"+[5]Tabulka!AY67","v":0},{"$f":"+[5]Tabulka!AZ67","v":{"v":0,"d":"0.00"}},{"$f":"+[5]Tabulka!BA67","v":0},{"$f":"+[5]Tabulka!BB67","v":{"v":0,"d":"0.00"}},{"$f":"+[5]Tabulka!BC67","v":0},{"$f":"+[5]Tabulka!BD67","v":{"v":0,"d":"0.00"}},{"$f":"+[5]Tabulka!BE67","v":0},{"$f":"+[5]Tabulka!BF67","v":{"v":0,"d":"0.00"}},{"$f":"+[5]Tabulka!BG67","v":0},{"$f":"+[5]Tabulka!BH67","v":{"v":0,"d":"0.00"}},{"$f":"+[5]Tabulka!BI67","v":0},{"$f":"+[5]Tabulka!BJ67","v":{"v":0,"d":"0.00"}},{"$f":"+[5]Tabulka!BK67","v":{"v":0,"d":"0.00"}},{"$f":"+[5]Tabulka!BL67","v":0},{"$f":"+[5]Tabulka!BM67","v":{"v":0,"d":"0.00"}},{"$f":"+[5]Tabulka!BN67","v":0},{"$f":"+[5]Tabulka!BO67","v":{"v":0,"d":"0.00"}}]
[null,{"$f":"[5]Tabulka!C68","v":0},{"$f":"[5]Tabulka!D68","v":0},{"$f":"[5]Tabulka!E68","v":"00:00:00"},{"$f":"[5]Tabulka!F68","v":0},{"$f":"[5]Tabulka!G68","v":0},{"$f":"[5]Tabulka!H68","v":0},{"$f":"+[5]Tabulka!AU68","v":0},{"$f":"+[5]Tabulka!AV68","v":{"v":0,"d":"0.00"}},{"$f":"+[5]Tabulka!AW68","v":0},{"$f":"+[5]Tabulka!AX68","v":{"v":0,"d":"0.00"}},{"$f":"+[5]Tabulka!AY68","v":0},{"$f":"+[5]Tabulka!AZ68","v":{"v":0,"d":"0.00"}},{"$f":"+[5]Tabulka!BA68","v":0},{"$f":"+[5]Tabulka!BB68","v":{"v":0,"d":"0.00"}},{"$f":"+[5]Tabulka!BC68","v":0},{"$f":"+[5]Tabulka!BD68","v":{"v":0,"d":"0.00"}},{"$f":"+[5]Tabulka!BE68","v":0},{"$f":"+[5]Tabulka!BF68","v":{"v":0,"d":"0.00"}},{"$f":"+[5]Tabulka!BG68","v":0},{"$f":"+[5]Tabulka!BH68","v":{"v":0,"d":"0.00"}},{"$f":"+[5]Tabulka!BI68","v":0},{"$f":"+[5]Tabulka!BJ68","v":{"v":0,"d":"0.00"}},{"$f":"+[5]Tabulka!AP68","v":{"v":0,"d":"0.00"}},{"$f":"+[5]Tabulka!AQ68","v":{"v":0,"d":"0.00"}},{"$f":"+[5]Tabulka!BM68","v":{"v":0,"d":"0.00"}},{"$f":"+[5]Tabulka!BN68","v":0},{"$f":"+[5]Tabulka!BO68","v":{"v":0,"d":"0.00"}}]
[null,{"$f":"[5]Tabulka!C69","v":0},{"$f":"[5]Tabulka!D69","v":0},{"$f":"[5]Tabulka!E69","v":"00:00:00"},{"$f":"[5]Tabulka!F69","v":0},{"$f":"[5]Tabulka!G69","v":0},{"$f":"[5]Tabulka!H69","v":0},{"$f":"+[5]Tabulka!AU69","v":0},{"$f":"+[5]Tabulka!AV69","v":{"v":0,"d":"0.00"}},{"$f":"+[5]Tabulka!AW69","v":0},{"$f":"+[5]Tabulka!AX69","v":{"v":0,"d":"0.00"}},{"$f":"+[5]Tabulka!AY69","v":0},{"$f":"+[5]Tabulka!AZ69","v":{"v":0,"d":"0.00"}},{"$f":"+[5]Tabulka!BA69","v":0},{"$f":"+[5]Tabulka!BB69","v":{"v":0,"d":"0.00"}},{"$f":"+[5]Tabulka!BC69","v":0},{"$f":"+[5]Tabulka!BD69","v":{"v":0,"d":"0.00"}},{"$f":"+[5]Tabulka!BE69","v":0},{"$f":"+[5]Tabulka!BF69","v":{"v":0,"d":"0.00"}},{"$f":"+[5]Tabulka!BG69","v":0},{"$f":"+[5]Tabulka!BH69","v":{"v":0,"d":"0.00"}},{"$f":"+[5]Tabulka!BI69","v":0},{"$f":"+[5]Tabulka!BJ69","v":{"v":0,"d":"0.00"}},{"$f":"+[5]Tabulka!AP69","v":{"v":0,"d":"0.00"}},{"$f":"+[5]Tabulka!AQ69","v":{"v":0,"d":"0.00"}},{"$f":"+[5]Tabulka!BM69","v":{"v":0,"d":"0.00"}},{"$f":"+[5]Tabulka!BN69","v":0},{"$f":"+[5]Tabulka!BO69","v":{"v":0,"d":"0.00"}}]
[null,{"$f":"[5]Tabulka!C70","v":0},{"$f":"[5]Tabulka!D70","v":0},{"$f":"[5]Tabulka!E70","v":"00:00:00"},{"$f":"[5]Tabulka!F70","v":0},{"$f":"[5]Tabulka!G70","v":0},{"$f":"[5]Tabulka!H70","v":0},{"$f":"+[5]Tabulka!AU70","v":0},{"$f":"+[5]Tabulka!AV70","v":{"v":0,"d":"0.00"}},{"$f":"+[5]Tabulka!AW70","v":0},{"$f":"+[5]Tabulka!AX70","v":{"v":0,"d":"0.00"}},{"$f":"+[5]Tabulka!AY70","v":0},{"$f":"+[5]Tabulka!AZ70","v":{"v":0,"d":"0.00"}},{"$f":"+[5]Tabulka!BA70","v":0},{"$f":"+[5]Tabulka!BB70","v":{"v":0,"d":"0.00"}},{"$f":"+[5]Tabulka!BC70","v":0},{"$f":"+[5]Tabulka!BD70","v":{"v":0,"d":"0.00"}},{"$f":"+[5]Tabulka!BE70","v":0},{"$f":"+[5]Tabulka!BF70","v":{"v":0,"d":"0.00"}},{"$f":"+[5]Tabulka!BG70","v":0},{"$f":"+[5]Tabulka!BH70","v":{"v":0,"d":"0.00"}},{"$f":"+[5]Tabulka!BI70","v":0},{"$f":"+[5]Tabulka!BJ70","v":{"v":0,"d":"0.00"}},{"$f":"+[5]Tabulka!AP70","v":{"v":0,"d":"0.00"}},{"$f":"+[5]Tabulka!AQ70","v":{"v":0,"d":"0.00"}},{"$f":"+[5]Tabulka!BM70","v":{"v":0,"d":"0.00"}},{"$f":"+[5]Tabulka!BN70","v":0},{"$f":"+[5]Tabulka!BO70","v":{"v":0,"d":"0.00"}}]
[null,{"$f":"[5]Tabulka!C71","v":0},{"$f":"[5]Tabulka!D71","v":0},{"$f":"[5]Tabulka!E71","v":"00:00:00"},{"$f":"[5]Tabulka!F71","v":0},{"$f":"[5]Tabulka!G71","v":0},{"$f":"[5]Tabulka!H71","v":0},{"$f":"+[5]Tabulka!AU71","v":0},{"$f":"+[5]Tabulka!AV71","v":{"v":0,"d":"0.00"}},{"$f":"+[5]Tabulka!AW71","v":0},{"$f":"+[5]Tabulka!AX71","v":{"v":0,"d":"0.00"}},{"$f":"+[5]Tabulka!AY71","v":0},{"$f":"+[5]Tabulka!AZ71","v":{"v":0,"d":"0.00"}},{"$f":"+[5]Tabulka!BA71","v":0},{"$f":"+[5]Tabulka!BB71","v":{"v":0,"d":"0.00"}},{"$f":"+[5]Tabulka!BC71","v":0},{"$f":"+[5]Tabulka!BD71","v":{"v":0,"d":"0.00"}},{"$f":"+[5]Tabulka!BE71","v":0},{"$f":"+[5]Tabulka!BF71","v":{"v":0,"d":"0.00"}},{"$f":"+[5]Tabulka!BG71","v":0},{"$f":"+[5]Tabulka!BH71","v":{"v":0,"d":"0.00"}},{"$f":"+[5]Tabulka!BI71","v":0},{"$f":"+[5]Tabulka!BJ71","v":{"v":0,"d":"0.00"}},{"$f":"+[5]Tabulka!AP71","v":{"v":0,"d":"0.00"}},{"$f":"+[5]Tabulka!AQ71","v":{"v":0,"d":"0.00"}},{"$f":"+[5]Tabulka!BM71","v":{"v":0,"d":"0.00"}},{"$f":"+[5]Tabulka!BN71","v":0},{"$f":"+[5]Tabulka!BO71","v":{"v":0,"d":"0.00"}}]
[null,{"$f":"[5]Tabulka!C72","v":0},{"$f":"[5]Tabulka!D72","v":0},{"$f":"[5]Tabulka!E72","v":"00:00:00"},{"$f":"[5]Tabulka!F72","v":0},{"$f":"[5]Tabulka!G72","v":0},{"$f":"[5]Tabulka!H72","v":0},{"$f":"+[5]Tabulka!AU72","v":0},{"$f":"+[5]Tabulka!AV72","v":{"v":0,"d":"0.00"}},{"$f":"+[5]Tabulka!AW72","v":0},{"$f":"+[5]Tabulka!AX72","v":{"v":0,"d":"0.00"}},{"$f":"+[5]Tabulka!AY72","v":0},{"$f":"+[5]Tabulka!AZ72","v":{"v":0,"d":"0.00"}},{"$f":"+[5]Tabulka!BA72","v":0},{"$f":"+[5]Tabulka!BB72","v":{"v":0,"d":"0.00"}},{"$f":"+[5]Tabulka!BC72","v":0},{"$f":"+[5]Tabulka!BD72","v":{"v":0,"d":"0.00"}},{"$f":"+[5]Tabulka!BE72","v":0},{"$f":"+[5]Tabulka!BF72","v":{"v":0,"d":"0.00"}},{"$f":"+[5]Tabulka!BG72","v":0},{"$f":"+[5]Tabulka!BH72","v":{"v":0,"d":"0.00"}},{"$f":"+[5]Tabulka!BI72","v":0},{"$f":"+[5]Tabulka!BJ72","v":{"v":0,"d":"0.00"}},{"$f":"+[5]Tabulka!AP72","v":{"v":0,"d":"0.00"}},{"$f":"+[5]Tabulka!AQ72","v":{"v":0,"d":"0.00"}},{"$f":"+[5]Tabulka!BM72","v":{"v":0,"d":"0.00"}},{"$f":"+[5]Tabulka!BN72","v":0},{"$f":"+[5]Tabulka!BO72","v":{"v":0,"d":"0.00"}}]
[null,{"$f":"[5]Tabulka!C73","v":0},{"$f":"[5]Tabulka!D73","v":0},{"$f":"[5]Tabulka!E73","v":"00:00:00"},{"$f":"[5]Tabulka!F73","v":0},{"$f":"[5]Tabulka!G73","v":0},{"$f":"[5]Tabulka!H73","v":0},{"$f":"+[5]Tabulka!AU73","v":0},{"$f":"+[5]Tabulka!AV73","v":{"v":0,"d":"0.00"}},{"$f":"+[5]Tabulka!AW73","v":0},{"$f":"+[5]Tabulka!AX73","v":{"v":0,"d":"0.00"}},{"$f":"+[5]Tabulka!AY73","v":0},{"$f":"+[5]Tabulka!AZ73","v":{"v":0,"d":"0.00"}},{"$f":"+[5]Tabulka!BA73","v":0},{"$f":"+[5]Tabulka!BB73","v":{"v":0,"d":"0.00"}},{"$f":"+[5]Tabulka!BC73","v":0},{"$f":"+[5]Tabulka!BD73","v":{"v":0,"d":"0.00"}},{"$f":"+[5]Tabulka!BE73","v":0},{"$f":"+[5]Tabulka!BF73","v":{"v":0,"d":"0.00"}},{"$f":"+[5]Tabulka!BG73","v":0},{"$f":"+[5]Tabulka!BH73","v":{"v":0,"d":"0.00"}},{"$f":"+[5]Tabulka!BI73","v":0},{"$f":"+[5]Tabulka!BJ73","v":{"v":0,"d":"0.00"}},{"$f":"+[5]Tabulka!AP73","v":{"v":0,"d":"0.00"}},{"$f":"+[5]Tabulka!AQ73","v":{"v":0,"d":"0.00"}},{"$f":"+[5]Tabulka!BM73","v":{"v":0,"d":"0.00"}},{"$f":"+[5]Tabulka!BN73","v":0},{"$f":"+[5]Tabulka!BO73","v":{"v":0,"d":"0.00"}}]
[null,{"$f":"[5]Tabulka!C74","v":0},{"$f":"[5]Tabulka!D74","v":0},{"$f":"[5]Tabulka!E74","v":"00:00:00"},{"$f":"[5]Tabulka!F74","v":0},{"$f":"[5]Tabulka!G74","v":0},{"$f":"[5]Tabulka!H74","v":0},{"$f":"+[5]Tabulka!AU74","v":0},{"$f":"+[5]Tabulka!AV74","v":{"v":0,"d":"0.00"}},{"$f":"+[5]Tabulka!AW74","v":0},{"$f":"+[5]Tabulka!AX74","v":{"v":0,"d":"0.00"}},{"$f":"+[5]Tabulka!AY74","v":0},{"$f":"+[5]Tabulka!AZ74","v":{"v":0,"d":"0.00"}},{"$f":"+[5]Tabulka!BA74","v":0},{"$f":"+[5]Tabulka!BB74","v":{"v":0,"d":"0.00"}},{"$f":"+[5]Tabulka!BC74","v":0},{"$f":"+[5]Tabulka!BD74","v":{"v":0,"d":"0.00"}},{"$f":"+[5]Tabulka!BE74","v":0},{"$f":"+[5]Tabulka!BF74","v":{"v":0,"d":"0.00"}},{"$f":"+[5]Tabulka!BG74","v":0},{"$f":"+[5]Tabulka!BH74","v":{"v":0,"d":"0.00"}},{"$f":"+[5]Tabulka!BI74","v":0},{"$f":"+[5]Tabulka!BJ74","v":{"v":0,"d":"0.00"}},{"$f":"+[5]Tabulka!AP74","v":{"v":0,"d":"0.00"}},{"$f":"+[5]Tabulka!AQ74","v":{"v":0,"d":"0.00"}},{"$f":"+[5]Tabulka!BM74","v":{"v":0,"d":"0.00"}},{"$f":"+[5]Tabulka!BN74","v":0},{"$f":"+[5]Tabulka!BO74","v":{"v":0,"d":"0.00"}}]
[null,{"$f":"[5]Tabulka!C75","v":0},{"$f":"[5]Tabulka!D75","v":0},{"$f":"[5]Tabulka!E75","v":"00:00:00"},{"$f":"[5]Tabulka!F75","v":0},{"$f":"[5]Tabulka!G75","v":0},{"$f":"[5]Tabulka!H75","v":0},{"$f":"+[5]Tabulka!AU75","v":0},{"$f":"+[5]Tabulka!AV75","v":{"v":0,"d":"0.00"}},{"$f":"+[5]Tabulka!AW75","v":0},{"$f":"+[5]Tabulka!AX75","v":{"v":0,"d":"0.00"}},{"$f":"+[5]Tabulka!AY75","v":0},{"$f":"+[5]Tabulka!AZ75","v":{"v":0,"d":"0.00"}},{"$f":"+[5]Tabulka!BA75","v":0},{"$f":"+[5]Tabulka!BB75","v":{"v":0,"d":"0.00"}},{"$f":"+[5]Tabulka!BC75","v":0},{"$f":"+[5]Tabulka!BD75","v":{"v":0,"d":"0.00"}},{"$f":"+[5]Tabulka!BE75","v":0},{"$f":"+[5]Tabulka!BF75","v":{"v":0,"d":"0.00"}},{"$f":"+[5]Tabulka!BG75","v":0},{"$f":"+[5]Tabulka!BH75","v":{"v":0,"d":"0.00"}},{"$f":"+[5]Tabulka!BI75","v":0},{"$f":"+[5]Tabulka!BJ75","v":{"v":0,"d":"0.00"}},{"$f":"+[5]Tabulka!AP75","v":{"v":0,"d":"0.00"}},{"$f":"+[5]Tabulka!AQ75","v":{"v":0,"d":"0.00"}},{"$f":"+[5]Tabulka!BM75","v":{"v":0,"d":"0.00"}},{"$f":"+[5]Tabulka!BN75","v":0},{"$f":"+[5]Tabulka!BO75","v":{"v":0,"d":"0.00"}}]
[null,{"$f":"[5]Tabulka!C76","v":0},{"$f":"[5]Tabulka!D76","v":0},{"$f":"[5]Tabulka!E76","v":"00:00:00"},{"$f":"[5]Tabulka!F76","v":0},{"$f":"[5]Tabulka!G76","v":0},{"$f":"[5]Tabulka!H76","v":0},{"$f":"+[5]Tabulka!AU76","v":0},{"$f":"+[5]Tabulka!AV76","v":{"v":0,"d":"0.00"}},{"$f":"+[5]Tabulka!AW76","v":0},{"$f":"+[5]Tabulka!AX76","v":{"v":0,"d":"0.00"}},{"$f":"+[5]Tabulka!AY76","v":0},{"$f":"+[5]Tabulka!AZ76","v":{"v":0,"d":"0.00"}},{"$f":"+[5]Tabulka!BA76","v":0},{"$f":"+[5]Tabulka!BB76","v":{"v":0,"d":"0.00"}},{"$f":"+[5]Tabulka!BC76","v":0},{"$f":"+[5]Tabulka!BD76","v":{"v":0,"d":"0.00"}},{"$f":"+[5]Tabulka!BE76","v":0},{"$f":"+[5]Tabulka!BF76","v":{"v":0,"d":"0.00"}},{"$f":"+[5]Tabulka!BG76","v":0},{"$f":"+[5]Tabulka!BH76","v":{"v":0,"d":"0.00"}},{"$f":"+[5]Tabulka!BI76","v":0},{"$f":"+[5]Tabulka!BJ76","v":{"v":0,"d":"0.00"}},{"$f":"+[5]Tabulka!AP76","v":{"v":0,"d":"0.00"}},{"$f":"+[5]Tabulka!AQ76","v":{"v":0,"d":"0.00"}},{"$f":"+[5]Tabulka!BM76","v":{"v":0,"d":"0.00"}},{"$f":"+[5]Tabulka!BN76","v":0},{"$f":"+[5]Tabulka!BO76","v":{"v":0,"d":"0.00"}}]
[null,{"$f":"[5]Tabulka!C77","v":0},{"$f":"[5]Tabulka!D77","v":0},{"$f":"[5]Tabulka!E77","v":"00:00:00"},{"$f":"[5]Tabulka!F77","v":0},{"$f":"[5]Tabulka!G77","v":0},{"$f":"[5]Tabulka!H77","v":0},{"$f":"+[5]Tabulka!AU77","v":0},{"$f":"+[5]Tabulka!AV77","v":{"v":0,"d":"0.00"}},{"$f":"+[5]Tabulka!AW77","v":0},{"$f":"+[5]Tabulka!AX77","v":{"v":0,"d":"0.00"}},{"$f":"+[5]Tabulka!AY77","v":0},{"$f":"+[5]Tabulka!AZ77","v":{"v":0,"d":"0.00"}},{"$f":"+[5]Tabulka!BA77","v":0},{"$f":"+[5]Tabulka!BB77","v":{"v":0,"d":"0.00"}},{"$f":"+[5]Tabulka!BC77","v":0},{"$f":"+[5]Tabulka!BD77","v":{"v":0,"d":"0.00"}},{"$f":"+[5]Tabulka!BE77","v":0},{"$f":"+[5]Tabulka!BF77","v":{"v":0,"d":"0.00"}},{"$f":"+[5]Tabulka!BG77","v":0},{"$f":"+[5]Tabulka!BH77","v":{"v":0,"d":"0.00"}},{"$f":"+[5]Tabulka!BI77","v":0},{"$f":"+[5]Tabulka!BJ77","v":{"v":0,"d":"0.00"}},{"$f":"+[5]Tabulka!AP77","v":{"v":0,"d":"0.00"}},{"$f":"+[5]Tabulka!AQ77","v":{"v":0,"d":"0.00"}},{"$f":"+[5]Tabulka!BM77","v":{"v":0,"d":"0.00"}},{"$f":"+[5]Tabulka!BN77","v":0},{"$f":"+[5]Tabulka!BO77","v":{"v":0,"d":"0.00"}}]
[null,{"$f":"[5]Tabulka!C78","v":0},{"$f":"[5]Tabulka!D78","v":0},{"$f":"[5]Tabulka!E78","v":"00:00:00"},{"$f":"[5]Tabulka!F78","v":0},{"$f":"[5]Tabulka!G78","v":0},{"$f":"[5]Tabulka!H78","v":0},{"$f":"+[5]Tabulka!AU78","v":0},{"$f":"+[5]Tabulka!AV78","v":{"v":0,"d":"0.00"}},{"$f":"+[5]Tabulka!AW78","v":0},{"$f":"+[5]Tabulka!AX78","v":{"v":0,"d":"0.00"}},{"$f":"+[5]Tabulka!AY78","v":0},{"$f":"+[5]Tabulka!AZ78","v":{"v":0,"d":"0.00"}},{"$f":"+[5]Tabulka!BA78","v":0},{"$f":"+[5]Tabulka!BB78","v":{"v":0,"d":"0.00"}},{"$f":"+[5]Tabulka!BC78","v":0},{"$f":"+[5]Tabulka!BD78","v":{"v":0,"d":"0.00"}},{"$f":"+[5]Tabulka!BE78","v":0},{"$f":"+[5]Tabulka!BF78","v":{"v":0,"d":"0.00"}},{"$f":"+[5]Tabulka!BG78","v":0},{"$f":"+[5]Tabulka!BH78","v":{"v":0,"d":"0.00"}},{"$f":"+[5]Tabulka!BI78","v":0},{"$f":"+[5]Tabulka!BJ78","v":{"v":0,"d":"0.00"}},{"$f":"+[5]Tabulka!AP78","v":{"v":0,"d":"0.00"}},{"$f":"+[5]Tabulka!AQ78","v":{"v":0,"d":"0.00"}},{"$f":"+[5]Tabulka!BM78","v":{"v":0,"d":"0.00"}},{"$f":"+[5]Tabulka!BN78","v":0},{"$f":"+[5]Tabulka!BO78","v":{"v":0,"d":"0.00"}}]
[null,{"$f":"[5]Tabulka!C79","v":0},{"$f":"[5]Tabulka!D79","v":0},{"$f":"[5]Tabulka!E79","v":"00:00:00"},{"$f":"[5]Tabulka!F79","v":0},{"$f":"[5]Tabulka!G79","v":0},{"$f":"[5]Tabulka!H79","v":0},{"$f":"+[5]Tabulka!AU79","v":0},{"$f":"+[5]Tabulka!AV79","v":{"v":0,"d":"0.00"}},{"$f":"+[5]Tabulka!AW79","v":0},{"$f":"+[5]Tabulka!AX79","v":{"v":0,"d":"0.00"}},{"$f":"+[5]Tabulka!AY79","v":0},{"$f":"+[5]Tabulka!AZ79","v":{"v":0,"d":"0.00"}},{"$f":"+[5]Tabulka!BA79","v":0},{"$f":"+[5]Tabulka!BB79","v":{"v":0,"d":"0.00"}},{"$f":"+[5]Tabulka!BC79","v":0},{"$f":"+[5]Tabulka!BD79","v":{"v":0,"d":"0.00"}},{"$f":"+[5]Tabulka!BE79","v":0},{"$f":"+[5]Tabulka!BF79","v":{"v":0,"d":"0.00"}},{"$f":"+[5]Tabulka!BG79","v":0},{"$f":"+[5]Tabulka!BH79","v":{"v":0,"d":"0.00"}},{"$f":"+[5]Tabulka!BI79","v":0},{"$f":"+[5]Tabulka!BJ79","v":{"v":0,"d":"0.00"}},{"$f":"+[5]Tabulka!AP79","v":{"v":0,"d":"0.00"}},{"$f":"+[5]Tabulka!AQ79","v":{"v":0,"d":"0.00"}},{"$f":"+[5]Tabulka!BM79","v":{"v":0,"d":"0.00"}},{"$f":"+[5]Tabulka!BN79","v":0},{"$f":"+[5]Tabulka!BO79","v":{"v":0,"d":"0.00"}}]
[null,{"$f":"[5]Tabulka!C80","v":0},{"$f":"[5]Tabulka!D80","v":0},{"$f":"[5]Tabulka!E80","v":"00:00:00"},{"$f":"[5]Tabulka!F80","v":0},{"$f":"[5]Tabulka!G80","v":0},{"$f":"[5]Tabulka!H80","v":0},{"$f":"+[5]Tabulka!AU80","v":0},{"$f":"+[5]Tabulka!AV80","v":{"v":0,"d":"0.00"}},{"$f":"+[5]Tabulka!AW80","v":0},{"$f":"+[5]Tabulka!AX80","v":{"v":0,"d":"0.00"}},{"$f":"+[5]Tabulka!AY80","v":0},{"$f":"+[5]Tabulka!AZ80","v":{"v":0,"d":"0.00"}},{"$f":"+[5]Tabulka!BA80","v":0},{"$f":"+[5]Tabulka!BB80","v":{"v":0,"d":"0.00"}},{"$f":"+[5]Tabulka!BC80","v":0},{"$f":"+[5]Tabulka!BD80","v":{"v":0,"d":"0.00"}},{"$f":"+[5]Tabulka!BE80","v":0},{"$f":"+[5]Tabulka!BF80","v":{"v":0,"d":"0.00"}},{"$f":"+[5]Tabulka!BG80","v":0},{"$f":"+[5]Tabulka!BH80","v":{"v":0,"d":"0.00"}},{"$f":"+[5]Tabulka!BI80","v":0},{"$f":"+[5]Tabulka!BJ80","v":{"v":0,"d":"0.00"}},{"$f":"+[5]Tabulka!AP80","v":{"v":0,"d":"0.00"}},{"$f":"+[5]Tabulka!AQ80","v":{"v":0,"d":"0.00"}},{"$f":"+[5]Tabulka!BM80","v":{"v":0,"d":"0.00"}},{"$f":"+[5]Tabulka!BN80","v":0},{"$f":"+[5]Tabulka!BO80","v":{"v":0,"d":"0.00"}}]
[null,{"$f":"[5]Tabulka!C81","v":0},{"$f":"[5]Tabulka!D81","v":0},{"$f":"[5]Tabulka!E81","v":"00:00:00"},{"$f":"[5]Tabulka!F81","v":0},{"$f":"[5]Tabulka!G81","v":0},{"$f":"[5]Tabulka!H81","v":0},{"$f":"+[5]Tabulka!AU81","v":0},{"$f":"+[5]Tabulka!AV81","v":{"v":0,"d":"0.00"}},{"$f":"+[5]Tabulka!AW81","v":0},{"$f":"+[5]Tabulka!AX81","v":{"v":0,"d":"0.00"}},{"$f":"+[5]Tabulka!AY81","v":0},{"$f":"+[5]Tabulka!AZ81","v":{"v":0,"d":"0.00"}},{"$f":"+[5]Tabulka!BA81","v":0},{"$f":"+[5]Tabulka!BB81","v":{"v":0,"d":"0.00"}},{"$f":"+[5]Tabulka!BC81","v":0},{"$f":"+[5]Tabulka!BD81","v":{"v":0,"d":"0.00"}},{"$f":"+[5]Tabulka!BE81","v":0},{"$f":"+[5]Tabulka!BF81","v":{"v":0,"d":"0.00"}},{"$f":"+[5]Tabulka!BG81","v":0},{"$f":"+[5]Tabulka!BH81","v":{"v":0,"d":"0.00"}},{"$f":"+[5]Tabulka!BI81","v":0},{"$f":"+[5]Tabulka!BJ81","v":{"v":0,"d":"0.00"}},{"$f":"+[5]Tabulka!AP81","v":{"v":0,"d":"0.00"}},{"$f":"+[5]Tabulka!AQ81","v":{"v":0,"d":"0.00"}},{"$f":"+[5]Tabulka!BM81","v":{"v":0,"d":"0.00"}},{"$f":"+[5]Tabulka!BN81","v":0},{"$f":"+[5]Tabulka!BO81","v":{"v":0,"d":"0.00"}}]
[null,{"$f":"[5]Tabulka!C82","v":0},{"$f":"[5]Tabulka!D82","v":0},{"$f":"[5]Tabulka!E82","v":"00:00:00"},{"$f":"[5]Tabulka!F82","v":0},{"$f":"[5]Tabulka!G82","v":0},{"$f":"[5]Tabulka!H82","v":0},{"$f":"+[5]Tabulka!AU82","v":0},{"$f":"+[5]Tabulka!AV82","v":{"v":0,"d":"0.00"}},{"$f":"+[5]Tabulka!AW82","v":0},{"$f":"+[5]Tabulka!AX82","v":{"v":0,"d":"0.00"}},{"$f":"+[5]Tabulka!AY82","v":0},{"$f":"+[5]Tabulka!AZ82","v":{"v":0,"d":"0.00"}},{"$f":"+[5]Tabulka!BA82","v":0},{"$f":"+[5]Tabulka!BB82","v":{"v":0,"d":"0.00"}},{"$f":"+[5]Tabulka!BC82","v":0},{"$f":"+[5]Tabulka!BD82","v":{"v":0,"d":"0.00"}},{"$f":"+[5]Tabulka!BE82","v":0},{"$f":"+[5]Tabulka!BF82","v":{"v":0,"d":"0.00"}},{"$f":"+[5]Tabulka!BG82","v":0},{"$f":"+[5]Tabulka!BH82","v":{"v":0,"d":"0.00"}},{"$f":"+[5]Tabulka!BI82","v":0},{"$f":"+[5]Tabulka!BJ82","v":{"v":0,"d":"0.00"}},{"$f":"+[5]Tabulka!AP82","v":{"v":0,"d":"0.00"}},{"$f":"+[5]Tabulka!AQ82","v":{"v":0,"d":"0.00"}},{"$f":"+[5]Tabulka!BM82","v":{"v":0,"d":"0.00"}},{"$f":"+[5]Tabulka!BN82","v":0},{"$f":"+[5]Tabulka!BO82","v":{"v":0,"d":"0.00"}}]
[null,{"$f":"[5]Tabulka!C83","v":0},{"$f":"[5]Tabulka!D83","v":0},{"$f":"[5]Tabulka!E83","v":"00:00:00"},{"$f":"[5]Tabulka!F83","v":0},{"$f":"[5]Tabulka!G83","v":0},{"$f":"[5]Tabulka!H83","v":0},{"$f":"+[5]Tabulka!AU83","v":0},{"$f":"+[5]Tabulka!AV83","v":{"v":0,"d":"0.00"}},{"$f":"+[5]Tabulka!AW83","v":0},{"$f":"+[5]Tabulka!AX83","v":{"v":0,"d":"0.00"}},{"$f":"+[5]Tabulka!AY83","v":0},{"$f":"+[5]Tabulka!AZ83","v":{"v":0,"d":"0.00"}},{"$f":"+[5]Tabulka!BA83","v":0},{"$f":"+[5]Tabulka!BB83","v":{"v":0,"d":"0.00"}},{"$f":"+[5]Tabulka!BC83","v":0},{"$f":"+[5]Tabulka!BD83","v":{"v":0,"d":"0.00"}},{"$f":"+[5]Tabulka!BE83","v":0},{"$f":"+[5]Tabulka!BF83","v":{"v":0,"d":"0.00"}},{"$f":"+[5]Tabulka!BG83","v":0},{"$f":"+[5]Tabulka!BH83","v":{"v":0,"d":"0.00"}},{"$f":"+[5]Tabulka!BI83","v":0},{"$f":"+[5]Tabulka!BJ83","v":{"v":0,"d":"0.00"}},{"$f":"+[5]Tabulka!AP83","v":{"v":0,"d":"0.00"}},{"$f":"+[5]Tabulka!AQ83","v":{"v":0,"d":"0.00"}},{"$f":"+[5]Tabulka!BM83","v":{"v":0,"d":"0.00"}},{"$f":"+[5]Tabulka!BN83","v":0},{"$f":"+[5]Tabulka!BO83","v":{"v":0,"d":"0.00"}}]
[null,{"$f":"[5]Tabulka!C84","v":0},{"$f":"[5]Tabulka!D84","v":0},{"$f":"[5]Tabulka!E84","v":"00:00:00"},{"$f":"[5]Tabulka!F84","v":0},{"$f":"[5]Tabulka!G84","v":0},{"$f":"[5]Tabulka!H84","v":0},{"$f":"+[5]Tabulka!AU84","v":0},{"$f":"+[5]Tabulka!AV84","v":{"v":0,"d":"0.00"}},{"$f":"+[5]Tabulka!AW84","v":0},{"$f":"+[5]Tabulka!AX84","v":{"v":0,"d":"0.00"}},{"$f":"+[5]Tabulka!AY84","v":0},{"$f":"+[5]Tabulka!AZ84","v":{"v":0,"d":"0.00"}},{"$f":"+[5]Tabulka!BA84","v":0},{"$f":"+[5]Tabulka!BB84","v":{"v":0,"d":"0.00"}},{"$f":"+[5]Tabulka!BC84","v":0},{"$f":"+[5]Tabulka!BD84","v":{"v":0,"d":"0.00"}},{"$f":"+[5]Tabulka!BE84","v":0},{"$f":"+[5]Tabulka!BF84","v":{"v":0,"d":"0.00"}},{"$f":"+[5]Tabulka!BG84","v":0},{"$f":"+[5]Tabulka!BH84","v":{"v":0,"d":"0.00"}},{"$f":"+[5]Tabulka!BI84","v":0},{"$f":"+[5]Tabulka!BJ84","v":{"v":0,"d":"0.00"}},{"$f":"+[5]Tabulka!AP84","v":{"v":0,"d":"0.00"}},{"$f":"+[5]Tabulka!AQ84","v":{"v":0,"d":"0.00"}},{"$f":"+[5]Tabulka!BM84","v":{"v":0,"d":"0.00"}},{"$f":"+[5]Tabulka!BN84","v":0},{"$f":"+[5]Tabulka!BO84","v":{"v":0,"d":"0.00"}}]
[null,{"$f":"[5]Tabulka!C85","v":0},{"$f":"[5]Tabulka!D85","v":0},{"$f":"[5]Tabulka!E85","v":"00:00:00"},{"$f":"[5]Tabulka!F85","v":0},{"$f":"[5]Tabulka!G85","v":0},{"$f":"[5]Tabulka!H85","v":0},{"$f":"+[5]Tabulka!AU85","v":0},{"$f":"+[5]Tabulka!AV85","v":{"v":0,"d":"0.00"}},{"$f":"+[5]Tabulka!AW85","v":0},{"$f":"+[5]Tabulka!AX85","v":{"v":0,"d":"0.00"}},{"$f":"+[5]Tabulka!AY85","v":0},{"$f":"+[5]Tabulka!AZ85","v":{"v":0,"d":"0.00"}},{"$f":"+[5]Tabulka!BA85","v":0},{"$f":"+[5]Tabulka!BB85","v":{"v":0,"d":"0.00"}},{"$f":"+[5]Tabulka!BC85","v":0},{"$f":"+[5]Tabulka!BD85","v":{"v":0,"d":"0.00"}},{"$f":"+[5]Tabulka!BE85","v":0},{"$f":"+[5]Tabulka!BF85","v":{"v":0,"d":"0.00"}},{"$f":"+[5]Tabulka!BG85","v":0},{"$f":"+[5]Tabulka!BH85","v":{"v":0,"d":"0.00"}},{"$f":"+[5]Tabulka!BI85","v":0},{"$f":"+[5]Tabulka!BJ85","v":{"v":0,"d":"0.00"}},{"$f":"+[5]Tabulka!AP85","v":{"v":0,"d":"0.00"}},{"$f":"+[5]Tabulka!AQ85","v":{"v":0,"d":"0.00"}},{"$f":"+[5]Tabulka!BM85","v":{"v":0,"d":"0.00"}},{"$f":"+[5]Tabulka!BN85","v":0},{"$f":"+[5]Tabulka!BO85","v":{"v":0,"d":"0.00"}}]
[null,{"$f":"[5]Tabulka!C86","v":0},{"$f":"[5]Tabulka!D86","v":0},{"$f":"[5]Tabulka!E86","v":"00:00:00"},{"$f":"[5]Tabulka!F86","v":0},{"$f":"[5]Tabulka!G86","v":0},{"$f":"[5]Tabulka!H86","v":0},{"$f":"+[5]Tabulka!AU86","v":0},{"$f":"+[5]Tabulka!AV86","v":{"v":0,"d":"0.00"}},{"$f":"+[5]Tabulka!AW86","v":0},{"$f":"+[5]Tabulka!AX86","v":{"v":0,"d":"0.00"}},{"$f":"+[5]Tabulka!AY86","v":0},{"$f":"+[5]Tabulka!AZ86","v":{"v":0,"d":"0.00"}},{"$f":"+[5]Tabulka!BA86","v":0},{"$f":"+[5]Tabulka!BB86","v":{"v":0,"d":"0.00"}},{"$f":"+[5]Tabulka!BC86","v":0},{"$f":"+[5]Tabulka!BD86","v":{"v":0,"d":"0.00"}},{"$f":"+[5]Tabulka!BE86","v":0},{"$f":"+[5]Tabulka!BF86","v":{"v":0,"d":"0.00"}},{"$f":"+[5]Tabulka!BG86","v":0},{"$f":"+[5]Tabulka!BH86","v":{"v":0,"d":"0.00"}},{"$f":"+[5]Tabulka!BI86","v":0},{"$f":"+[5]Tabulka!BJ86","v":{"v":0,"d":"0.00"}},{"$f":"+[5]Tabulka!AP86","v":{"v":0,"d":"0.00"}},{"$f":"+[5]Tabulka!AQ86","v":{"v":0,"d":"0.00"}},{"$f":"+[5]Tabulka!BM86","v":{"v":0,"d":"0.00"}},{"$f":"+[5]Tabulka!BN86","v":0},{"$f":"+[5]Tabulka!BO86","v":{"v":0,"d":"0.00"}}]
[null,{"$f":"[5]Tabulka!C87","v":0},{"$f":"[5]Tabulka!D87","v":0},{"$f":"[5]Tabulka!E87","v":"00:00:00"},{"$f":"[5]Tabulka!F87","v":0},{"$f":"[5]Tabulka!G87","v":0},{"$f":"[5]Tabulka!H87","v":0},{"$f":"+[5]Tabulka!AU87","v":0},{"$f":"+[5]Tabulka!AV87","v":{"v":0,"d":"0.00"}},{"$f":"+[5]Tabulka!AW87","v":0},{"$f":"+[5]Tabulka!AX87","v":{"v":0,"d":"0.00"}},{"$f":"+[5]Tabulka!AY87","v":0},{"$f":"+[5]Tabulka!AZ87","v":{"v":0,"d":"0.00"}},{"$f":"+[5]Tabulka!BA87","v":0},{"$f":"+[5]Tabulka!BB87","v":{"v":0,"d":"0.00"}},{"$f":"+[5]Tabulka!BC87","v":0},{"$f":"+[5]Tabulka!BD87","v":{"v":0,"d":"0.00"}},{"$f":"+[5]Tabulka!BE87","v":0},{"$f":"+[5]Tabulka!BF87","v":{"v":0,"d":"0.00"}},{"$f":"+[5]Tabulka!BG87","v":0},{"$f":"+[5]Tabulka!BH87","v":{"v":0,"d":"0.00"}},{"$f":"+[5]Tabulka!BI87","v":0},{"$f":"+[5]Tabulka!BJ87","v":{"v":0,"d":"0.00"}},{"$f":"+[5]Tabulka!AP87","v":{"v":0,"d":"0.00"}},{"$f":"+[5]Tabulka!AQ87","v":{"v":0,"d":"0.00"}},{"$f":"+[5]Tabulka!BM87","v":{"v":0,"d":"0.00"}},{"$f":"+[5]Tabulka!BN87","v":0},{"$f":"+[5]Tabulka!BO87","v":{"v":0,"d":"0.00"}}]
[null,{"$f":"[5]Tabulka!C88","v":0},{"$f":"[5]Tabulka!D88","v":0},{"$f":"[5]Tabulka!E88","v":"00:00:00"},{"$f":"[5]Tabulka!F88","v":0},{"$f":"[5]Tabulka!G88","v":0},{"$f":"[5]Tabulka!H88","v":0},{"$f":"+[5]Tabulka!AU88","v":0},{"$f":"+[5]Tabulka!AV88","v":{"v":0,"d":"0.00"}},{"$f":"+[5]Tabulka!AW88","v":0},{"$f":"+[5]Tabulka!AX88","v":{"v":0,"d":"0.00"}},{"$f":"+[5]Tabulka!AY88","v":0},{"$f":"+[5]Tabulka!AZ88","v":{"v":0,"d":"0.00"}},{"$f":"+[5]Tabulka!BA88","v":0},{"$f":"+[5]Tabulka!BB88","v":{"v":0,"d":"0.00"}},{"$f":"+[5]Tabulka!BC88","v":0},{"$f":"+[5]Tabulka!BD88","v":{"v":0,"d":"0.00"}},{"$f":"+[5]Tabulka!BE88","v":0},{"$f":"+[5]Tabulka!BF88","v":{"v":0,"d":"0.00"}},{"$f":"+[5]Tabulka!BG88","v":0},{"$f":"+[5]Tabulka!BH88","v":{"v":0,"d":"0.00"}},{"$f":"+[5]Tabulka!BI88","v":0},{"$f":"+[5]Tabulka!BJ88","v":{"v":0,"d":"0.00"}},{"$f":"+[5]Tabulka!AP88","v":{"v":0,"d":"0.00"}},{"$f":"+[5]Tabulka!AQ88","v":{"v":0,"d":"0.00"}},{"$f":"+[5]Tabulka!BM88","v":{"v":0,"d":"0.00"}},{"$f":"+[5]Tabulka!BN88","v":0},{"$f":"+[5]Tabulka!BO88","v":{"v":0,"d":"0.00"}}]
[null,{"$f":"[5]Tabulka!C89","v":0},{"$f":"[5]Tabulka!D89","v":0},{"$f":"[5]Tabulka!E89","v":"00:00:00"},{"$f":"[5]Tabulka!F89","v":0},{"$f":"[5]Tabulka!G89","v":0},{"$f":"[5]Tabulka!H89","v":0},{"$f":"+[5]Tabulka!AU89","v":0},{"$f":"+[5]Tabulka!AV89","v":{"v":0,"d":"0.00"}},{"$f":"+[5]Tabulka!AW89","v":0},{"$f":"+[5]Tabulka!AX89","v":{"v":0,"d":"0.00"}},{"$f":"+[5]Tabulka!AY89","v":0},{"$f":"+[5]Tabulka!AZ89","v":{"v":0,"d":"0.00"}},{"$f":"+[5]Tabulka!BA89","v":0},{"$f":"+[5]Tabulka!BB89","v":{"v":0,"d":"0.00"}},{"$f":"+[5]Tabulka!BC89","v":0},{"$f":"+[5]Tabulka!BD89","v":{"v":0,"d":"0.00"}},{"$f":"+[5]Tabulka!BE89","v":0},{"$f":"+[5]Tabulka!BF89","v":{"v":0,"d":"0.00"}},{"$f":"+[5]Tabulka!BG89","v":0},{"$f":"+[5]Tabulka!BH89","v":{"v":0,"d":"0.00"}},{"$f":"+[5]Tabulka!BI89","v":0},{"$f":"+[5]Tabulka!BJ89","v":{"v":0,"d":"0.00"}},{"$f":"+[5]Tabulka!AP89","v":{"v":0,"d":"0.00"}},{"$f":"+[5]Tabulka!AQ89","v":{"v":0,"d":"0.00"}},{"$f":"+[5]Tabulka!BM89","v":{"v":0,"d":"0.00"}},{"$f":"+[5]Tabulka!BN89","v":0},{"$f":"+[5]Tabulka!BO89","v":{"v":0,"d":"0.00"}}]
[null,{"$f":"[5]Tabulka!C90","v":0},{"$f":"[5]Tabulka!D90","v":0},{"$f":"[5]Tabulka!E90","v":"00:00:00"},{"$f":"[5]Tabulka!F90","v":0},{"$f":"[5]Tabulka!G90","v":0},{"$f":"[5]Tabulka!H90","v":0},{"$f":"+[5]Tabulka!AU90","v":0},{"$f":"+[5]Tabulka!AV90","v":{"v":0,"d":"0.00"}},{"$f":"+[5]Tabulka!AW90","v":0},{"$f":"+[5]Tabulka!AX90","v":{"v":0,"d":"0.00"}},{"$f":"+[5]Tabulka!AY90","v":0},{"$f":"+[5]Tabulka!AZ90","v":{"v":0,"d":"0.00"}},{"$f":"+[5]Tabulka!BA90","v":0},{"$f":"+[5]Tabulka!BB90","v":{"v":0,"d":"0.00"}},{"$f":"+[5]Tabulka!BC90","v":0},{"$f":"+[5]Tabulka!BD90","v":{"v":0,"d":"0.00"}},{"$f":"+[5]Tabulka!BE90","v":0},{"$f":"+[5]Tabulka!BF90","v":{"v":0,"d":"0.00"}},{"$f":"+[5]Tabulka!BG90","v":0},{"$f":"+[5]Tabulka!BH90","v":{"v":0,"d":"0.00"}},{"$f":"+[5]Tabulka!BI90","v":0},{"$f":"+[5]Tabulka!BJ90","v":{"v":0,"d":"0.00"}},{"$f":"+[5]Tabulka!AP90","v":{"v":0,"d":"0.00"}},{"$f":"+[5]Tabulka!AQ90","v":{"v":0,"d":"0.00"}},{"$f":"+[5]Tabulka!BM90","v":{"v":0,"d":"0.00"}},{"$f":"+[5]Tabulka!BN90","v":0},{"$f":"+[5]Tabulka!BO90","v":{"v":0,"d":"0.00"}}]
[null,{"$f":"[5]Tabulka!C91","v":0},{"$f":"[5]Tabulka!D91","v":0},{"$f":"[5]Tabulka!E91","v":"00:00:00"},{"$f":"[5]Tabulka!F91","v":0},{"$f":"[5]Tabulka!G91","v":0},{"$f":"[5]Tabulka!H91","v":0},{"$f":"+[5]Tabulka!AU91","v":0},{"$f":"+[5]Tabulka!AV91","v":{"v":0,"d":"0.00"}},{"$f":"+[5]Tabulka!AW91","v":0},{"$f":"+[5]Tabulka!AX91","v":{"v":0,"d":"0.00"}},{"$f":"+[5]Tabulka!AY91","v":0},{"$f":"+[5]Tabulka!AZ91","v":{"v":0,"d":"0.00"}},{"$f":"+[5]Tabulka!BA91","v":0},{"$f":"+[5]Tabulka!BB91","v":{"v":0,"d":"0.00"}},{"$f":"+[5]Tabulka!BC91","v":0},{"$f":"+[5]Tabulka!BD91","v":{"v":0,"d":"0.00"}},{"$f":"+[5]Tabulka!BE91","v":0},{"$f":"+[5]Tabulka!BF91","v":{"v":0,"d":"0.00"}},{"$f":"+[5]Tabulka!BG91","v":0},{"$f":"+[5]Tabulka!BH91","v":{"v":0,"d":"0.00"}},{"$f":"+[5]Tabulka!BI91","v":0},{"$f":"+[5]Tabulka!BJ91","v":{"v":0,"d":"0.00"}},{"$f":"+[5]Tabulka!AP91","v":{"v":0,"d":"0.00"}},{"$f":"+[5]Tabulka!AQ91","v":{"v":0,"d":"0.00"}},{"$f":"+[5]Tabulka!BM91","v":{"v":0,"d":"0.00"}},{"$f":"+[5]Tabulka!BN91","v":0},{"$f":"+[5]Tabulka!BO91","v":{"v":0,"d":"0.00"}}]
[null,{"$f":"[5]Tabulka!C92","v":0},{"$f":"[5]Tabulka!D92","v":0},{"$f":"[5]Tabulka!E92","v":"00:00:00"},{"$f":"[5]Tabulka!F92","v":0},{"$f":"[5]Tabulka!G92","v":0},{"$f":"[5]Tabulka!H92","v":0},{"$f":"+[5]Tabulka!AU92","v":0},{"$f":"+[5]Tabulka!AV92","v":{"v":0,"d":"0.00"}},{"$f":"+[5]Tabulka!AW92","v":0},{"$f":"+[5]Tabulka!AX92","v":{"v":0,"d":"0.00"}},{"$f":"+[5]Tabulka!AY92","v":0},{"$f":"+[5]Tabulka!AZ92","v":{"v":0,"d":"0.00"}},{"$f":"+[5]Tabulka!BA92","v":0},{"$f":"+[5]Tabulka!BB92","v":{"v":0,"d":"0.00"}},{"$f":"+[5]Tabulka!BC92","v":0},{"$f":"+[5]Tabulka!BD92","v":{"v":0,"d":"0.00"}},{"$f":"+[5]Tabulka!BE92","v":0},{"$f":"+[5]Tabulka!BF92","v":{"v":0,"d":"0.00"}},{"$f":"+[5]Tabulka!BG92","v":0},{"$f":"+[5]Tabulka!BH92","v":{"v":0,"d":"0.00"}},{"$f":"+[5]Tabulka!BI92","v":0},{"$f":"+[5]Tabulka!BJ92","v":{"v":0,"d":"0.00"}},{"$f":"+[5]Tabulka!AP92","v":{"v":0,"d":"0.00"}},{"$f":"+[5]Tabulka!AQ92","v":{"v":0,"d":"0.00"}},{"$f":"+[5]Tabulka!BM92","v":{"v":0,"d":"0.00"}},{"$f":"+[5]Tabulka!BN92","v":0},{"$f":"+[5]Tabulka!BO92","v":{"v":0,"d":"0.00"}}]
[null,{"$f":"[5]Tabulka!C93","v":0},{"$f":"[5]Tabulka!D93","v":0},{"$f":"[5]Tabulka!E93","v":"00:00:00"},{"$f":"[5]Tabulka!F93","v":0},{"$f":"[5]Tabulka!G93","v":0},{"$f":"[5]Tabulka!H93","v":0},{"$f":"+[5]Tabulka!AU93","v":0},{"$f":"+[5]Tabulka!AV93","v":{"v":0,"d":"0.00"}},{"$f":"+[5]Tabulka!AW93","v":0},{"$f":"+[5]Tabulka!AX93","v":{"v":0,"d":"0.00"}},{"$f":"+[5]Tabulka!AY93","v":0},{"$f":"+[5]Tabulka!AZ93","v":{"v":0,"d":"0.00"}},{"$f":"+[5]Tabulka!BA93","v":0},{"$f":"+[5]Tabulka!BB93","v":{"v":0,"d":"0.00"}},{"$f":"+[5]Tabulka!BC93","v":0},{"$f":"+[5]Tabulka!BD93","v":{"v":0,"d":"0.00"}},{"$f":"+[5]Tabulka!BE93","v":0},{"$f":"+[5]Tabulka!BF93","v":{"v":0,"d":"0.00"}},{"$f":"+[5]Tabulka!BG93","v":0},{"$f":"+[5]Tabulka!BH93","v":{"v":0,"d":"0.00"}},{"$f":"+[5]Tabulka!BI93","v":0},{"$f":"+[5]Tabulka!BJ93","v":{"v":0,"d":"0.00"}},{"$f":"+[5]Tabulka!AP93","v":{"v":0,"d":"0.00"}},{"$f":"+[5]Tabulka!AQ93","v":{"v":0,"d":"0.00"}},{"$f":"+[5]Tabulka!BM93","v":{"v":0,"d":"0.00"}},{"$f":"+[5]Tabulka!BN93","v":0},{"$f":"+[5]Tabulka!BO93","v":{"v":0,"d":"0.00"}}]
[null,{"$f":"[5]Tabulka!C94","v":0},{"$f":"[5]Tabulka!D94","v":0},{"$f":"[5]Tabulka!E94","v":"00:00:00"},{"$f":"[5]Tabulka!F94","v":0},{"$f":"[5]Tabulka!G94","v":0},{"$f":"[5]Tabulka!H94","v":0},{"$f":"+[5]Tabulka!AU94","v":0},{"$f":"+[5]Tabulka!AV94","v":{"v":0,"d":"0.00"}},{"$f":"+[5]Tabulka!AW94","v":0},{"$f":"+[5]Tabulka!AX94","v":{"v":0,"d":"0.00"}},{"$f":"+[5]Tabulka!AY94","v":0},{"$f":"+[5]Tabulka!AZ94","v":{"v":0,"d":"0.00"}},{"$f":"+[5]Tabulka!BA94","v":0},{"$f":"+[5]Tabulka!BB94","v":{"v":0,"d":"0.00"}},{"$f":"+[5]Tabulka!BC94","v":0},{"$f":"+[5]Tabulka!BD94","v":{"v":0,"d":"0.00"}},{"$f":"+[5]Tabulka!BE94","v":0},{"$f":"+[5]Tabulka!BF94","v":{"v":0,"d":"0.00"}},{"$f":"+[5]Tabulka!BG94","v":0},{"$f":"+[5]Tabulka!BH94","v":{"v":0,"d":"0.00"}},{"$f":"+[5]Tabulka!BI94","v":0},{"$f":"+[5]Tabulka!BJ94","v":{"v":0,"d":"0.00"}},{"$f":"+[5]Tabulka!AP94","v":{"v":0,"d":"0.00"}},{"$f":"+[5]Tabulka!AQ94","v":{"v":0,"d":"0.00"}},{"$f":"+[5]Tabulka!BM94","v":{"v":0,"d":"0.00"}},{"$f":"+[5]Tabulka!BN94","v":0},{"$f":"+[5]Tabulka!BO94","v":{"v":0,"d":"0.00"}}]
[null,{"$f":"[5]Tabulka!C95","v":0},{"$f":"[5]Tabulka!D95","v":0},{"$f":"[5]Tabulka!E95","v":"00:00:00"},{"$f":"[5]Tabulka!F95","v":0},{"$f":"[5]Tabulka!G95","v":0},{"$f":"[5]Tabulka!H95","v":0},{"$f":"+[5]Tabulka!AU95","v":0},{"$f":"+[5]Tabulka!AV95","v":{"v":0,"d":"0.00"}},{"$f":"+[5]Tabulka!AW95","v":0},{"$f":"+[5]Tabulka!AX95","v":{"v":0,"d":"0.00"}},{"$f":"+[5]Tabulka!AY95","v":0},{"$f":"+[5]Tabulka!AZ95","v":{"v":0,"d":"0.00"}},{"$f":"+[5]Tabulka!BA95","v":0},{"$f":"+[5]Tabulka!BB95","v":{"v":0,"d":"0.00"}},{"$f":"+[5]Tabulka!BC95","v":0},{"$f":"+[5]Tabulka!BD95","v":{"v":0,"d":"0.00"}},{"$f":"+[5]Tabulka!BE95","v":0},{"$f":"+[5]Tabulka!BF95","v":{"v":0,"d":"0.00"}},{"$f":"+[5]Tabulka!BG95","v":0},{"$f":"+[5]Tabulka!BH95","v":{"v":0,"d":"0.00"}},{"$f":"+[5]Tabulka!BI95","v":0},{"$f":"+[5]Tabulka!BJ95","v":{"v":0,"d":"0.00"}},{"$f":"+[5]Tabulka!AP95","v":{"v":0,"d":"0.00"}},{"$f":"+[5]Tabulka!AQ95","v":{"v":0,"d":"0.00"}},{"$f":"+[5]Tabulka!BM95","v":{"v":0,"d":"0.00"}},{"$f":"+[5]Tabulka!BN95","v":0},{"$f":"+[5]Tabulka!BO95","v":{"v":0,"d":"0.00"}}]
[null,{"$f":"[5]Tabulka!C96","v":0},{"$f":"[5]Tabulka!D96","v":0},{"$f":"[5]Tabulka!E96","v":"00:00:00"},{"$f":"[5]Tabulka!F96","v":0},{"$f":"[5]Tabulka!G96","v":0},{"$f":"[5]Tabulka!H96","v":0},{"$f":"+[5]Tabulka!AU96","v":0},{"$f":"+[5]Tabulka!AV96","v":{"v":0,"d":"0.00"}},{"$f":"+[5]Tabulka!AW96","v":0},{"$f":"+[5]Tabulka!AX96","v":{"v":0,"d":"0.00"}},{"$f":"+[5]Tabulka!AY96","v":0},{"$f":"+[5]Tabulka!AZ96","v":{"v":0,"d":"0.00"}},{"$f":"+[5]Tabulka!BA96","v":0},{"$f":"+[5]Tabulka!BB96","v":{"v":0,"d":"0.00"}},{"$f":"+[5]Tabulka!BC96","v":0},{"$f":"+[5]Tabulka!BD96","v":{"v":0,"d":"0.00"}},{"$f":"+[5]Tabulka!BE96","v":0},{"$f":"+[5]Tabulka!BF96","v":{"v":0,"d":"0.00"}},{"$f":"+[5]Tabulka!BG96","v":0},{"$f":"+[5]Tabulka!BH96","v":{"v":0,"d":"0.00"}},{"$f":"+[5]Tabulka!BI96","v":0},{"$f":"+[5]Tabulka!BJ96","v":{"v":0,"d":"0.00"}},{"$f":"+[5]Tabulka!AP96","v":{"v":0,"d":"0.00"}},{"$f":"+[5]Tabulka!AQ96","v":{"v":0,"d":"0.00"}},{"$f":"+[5]Tabulka!BM96","v":{"v":0,"d":"0.00"}},{"$f":"+[5]Tabulka!BN96","v":0},{"$f":"+[5]Tabulka!BO96","v":{"v":0,"d":"0.00"}}]
[null,{"$f":"[5]Tabulka!C97","v":0},{"$f":"[5]Tabulka!D97","v":0},{"$f":"[5]Tabulka!E97","v":"00:00:00"},{"$f":"[5]Tabulka!F97","v":0},{"$f":"[5]Tabulka!G97","v":0},{"$f":"[5]Tabulka!H97","v":0},{"$f":"+[5]Tabulka!AU97","v":0},{"$f":"+[5]Tabulka!AV97","v":{"v":0,"d":"0.00"}},{"$f":"+[5]Tabulka!AW97","v":0},{"$f":"+[5]Tabulka!AX97","v":{"v":0,"d":"0.00"}},{"$f":"+[5]Tabulka!AY97","v":0},{"$f":"+[5]Tabulka!AZ97","v":{"v":0,"d":"0.00"}},{"$f":"+[5]Tabulka!BA97","v":0},{"$f":"+[5]Tabulka!BB97","v":{"v":0,"d":"0.00"}},{"$f":"+[5]Tabulka!BC97","v":0},{"$f":"+[5]Tabulka!BD97","v":{"v":0,"d":"0.00"}},{"$f":"+[5]Tabulka!BE97","v":0},{"$f":"+[5]Tabulka!BF97","v":{"v":0,"d":"0.00"}},{"$f":"+[5]Tabulka!BG97","v":0},{"$f":"+[5]Tabulka!BH97","v":{"v":0,"d":"0.00"}},{"$f":"+[5]Tabulka!BI97","v":0},{"$f":"+[5]Tabulka!BJ97","v":{"v":0,"d":"0.00"}},{"$f":"+[5]Tabulka!AP97","v":{"v":0,"d":"0.00"}},{"$f":"+[5]Tabulka!AQ97","v":{"v":0,"d":"0.00"}},{"$f":"+[5]Tabulka!BM97","v":{"v":0,"d":"0.00"}},{"$f":"+[5]Tabulka!BN97","v":0},{"$f":"+[5]Tabulka!BO97","v":{"v":0,"d":"0.00"}}]
[null,{"$f":"[5]Tabulka!C98","v":0},{"$f":"[5]Tabulka!D98","v":0},{"$f":"[5]Tabulka!E98","v":"00:00:00"},{"$f":"[5]Tabulka!F98","v":0},{"$f":"[5]Tabulka!G98","v":0},{"$f":"[5]Tabulka!H98","v":0},{"$f":"+[5]Tabulka!AU98","v":0},{"$f":"+[5]Tabulka!AV98","v":{"v":0,"d":"0.00"}},{"$f":"+[5]Tabulka!AW98","v":0},{"$f":"+[5]Tabulka!AX98","v":{"v":0,"d":"0.00"}},{"$f":"+[5]Tabulka!AY98","v":0},{"$f":"+[5]Tabulka!AZ98","v":{"v":0,"d":"0.00"}},{"$f":"+[5]Tabulka!BA98","v":0},{"$f":"+[5]Tabulka!BB98","v":{"v":0,"d":"0.00"}},{"$f":"+[5]Tabulka!BC98","v":0},{"$f":"+[5]Tabulka!BD98","v":{"v":0,"d":"0.00"}},{"$f":"+[5]Tabulka!BE98","v":0},{"$f":"+[5]Tabulka!BF98","v":{"v":0,"d":"0.00"}},{"$f":"+[5]Tabulka!BG98","v":0},{"$f":"+[5]Tabulka!BH98","v":{"v":0,"d":"0.00"}},{"$f":"+[5]Tabulka!BI98","v":0},{"$f":"+[5]Tabulka!BJ98","v":{"v":0,"d":"0.00"}},{"$f":"+[5]Tabulka!AP98","v":{"v":0,"d":"0.00"}},{"$f":"+[5]Tabulka!AQ98","v":{"v":0,"d":"0.00"}},{"$f":"+[5]Tabulka!BM98","v":{"v":0,"d":"0.00"}},{"$f":"+[5]Tabulka!BN98","v":0},{"$f":"+[5]Tabulka!BO98","v":{"v":0,"d":"0.00"}}]
[null,{"$f":"[5]Tabulka!C99","v":0},{"$f":"[5]Tabulka!D99","v":0},{"$f":"[5]Tabulka!E99","v":"00:00:00"},{"$f":"[5]Tabulka!F99","v":0},{"$f":"[5]Tabulka!G99","v":0},{"$f":"[5]Tabulka!H99","v":0},{"$f":"+[5]Tabulka!AU99","v":0},{"$f":"+[5]Tabulka!AV99","v":{"v":0,"d":"0.00"}},{"$f":"+[5]Tabulka!AW99","v":0},{"$f":"+[5]Tabulka!AX99","v":{"v":0,"d":"0.00"}},{"$f":"+[5]Tabulka!AY99","v":0},{"$f":"+[5]Tabulka!AZ99","v":{"v":0,"d":"0.00"}},{"$f":"+[5]Tabulka!BA99","v":0},{"$f":"+[5]Tabulka!BB99","v":{"v":0,"d":"0.00"}},{"$f":"+[5]Tabulka!BC99","v":0},{"$f":"+[5]Tabulka!BD99","v":{"v":0,"d":"0.00"}},{"$f":"+[5]Tabulka!BE99","v":0},{"$f":"+[5]Tabulka!BF99","v":{"v":0,"d":"0.00"}},{"$f":"+[5]Tabulka!BG99","v":0},{"$f":"+[5]Tabulka!BH99","v":{"v":0,"d":"0.00"}},{"$f":"+[5]Tabulka!BI99","v":0},{"$f":"+[5]Tabulka!BJ99","v":{"v":0,"d":"0.00"}},{"$f":"+[5]Tabulka!AP99","v":{"v":0,"d":"0.00"}},{"$f":"+[5]Tabulka!AQ99","v":{"v":0,"d":"0.00"}},{"$f":"+[5]Tabulka!BM99","v":{"v":0,"d":"0.00"}},{"$f":"+[5]Tabulka!BN99","v":0},{"$f":"+[5]Tabulka!BO99","v":{"v":0,"d":"0.00"}}]
[null,{"$f":"[5]Tabulka!C100","v":0},{"$f":"[5]Tabulka!D100","v":0},{"$f":"[5]Tabulka!E100","v":"00:00:00"},{"$f":"[5]Tabulka!F100","v":0},{"$f":"[5]Tabulka!G100","v":0},{"$f":"[5]Tabulka!H100","v":0},{"$f":"+[5]Tabulka!AU100","v":0},{"$f":"+[5]Tabulka!AV100","v":{"v":0,"d":"0.00"}},{"$f":"+[5]Tabulka!AW100","v":0},{"$f":"+[5]Tabulka!AX100","v":{"v":0,"d":"0.00"}},{"$f":"+[5]Tabulka!AY100","v":0},{"$f":"+[5]Tabulka!AZ100","v":{"v":0,"d":"0.00"}},{"$f":"+[5]Tabulka!BA100","v":0},{"$f":"+[5]Tabulka!BB100","v":{"v":0,"d":"0.00"}},{"$f":"+[5]Tabulka!BC100","v":0},{"$f":"+[5]Tabulka!BD100","v":{"v":0,"d":"0.00"}},{"$f":"+[5]Tabulka!BE100","v":0},{"$f":"+[5]Tabulka!BF100","v":{"v":0,"d":"0.00"}},{"$f":"+[5]Tabulka!BG100","v":0},{"$f":"+[5]Tabulka!BH100","v":{"v":0,"d":"0.00"}},{"$f":"+[5]Tabulka!BI100","v":0},{"$f":"+[5]Tabulka!BJ100","v":{"v":0,"d":"0.00"}},{"$f":"+[5]Tabulka!AP100","v":{"v":0,"d":"0.00"}},{"$f":"+[5]Tabulka!AQ100","v":{"v":0,"d":"0.00"}},{"$f":"+[5]Tabulka!BM100","v":{"v":0,"d":"0.00"}},{"$f":"+[5]Tabulka!BN100","v":0},{"$f":"+[5]Tabulka!BO100","v":{"v":0,"d":"0.00"}}]
[null,{"$f":"[5]Tabulka!C101","v":0},{"$f":"[5]Tabulka!D101","v":0},{"$f":"[5]Tabulka!E101","v":"00:00:00"},{"$f":"[5]Tabulka!F101","v":0},{"$f":"[5]Tabulka!G101","v":0},{"$f":"[5]Tabulka!H101","v":0},{"$f":"+[5]Tabulka!AU101","v":0},{"$f":"+[5]Tabulka!AV101","v":{"v":0,"d":"0.00"}},{"$f":"+[5]Tabulka!AW101","v":0},{"$f":"+[5]Tabulka!AX101","v":{"v":0,"d":"0.00"}},{"$f":"+[5]Tabulka!AY101","v":0},{"$f":"+[5]Tabulka!AZ101","v":{"v":0,"d":"0.00"}},{"$f":"+[5]Tabulka!BA101","v":0},{"$f":"+[5]Tabulka!BB101","v":{"v":0,"d":"0.00"}},{"$f":"+[5]Tabulka!BC101","v":0},{"$f":"+[5]Tabulka!BD101","v":{"v":0,"d":"0.00"}},{"$f":"+[5]Tabulka!BE101","v":0},{"$f":"+[5]Tabulka!BF101","v":{"v":0,"d":"0.00"}},{"$f":"+[5]Tabulka!BG101","v":0},{"$f":"+[5]Tabulka!BH101","v":{"v":0,"d":"0.00"}},{"$f":"+[5]Tabulka!BI101","v":0},{"$f":"+[5]Tabulka!BJ101","v":{"v":0,"d":"0.00"}},{"$f":"+[5]Tabulka!AP101","v":{"v":0,"d":"0.00"}},{"$f":"+[5]Tabulka!AQ101","v":{"v":0,"d":"0.00"}},{"$f":"+[5]Tabulka!BM101","v":{"v":0,"d":"0.00"}},{"$f":"+[5]Tabulka!BN101","v":0},{"$f":"+[5]Tabulka!BO101","v":{"v":0,"d":"0.00"}}]
[null,{"$f":"[5]Tabulka!C102","v":0},{"$f":"[5]Tabulka!D102","v":0},{"$f":"[5]Tabulka!E102","v":"00:00:00"},{"$f":"[5]Tabulka!F102","v":0},{"$f":"[5]Tabulka!G102","v":0},{"$f":"[5]Tabulka!H102","v":0},{"$f":"+[5]Tabulka!AU102","v":0},{"$f":"+[5]Tabulka!AV102","v":{"v":0,"d":"0.00"}},{"$f":"+[5]Tabulka!AW102","v":0},{"$f":"+[5]Tabulka!AX102","v":{"v":0,"d":"0.00"}},{"$f":"+[5]Tabulka!AY102","v":0},{"$f":"+[5]Tabulka!AZ102","v":{"v":0,"d":"0.00"}},{"$f":"+[5]Tabulka!BA102","v":0},{"$f":"+[5]Tabulka!BB102","v":{"v":0,"d":"0.00"}},{"$f":"+[5]Tabulka!BC102","v":0},{"$f":"+[5]Tabulka!BD102","v":{"v":0,"d":"0.00"}},{"$f":"+[5]Tabulka!BE102","v":0},{"$f":"+[5]Tabulka!BF102","v":{"v":0,"d":"0.00"}},{"$f":"+[5]Tabulka!BG102","v":0},{"$f":"+[5]Tabulka!BH102","v":{"v":0,"d":"0.00"}},{"$f":"+[5]Tabulka!BI102","v":0},{"$f":"+[5]Tabulka!BJ102","v":{"v":0,"d":"0.00"}},{"$f":"+[5]Tabulka!AP102","v":{"v":0,"d":"0.00"}},{"$f":"+[5]Tabulka!AQ102","v":{"v":0,"d":"0.00"}},{"$f":"+[5]Tabulka!BM102","v":{"v":0,"d":"0.00"}},{"$f":"+[5]Tabulka!BN102","v":0},{"$f":"+[5]Tabulka!BO102","v":{"v":0,"d":"0.00"}}]
[null,{"$f":"[5]Tabulka!C103","v":0},{"$f":"[5]Tabulka!D103","v":0},{"$f":"[5]Tabulka!E103","v":"00:00:00"},{"$f":"[5]Tabulka!F103","v":0},{"$f":"[5]Tabulka!G103","v":0},{"$f":"[5]Tabulka!H103","v":0},{"$f":"+[5]Tabulka!AU103","v":0},{"$f":"+[5]Tabulka!AV103","v":{"v":0,"d":"0.00"}},{"$f":"+[5]Tabulka!AW103","v":0},{"$f":"+[5]Tabulka!AX103","v":{"v":0,"d":"0.00"}},{"$f":"+[5]Tabulka!AY103","v":0},{"$f":"+[5]Tabulka!AZ103","v":{"v":0,"d":"0.00"}},{"$f":"+[5]Tabulka!BA103","v":0},{"$f":"+[5]Tabulka!BB103","v":{"v":0,"d":"0.00"}},{"$f":"+[5]Tabulka!BC103","v":0},{"$f":"+[5]Tabulka!BD103","v":{"v":0,"d":"0.00"}},{"$f":"+[5]Tabulka!BE103","v":0},{"$f":"+[5]Tabulka!BF103","v":{"v":0,"d":"0.00"}},{"$f":"+[5]Tabulka!BG103","v":0},{"$f":"+[5]Tabulka!BH103","v":{"v":0,"d":"0.00"}},{"$f":"+[5]Tabulka!BI103","v":0},{"$f":"+[5]Tabulka!BJ103","v":{"v":0,"d":"0.00"}},{"$f":"+[5]Tabulka!AP103","v":{"v":0,"d":"0.00"}},{"$f":"+[5]Tabulka!AQ103","v":{"v":0,"d":"0.00"}},{"$f":"+[5]Tabulka!BM103","v":{"v":0,"d":"0.00"}},{"$f":"+[5]Tabulka!BN103","v":0},{"$f":"+[5]Tabulka!BO103","v":{"v":0,"d":"0.00"}}]
[null,{"$f":"[5]Tabulka!C104","v":0},{"$f":"[5]Tabulka!D104","v":0},{"$f":"[5]Tabulka!E104","v":"00:00:00"},{"$f":"[5]Tabulka!F104","v":0},{"$f":"[5]Tabulka!G104","v":0},{"$f":"[5]Tabulka!H104","v":0},{"$f":"+[5]Tabulka!AU104","v":0},{"$f":"+[5]Tabulka!AV104","v":{"v":0,"d":"0.00"}},{"$f":"+[5]Tabulka!AW104","v":0},{"$f":"+[5]Tabulka!AX104","v":{"v":0,"d":"0.00"}},{"$f":"+[5]Tabulka!AY104","v":0},{"$f":"+[5]Tabulka!AZ104","v":{"v":0,"d":"0.00"}},{"$f":"+[5]Tabulka!BA104","v":0},{"$f":"+[5]Tabulka!BB104","v":{"v":0,"d":"0.00"}},{"$f":"+[5]Tabulka!BC104","v":0},{"$f":"+[5]Tabulka!BD104","v":{"v":0,"d":"0.00"}},{"$f":"+[5]Tabulka!BE104","v":0},{"$f":"+[5]Tabulka!BF104","v":{"v":0,"d":"0.00"}},{"$f":"+[5]Tabulka!BG104","v":0},{"$f":"+[5]Tabulka!BH104","v":{"v":0,"d":"0.00"}},{"$f":"+[5]Tabulka!BI104","v":0},{"$f":"+[5]Tabulka!BJ104","v":{"v":0,"d":"0.00"}},{"$f":"+[5]Tabulka!AP104","v":{"v":0,"d":"0.00"}},{"$f":"+[5]Tabulka!AQ104","v":{"v":0,"d":"0.00"}},{"$f":"+[5]Tabulka!BM104","v":{"v":0,"d":"0.00"}},{"$f":"+[5]Tabulka!BN104","v":0},{"$f":"+[5]Tabulka!BO104","v":{"v":0,"d":"0.00"}}]
[null,{"$f":"[5]Tabulka!C105","v":0},{"$f":"[5]Tabulka!D105","v":0},{"$f":"[5]Tabulka!E105","v":"00:00:00"},{"$f":"[5]Tabulka!F105","v":0},{"$f":"[5]Tabulka!G105","v":0},{"$f":"[5]Tabulka!H105","v":0},{"$f":"+[5]Tabulka!AU105","v":0},{"$f":"+[5]Tabulka!AV105","v":{"v":0,"d":"0.00"}},{"$f":"+[5]Tabulka!AW105","v":0},{"$f":"+[5]Tabulka!AX105","v":{"v":0,"d":"0.00"}},{"$f":"+[5]Tabulka!AY105","v":0},{"$f":"+[5]Tabulka!AZ105","v":{"v":0,"d":"0.00"}},{"$f":"+[5]Tabulka!BA105","v":0},{"$f":"+[5]Tabulka!BB105","v":{"v":0,"d":"0.00"}},{"$f":"+[5]Tabulka!BC105","v":0},{"$f":"+[5]Tabulka!BD105","v":{"v":0,"d":"0.00"}},{"$f":"+[5]Tabulka!BE105","v":0},{"$f":"+[5]Tabulka!BF105","v":{"v":0,"d":"0.00"}},{"$f":"+[5]Tabulka!BG105","v":0},{"$f":"+[5]Tabulka!BH105","v":{"v":0,"d":"0.00"}},{"$f":"+[5]Tabulka!BI105","v":0},{"$f":"+[5]Tabulka!BJ105","v":{"v":0,"d":"0.00"}},{"$f":"+[5]Tabulka!AP105","v":{"v":0,"d":"0.00"}},{"$f":"+[5]Tabulka!AQ105","v":{"v":0,"d":"0.00"}},{"$f":"+[5]Tabulka!BM105","v":{"v":0,"d":"0.00"}},{"$f":"+[5]Tabulka!BN105","v":0},{"$f":"+[5]Tabulka!BO105","v":{"v":0,"d":"0.00"}}]
[null,{"$f":"[5]Tabulka!C106","v":0},{"$f":"[5]Tabulka!D106","v":0},{"$f":"[5]Tabulka!E106","v":"00:00:00"},{"$f":"[5]Tabulka!F106","v":0},{"$f":"[5]Tabulka!G106","v":0},{"$f":"[5]Tabulka!H106","v":0},{"$f":"+[5]Tabulka!AU106","v":0},{"$f":"+[5]Tabulka!AV106","v":{"v":0,"d":"0.00"}},{"$f":"+[5]Tabulka!AW106","v":0},{"$f":"+[5]Tabulka!AX106","v":{"v":0,"d":"0.00"}},{"$f":"+[5]Tabulka!AY106","v":0},{"$f":"+[5]Tabulka!AZ106","v":{"v":0,"d":"0.00"}},{"$f":"+[5]Tabulka!BA106","v":0},{"$f":"+[5]Tabulka!BB106","v":{"v":0,"d":"0.00"}},{"$f":"+[5]Tabulka!BC106","v":0},{"$f":"+[5]Tabulka!BD106","v":{"v":0,"d":"0.00"}},{"$f":"+[5]Tabulka!BE106","v":0},{"$f":"+[5]Tabulka!BF106","v":{"v":0,"d":"0.00"}},{"$f":"+[5]Tabulka!BG106","v":0},{"$f":"+[5]Tabulka!BH106","v":{"v":0,"d":"0.00"}},{"$f":"+[5]Tabulka!BI106","v":0},{"$f":"+[5]Tabulka!BJ106","v":{"v":0,"d":"0.00"}},{"$f":"+[5]Tabulka!AP106","v":{"v":0,"d":"0.00"}},{"$f":"+[5]Tabulka!AQ106","v":{"v":0,"d":"0.00"}},{"$f":"+[5]Tabulka!BM106","v":{"v":0,"d":"0.00"}},{"$f":"+[5]Tabulka!BN106","v":0},{"$f":"+[5]Tabulka!BO106","v":{"v":0,"d":"0.00"}}]
[null,{"$f":"[5]Tabulka!C107","v":0},{"$f":"[5]Tabulka!D107","v":0},{"$f":"[5]Tabulka!E107","v":"00:00:00"},{"$f":"[5]Tabulka!F107","v":0},{"$f":"[5]Tabulka!G107","v":0},{"$f":"[5]Tabulka!H107","v":0},{"$f":"+[5]Tabulka!AU107","v":0},{"$f":"+[5]Tabulka!AV107","v":{"v":0,"d":"0.00"}},{"$f":"+[5]Tabulka!AW107","v":0},{"$f":"+[5]Tabulka!AX107","v":{"v":0,"d":"0.00"}},{"$f":"+[5]Tabulka!AY107","v":0},{"$f":"+[5]Tabulka!AZ107","v":{"v":0,"d":"0.00"}},{"$f":"+[5]Tabulka!BA107","v":0},{"$f":"+[5]Tabulka!BB107","v":{"v":0,"d":"0.00"}},{"$f":"+[5]Tabulka!BC107","v":0},{"$f":"+[5]Tabulka!BD107","v":{"v":0,"d":"0.00"}},{"$f":"+[5]Tabulka!BE107","v":0},{"$f":"+[5]Tabulka!BF107","v":{"v":0,"d":"0.00"}},{"$f":"+[5]Tabulka!BG107","v":0},{"$f":"+[5]Tabulka!BH107","v":{"v":0,"d":"0.00"}},{"$f":"+[5]Tabulka!BI107","v":0},{"$f":"+[5]Tabulka!BJ107","v":{"v":0,"d":"0.00"}},{"$f":"+[5]Tabulka!AP107","v":{"v":0,"d":"0.00"}},{"$f":"+[5]Tabulka!AQ107","v":{"v":0,"d":"0.00"}},{"$f":"+[5]Tabulka!BM107","v":{"v":0,"d":"0.00"}},{"$f":"+[5]Tabulka!BN107","v":0},{"$f":"+[5]Tabulka!BO107","v":{"v":0,"d":"0.00"}}]

{"sheet":"Juniorky","index":5,"n_rows":63,"n_cols":87,"rows_kept":63,"merged":[[2,1,2,6],[2,7,2,8],[2,9,2,10],[2,11,2,12],[2,13,2,14],[2,15,2,16],[2,17,2,18],[2,19,2,20],[2,21,2,22]]}
["PRŮBĚŽNÉ BODOVÉ POŘADÍ RBTM A PR KARVINÁ JUNIOREK"]
[]
[null," - započítává se 5 nejlepších turnajů z 8 odehraných za poslední rok",{"$nulls":5},{"$f":"+Dorost!H3","v":"KARVINÁ 17.9.2011"},null,{"$f":"+Dorost!J3","v":"HAVÍŘOV 24.9.2011"},null,{"$f":"+Dorost!L3","v":"KARVINÁ 3.12.2011"},null,{"$f":"+Dorost!N3","v":"HAVÍŘOV 7.1.2012"},null,{"$f":"+Dorost!P3","v":"HAVÍŘOV 4.2.2012"},null,{"$f":"+Dorost!R3","v":"KARVINÁ 19.3.2011"},null,{"$f":"+Dorost!T3","v":"KARVINÁ 16.4.2011"},null,{"$f":"+Dorost!V3","v":"KARVINÁ 14.5.2011"}]
[{"$nulls":7},{"$f":"+[6]Tabulka!AU109","v":4},{"$f":"SUBTOTAL(9,I6:I300)","v":16.974888521872042},{"$f":"+[6]Tabulka!AW109","v":5},{"$f":"SUBTOTAL(9,K6:K300)","v":20.58758969783852},{"$f":"+[6]Tabulka!AY109","v":4},{"$f":"SUBTOTAL(9,M6:M300)","v":16.974888521872042},{"$f":"+[6]Tabulka!BA109","v":7},{"$f":"SUBTOTAL(9,O6:O300)","v":27.160916873461282},{"$f":"+[6]Tabulka!BC109","v":2},{"$f":"SUBTOTAL(9,Q6:Q300)","v":9.024743869762961},{"$f":"+[6]Tabulka!BE109","v":0},{"$f":"SUBTOTAL(9,S6:S300)","v":0},{"$f":"+[6]Tabulka!BG109","v":0},{"$f":"SUBTOTAL(9,U6:U300)","v":0},{"$f":"+[6]Tabulka!BI109","v":0},{"$f":"SUBTOTAL(9,W6:W300)","v":0},{"$f":"+[5]Tabulka!AP5","v":0},{"$f":"+[5]Tabulka!AQ5","v":0},{"$f":"+[5]Tabulka!AR5","v":0},{"$f":"+[5]Tabulka!AS5","v":0},{"$f":"+[5]Tabulka!AT5","v":0}]
[{"$f":"SUBTOTAL(3,A6:A243)","v":8},{"$f":"[5]Tabulka!C6","v":"Přijmení"},{"$f":"[5]Tabulka!D6","v":"jméno"},{"$f":"[5]Tabulka!E6","v":"nar"},{"$f":"[5]Tabulka!F6","v":"oddíl-klub"},{"$f":"[5]Tabulka!G6","v":"okr"},{"$f":"[5]Tabulka!H6","v":"pop"},{"$f":"+[5]Tabulka!Z6","v":"um."},{"$f":"+[5]Tabulka!AA6","v":"b."},{"$f":"+[5]Tabulka!AB6","v":"um."},{"$f":"+[5]Tabulka!AC6","v":"b."},{"$f":"+[5]Tabulka!AD6","v":"um."},{"$f":"+[5]Tabulka!AE6","v":"b."},{"$f":"+[5]Tabulka!AF6","v":"um."},{"$f":"+[5]Tabulka!AG6","v":"b."},{"$f":"+[5]Tabulka!AH6","v":"um."},{"$f":"+[5]Tabulka!AI6","v":"b."},{"$f":"+[5]Tabulka!AJ6","v":"um."},{"$f":"+[5]Tabulka!AK6","v":"b."},{"$f":"+[5]Tabulka!AL6","v":"um."},{"$f":"+[5]Tabulka!AM6","v":"b."},{"$f":"+[5]Tabulka!AN6","v":"um."},{"$f":"+[5]Tabulka!AO6","v":"b."},{"$f":"+[5]Tabulka!AP6","v":"I."},{"$f":"+[5]Tabulka!AQ6","v":"t"},{"$f":"+[5]Tabulka!AR6","v":"I.+II."},{"$f":"+[5]Tabulka!AS6","v":"t"},{"$f":"+[5]Tabulka!AT6","v":"R"},{"$nulls":5},{"$f":"[5]Tabulka!DG6","v":0},{"$f":"[5]Tabulka!DH6","v":0},{"$f":"[5]Tabulka!DI6","v":0},{"$f":"[5]Tabulka!DJ6","v":0},{"$f":"[5]Tabulka!DK6","v":0},{"$f":"[5]Tabulka!DL6","v":0},{"$f":"[5]Tabulka!DM6","v":0},{"$f":"[5]Tabulka!DN6","v":0},{"$f":"[5]Tabulka!DO6","v":0},{"$f":"[5]Tabulka!DP6","v":0},{"$f":"[5]Tabulka!DQ6","v":0},{"$f":"[5]Tabulka!DR6","v":0},{"$f":"[5]Tabulka!DS6","v":0},{"$f":"[5]Tabulka!DT6","v":0},{"$f":"[5]Tabulka!DU6","v":0},{"$f":"[5]Tabulka!DV6","v":0},{"$f":"[5]Tabulka!DW6","v":0},{"$f":"[5]Tabulka!DX6","v":0},{"$f":"[5]Tabulka!DY6","v":0},{"$f":"[5]Tabulka!DZ6","v":0},{"$f":"[5]Tabulka!EA6","v":0},{"$f":"[5]Tabulka!EB6","v":0},{"$f":"[5]Tabulka!EC6","v":0},{"$f":"[5]Tabulka!ED6","v":0},{"$f":"[5]Tabulka!EE6","v":0},{"$f":"[5]Tabulka!EF6","v":0},{"$f":"[5]Tabulka!EG6","v":0},{"$f":"[5]Tabulka!EH6","v":0},{"$f":"[5]Tabulka!EI6","v":0},{"$f":"[5]Tabulka!EJ6","v":0},{"$f":"[5]Tabulka!EK6","v":0},{"$f":"[5]Tabulka!EL6","v":0},{"$f":"[5]Tabulka!EM6","v":0},{"$f":"[5]Tabulka!EN6","v":0},{"$f":"[5]Tabulka!EO6","v":0},{"$f":"[5]Tabulka!EP6","v":0},{"$f":"[5]Tabulka!EQ6","v":0},{"$f":"[5]Tabulka!ER6","v":0},{"$f":"[5]Tabulka!ES6","v":0},{"$f":"[5]Tabulka!ET6","v":0},{"$f":"[5]Tabulka!EU6","v":0},{"$f":"[5]Tabulka!EV6","v":0},{"$f":"[5]Tabulka!EW6","v":0},{"$f":"[5]Tabulka!EX6","v":0},{"$f":"[5]Tabulka!EY6","v":0},{"$f":"[5]Tabulka!EZ6","v":0},{"$f":"[5]Tabulka!FA6","v":0},{"$f":"[5]Tabulka!FB6","v":0},{"$f":"[5]Tabulka!FC6","v":0},{"$f":"[5]Tabulka!FD6","v":0},{"$f":"[5]Tabulka!FE6","v":0},{"$f":"[5]Tabulka!FF6","v":0},{"$f":"[5]Tabulka!FG6","v":0},{"$f":"[5]Tabulka!FH6","v":0}]
["1",{"$f":"[6]Tabulka!C7","v":"PREFETOVÁ"},{"$f":"[6]Tabulka!D7","v":"Lucie"},{"$f":"[6]Tabulka!E7","v":"1994-07-07"},{"$f":"[6]Tabulka!F7","v":"Karviná- KLUBsten KST"},{"$f":"[6]Tabulka!G7","v":"KA"},{"$f":"[6]Tabulka!H7","v":100},{"$f":"+[6]Tabulka!AU7","v":2},{"$f":"+[6]Tabulka!AV7","v":{"v":4.369400178389413,"d":"4.37"}},{"$f":"+[6]Tabulka!AW7","v":1},{"$f":"+[6]Tabulka!AX7","v":{"v":4.655343691373548,"d":"4.66"}},{"$f":"+[6]Tabulka!AY7","v":1},{"$f":"+[6]Tabulka!AZ7","v":{"v":4.655343691373548,"d":"4.66"}},{"$f":"+[6]Tabulka!BA7","v":1},{"$f":"+[6]Tabulka!BB7","v":{"v":4.655343691373548,"d":"4.66"}},{"$f":"+[6]Tabulka!BC7","v":0},{"$f":"+[6]Tabulka!BD7","v":{"v":0,"d":"0.00"}},{"$f":"+[6]Tabulka!BE7","v":0},{"$f":"+[6]Tabulka!BF7","v":{"v":0,"d":"0.00"}},{"$f":"+[6]Tabulka!BG7","v":0},{"$f":"+[6]Tabulka!BH7","v":{"v":0,"d":"0.00"}},{"$f":"+[6]Tabulka!BI7","v":0},{"$f":"+[6]Tabulka!BJ7","v":{"v":0,"d":"0.00"}},{"$f":"+[6]Tabulka!AP7","v":{"v":57.660850646415284,"d":"57.66"}},{"$f":"+[6]Tabulka!AQ7","v":{"v":4,"d":"4.00"}},{"$f":"+[6]Tabulka!BM7","v":{"v":18.33543125251006,"d":"18.34"}},{"$f":"+[6]Tabulka!BN7","v":4},{"$f":"+[6]Tabulka!BO7","v":{"v":18.33543125251006,"d":"18.34"}}]
["2",{"$f":"[6]Tabulka!C8","v":"KRNÁČOVÁ"},{"$f":"[6]Tabulka!D8","v":"Anna"},{"$f":"[6]Tabulka!E8","v":"1999-02-09"},{"$f":"[6]Tabulka!F8","v":"Karviná- KLUBsten KST"},{"$f":"[6]Tabulka!G8","v":"KA"},{"$f":"[6]Tabulka!H8","v":100},{"$f":"+[6]Tabulka!AU8","v":1},{"$f":"+[6]Tabulka!AV8","v":{"v":4.655343691373548,"d":"4.66"}},{"$f":"+[6]Tabulka!AW8","v":0},{"$f":"+[6]Tabulka!AX8","v":{"v":0,"d":"0.00"}},{"$f":"+[6]Tabulka!AY8","v":2},{"$f":"+[6]Tabulka!AZ8","v":{"v":4.369400178389413,"d":"4.37"}},{"$f":"+[6]Tabulka!BA8","v":2},{"$f":"+[6]Tabulka!BB8","v":{"v":4.369400178389413,"d":"4.37"}},{"$f":"+[6]Tabulka!BC8","v":1},{"$f":"+[6]Tabulka!BD8","v":{"v":4.655343691373548,"d":"4.66"}},{"$f":"+[6]Tabulka!BE8","v":0},{"$f":"+[6]Tabulka!BF8","v":{"v":0,"d":"0.00"}},{"$f":"+[6]Tabulka!BG8","v":0},{"$f":"+[6]Tabulka!BH8","v":{"v":0,"d":"0.00"}},{"$f":"+[6]Tabulka!BI8","v":0},{"$f":"+[6]Tabulka!BJ8","v":{"v":0,"d":"0.00"}},{"$f":"+[6]Tabulka!AP8","v":{"v":32.64289838241398,"d":"32.64"}},{"$f":"+[6]Tabulka!AQ8","v":{"v":3,"d":"3.00"}},{"$f":"+[6]Tabulka!BM8","v":{"v":18.049487739525922,"d":"18.05"}},{"$f":"+[6]Tabulka!BN8","v":4},{"$f":"+[6]Tabulka!BO8","v":{"v":18.049487739525922,"d":"18.05"}}]
["3",{"$f":"[6]Tabulka!C9","v":"URBANIECOVÁ"},{"$f":"[6]Tabulka!D9","v":"Veronika"},{"$f":"[6]Tabulka!E9","v":"1998-11-19"},{"$f":"[6]Tabulka!F9","v":"Chotěbuz- Sokol TJ"},{"$f":"[6]Tabulka!G9","v":"KA"},{"$f":"[6]Tabulka!H9","v":100},{"$f":"+[6]Tabulka!AU9","v":3},{"$f":"+[6]Tabulka!AV9","v":{"v":4.101020071683792,"d":"4.10"}},{"$f":"+[6]Tabulka!AW9","v":2},{"$f":"+[6]Tabulka!AX9","v":{"v":4.369400178389413,"d":"4.37"}},{"$f":"+[6]Tabulka!AY9","v":0},{"$f":"+[6]Tabulka!AZ9","v":{"v":0,"d":"0.00"}},{"$f":"+[6]Tabulka!BA9","v":3},{"$f":"+[6]Tabulka!BB9","v":{"v":4.101020071683792,"d":"4.10"}},{"$f":"+[6]Tabulka!BC9","v":2},{"$f":"+[6]Tabulka!BD9","v":{"v":4.369400178389413,"d":"4.37"}},{"$f":"+[6]Tabulka!BE9","v":0},{"$f":"+[6]Tabulka!BF9","v":{"v":0,"d":"0.00"}},{"$f":"+[6]Tabulka!BG9","v":0},{"$f":"+[6]Tabulka!BH9","v":{"v":0,"d":"0.00"}},{"$f":"+[6]Tabulka!BI9","v":0},{"$f":"+[6]Tabulka!BJ9","v":{"v":0,"d":"0.00"}},{"$f":"+[6]Tabulka!AP9","v":{"v":0,"d":"0.00"}},{"$f":"+[6]Tabulka!AQ9","v":{"v":0,"d":"0.00"}},{"$f":"+[6]Tabulka!BM9","v":{"v":16.94084050014641,"d":"16.94"}},{"$f":"+[6]Tabulka!BN9","v":4},{"$f":"+[6]Tabulka!BO9","v":{"v":16.94084050014641,"d":"16.94"}}]
["4",{"$f":"[6]Tabulka!C10","v":"FLORKOVÁ"},{"$f":"[6]Tabulka!D10","v":"Adéla"},{"$f":"[6]Tabulka!E10","v":"2001-09-04"},{"$f":"[6]Tabulka!F10","v":"Orlová- Siko TTC"},{"$f":"[6]Tabulka!G10","v":"KA"},{"$f":"[6]Tabulka!H10","v":100},{"$f":"+[6]Tabulka!AU10","v":4},{"$f":"+[6]Tabulka!AV10","v":{"v":3.8491245804252903,"d":"3.85"}},{"$f":"+[6]Tabulka!AW10","v":3},{"$f":"+[6]Tabulka!AX10","v":{"v":4.101020071683792,"d":"4.10"}},{"$f":"+[6]Tabulka!AY10","v":0},{"$f":"+[6]Tabulka!AZ10","v":{"v":0,"d":"0.00"}},{"$f":"+[6]Tabulka!BA10","v":4},{"$f":"+[6]Tabulka!BB10","v":{"v":3.8491245804252903,"d":"3.85"}},{"$f":"+[6]Tabulka!BC10","v":0},{"$f":"+[6]Tabulka!BD10","v":{"v":0,"d":"0.00"}},{"$f":"+[6]Tabulka!BE10","v":0},{"$f":"+[6]Tabulka!BF10","v":{"v":0,"d":"0.00"}},{"$f":"+[6]Tabulka!BG10","v":0},{"$f":"+[6]Tabulka!BH10","v":{"v":0,"d":"0.00"}},{"$f":"+[6]Tabulka!BI10","v":0},{"$f":"+[6]Tabulka!BJ10","v":{"v":0,"d":"0.00"}},{"$f":"+[6]Tabulka!AP10","v":{"v":0,"d":"0.00"}},{"$f":"+[6]Tabulka!AQ10","v":{"v":0,"d":"0.00"}},{"$f":"+[6]Tabulka!BM10","v":{"v":11.799269232534373,"d":"11.80"}},{"$f":"+[6]Tabulka!BN10","v":3},{"$f":"+[6]Tabulka!BO10","v":{"v":11.799269232534373,"d":"11.80"}}]
["5",{"$f":"[6]Tabulka!C11","v":"SWACZYNOVÁ"},{"$f":"[6]Tabulka!D11","v":"Sára"},{"$f":"[6]Tabulka!E11","v":"1997-01-01"},{"$f":"[6]Tabulka!F11","v":"Karviná- KLUBsten KST"},{"$f":"[6]Tabulka!G11","v":"KA"},{"$f":"[6]Tabulka!H11","v":0},{"$f":"+[6]Tabulka!AU11","v":0},{"$f":"+[6]Tabulka!AV11","v":{"v":0,"d":"0.00"}},{"$f":"+[6]Tabulka!AW11","v":0},{"$f":"+[6]Tabulka!AX11","v":{"v":0,"d":"0.00"}},{"$f":"+[6]Tabulka!AY11","v":3},{"$f":"+[6]Tabulka!AZ11","v":{"v":4.101020071683792,"d":"4.10"}},{"$f":"+[6]Tabulka!BA11","v":5},{"$f":"+[6]Tabulka!BB11","v":{"v":3.6127011759664778,"d":"3.61"}},{"$f":"+[6]Tabulka!BC11","v":0},{"$f":"+[6]Tabulka!BD11","v":{"v":0,"d":"0.00"}},{"$f":"+[6]Tabulka!BE11","v":0},{"$f":"+[6]Tabulka!BF11","v":{"v":0,"d":"0.00"}},{"$f":"+[6]Tabulka!BG11","v":0},{"$f":"+[6]Tabulka!BH11","v":{"v":0,"d":"0.00"}},{"$f":"+[6]Tabulka!BI11","v":0},{"$f":"+[6]Tabulka!BJ11","v":{"v":0,"d":"0.00"}},{"$f":"+[6]Tabulka!AP11","v":{"v":6.002768403724998,"d":"6.00"}},{"$f":"+[6]Tabulka!AQ11","v":{"v":1,"d":"1.00"}},{"$f":"+[6]Tabulka!BM11","v":{"v":7.71372124765027,"d":"7.71"}},{"$f":"+[6]Tabulka!BN11","v":2},{"$f":"+[6]Tabulka!BO11","v":{"v":7.71372124765027,"d":"7.71"}}]
["6",{"$f":"[6]Tabulka!C12","v":"WITOSZOVÁ"},{"$f":"[6]Tabulka!D12","v":"Klára"},{"$f":"[6]Tabulka!E12","v":"2003-09-25"},{"$f":"[6]Tabulka!F12","v":"Havířov- Baník SKST"},{"$f":"[6]Tabulka!G12","v":"KA"},{"$f":"[6]Tabulka!H12","v":100},{"$f":"+[6]Tabulka!AU12","v":0},{"$f":"+[6]Tabulka!AV12","v":{"v":0,"d":"0.00"}},{"$f":"+[6]Tabulka!AW12","v":4},{"$f":"+[6]Tabulka!AX12","v":{"v":3.8491245804252903,"d":"3.85"}},{"$f":"+[6]Tabulka!AY12","v":4},{"$f":"+[6]Tabulka!AZ12","v":{"v":3.8491245804252903,"d":"3.85"}},{"$f":"+[6]Tabulka!BA12","v":0},{"$f":"+[6]Tabulka!BB12","v":{"v":0,"d":"0.00"}},{"$f":"+[6]Tabulka!BC12","v":0},{"$f":"+[6]Tabulka!BD12","v":{"v":0,"d":"0.00"}},{"$f":"+[6]Tabulka!BE12","v":0},{"$f":"+[6]Tabulka!BF12","v":{"v":0,"d":"0.00"}},{"$f":"+[6]Tabulka!BG12","v":0},{"$f":"+[6]Tabulka!BH12","v":{"v":0,"d":"0.00"}},{"$f":"+[6]Tabulka!BI12","v":0},{"$f":"+[6]Tabulka!BJ12","v":{"v":0,"d":"0.00"}},{"$f":"+[6]Tabulka!AP12","v":{"v":0,"d":"0.00"}},{"$f":"+[6]Tabulka!AQ12","v":{"v":0,"d":"0.00"}},{"$f":"+[6]Tabulka!BM12","v":{"v":7.6982491608505805,"d":"7.70"}},{"$f":"+[6]Tabulka!BN12","v":2},{"$f":"+[6]Tabulka!BO12","v":{"v":7.6982491608505805,"d":"7.70"}}]
["7",{"$f":"[6]Tabulka!C13","v":"CZOLKOVÁ"},{"$f":"[6]Tabulka!D13","v":"Adéla"},{"$f":"[6]Tabulka!E13","v":"1999-01-01"},{"$f":"[6]Tabulka!F13","v":"Orlová- Siko TTC"},{"$f":"[6]Tabulka!G13","v":"KA"},{"$f":"[6]Tabulka!H13","v":0},{"$f":"+[6]Tabulka!AU13","v":0},{"$f":"+[6]Tabulka!AV13","v":{"v":0,"d":"0.00"}},{"$f":"+[6]Tabulka!AW13","v":5},{"$f":"+[6]Tabulka!AX13","v":{"v":3.6127011759664778,"d":"3.61"}},{"$f":"+[6]Tabulka!AY13","v":0},{"$f":"+[6]Tabulka!AZ13","v":{"v":0,"d":"0.00"}},{"$f":"+[6]Tabulka!BA13","v":7},{"$f":"+[6]Tabulka!BB13","v":{"v":3.1825276537773326,"d":"3.18"}},{"$f":"+[6]Tabulka!BC13","v":0},{"$f":"+[6]Tabulka!BD13","v":{"v":0,"d":"0.00"}},{"$f":"+[6]Tabulka!BE13","v":0},{"$f":"+[6]Tabulka!BF13","v":{"v":0,"d":"0.00"}},{"$f":"+[6]Tabulka!BG13","v":0},{"$f":"+[6]Tabulka!BH13","v":{"v":0,"d":"0.00"}},{"$f":"+[6]Tabulka!BI13","v":0},{"$f":"+[6]Tabulka!BJ13","v":{"v":0,"d":"0.00"}},{"$f":"+[6]Tabulka!AP13","v":{"v":0,"d":"0.00"}},{"$f":"+[6]Tabulka!AQ13","v":{"v":0,"d":"0.00"}},{"$f":"+[6]Tabulka!BM13","v":{"v":6.79522882974381,"d":"6.80"}},{"$f":"+[6]Tabulka!BN13","v":2},{"$f":"+[6]Tabulka!BO13","v":{"v":6.79522882974381,"d":"6.80"}}]
["8",{"$f":"[6]Tabulka!C14","v":"STARÁ"},{"$f":"[6]Tabulka!D14","v":"Petra"},{"$f":"[6]Tabulka!E14","v":"1998-01-01"},{"$f":"[6]Tabulka!F14","v":"Český Těšín- SKST"},{"$f":"[6]Tabulka!G14","v":"KA"},{"$f":"[6]Tabulka!H14","v":0},{"$f":"+[6]Tabulka!AU14","v":0},{"$f":"+[6]Tabulka!AV14","v":{"v":0,"d":"0.00"}},{"$f":"+[6]Tabulka!AW14","v":0},{"$f":"+[6]Tabulka!AX14","v":{"v":0,"d":"0.00"}},{"$f":"+[6]Tabulka!AY14","v":0},{"$f":"+[6]Tabulka!AZ14","v":{"v":0,"d":"0.00"}},{"$f":"+[6]Tabulka!BA14","v":6},{"$f":"+[6]Tabulka!BB14","v":{"v":3.3907995218454317,"d":"3.39"}},{"$f":"+[6]Tabulka!BC14","v":0},{"$f":"+[6]Tabulka!BD14","v":{"v":0,"d":"0.00"}},{"$f":"+[6]Tabulka!BE14","v":0},{"$f":"+[6]Tabulka!BF14","v":{"v":0,"d":"0.00"}},{"$f":"+[6]Tabulka!BG14","v":0},{"$f":"+[6]Tabulka!BH14","v":{"v":0,"d":"0.00"}},{"$f":"+[6]Tabulka!BI14","v":0},{"$f":"+[6]Tabulka!BJ14","v":{"v":0,"d":"0.00"}},{"$f":"+[6]Tabulka!AP14","v":{"v":0,"d":"0.00"}},{"$f":"+[6]Tabulka!AQ14","v":{"v":0,"d":"0.00"}},{"$f":"+[6]Tabulka!BM14","v":{"v":3.3907995218454317,"d":"3.39"}},{"$f":"+[6]Tabulka!BN14","v":1},{"$f":"+[6]Tabulka!BO14","v":{"v":3.3907995218454317,"d":"3.39"}}]
[null,{"$f":"[6]Tabulka!C15","v":"ADÁMKOVÁ"},{"$f":"[6]Tabulka!D15","v":"Karin"},{"$f":"[6]Tabulka!E15","v":"1994-11-27"},{"$f":"[6]Tabulka!F15","v":"Frýdlant nad Ostravicí- SK"},{"$f":"[6]Tabulka!G15","v":"FM"},{"$f":"[6]Tabulka!H15","v":100},{"$f":"+[6]Tabulka!AU15","v":0},{"$f":"+[6]Tabulka!AV15","v":{"v":0,"d":"0.00"}},{"$f":"+[6]Tabulka!AW15","v":0},{"$f":"+[6]Tabulka!AX15","v":{"v":0,"d":"0.00"}},{"$f":"+[6]Tabulka!AY15","v":0},{"$f":"+[6]Tabulka!AZ15","v":{"v":0,"d":"0.00"}},{"$f":"+[6]Tabulka!BA15","v":0},{"$f":"+[6]Tabulka!BB15","v":{"v":0,"d":"0.00"}},{"$f":"+[6]Tabulka!BC15","v":0},{"$f":"+[6]Tabulka!BD15","v":{"v":0,"d":"0.00"}},{"$f":"+[6]Tabulka!BE15","v":0},{"$f":"+[6]Tabulka!BF15","v":{"v":0,"d":"0.00"}},{"$f":"+[6]Tabulka!BG15","v":0},{"$f":"+[6]Tabulka!BH15","v":{"v":0,"d":"0.00"}},{"$f":"+[6]Tabulka!BI15","v":0},{"$f":"+[6]Tabulka!BJ15","v":{"v":0,"d":"0.00"}},{"$f":"+[6]Tabulka!AP15","v":{"v":0,"d":"0.00"}},{"$f":"+[6]Tabulka!AQ15","v":{"v":0,"d":"0.00"}},{"$f":"+[6]Tabulka!BM15","v":{"v":0,"d":"0.00"}},{"$f":"+[6]Tabulka!BN15","v":0},{"$f":"+[6]Tabulka!BO15","v":{"v":0,"d":"0.00"}}]
[null,{"$f":"[6]Tabulka!C16","v":"ČECHOVÁ"},{"$f":"[6]Tabulka!D16","v":"Kateřina"},{"$f":"[6]Tabulka!E16","v":"1999-03-29"},{"$f":"[6]Tabulka!F16","v":"Frýdlant nad Ostravicí- SK"},{"$f":"[6]Tabulka!G16","v":"FM"},{"$f":"[6]Tabulka!H16","v":100},{"$f":"+[6]Tabulka!AU16","v":0},{"$f":"+[6]Tabulka!AV16","v":{"v":0,"d":"0.00"}},{"$f":"+[6]Tabulka!AW16","v":0},{"$f":"+[6]Tabulka!AX16","v":{"v":0,"d":"0.00"}},{"$f":"+[6]Tabulka!AY16","v":0},{"$f":"+[6]Tabulka!AZ16","v":{"v":0,"d":"0.00"}},{"$f":"+[6]Tabulka!BA16","v":0},{"$f":"+[6]Tabulka!BB16","v":{"v":0,"d":"0.00"}},{"$f":"+[6]Tabulka!BC16","v":0},{"$f":"+[6]Tabulka!BD16","v":{"v":0,"d":"0.00"}},{"$f":"+[6]Tabulka!BE16","v":0},{"$f":"+[6]Tabulka!BF16","v":{"v":0,"d":"0.00"}},{"$f":"+[6]Tabulka!BG16","v":0},{"$f":"+[6]Tabulka!BH16","v":{"v":0,"d":"0.00"}},{"$f":"+[6]Tabulka!BI16","v":0},{"$f":"+[6]Tabulka!BJ16","v":{"v":0,"d":"0.00"}},{"$f":"+[6]Tabulka!AP16","v":{"v":78.84235438579324,"d":"78.84"}},{"$f":"+[6]Tabulka!AQ16","v":{"v":4,"d":"4.00"}},{"$f":"+[6]Tabulka!BM16","v":{"v":0,"d":"0.00"}},{"$f":"+[6]Tabulka!BN16","v":0},{"$f":"+[6]Tabulka!BO16","v":{"v":0,"d":"0.00"}}]
[null,{"$f":"[6]Tabulka!C17","v":"DAŇOVÁ"},{"$f":"[6]Tabulka!D17","v":"Andrea"},{"$f":"[6]Tabulka!E17","v":"1997-03-28"},{"$f":"[6]Tabulka!F17","v":"Frýdlant nad Ostravicí- SK"},{"$f":"[6]Tabulka!G17","v":"FM"},{"$f":"[6]Tabulka!H17","v":100},{"$f":"+[6]Tabulka!AU17","v":0},{"$f":"+[6]Tabulka!AV17","v":{"v":0,"d":"0.00"}},{"$f":"+[6]Tabulka!AW17","v":0},{"$f":"+[6]Tabulka!AX17","v":{"v":0,"d":"0.00"}},{"$f":"+[6]Tabulka!AY17","v":0},{"$f":"+[6]Tabulka!AZ17","v":{"v":0,"d":"0.00"}},{"$f":"+[6]Tabulka!BA17","v":0},{"$f":"+[6]Tabulka!BB17","v":{"v":0,"d":"0.00"}},{"$f":"+[6]Tabulka!BC17","v":0},{"$f":"+[6]Tabulka!BD17","v":{"v":0,"d":"0.00"}},{"$f":"+[6]Tabulka!BE17","v":0},{"$f":"+[6]Tabulka!BF17","v":{"v":0,"d":"0.00"}},{"$f":"+[6]Tabulka!BG17","v":0},{"$f":"+[6]Tabulka!BH17","v":{"v":0,"d":"0.00"}},{"$f":"+[6]Tabulka!BI17","v":0},{"$f":"+[6]Tabulka!BJ17","v":{"v":0,"d":"0.00"}},{"$f":"+[6]Tabulka!AP17","v":{"v":37.05514930345745,"d":"37.06"}},{"$f":"+[6]Tabulka!AQ17","v":{"v":3,"d":"3.00"}},{"$f":"+[6]Tabulka!BM17","v":{"v":0,"d":"0.00"}},{"$f":"+[6]Tabulka!BN17","v":0},{"$f":"+[6]Tabulka!BO17","v":{"v":0,"d":"0.00"}}]
[null,{"$f":"[6]Tabulka!C18","v":"DAŇOVÁ"},{"$f":"[6]Tabulka!D18","v":"Barbora"},{"$f":"[6]Tabulka!E18","v":"1999-05-19"},{"$f":"[6]Tabulka!F18","v":"Frýdlant nad Ostravicí- SK"},{"$f":"[6]Tabulka!G18","v":"FM"},{"$f":"[6]Tabulka!H18","v":100},{"$f":"+[6]Tabulka!AU18","v":0},{"$f":"+[6]Tabulka!AV18","v":{"v":0,"d":"0.00"}},{"$f":"+[6]Tabulka!AW18","v":0},{"$f":"+[6]Tabulka!AX18","v":{"v":0,"d":"0.00"}},{"$f":"+[6]Tabulka!AY18","v":0},{"$f":"+[6]Tabulka!AZ18","v":{"v":0,"d":"0.00"}},{"$f":"+[6]Tabulka!BA18","v":0},{"$f":"+[6]Tabulka!BB18","v":{"v":0,"d":"0.00"}},{"$f":"+[6]Tabulka!BC18","v":0},{"$f":"+[6]Tabulka!BD18","v":{"v":0,"d":"0.00"}},{"$f":"+[6]Tabulka!BE18","v":0},{"$f":"+[6]Tabulka!BF18","v":{"v":0,"d":"0.00"}},{"$f":"+[6]Tabulka!BG18","v":0},{"$f":"+[6]Tabulka!BH18","v":{"v":0,"d":"0.00"}},{"$f":"+[6]Tabulka!BI18","v":0},{"$f":"+[6]Tabulka!BJ18","v":{"v":0,"d":"0.00"}},{"$f":"+[6]Tabulka!AP18","v":{"v":35.51959720189662,"d":"35.52"}},{"$f":"+[6]Tabulka!AQ18","v":{"v":3,"d":"3.00"}},{"$f":"+[6]Tabulka!BM18","v":{"v":0,"d":"0.00"}},{"$f":"+[6]Tabulka!BN18","v":0},{"$f":"+[6]Tabulka!BO18","v":{"v":0,"d":"0.00"}}]
[null,{"$f":"[6]Tabulka!C19","v":"HANKEOVÁ"},{"$f":"[6]Tabulka!D19","v":"Karla"},{"$f":"[6]Tabulka!E19","v":"1993-04-14"},{"$f":"[6]Tabulka!F19","v":"Nová Bělá- Sokol TJ"},{"$f":"[6]Tabulka!G19","v":"OV"},{"$f":"[6]Tabulka!H19","v":200},{"$f":"+[6]Tabulka!AU19","v":0},{"$f":"+[6]Tabulka!AV19","v":{"v":0,"d":"0.00"}},{"$f":"+[6]Tabulka!AW19","v":0},{"$f":"+[6]Tabulka!AX19","v":{"v":0,"d":"0.00"}},{"$f":"+[6]Tabulka!AY19","v":0},{"$f":"+[6]Tabulka!AZ19","v":{"v":0,"d":"0.00"}},{"$f":"+[6]Tabulka!BA19","v":0},{"$f":"+[6]Tabulka!BB19","v":{"v":0,"d":"0.00"}},{"$f":"+[6]Tabulka!BC19","v":0},{"$f":"+[6]Tabulka!BD19","v":{"v":0,"d":"0.00"}},{"$f":"+[6]Tabulka!BE19","v":0},{"$f":"+[6]Tabulka!BF19","v":{"v":0,"d":"0.00"}},{"$f":"+[6]Tabulka!BG19","v":0},{"$f":"+[6]Tabulka!BH19","v":{"v":0,"d":"0.00"}},{"$f":"+[6]Tabulka!BI19","v":0},{"$f":"+[6]Tabulka!BJ19","v":{"v":0,"d":"0.00"}},{"$f":"+[6]Tabulka!AP19","v":{"v":0,"d":"0.00"}},{"$f":"+[6]Tabulka!AQ19","v":{"v":0,"d":"0.00"}},{"$f":"+[6]Tabulka!BM19","v":{"v":0,"d":"0.00"}},{"$f":"+[6]Tabulka!BN19","v":0},{"$f":"+[6]Tabulka!BO19","v":{"v":0,"d":"0.00"}}]
[null,{"$f":"[6]Tabulka!C20","v":"HRABCOVÁ"},{"$f":"[6]Tabulka!D20","v":"Anna"},{"$f":"[6]Tabulka!E20","v":"2001-11-27"},{"$f":"[6]Tabulka!F20","v":"Frýdlant nad Ostravicí- SK"},{"$f":"[6]Tabulka!G20","v":"FM"},{"$f":"[6]Tabulka!H20","v":100},{"$f":"+[6]Tabulka!AU20","v":0},{"$f":"+[6]Tabulka!AV20","v":{"v":0,"d":"0.00"}},{"$f":"+[6]Tabulka!AW20","v":0},{"$f":"+[6]Tabulka!AX20","v":{"v":0,"d":"0.00"}},{"$f":"+[6]Tabulka!AY20","v":0},{"$f":"+[6]Tabulka!AZ20","v":{"v":0,"d":"0.00"}},{"$f":"+[6]Tabulka!BA20","v":0},{"$f":"+[6]Tabulka!BB20","v":{"v":0,"d":"0.00"}},{"$f":"+[6]Tabulka!BC20","v":0},{"$f":"+[6]Tabulka!BD20","v":{"v":0,"d":"0.00"}},{"$f":"+[6]Tabulka!BE20","v":0},{"$f":"+[6]Tabulka!BF20","v":{"v":0,"d":"0.00"}},{"$f":"+[6]Tabulka!BG20","v":0},{"$f":"+[6]Tabulka!BH20","v":{"v":0,"d":"0.00"}},{"$f":"+[6]Tabulka!BI20","v":0},{"$f":"+[6]Tabulka!BJ20","v":{"v":0,"d":"0.00"}},{"$f":"+[6]Tabulka!AP20","v":{"v":17.702804814644132,"d":"17.70"}},{"$f":"+[6]Tabulka!AQ20","v":{"v":2,"d":"2.00"}},{"$f":"+[6]Tabulka!BM20","v":{"v":0,"d":"0.00"}},{"$f":"+[6]Tabulka!BN20","v":0},{"$f":"+[6]Tabulka!BO20","v":{"v":0,"d":"0.00"}}]
[null,{"$f":"[6]Tabulka!C21","v":"HRUDOVÁ"},{"$f":"[6]Tabulka!D21","v":"Eliška"},{"$f":"[6]Tabulka!E21","v":"1996-05-16"},{"$f":"[6]Tabulka!F21","v":"Frýdlant nad Ostravicí- SK"},{"$f":"[6]Tabulka!G21","v":"FM"},{"$f":"[6]Tabulka!H21","v":100},{"$f":"+[6]Tabulka!AU21","v":0},{"$f":"+[6]Tabulka!AV21","v":{"v":0,"d":"0.00"}},{"$f":"+[6]Tabulka!AW21","v":0},{"$f":"+[6]Tabulka!AX21","v":{"v":0,"d":"0.00"}},{"$f":"+[6]Tabulka!AY21","v":0},{"$f":"+[6]Tabulka!AZ21","v":{"v":0,"d":"0.00"}},{"$f":"+[6]Tabulka!BA21","v":0},{"$f":"+[6]Tabulka!BB21","v":{"v":0,"d":"0.00"}},{"$f":"+[6]Tabulka!BC21","v":0},{"$f":"+[6]Tabulka!BD21","v":{"v":0,"d":"0.00"}},{"$f":"+[6]Tabulka!BE21","v":0},{"$f":"+[6]Tabulka!BF21","v":{"v":0,"d":"0.00"}},{"$f":"+[6]Tabulka!BG21","v":0},{"$f":"+[6]Tabulka!BH21","v":{"v":0,"d":"0.00"}},{"$f":"+[6]Tabulka!BI21","v":0},{"$f":"+[6]Tabulka!BJ21","v":{"v":0,"d":"0.00"}},{"$f":"+[6]Tabulka!AP21","v":{"v":26.63581469031012,"d":"26.64"}},{"$f":"+[6]Tabulka!AQ21","v":{"v":2,"d":"2.00"}},{"$f":"+[6]Tabulka!BM21","v":{"v":0,"d":"0.00"}},{"$f":"+[6]Tabulka!BN21","v":0},{"$f":"+[6]Tabulka!BO21","v":{"v":0,"d":"0.00"}}]
[null,{"$f":"[6]Tabulka!C22","v":"JANÁSKOVÁ"},{"$f":"[6]Tabulka!D22","v":"Iva"},{"$f":"[6]Tabulka!E22","v":"1995-09-13"},{"$f":"[6]Tabulka!F22","v":"Ostrava- Mittal TJ"},{"$f":"[6]Tabulka!G22","v":"OV"},{"$f":"[6]Tabulka!H22","v":100},{"$f":"+[6]Tabulka!AU22","v":0},{"$f":"+[6]Tabulka!AV22","v":{"v":0,"d":"0.00"}},{"$f":"+[6]Tabulka!AW22","v":0},{"$f":"+[6]Tabulka!AX22","v":{"v":0,"d":"0.00"}},{"$f":"+[6]Tabulka!AY22","v":0},{"$f":"+[6]Tabulka!AZ22","v":{"v":0,"d":"0.00"}},{"$f":"+[6]Tabulka!BA22","v":0},{"$f":"+[6]Tabulka!BB22","v":{"v":0,"d":"0.00"}},{"$f":"+[6]Tabulka!BC22","v":0},{"$f":"+[6]Tabulka!BD22","v":{"v":0,"d":"0.00"}},{"$f":"+[6]Tabulka!BE22","v":0},{"$f":"+[6]Tabulka!BF22","v":{"v":0,"d":"0.00"}},{"$f":"+[6]Tabulka!BG22","v":0},{"$f":"+[6]Tabulka!BH22","v":{"v":0,"d":"0.00"}},{"$f":"+[6]Tabulka!BI22","v":0},{"$f":"+[6]Tabulka!BJ22","v":{"v":0,"d":"0.00"}},{"$f":"+[6]Tabulka!AP22","v":{"v":11.31490364584015,"d":"11.31"}},{"$f":"+[6]Tabulka!AQ22","v":{"v":1,"d":"1.00"}},{"$f":"+[6]Tabulka!BM22","v":{"v":0,"d":"0.00"}},{"$f":"+[6]Tabulka!BN22","v":0},{"$f":"+[6]Tabulka!BO22","v":{"v":0,"d":"0.00"}}]
[null,{"$f":"[6]Tabulka!C23","v":"JEMELÍKOVÁ"},{"$f":"[6]Tabulka!D23","v":"Alice"},{"$f":"[6]Tabulka!E23","v":"1998-08-03"},{"$f":"[6]Tabulka!F23","v":"Frýdlant nad Ostravicí- SK"},{"$f":"[6]Tabulka!G23","v":"FM"},{"$f":"[6]Tabulka!H23","v":100},{"$f":"+[6]Tabulka!AU23","v":0},{"$f":"+[6]Tabulka!AV23","v":{"v":0,"d":"0.00"}},{"$f":"+[6]Tabulka!AW23","v":0},{"$f":"+[6]Tabulka!AX23","v":{"v":0,"d":"0.00"}},{"$f":"+[6]Tabulka!AY23","v":0},{"$f":"+[6]Tabulka!AZ23","v":{"v":0,"d":"0.00"}},{"$f":"+[6]Tabulka!BA23","v":0},{"$f":"+[6]Tabulka!BB23","v":{"v":0,"d":"0.00"}},{"$f":"+[6]Tabulka!BC23","v":0},{"$f":"+[6]Tabulka!BD23","v":{"v":0,"d":"0.00"}},{"$f":"+[6]Tabulka!BE23","v":0},{"$f":"+[6]Tabulka!BF23","v":{"v":0,"d":"0.00"}},{"$f":"+[6]Tabulka!BG23","v":0},{"$f":"+[6]Tabulka!BH23","v":{"v":0,"d":"0.00"}},{"$f":"+[6]Tabulka!BI23","v":0},{"$f":"+[6]Tabulka!BJ23","v":{"v":0,"d":"0.00"}},{"$f":"+[6]Tabulka!AP23","v":{"v":38.836601467813644,"d":"38.84"}},{"$f":"+[6]Tabulka!AQ23","v":{"v":4,"d":"4.00"}},{"$f":"+[6]Tabulka!BM23","v":{"v":0,"d":"0.00"}},{"$f":"+[6]Tabulka!BN23","v":0},{"$f":"+[6]Tabulka!BO23","v":{"v":0,"d":"0.00"}}]
[null,{"$f":"[6]Tabulka!C24","v":"JEŽKOVÁ"},{"$f":"[6]Tabulka!D24","v":"Kateřina"},{"$f":"[6]Tabulka!E24","v":"1993-09-27"},{"$f":"[6]Tabulka!F24","v":"Kateřinky- Sokol TJ"},{"$f":"[6]Tabulka!G24","v":"OP"},{"$f":"[6]Tabulka!H24","v":200},{"$f":"+[6]Tabulka!AU24","v":0},{"$f":"+[6]Tabulka!AV24","v":{"v":0,"d":"0.00"}},{"$f":"+[6]Tabulka!AW24","v":0},{"$f":"+[6]Tabulka!AX24","v":{"v":0,"d":"0.00"}},{"$f":"+[6]Tabulka!AY24","v":0},{"$f":"+[6]Tabulka!AZ24","v":{"v":0,"d":"0.00"}},{"$f":"+[6]Tabulka!BA24","v":0},{"$f":"+[6]Tabulka!BB24","v":{"v":0,"d":"0.00"}},{"$f":"+[6]Tabulka!BC24","v":0},{"$f":"+[6]Tabulka!BD24","v":{"v":0,"d":"0.00"}},{"$f":"+[6]Tabulka!BE24","v":0},{"$f":"+[6]Tabulka!BF24","v":{"v":0,"d":"0.00"}},{"$f":"+[6]Tabulka!BG24","v":0},{"$f":"+[6]Tabulka!BH24","v":{"v":0,"d":"0.00"}},{"$f":"+[6]Tabulka!BI24","v":0},{"$f":"+[6]Tabulka!BJ24","v":{"v":0,"d":"0.00"}},{"$f":"+[6]Tabulka!AP24","v":{"v":0,"d":"0.00"}},{"$f":"+[6]Tabulka!AQ24","v":{"v":0,"d":"0.00"}},{"$f":"+[6]Tabulka!BM24","v":{"v":0,"d":"0.00"}},{"$f":"+[6]Tabulka!BN24","v":0},{"$f":"+[6]Tabulka!BO24","v":{"v":0,"d":"0.00"}}]
[null,{"$f":"[6]Tabulka!C25","v":"JURDZINOVÁ"},{"$f":"[6]Tabulka!D25","v":"Petra"},{"$f":"[6]Tabulka!E25","v":"1996-01-07"},{"$f":"[6]Tabulka!F25","v":"Ostrava- Mittal TJ"},{"$f":"[6]Tabulka!G25","v":"OV"},{"$f":"[6]Tabulka!H25","v":100},{"$f":"+[6]Tabulka!AU25","v":0},{"$f":"+[6]Tabulka!AV25","v":{"v":0,"d":"0.00"}},{"$f":"+[6]Tabulka!AW25","v":0},{"$f":"+[6]Tabulka!AX25","v":{"v":0,"d":"0.00"}},{"$f":"+[6]Tabulka!AY25","v":0},{"$f":"+[6]Tabulka!AZ25","v":{"v":0,"d":"0.00"}},{"$f":"+[6]Tabulka!BA25","v":0},{"$f":"+[6]Tabulka!BB25","v":{"v":0,"d":"0.00"}},{"$f":"+[6]Tabulka!BC25","v":0},{"$f":"+[6]Tabulka!BD25","v":{"v":0,"d":"0.00"}},{"$f":"+[6]Tabulka!BE25","v":0},{"$f":"+[6]Tabulka!BF25","v":{"v":0,"d":"0.00"}},{"$f":"+[6]Tabulka!BG25","v":0},{"$f":"+[6]Tabulka!BH25","v":{"v":0,"d":"0.00"}},{"$f":"+[6]Tabulka!BI25","v":0},{"$f":"+[6]Tabulka!BJ25","v":{"v":0,"d":"0.00"}},{"$f":"+[6]Tabulka!AP25","v":{"v":15.534615056655854,"d":"15.53"}},{"$f":"+[6]Tabulka!AQ25","v":{"v":1,"d":"1.00"}},{"$f":"+[6]Tabulka!BM25","v":{"v":0,"d":"0.00"}},{"$f":"+[6]Tabulka!BN25","v":0},{"$f":"+[6]Tabulka!BO25","v":{"v":0,"d":"0.00"}}]
[null,{"$f":"[6]Tabulka!C26","v":"KARÁSKOVÁ"},{"$f":"[6]Tabulka!D26","v":"Tereza"},{"$f":"[6]Tabulka!E26","v":"1993-04-14"},{"$f":"[6]Tabulka!F26","v":"Ostrava- Mittal TJ"},{"$f":"[6]Tabulka!G26","v":"OV"},{"$f":"[6]Tabulka!H26","v":200},{"$f":"+[6]Tabulka!AU26","v":0},{"$f":"+[6]Tabulka!AV26","v":{"v":0,"d":"0.00"}},{"$f":"+[6]Tabulka!AW26","v":0},{"$f":"+[6]Tabulka!AX26","v":{"v":0,"d":"0.00"}},{"$f":"+[6]Tabulka!AY26","v":0},{"$f":"+[6]Tabulka!AZ26","v":{"v":0,"d":"0.00"}},{"$f":"+[6]Tabulka!BA26","v":0},{"$f":"+[6]Tabulka!BB26","v":{"v":0,"d":"0.00"}},{"$f":"+[6]Tabulka!BC26","v":0},{"$f":"+[6]Tabulka!BD26","v":{"v":0,"d":"0.00"}},{"$f":"+[6]Tabulka!BE26","v":0},{"$f":"+[6]Tabulka!BF26","v":{"v":0,"d":"0.00"}},{"$f":"+[6]Tabulka!BG26","v":0},{"$f":"+[6]Tabulka!BH26","v":{"v":0,"d":"0.00"}},{"$f":"+[6]Tabulka!BI26","v":0},{"$f":"+[6]Tabulka!BJ26","v":{"v":0,"d":"0.00"}},{"$f":"+[6]Tabulka!AP26","v":{"v":0,"d":"0.00"}},{"$f":"+[6]Tabulka!AQ26","v":{"v":0,"d":"0.00"}},{"$f":"+[6]Tabulka!BM26","v":{"v":0,"d":"0.00"}},{"$f":"+[6]Tabulka!BN26","v":0},{"$f":"+[6]Tabulka!BO26","v":{"v":0,"d":"0.00"}}]
[null,{"$f":"[6]Tabulka!C27","v":"KAŠNÍKOVÁ"},{"$f":"[6]Tabulka!D27","v":"Denisa"},{"$f":"[6]Tabulka!E27","v":"1996-04-30"},{"$f":"[6]Tabulka!F27","v":"Havířov- Baník SKST"},{"$f":"[6]Tabulka!G27","v":"KA"},{"$f":"[6]Tabulka!H27","v":100},{"$f":"+[6]Tabulka!AU27","v":0},{"$f":"+[6]Tabulka!AV27","v":{"v":0,"d":"0.00"}},{"$f":"+[6]Tabulka!AW27","v":0},{"$f":"+[6]Tabulka!AX27","v":{"v":0,"d":"0.00"}},{"$f":"+[6]Tabulka!AY27","v":0},{"$f":"+[6]Tabulka!AZ27","v":{"v":0,"d":"0.00"}},{"$f":"+[6]Tabulka!BA27","v":0},{"$f":"+[6]Tabulka!BB27","v":{"v":0,"d":"0.00"}},{"$f":"+[6]Tabulka!BC27","v":0},{"$f":"+[6]Tabulka!BD27","v":{"v":0,"d":"0.00"}},{"$f":"+[6]Tabulka!BE27","v":0},{"$f":"+[6]Tabulka!BF27","v":{"v":0,"d":"0.00"}},{"$f":"+[6]Tabulka!BG27","v":0},{"$f":"+[6]Tabulka!BH27","v":{"v":0,"d":"0.00"}},{"$f":"+[6]Tabulka!BI27","v":0},{"$f":"+[6]Tabulka!BJ27","v":{"v":0,"d":"0.00"}},{"$f":"+[6]Tabulka!AP27","v":{"v":75.22920571529552,"d":"75.23"}},{"$f":"+[6]Tabulka!AQ27","v":{"v":4,"d":"4.00"}},{"$f":"+[6]Tabulka!BM27","v":{"v":0,"d":"0.00"}},{"$f":"+[6]Tabulka!BN27","v":0},{"$f":"+[6]Tabulka!BO27","v":{"v":0,"d":"0.00"}}]
[null,{"$f":"[6]Tabulka!C28","v":"KOBLOVSKÁ"},{"$f":"[6]Tabulka!D28","v":"Dominika"},{"$f":"[6]Tabulka!E28","v":"1998-08-30"},{"$f":"[6]Tabulka!F28","v":"Ostrava- Mittal TJ"},{"$f":"[6]Tabulka!G28","v":"OV"},{"$f":"[6]Tabulka!H28","v":100},{"$f":"+[6]Tabulka!AU28","v":0},{"$f":"+[6]Tabulka!AV28","v":{"v":0,"d":"0.00"}},{"$f":"+[6]Tabulka!AW28","v":0},{"$f":"+[6]Tabulka!AX28","v":{"v":0,"d":"0.00"}},{"$f":"+[6]Tabulka!AY28","v":0},{"$f":"+[6]Tabulka!AZ28","v":{"v":0,"d":"0.00"}},{"$f":"+[6]Tabulka!BA28","v":0},{"$f":"+[6]Tabulka!BB28","v":{"v":0,"d":"0.00"}},{"$f":"+[6]Tabulka!BC28","v":0},{"$f":"+[6]Tabulka!BD28","v":{"v":0,"d":"0.00"}},{"$f":"+[6]Tabulka!BE28","v":0},{"$f":"+[6]Tabulka!BF28","v":{"v":0,"d":"0.00"}},{"$f":"+[6]Tabulka!BG28","v":0},{"$f":"+[6]Tabulka!BH28","v":{"v":0,"d":"0.00"}},{"$f":"+[6]Tabulka!BI28","v":0},{"$f":"+[6]Tabulka!BJ28","v":{"v":0,"d":"0.00"}},{"$f":"+[6]Tabulka!AP28","v":{"v":67.35462336896522,"d":"67.35"}},{"$f":"+[6]Tabulka!AQ28","v":{"v":4,"d":"4.00"}},{"$f":"+[6]Tabulka!BM28","v":{"v":0,"d":"0.00"}},{"$f":"+[6]Tabulka!BN28","v":0},{"$f":"+[6]Tabulka!BO28","v":{"v":0,"d":"0.00"}}]
[null,{"$f":"[6]Tabulka!C29","v":"KOLONIČNÁ"},{"$f":"[6]Tabulka!D29","v":"Markéta"},{"$f":"[6]Tabulka!E29","v":"2002-12-12"},{"$f":"[6]Tabulka!F29","v":"Hrabůvka- Sokol TJ"},{"$f":"[6]Tabulka!G29","v":"OV"},{"$f":"[6]Tabulka!H29","v":100},{"$f":"+[6]Tabulka!AU29","v":0},{"$f":"+[6]Tabulka!AV29","v":{"v":0,"d":"0.00"}},{"$f":"+[6]Tabulka!AW29","v":0},{"$f":"+[6]Tabulka!AX29","v":{"v":0,"d":"0.00"}},{"$f":"+[6]Tabulka!AY29","v":0},{"$f":"+[6]Tabulka!AZ29","v":{"v":0,"d":"0.00"}},{"$f":"+[6]Tabulka!BA29","v":0},{"$f":"+[6]Tabulka!BB29","v":{"v":0,"d":"0.00"}},{"$f":"+[6]Tabulka!BC29","v":0},{"$f":"+[6]Tabulka!BD29","v":{"v":0,"d":"0.00"}},{"$f":"+[6]Tabulka!BE29","v":0},{"$f":"+[6]Tabulka!BF29","v":{"v":0,"d":"0.00"}},{"$f":"+[6]Tabulka!BG29","v":0},{"$f":"+[6]Tabulka!BH29","v":{"v":0,"d":"0.00"}},{"$f":"+[6]Tabulka!BI29","v":0},{"$f":"+[6]Tabulka!BJ29","v":{"v":0,"d":"0.00"}},{"$f":"+[6]Tabulka!AP29","v":{"v":16.5159362137881,"d":"16.52"}},{"$f":"+[6]Tabulka!AQ29","v":{"v":2,"d":"2.00"}},{"$f":"+[6]Tabulka!BM29","v":{"v":0,"d":"0.00"}},{"$f":"+[6]Tabulka!BN29","v":0},{"$f":"+[6]Tabulka!BO29","v":{"v":0,"d":"0.00"}}]
[null,{"$f":"[6]Tabulka!C30","v":"KOTKOVÁ"},{"$f":"[6]Tabulka!D30","v":"Daniela"},{"$f":"[6]Tabulka!E30","v":"2000-12-27"},{"$f":"[6]Tabulka!F30","v":"Frýdlant nad Ostravicí- SK"},{"$f":"[6]Tabulka!G30","v":"FM"},{"$f":"[6]Tabulka!H30","v":100},{"$f":"+[6]Tabulka!AU30","v":0},{"$f":"+[6]Tabulka!AV30","v":{"v":0,"d":"0.00"}},{"$f":"+[6]Tabulka!AW30","v":0},{"$f":"+[6]Tabulka!AX30","v":{"v":0,"d":"0.00"}},{"$f":"+[6]Tabulka!AY30","v":0},{"$f":"+[6]Tabulka!AZ30","v":{"v":0,"d":"0.00"}},{"$f":"+[6]Tabulka!BA30","v":0},{"$f":"+[6]Tabulka!BB30","v":{"v":0,"d":"0.00"}},{"$f":"+[6]Tabulka!BC30","v":0},{"$f":"+[6]Tabulka!BD30","v":{"v":0,"d":"0.00"}},{"$f":"+[6]Tabulka!BE30","v":0},{"$f":"+[6]Tabulka!BF30","v":{"v":0,"d":"0.00"}},{"$f":"+[6]Tabulka!BG30","v":0},{"$f":"+[6]Tabulka!BH30","v":{"v":0,"d":"0.00"}},{"$f":"+[6]Tabulka!BI30","v":0},{"$f":"+[6]Tabulka!BJ30","v":{"v":0,"d":"0.00"}},{"$f":"+[6]Tabulka!AP30","v":{"v":15.055550498795583,"d":"15.06"}},{"$f":"+[6]Tabulka!AQ30","v":{"v":2,"d":"2.00"}},{"$f":"+[6]Tabulka!BM30","v":{"v":0,"d":"0.00"}},{"$f":"+[6]Tabulka!BN30","v":0},{"$f":"+[6]Tabulka!BO30","v":{"v":0,"d":"0.00"}}]
[null,{"$f":"[6]Tabulka!C31","v":"MYNÁŘOVÁ"},{"$f":"[6]Tabulka!D31","v":"Karolína"},{"$f":"[6]Tabulka!E31","v":"1996-09-24"},{"$f":"[6]Tabulka!F31","v":"Havířov- Baník SKST"},{"$f":"[6]Tabulka!G31","v":"KA"},{"$f":"[6]Tabulka!H31","v":100},{"$f":"+[6]Tabulka!AU31","v":0},{"$f":"+[6]Tabulka!AV31","v":{"v":0,"d":"0.00"}},{"$f":"+[6]Tabulka!AW31","v":0},{"$f":"+[6]Tabulka!AX31","v":{"v":0,"d":"0.00"}},{"$f":"+[6]Tabulka!AY31","v":0},{"$f":"+[6]Tabulka!AZ31","v":{"v":0,"d":"0.00"}},{"$f":"+[6]Tabulka!BA31","v":0},{"$f":"+[6]Tabulka!BB31","v":{"v":0,"d":"0.00"}},{"$f":"+[6]Tabulka!BC31","v":0},{"$f":"+[6]Tabulka!BD31","v":{"v":0,"d":"0.00"}},{"$f":"+[6]Tabulka!BE31","v":0},{"$f":"+[6]Tabulka!BF31","v":{"v":0,"d":"0.00"}},{"$f":"+[6]Tabulka!BG31","v":0},{"$f":"+[6]Tabulka!BH31","v":{"v":0,"d":"0.00"}},{"$f":"+[6]Tabulka!BI31","v":0},{"$f":"+[6]Tabulka!BJ31","v":{"v":0,"d":"0.00"}},{"$f":"+[6]Tabulka!AP31","v":{"v":0,"d":"0.00"}},{"$f":"+[6]Tabulka!AQ31","v":{"v":0,"d":"0.00"}},{"$f":"+[6]Tabulka!BM31","v":{"v":0,"d":"0.00"}},{"$f":"+[6]Tabulka!BN31","v":0},{"$f":"+[6]Tabulka!BO31","v":{"v":0,"d":"0.00"}}]
[null,{"$f":"[6]Tabulka!C32","v":"NEMÉTHOVÁ"},{"$f":"[6]Tabulka!D32","v":"Štěpánka"},{"$f":"[6]Tabulka!E32","v":"1999-01-01"},{"$f":"[6]Tabulka!F32","v":"Kopřivnice- Tatra  ASK"},{"$f":"[6]Tabulka!G32","v":"NJ"},{"$f":"[6]Tabulka!H32","v":0},{"$f":"+[6]Tabulka!AU32","v":0},{"$f":"+[6]Tabulka!AV32","v":{"v":0,"d":"0.00"}},{"$f":"+[6]Tabulka!AW32","v":0},{"$f":"+[6]Tabulka!AX32","v":{"v":0,"d":"0.00"}},{"$f":"+[6]Tabulka!AY32","v":0},{"$f":"+[6]Tabulka!AZ32","v":{"v":0,"d":"0.00"}},{"$f":"+[6]Tabulka!BA32","v":0},{"$f":"+[6]Tabulka!BB32","v":{"v":0,"d":"0.00"}},{"$f":"+[6]Tabulka!BC32","v":0},{"$f":"+[6]Tabulka!BD32","v":{"v":0,"d":"0.00"}},{"$f":"+[6]Tabulka!BE32","v":0},{"$f":"+[6]Tabulka!BF32","v":{"v":0,"d":"0.00"}},{"$f":"+[6]Tabulka!BG32","v":0},{"$f":"+[6]Tabulka!BH32","v":{"v":0,"d":"0.00"}},{"$f":"+[6]Tabulka!BI32","v":0},{"$f":"+[6]Tabulka!BJ32","v":{"v":0,"d":"0.00"}},{"$f":"+[6]Tabulka!AP32","v":{"v":5.2880034947714405,"d":"5.29"}},{"$f":"+[6]Tabulka!AQ32","v":{"v":1,"d":"1.00"}},{"$f":"+[6]Tabulka!BM32","v":{"v":0,"d":"0.00"}},{"$f":"+[6]Tabulka!BN32","v":0},{"$f":"+[6]Tabulka!BO32","v":{"v":0,"d":"0.00"}}]
[null,{"$f":"[6]Tabulka!C33","v":"PALETOVÁ"},{"$f":"[6]Tabulka!D33","v":"Barbora"},{"$f":"[6]Tabulka!E33","v":"2001-07-14"},{"$f":"[6]Tabulka!F33","v":"Děhylov- Sokol TJ"},{"$f":"[6]Tabulka!G33","v":"OP"},{"$f":"[6]Tabulka!H33","v":100},{"$f":"+[6]Tabulka!AU33","v":0},{"$f":"+[6]Tabulka!AV33","v":{"v":0,"d":"0.00"}},{"$f":"+[6]Tabulka!AW33","v":0},{"$f":"+[6]Tabulka!AX33","v":{"v":0,"d":"0.00"}},{"$f":"+[6]Tabulka!AY33","v":0},{"$f":"+[6]Tabulka!AZ33","v":{"v":0,"d":"0.00"}},{"$f":"+[6]Tabulka!BA33","v":0},{"$f":"+[6]Tabulka!BB33","v":{"v":0,"d":"0.00"}},{"$f":"+[6]Tabulka!BC33","v":0},{"$f":"+[6]Tabulka!BD33","v":{"v":0,"d":"0.00"}},{"$f":"+[6]Tabulka!BE33","v":0},{"$f":"+[6]Tabulka!BF33","v":{"v":0,"d":"0.00"}},{"$f":"+[6]Tabulka!BG33","v":0},{"$f":"+[6]Tabulka!BH33","v":{"v":0,"d":"0.00"}},{"$f":"+[6]Tabulka!BI33","v":0},{"$f":"+[6]Tabulka!BJ33","v":{"v":0,"d":"0.00"}},{"$f":"+[6]Tabulka!AP33","v":{"v":26.483545489714103,"d":"26.48"}},{"$f":"+[6]Tabulka!AQ33","v":{"v":3,"d":"3.00"}},{"$f":"+[6]Tabulka!BM33","v":{"v":0,"d":"0.00"}},{"$f":"+[6]Tabulka!BN33","v":0},{"$f":"+[6]Tabulka!BO33","v":{"v":0,"d":"0.00"}}]
[null,{"$f":"[6]Tabulka!C34","v":"PETROVOVÁ"},{"$f":"[6]Tabulka!D34","v":"Nikita"},{"$f":"[6]Tabulka!E34","v":"1999-09-26"},{"$f":"[6]Tabulka!F34","v":"Frýdlant nad Ostravicí- SK"},{"$f":"[6]Tabulka!G34","v":"FM"},{"$f":"[6]Tabulka!H34","v":100},{"$f":"+[6]Tabulka!AU34","v":0},{"$f":"+[6]Tabulka!AV34","v":{"v":0,"d":"0.00"}},{"$f":"+[6]Tabulka!AW34","v":0},{"$f":"+[6]Tabulka!AX34","v":{"v":0,"d":"0.00"}},{"$f":"+[6]Tabulka!AY34","v":0},{"$f":"+[6]Tabulka!AZ34","v":{"v":0,"d":"0.00"}},{"$f":"+[6]Tabulka!BA34","v":0},{"$f":"+[6]Tabulka!BB34","v":{"v":0,"d":"0.00"}},{"$f":"+[6]Tabulka!BC34","v":0},{"$f":"+[6]Tabulka!BD34","v":{"v":0,"d":"0.00"}},{"$f":"+[6]Tabulka!BE34","v":0},{"$f":"+[6]Tabulka!BF34","v":{"v":0,"d":"0.00"}},{"$f":"+[6]Tabulka!BG34","v":0},{"$f":"+[6]Tabulka!BH34","v":{"v":0,"d":"0.00"}},{"$f":"+[6]Tabulka!BI34","v":0},{"$f":"+[6]Tabulka!BJ34","v":{"v":0,"d":"0.00"}},{"$f":"+[6]Tabulka!AP34","v":{"v":16.551235695828748,"d":"16.55"}},{"$f":"+[6]Tabulka!AQ34","v":{"v":1,"d":"1.00"}},{"$f":"+[6]Tabulka!BM34","v":{"v":0,"d":"0.00"}},{"$f":"+[6]Tabulka!BN34","v":0},{"$f":"+[6]Tabulka!BO34","v":{"v":0,"d":"0.00"}}]
[null,{"$f":"[6]Tabulka!C35","v":"ROZKYDALOVÁ"},{"$f":"[6]Tabulka!D35","v":"Eliška"},{"$f":"[6]Tabulka!E35","v":"2002-01-11"},{"$f":"[6]Tabulka!F35","v":"Frýdlant nad Ostravicí- SK"},{"$f":"[6]Tabulka!G35","v":"FM"},{"$f":"[6]Tabulka!H35","v":100},{"$f":"+[6]Tabulka!AU35","v":0},{"$f":"+[6]Tabulka!AV35","v":{"v":0,"d":"0.00"}},{"$f":"+[6]Tabulka!AW35","v":0},{"$f":"+[6]Tabulka!AX35","v":{"v":0,"d":"0.00"}},{"$f":"+[6]Tabulka!AY35","v":0},{"$f":"+[6]Tabulka!AZ35","v":{"v":0,"d":"0.00"}},{"$f":"+[6]Tabulka!BA35","v":0},{"$f":"+[6]Tabulka!BB35","v":{"v":0,"d":"0.00"}},{"$f":"+[6]Tabulka!BC35","v":0},{"$f":"+[6]Tabulka!BD35","v":{"v":0,"d":"0.00"}},{"$f":"+[6]Tabulka!BE35","v":0},{"$f":"+[6]Tabulka!BF35","v":{"v":0,"d":"0.00"}},{"$f":"+[6]Tabulka!BG35","v":0},{"$f":"+[6]Tabulka!BH35","v":{"v":0,"d":"0.00"}},{"$f":"+[6]Tabulka!BI35","v":0},{"$f":"+[6]Tabulka!BJ35","v":{"v":0,"d":"0.00"}},{"$f":"+[6]Tabulka!AP35","v":{"v":18.710744742241364,"d":"18.71"}},{"$f":"+[6]Tabulka!AQ35","v":{"v":2,"d":"2.00"}},{"$f":"+[6]Tabulka!BM35","v":{"v":0,"d":"0.00"}},{"$f":"+[6]Tabulka!BN35","v":0},{"$f":"+[6]Tabulka!BO35","v":{"v":0,"d":"0.00"}}]
[null,{"$f":"[6]Tabulka!C36","v":"SIKOROVÁ"},{"$f":"[6]Tabulka!D36","v":"Kamila"},{"$f":"[6]Tabulka!E36","v":"1997-02-07"},{"$f":"[6]Tabulka!F36","v":"Havířov- Baník SKST"},{"$f":"[6]Tabulka!G36","v":"KA"},{"$f":"[6]Tabulka!H36","v":100},{"$f":"+[6]Tabulka!AU36","v":0},{"$f":"+[6]Tabulka!AV36","v":{"v":0,"d":"0.00"}},{"$f":"+[6]Tabulka!AW36","v":0},{"$f":"+[6]Tabulka!AX36","v":{"v":0,"d":"0.00"}},{"$f":"+[6]Tabulka!AY36","v":0},{"$f":"+[6]Tabulka!AZ36","v":{"v":0,"d":"0.00"}},{"$f":"+[6]Tabulka!BA36","v":0},{"$f":"+[6]Tabulka!BB36","v":{"v":0,"d":"0.00"}},{"$f":"+[6]Tabulka!BC36","v":0},{"$f":"+[6]Tabulka!BD36","v":{"v":0,"d":"0.00"}},{"$f":"+[6]Tabulka!BE36","v":0},{"$f":"+[6]Tabulka!BF36","v":{"v":0,"d":"0.00"}},{"$f":"+[6]Tabulka!BG36","v":0},{"$f":"+[6]Tabulka!BH36","v":{"v":0,"d":"0.00"}},{"$f":"+[6]Tabulka!BI36","v":0},{"$f":"+[6]Tabulka!BJ36","v":{"v":0,"d":"0.00"}},{"$f":"+[6]Tabulka!AP36","v":{"v":18.788420767074477,"d":"18.79"}},{"$f":"+[6]Tabulka!AQ36","v":{"v":1,"d":"1.00"}},{"$f":"+[6]Tabulka!BM36","v":{"v":0,"d":"0.00"}},{"$f":"+[6]Tabulka!BN36","v":0},{"$f":"+[6]Tabulka!BO36","v":{"v":0,"d":"0.00"}}]
[null,{"$f":"[6]Tabulka!C37","v":"SMIEŠKOVÁ"},{"$f":"[6]Tabulka!D37","v":"Adéla"},{"$f":"[6]Tabulka!E37","v":"1999-06-08"},{"$f":"[6]Tabulka!F37","v":"Hrabůvka- Sokol TJ"},{"$f":"[6]Tabulka!G37","v":"OV"},{"$f":"[6]Tabulka!H37","v":100},{"$f":"+[6]Tabulka!AU37","v":0},{"$f":"+[6]Tabulka!AV37","v":{"v":0,"d":"0.00"}},{"$f":"+[6]Tabulka!AW37","v":0},{"$f":"+[6]Tabulka!AX37","v":{"v":0,"d":"0.00"}},{"$f":"+[6]Tabulka!AY37","v":0},{"$f":"+[6]Tabulka!AZ37","v":{"v":0,"d":"0.00"}},{"$f":"+[6]Tabulka!BA37","v":0},{"$f":"+[6]Tabulka!BB37","v":{"v":0,"d":"0.00"}},{"$f":"+[6]Tabulka!BC37","v":0},{"$f":"+[6]Tabulka!BD37","v":{"v":0,"d":"0.00"}},{"$f":"+[6]Tabulka!BE37","v":0},{"$f":"+[6]Tabulka!BF37","v":{"v":0,"d":"0.00"}},{"$f":"+[6]Tabulka!BG37","v":0},{"$f":"+[6]Tabulka!BH37","v":{"v":0,"d":"0.00"}},{"$f":"+[6]Tabulka!BI37","v":0},{"$f":"+[6]Tabulka!BJ37","v":{"v":0,"d":"0.00"}},{"$f":"+[6]Tabulka!AP37","v":{"v":22.372203173789917,"d":"22.37"}},{"$f":"+[6]Tabulka!AQ37","v":{"v":3,"d":"3.00"}},{"$f":"+[6]Tabulka!BM37","v":{"v":0,"d":"0.00"}},{"$f":"+[6]Tabulka!BN37","v":0},{"$f":"+[6]Tabulka!BO37","v":{"v":0,"d":"0.00"}}]
[null,{"$f":"[6]Tabulka!C38","v":"SYNKOVÁ"},{"$f":"[6]Tabulka!D38","v":"Kristýna"},{"$f":"[6]Tabulka!E38","v":"1998-08-10"},{"$f":"[6]Tabulka!F38","v":"Děhylov- Sokol TJ"},{"$f":"[6]Tabulka!G38","v":"OP"},{"$f":"[6]Tabulka!H38","v":100},{"$f":"+[6]Tabulka!AU38","v":0},{"$f":"+[6]Tabulka!AV38","v":{"v":0,"d":"0.00"}},{"$f":"+[6]Tabulka!AW38","v":0},{"$f":"+[6]Tabulka!AX38","v":{"v":0,"d":"0.00"}},{"$f":"+[6]Tabulka!AY38","v":0},{"$f":"+[6]Tabulka!AZ38","v":{"v":0,"d":"0.00"}},{"$f":"+[6]Tabulka!BA38","v":0},{"$f":"+[6]Tabulka!BB38","v":{"v":0,"d":"0.00"}},{"$f":"+[6]Tabulka!BC38","v":0},{"$f":"+[6]Tabulka!BD38","v":{"v":0,"d":"0.00"}},{"$f":"+[6]Tabulka!BE38","v":0},{"$f":"+[6]Tabulka!BF38","v":{"v":0,"d":"0.00"}},{"$f":"+[6]Tabulka!BG38","v":0},{"$f":"+[6]Tabulka!BH38","v":{"v":0,"d":"0.00"}},{"$f":"+[6]Tabulka!BI38","v":0},{"$f":"+[6]Tabulka!BJ38","v":{"v":0,"d":"0.00"}},{"$f":"+[6]Tabulka!AP38","v":{"v":42.904352879140916,"d":"42.90"}},{"$f":"+[6]Tabulka!AQ38","v":{"v":3,"d":"3.00"}},{"$f":"+[6]Tabulka!BM38","v":{"v":0,"d":"0.00"}},{"$f":"+[6]Tabulka!BN38","v":0},{"$f":"+[6]Tabulka!BO38","v":{"v":0,"d":"0.00"}}]
[null,{"$f":"[6]Tabulka!C39","v":"SYNKOVÁ"},{"$f":"[6]Tabulka!D39","v":"Markéta"},{"$f":"[6]Tabulka!E39","v":"2001-07-30"},{"$f":"[6]Tabulka!F39","v":"Děhylov- Sokol TJ"},{"$f":"[6]Tabulka!G39","v":"OP"},{"$f":"[6]Tabulka!H39","v":100},{"$f":"+[6]Tabulka!AU39","v":0},{"$f":"+[6]Tabulka!AV39","v":{"v":0,"d":"0.00"}},{"$f":"+[6]Tabulka!AW39","v":0},{"$f":"+[6]Tabulka!AX39","v":{"v":0,"d":"0.00"}},{"$f":"+[6]Tabulka!AY39","v":0},{"$f":"+[6]Tabulka!AZ39","v":{"v":0,"d":"0.00"}},{"$f":"+[6]Tabulka!BA39","v":0},{"$f":"+[6]Tabulka!BB39","v":{"v":0,"d":"0.00"}},{"$f":"+[6]Tabulka!BC39","v":0},{"$f":"+[6]Tabulka!BD39","v":{"v":0,"d":"0.00"}},{"$f":"+[6]Tabulka!BE39","v":0},{"$f":"+[6]Tabulka!BF39","v":{"v":0,"d":"0.00"}},{"$f":"+[6]Tabulka!BG39","v":0},{"$f":"+[6]Tabulka!BH39","v":{"v":0,"d":"0.00"}},{"$f":"+[6]Tabulka!BI39","v":0},{"$f":"+[6]Tabulka!BJ39","v":{"v":0,"d":"0.00"}},{"$f":"+[6]Tabulka!AP39","v":{"v":32.16728974245534,"d":"32.17"}},{"$f":"+[6]Tabulka!AQ39","v":{"v":3,"d":"3.00"}},{"$f":"+[6]Tabulka!BM39","v":{"v":0,"d":"0.00"}},{"$f":"+[6]Tabulka!BN39","v":0},{"$f":"+[6]Tabulka!BO39","v":{"v":0,"d":"0.00"}}]
[null,{"$f":"[6]Tabulka!C40","v":"ŠTEFÁNKOVÁ"},{"$f":"[6]Tabulka!D40","v":"Šarlota"},{"$f":"[6]Tabulka!E40","v":"2003-01-01"},{"$f":"[6]Tabulka!F40","v":"Frýdlant nad Ostravicí- SK"},{"$f":"[6]Tabulka!G40","v":"FM"},{"$f":"[6]Tabulka!H40","v":0},{"$f":"+[6]Tabulka!AU40","v":0},{"$f":"+[6]Tabulka!AV40","v":{"v":0,"d":"0.00"}},{"$f":"+[6]Tabulka!AW40","v":0},{"$f":"+[6]Tabulka!AX40","v":{"v":0,"d":"0.00"}},{"$f":"+[6]Tabulka!AY40","v":0},{"$f":"+[6]Tabulka!AZ40","v":{"v":0,"d":"0.00"}},{"$f":"+[6]Tabulka!BA40","v":0},{"$f":"+[6]Tabulka!BB40","v":{"v":0,"d":"0.00"}},{"$f":"+[6]Tabulka!BC40","v":0},{"$f":"+[6]Tabulka!BD40","v":{"v":0,"d":"0.00"}},{"$f":"+[6]Tabulka!BE40","v":0},{"$f":"+[6]Tabulka!BF40","v":{"v":0,"d":"0.00"}},{"$f":"+[6]Tabulka!BG40","v":0},{"$f":"+[6]Tabulka!BH40","v":{"v":0,"d":"0.00"}},{"$f":"+[6]Tabulka!BI40","v":0},{"$f":"+[6]Tabulka!BJ40","v":{"v":0,"d":"0.00"}},{"$f":"+[6]Tabulka!AP40","v":{"v":8.241404376466553,"d":"8.24"}},{"$f":"+[6]Tabulka!AQ40","v":{"v":1,"d":"1.00"}},{"$f":"+[6]Tabulka!BM40","v":{"v":0,"d":"0.00"}},{"$f":"+[6]Tabulka!BN40","v":0},{"$f":"+[6]Tabulka!BO40","v":{"v":0,"d":"0.00"}}]
[null,{"$f":"[6]Tabulka!C41","v":"ŠTĚPÁNOVÁ"},{"$f":"[6]Tabulka!D41","v":"Gabriela"},{"$f":"[6]Tabulka!E41","v":"2001-03-31"},{"$f":"[6]Tabulka!F41","v":"Děhylov- Sokol TJ"},{"$f":"[6]Tabulka!G41","v":"OP"},{"$f":"[6]Tabulka!H41","v":100},{"$f":"+[6]Tabulka!AU41","v":0},{"$f":"+[6]Tabulka!AV41","v":{"v":0,"d":"0.00"}},{"$f":"+[6]Tabulka!AW41","v":0},{"$f":"+[6]Tabulka!AX41","v":{"v":0,"d":"0.00"}},{"$f":"+[6]Tabulka!AY41","v":0},{"$f":"+[6]Tabulka!AZ41","v":{"v":0,"d":"0.00"}},{"$f":"+[6]Tabulka!BA41","v":0},{"$f":"+[6]Tabulka!BB41","v":{"v":0,"d":"0.00"}},{"$f":"+[6]Tabulka!BC41","v":0},{"$f":"+[6]Tabulka!BD41","v":{"v":0,"d":"0.00"}},{"$f":"+[6]Tabulka!BE41","v":0},{"$f":"+[6]Tabulka!BF41","v":{"v":0,"d":"0.00"}},{"$f":"+[6]Tabulka!BG41","v":0},{"$f":"+[6]Tabulka!BH41","v":{"v":0,"d":"0.00"}},{"$f":"+[6]Tabulka!BI41","v":0},{"$f":"+[6]Tabulka!BJ41","v":{"v":0,"d":"0.00"}},{"$f":"+[6]Tabulka!AP41","v":{"v":43.799921911833735,"d":"43.80"}},{"$f":"+[6]Tabulka!AQ41","v":{"v":3,"d":"3.00"}},{"$f":"+[6]Tabulka!BM41","v":{"v":0,"d":"0.00"}},{"$f":"+[6]Tabulka!BN41","v":0},{"$f":"+[6]Tabulka!BO41","v":{"v":0,"d":"0.00"}}]
[null,{"$f":"[6]Tabulka!C42","v":"TOBOLOVÁ"},{"$f":"[6]Tabulka!D42","v":"Nikola"},{"$f":"[6]Tabulka!E42","v":"1998-07-03"},{"$f":"[6]Tabulka!F42","v":"Frýdlant nad Ostravicí- SK"},{"$f":"[6]Tabulka!G42","v":"FM"},{"$f":"[6]Tabulka!H42","v":100},{"$f":"+[6]Tabulka!AU42","v":0},{"$f":"+[6]Tabulka!AV42","v":{"v":0,"d":"0.00"}},{"$f":"+[6]Tabulka!AW42","v":0},{"$f":"+[6]Tabulka!AX42","v":{"v":0,"d":"0.00"}},{"$f":"+[6]Tabulka!AY42","v":0},{"$f":"+[6]Tabulka!AZ42","v":{"v":0,"d":"0.00"}},{"$f":"+[6]Tabulka!BA42","v":0},{"$f":"+[6]Tabulka!BB42","v":{"v":0,"d":"0.00"}},{"$f":"+[6]Tabulka!BC42","v":0},{"$f":"+[6]Tabulka!BD42","v":{"v":0,"d":"0.00"}},{"$f":"+[6]Tabulka!BE42","v":0},{"$f":"+[6]Tabulka!BF42","v":{"v":0,"d":"0.00"}},{"$f":"+[6]Tabulka!BG42","v":0},{"$f":"+[6]Tabulka!BH42","v":{"v":0,"d":"0.00"}},{"$f":"+[6]Tabulka!BI42","v":0},{"$f":"+[6]Tabulka!BJ42","v":{"v":0,"d":"0.00"}},{"$f":"+[6]Tabulka!AP42","v":{"v":31.410547966750272,"d":"31.41"}},{"$f":"+[6]Tabulka!AQ42","v":{"v":3,"d":"3.00"}},{"$f":"+[6]Tabulka!BM42","v":{"v":0,"d":"0.00"}},{"$f":"+[6]Tabulka!BN42","v":0},{"$f":"+[6]Tabulka!BO42","v":{"v":0,"d":"0.00"}}]
[null,{"$f":"[6]Tabulka!C43","v":"TOMANOVÁ"},{"$f":"[6]Tabulka!D43","v":"Tamara"},{"$f":"[6]Tabulka!E43","v":"1994-02-24"},{"$f":"[6]Tabulka!F43","v":"Havířov- Baník SKST"},{"$f":"[6]Tabulka!G43","v":"KA"},{"$f":"[6]Tabulka!H43","v":100},{"$f":"+[6]Tabulka!AU43","v":0},{"$f":"+[6]Tabulka!AV43","v":{"v":0,"d":"0.00"}},{"$f":"+[6]Tabulka!AW43","v":0},{"$f":"+[6]Tabulka!AX43","v":{"v":0,"d":"0.00"}},{"$f":"+[6]Tabulka!AY43","v":0},{"$f":"+[6]Tabulka!AZ43","v":{"v":0,"d":"0.00"}},{"$f":"+[6]Tabulka!BA43","v":0},{"$f":"+[6]Tabulka!BB43","v":{"v":0,"d":"0.00"}},{"$f":"+[6]Tabulka!BC43","v":0},{"$f":"+[6]Tabulka!BD43","v":{"v":0,"d":"0.00"}},{"$f":"+[6]Tabulka!BE43","v":0},{"$f":"+[6]Tabulka!BF43","v":{"v":0,"d":"0.00"}},{"$f":"+[6]Tabulka!BG43","v":0},{"$f":"+[6]Tabulka!BH43","v":{"v":0,"d":"0.00"}},{"$f":"+[6]Tabulka!BI43","v":0},{"$f":"+[6]Tabulka!BJ43","v":{"v":0,"d":"0.00"}},{"$f":"+[6]Tabulka!AP43","v":{"v":0,"d":"0.00"}},{"$f":"+[6]Tabulka!AQ43","v":{"v":0,"d":"0.00"}},{"$f":"+[6]Tabulka!BM43","v":{"v":0,"d":"0.00"}},{"$f":"+[6]Tabulka!BN43","v":0},{"$f":"+[6]Tabulka!BO43","v":{"v":0,"d":"0.00"}}]
[null,{"$f":"[6]Tabulka!C44","v":"UVÍROVÁ"},{"$f":"[6]Tabulka!D44","v":"Nela"},{"$f":"[6]Tabulka!E44","v":"2000-12-18"},{"$f":"[6]Tabulka!F44","v":"Kateřinky- Sokol TJ"},{"$f":"[6]Tabulka!G44","v":"OP"},{"$f":"[6]Tabulka!H44","v":100},{"$f":"+[6]Tabulka!AU44","v":0},{"$f":"+[6]Tabulka!AV44","v":{"v":0,"d":"0.00"}},{"$f":"+[6]Tabulka!AW44","v":0},{"$f":"+[6]Tabulka!AX44","v":{"v":0,"d":"0.00"}},{"$f":"+[6]Tabulka!AY44","v":0},{"$f":"+[6]Tabulka!AZ44","v":{"v":0,"d":"0.00"}},{"$f":"+[6]Tabulka!BA44","v":0},{"$f":"+[6]Tabulka!BB44","v":{"v":0,"d":"0.00"}},{"$f":"+[6]Tabulka!BC44","v":0},{"$f":"+[6]Tabulka!BD44","v":{"v":0,"d":"0.00"}},{"$f":"+[6]Tabulka!BE44","v":0},{"$f":"+[6]Tabulka!BF44","v":{"v":0,"d":"0.00"}},{"$f":"+[6]Tabulka!BG44","v":0},{"$f":"+[6]Tabulka!BH44","v":{"v":0,"d":"0.00"}},{"$f":"+[6]Tabulka!BI44","v":0},{"$f":"+[6]Tabulka!BJ44","v":{"v":0,"d":"0.00"}},{"$f":"+[6]Tabulka!AP44","v":{"v":22.043588464422438,"d":"22.04"}},{"$f":"+[6]Tabulka!AQ44","v":{"v":3,"d":"3.00"}},{"$f":"+[6]Tabulka!BM44","v":{"v":0,"d":"0.00"}},{"$f":"+[6]Tabulka!BN44","v":0},{"$f":"+[6]Tabulka!BO44","v":{"v":0,"d":"0.00"}}]
[null,{"$f":"[6]Tabulka!C45","v":"VÁCLAVÍKOVÁ"},{"$f":"[6]Tabulka!D45","v":"Anežka"},{"$f":"[6]Tabulka!E45","v":"1996-03-29"},{"$f":"[6]Tabulka!F45","v":"Ostrava- Mittal TJ"},{"$f":"[6]Tabulka!G45","v":"OV"},{"$f":"[6]Tabulka!H45","v":100},{"$f":"+[6]Tabulka!AU45","v":0},{"$f":"+[6]Tabulka!AV45","v":{"v":0,"d":"0.00"}},{"$f":"+[6]Tabulka!AW45","v":0},{"$f":"+[6]Tabulka!AX45","v":{"v":0,"d":"0.00"}},{"$f":"+[6]Tabulka!AY45","v":0},{"$f":"+[6]Tabulka!AZ45","v":{"v":0,"d":"0.00"}},{"$f":"+[6]Tabulka!BA45","v":0},{"$f":"+[6]Tabulka!BB45","v":{"v":0,"d":"0.00"}},{"$f":"+[6]Tabulka!BC45","v":0},{"$f":"+[6]Tabulka!BD45","v":{"v":0,"d":"0.00"}},{"$f":"+[6]Tabulka!BE45","v":0},{"$f":"+[6]Tabulka!BF45","v":{"v":0,"d":"0.00"}},{"$f":"+[6]Tabulka!BG45","v":0},{"$f":"+[6]Tabulka!BH45","v":{"v":0,"d":"0.00"}},{"$f":"+[6]Tabulka!BI45","v":0},{"$f":"+[6]Tabulka!BJ45","v":{"v":0,"d":"0.00"}},{"$f":"+[6]Tabulka!AP45","v":{"v":48.76605994800441,"d":"48.77"}},{"$f":"+[6]Tabulka!AQ45","v":{"v":3,"d":"3.00"}},{"$f":"+[6]Tabulka!BM45","v":{"v":0,"d":"0.00"}},{"$f":"+[6]Tabulka!BN45","v":0},{"$f":"+[6]Tabulka!BO45","v":{"v":0,"d":"0.00"}}]
[null,{"$f":"[6]Tabulka!C46","v":"VOZIHNOJOVÁ"},{"$f":"[6]Tabulka!D46","v":"Radka"},{"$f":"[6]Tabulka!E46","v":"1994-01-01"},{"$f":"[6]Tabulka!F46","v":"Havířov- Baník SKST"},{"$f":"[6]Tabulka!G46","v":"KA"},{"$f":"[6]Tabulka!H46","v":0},{"$f":"+[6]Tabulka!AU46","v":0},{"$f":"+[6]Tabulka!AV46","v":{"v":0,"d":"0.00"}},{"$f":"+[6]Tabulka!AW46","v":0},{"$f":"+[6]Tabulka!AX46","v":{"v":0,"d":"0.00"}},{"$f":"+[6]Tabulka!AY46","v":0},{"$f":"+[6]Tabulka!AZ46","v":{"v":0,"d":"0.00"}},{"$f":"+[6]Tabulka!BA46","v":0},{"$f":"+[6]Tabulka!BB46","v":{"v":0,"d":"0.00"}},{"$f":"+[6]Tabulka!BC46","v":0},{"$f":"+[6]Tabulka!BD46","v":{"v":0,"d":"0.00"}},{"$f":"+[6]Tabulka!BE46","v":0},{"$f":"+[6]Tabulka!BF46","v":{"v":0,"d":"0.00"}},{"$f":"+[6]Tabulka!BG46","v":0},{"$f":"+[6]Tabulka!BH46","v":{"v":0,"d":"0.00"}},{"$f":"+[6]Tabulka!BI46","v":0},{"$f":"+[6]Tabulka!BJ46","v":{"v":0,"d":"0.00"}},{"$f":"+[6]Tabulka!AP46","v":{"v":0,"d":"0.00"}},{"$f":"+[6]Tabulka!AQ46","v":{"v":0,"d":"0.00"}},{"$f":"+[6]Tabulka!BM46","v":{"v":0,"d":"0.00"}},{"$f":"+[6]Tabulka!BN46","v":0},{"$f":"+[6]Tabulka!BO46","v":{"v":0,"d":"0.00"}}]
[null,{"$f":"[6]Tabulka!C47","v":0},{"$f":"[6]Tabulka!D47","v":0},{"$f":"[6]Tabulka!E47","v":"00:00:00"},{"$f":"[6]Tabulka!F47","v":0},{"$f":"[6]Tabulka!G47","v":0},{"$f":"[6]Tabulka!H47","v":0},{"$f":"+[6]Tabulka!AU47","v":0},{"$f":"+[6]Tabulka!AV47","v":{"v":0,"d":"0.00"}},{"$f":"+[6]Tabulka!AW47","v":0},{"$f":"+[6]Tabulka!AX47","v":{"v":0,"d":"0.00"}},{"$f":"+[6]Tabulka!AY47","v":0},{"$f":"+[6]Tabulka!AZ47","v":{"v":0,"d":"0.00"}},{"$f":"+[6]Tabulka!BA47","v":0},{"$f":"+[6]Tabulka!BB47","v":{"v":0,"d":"0.00"}},{"$f":"+[6]Tabulka!BC47","v":0},{"$f":"+[6]Tabulka!BD47","v":{"v":0,"d":"0.00"}},{"$f":"+[6]Tabulka!BE47","v":0},{"$f":"+[6]Tabulka!BF47","v":{"v":0,"d":"0.00"}},{"$f":"+[6]Tabulka!BG47","v":0},{"$f":"+[6]Tabulka!BH47","v":{"v":0,"d":"0.00"}},{"$f":"+[6]Tabulka!BI47","v":0},{"$f":"+[6]Tabulka!BJ47","v":{"v":0,"d":"0.00"}},{"$f":"+[6]Tabulka!AP47","v":{"v":0,"d":"0.00"}},{"$f":"+[6]Tabulka!AQ47","v":{"v":0,"d":"0.00"}},{"$f":"+[6]Tabulka!BM47","v":{"v":0,"d":"0.00"}},{"$f":"+[6]Tabulka!BN47","v":0},{"$f":"+[6]Tabulka!BO47","v":{"v":0,"d":"0.00"}}]
[null,{"$f":"[6]Tabulka!C48","v":0},{"$f":"[6]Tabulka!D48","v":0},{"$f":"[6]Tabulka!E48","v":"00:00:00"},{"$f":"[6]Tabulka!F48","v":0},{"$f":"[6]Tabulka!G48","v":0},{"$f":"[6]Tabulka!H48","v":0},{"$f":"+[6]Tabulka!AU48","v":0},{"$f":"+[6]Tabulka!AV48","v":{"v":0,"d":"0.00"}},{"$f":"+[6]Tabulka!AW48","v":0},{"$f":"+[6]Tabulka!AX48","v":{"v":0,"d":"0.00"}},{"$f":"+[6]Tabulka!AY48","v":0},{"$f":"+[6]Tabulka!AZ48","v":{"v":0,"d":"0.00"}},{"$f":"+[6]Tabulka!BA48","v":0},{"$f":"+[6]Tabulka!BB48","v":{"v":0,"d":"0.00"}},{"$f":"+[6]Tabulka!BC48","v":0},{"$f":"+[6]Tabulka!BD48","v":{"v":0,"d":"0.00"}},{"$f":"+[6]Tabulka!BE48","v":0},{"$f":"+[6]Tabulka!BF48","v":{"v":0,"d":"0.00"}},{"$f":"+[6]Tabulka!BG48","v":0},{"$f":"+[6]Tabulka!BH48","v":{"v":0,"d":"0.00"}},{"$f":"+[6]Tabulka!BI48","v":0},{"$f":"+[6]Tabulka!BJ48","v":{"v":0,"d":"0.00"}},{"$f":"+[6]Tabulka!AP48","v":{"v":0,"d":"0.00"}},{"$f":"+[6]Tabulka!AQ48","v":{"v":0,"d":"0.00"}},{"$f":"+[6]Tabulka!BM48","v":{"v":0,"d":"0.00"}},{"$f":"+[6]Tabulka!BN48","v":0},{"$f":"+[6]Tabulka!BO48","v":{"v":0,"d":"0.00"}}]
[null,{"$f":"[6]Tabulka!C49","v":0},{"$f":"[6]Tabulka!D49","v":0},{"$f":"[6]Tabulka!E49","v":"00:00:00"},{"$f":"[6]Tabulka!F49","v":0},{"$f":"[6]Tabulka!G49","v":0},{"$f":"[6]Tabulka!H49","v":0},{"$f":"+[6]Tabulka!AU49","v":0},{"$f":"+[6]Tabulka!AV49","v":{"v":0,"d":"0.00"}},{"$f":"+[6]Tabulka!AW49","v":0},{"$f":"+[6]Tabulka!AX49","v":{"v":0,"d":"0.00"}},{"$f":"+[6]Tabulka!AY49","v":0},{"$f":"+[6]Tabulka!AZ49","v":{"v":0,"d":"0.00"}},{"$f":"+[6]Tabulka!BA49","v":0},{"$f":"+[6]Tabulka!BB49","v":{"v":0,"d":"0.00"}},{"$f":"+[6]Tabulka!BC49","v":0},{"$f":"+[6]Tabulka!BD49","v":{"v":0,"d":"0.00"}},{"$f":"+[6]Tabulka!BE49","v":0},{"$f":"+[6]Tabulka!BF49","v":{"v":0,"d":"0.00"}},{"$f":"+[6]Tabulka!BG49","v":0},{"$f":"+[6]Tabulka!BH49","v":{"v":0,"d":"0.00"}},{"$f":"+[6]Tabulka!BI49","v":0},{"$f":"+[6]Tabulka!BJ49","v":{"v":0,"d":"0.00"}},{"$f":"+[6]Tabulka!AP49","v":{"v":0,"d":"0.00"}},{"$f":"+[6]Tabulka!AQ49","v":{"v":0,"d":"0.00"}},{"$f":"+[6]Tabulka!BM49","v":{"v":0,"d":"0.00"}},{"$f":"+[6]Tabulka!BN49","v":0},{"$f":"+[6]Tabulka!BO49","v":{"v":0,"d":"0.00"}}]
[null,{"$f":"[6]Tabulka!C50","v":0},{"$f":"[6]Tabulka!D50","v":0},{"$f":"[6]Tabulka!E50","v":"00:00:00"},{"$f":"[6]Tabulka!F50","v":0},{"$f":"[6]Tabulka!G50","v":0},{"$f":"[6]Tabulka!H50","v":0},{"$f":"+[6]Tabulka!AU50","v":0},{"$f":"+[6]Tabulka!AV50","v":{"v":0,"d":"0.00"}},{"$f":"+[6]Tabulka!AW50","v":0},{"$f":"+[6]Tabulka!AX50","v":{"v":0,"d":"0.00"}},{"$f":"+[6]Tabulka!AY50","v":0},{"$f":"+[6]Tabulka!AZ50","v":{"v":0,"d":"0.00"}},{"$f":"+[6]Tabulka!BA50","v":0},{"$f":"+[6]Tabulka!BB50","v":{"v":0,"d":"0.00"}},{"$f":"+[6]Tabulka!BC50","v":0},{"$f":"+[6]Tabulka!BD50","v":{"v":0,"d":"0.00"}},{"$f":"+[6]Tabulka!BE50","v":0},{"$f":"+[6]Tabulka!BF50","v":{"v":0,"d":"0.00"}},{"$f":"+[6]Tabulka!BG50","v":0},{"$f":"+[6]Tabulka!BH50","v":{"v":0,"d":"0.00"}},{"$f":"+[6]Tabulka!BI50","v":0},{"$f":"+[6]Tabulka!BJ50","v":{"v":0,"d":"0.00"}},{"$f":"+[6]Tabulka!AP50","v":{"v":0,"d":"0.00"}},{"$f":"+[6]Tabulka!AQ50","v":{"v":0,"d":"0.00"}},{"$f":"+[6]Tabulka!BM50","v":{"v":0,"d":"0.00"}},{"$f":"+[6]Tabulka!BN50","v":0},{"$f":"+[6]Tabulka!BO50","v":{"v":0,"d":"0.00"}}]
[null,{"$f":"[6]Tabulka!C51","v":0},{"$f":"[6]Tabulka!D51","v":0},{"$f":"[6]Tabulka!E51","v":"00:00:00"},{"$f":"[6]Tabulka!F51","v":0},{"$f":"[6]Tabulka!G51","v":0},{"$f":"[6]Tabulka!H51","v":0},{"$f":"+[6]Tabulka!AU51","v":0},{"$f":"+[6]Tabulka!AV51","v":{"v":0,"d":"0.00"}},{"$f":"+[6]Tabulka!AW51","v":0},{"$f":"+[6]Tabulka!AX51","v":{"v":0,"d":"0.00"}},{"$f":"+[6]Tabulka!AY51","v":0},{"$f":"+[6]Tabulka!AZ51","v":{"v":0,"d":"0.00"}},{"$f":"+[6]Tabulka!BA51","v":0},{"$f":"+[6]Tabulka!BB51","v":{"v":0,"d":"0.00"}},{"$f":"+[6]Tabulka!BC51","v":0},{"$f":"+[6]Tabulka!BD51","v":{"v":0,"d":"0.00"}},{"$f":"+[6]Tabulka!BE51","v":0},{"$f":"+[6]Tabulka!BF51","v":{"v":0,"d":"0.00"}},{"$f":"+[6]Tabulka!BG51","v":0},{"$f":"+[6]Tabulka!BH51","v":{"v":0,"d":"0.00"}},{"$f":"+[6]Tabulka!BI51","v":0},{"$f":"+[6]Tabulka!BJ51","v":{"v":0,"d":"0.00"}},{"$f":"+[6]Tabulka!AP51","v":{"v":0,"d":"0.00"}},{"$f":"+[6]Tabulka!AQ51","v":{"v":0,"d":"0.00"}},{"$f":"+[6]Tabulka!BM51","v":{"v":0,"d":"0.00"}},{"$f":"+[6]Tabulka!BN51","v":0},{"$f":"+[6]Tabulka!BO51","v":{"v":0,"d":"0.00"}}]
[null,{"$f":"[6]Tabulka!C52","v":0},{"$f":"[6]Tabulka!D52","v":0},{"$f":"[6]Tabulka!E52","v":"00:00:00"},{"$f":"[6]Tabulka!F52","v":0},{"$f":"[6]Tabulka!G52","v":0},{"$f":"[6]Tabulka!H52","v":0},{"$f":"+[6]Tabulka!AU52","v":0},{"$f":"+[6]Tabulka!AV52","v":{"v":0,"d":"0.00"}},{"$f":"+[6]Tabulka!AW52","v":0},{"$f":"+[6]Tabulka!AX52","v":{"v":0,"d":"0.00"}},{"$f":"+[6]Tabulka!AY52","v":0},{"$f":"+[6]Tabulka!AZ52","v":{"v":0,"d":"0.00"}},{"$f":"+[6]Tabulka!BA52","v":0},{"$f":"+[6]Tabulka!BB52","v":{"v":0,"d":"0.00"}},{"$f":"+[6]Tabulka!BC52","v":0},{"$f":"+[6]Tabulka!BD52","v":{"v":0,"d":"0.00"}},{"$f":"+[6]Tabulka!BE52","v":0},{"$f":"+[6]Tabulka!BF52","v":{"v":0,"d":"0.00"}},{"$f":"+[6]Tabulka!BG52","v":0},{"$f":"+[6]Tabulka!BH52","v":{"v":0,"d":"0.00"}},{"$f":"+[6]Tabulka!BI52","v":0},{"$f":"+[6]Tabulka!BJ52","v":{"v":0,"d":"0.00"}},{"$f":"+[6]Tabulka!AP52","v":{"v":0,"d":"0.00"}},{"$f":"+[6]Tabulka!AQ52","v":{"v":0,"d":"0.00"}},{"$f":"+[6]Tabulka!BM52","v":{"v":0,"d":"0.00"}},{"$f":"+[6]Tabulka!BN52","v":0},{"$f":"+[6]Tabulka!BO52","v":{"v":0,"d":"0.00"}}]
[null,{"$f":"[6]Tabulka!C53","v":0},{"$f":"[6]Tabulka!D53","v":0},{"$f":"[6]Tabulka!E53","v":"00:00:00"},{"$f":"[6]Tabulka!F53","v":0},{"$f":"[6]Tabulka!G53","v":0},{"$f":"[6]Tabulka!H53","v":0},{"$f":"+[6]Tabulka!AU53","v":0},{"$f":"+[6]Tabulka!AV53","v":{"v":0,"d":"0.00"}},{"$f":"+[6]Tabulka!AW53","v":0},{"$f":"+[6]Tabulka!AX53","v":{"v":0,"d":"0.00"}},{"$f":"+[6]Tabulka!AY53","v":0},{"$f":"+[6]Tabulka!AZ53","v":{"v":0,"d":"0.00"}},{"$f":"+[6]Tabulka!BA53","v":0},{"$f":"+[6]Tabulka!BB53","v":{"v":0,"d":"0.00"}},{"$f":"+[6]Tabulka!BC53","v":0},{"$f":"+[6]Tabulka!BD53","v":{"v":0,"d":"0.00"}},{"$f":"+[6]Tabulka!BE53","v":0},{"$f":"+[6]Tabulka!BF53","v":{"v":0,"d":"0.00"}},{"$f":"+[6]Tabulka!BG53","v":0},{"$f":"+[6]Tabulka!BH53","v":{"v":0,"d":"0.00"}},{"$f":"+[6]Tabulka!BI53","v":0},{"$f":"+[6]Tabulka!BJ53","v":{"v":0,"d":"0.00"}},{"$f":"+[6]Tabulka!AP53","v":{"v":0,"d":"0.00"}},{"$f":"+[6]Tabulka!AQ53","v":{"v":0,"d":"0.00"}},{"$f":"+[6]Tabulka!BM53","v":{"v":0,"d":"0.00"}},{"$f":"+[6]Tabulka!BN53","v":0},{"$f":"+[6]Tabulka!BO53","v":{"v":0,"d":"0.00"}}]
[null,{"$f":"[6]Tabulka!C54","v":0},{"$f":"[6]Tabulka!D54","v":0},{"$f":"[6]Tabulka!E54","v":"00:00:00"},{"$f":"[6]Tabulka!F54","v":0},{"$f":"[6]Tabulka!G54","v":0},{"$f":"[6]Tabulka!H54","v":0},{"$f":"+[6]Tabulka!AU54","v":0},{"$f":"+[6]Tabulka!AV54","v":{"v":0,"d":"0.00"}},{"$f":"+[6]Tabulka!AW54","v":0},{"$f":"+[6]Tabulka!AX54","v":{"v":0,"d":"0.00"}},{"$f":"+[6]Tabulka!AY54","v":0},{"$f":"+[6]Tabulka!AZ54","v":{"v":0,"d":"0.00"}},{"$f":"+[6]Tabulka!BA54","v":0},{"$f":"+[6]Tabulka!BB54","v":{"v":0,"d":"0.00"}},{"$f":"+[6]Tabulka!BC54","v":0},{"$f":"+[6]Tabulka!BD54","v":{"v":0,"d":"0.00"}},{"$f":"+[6]Tabulka!BE54","v":0},{"$f":"+[6]Tabulka!BF54","v":{"v":0,"d":"0.00"}},{"$f":"+[6]Tabulka!BG54","v":0},{"$f":"+[6]Tabulka!BH54","v":{"v":0,"d":"0.00"}},{"$f":"+[6]Tabulka!BI54","v":0},{"$f":"+[6]Tabulka!BJ54","v":{"v":0,"d":"0.00"}},{"$f":"+[6]Tabulka!AP54","v":{"v":0,"d":"0.00"}},{"$f":"+[6]Tabulka!AQ54","v":{"v":0,"d":"0.00"}},{"$f":"+[6]Tabulka!BM54","v":{"v":0,"d":"0.00"}},{"$f":"+[6]Tabulka!BN54","v":0},{"$f":"+[6]Tabulka!BO54","v":{"v":0,"d":"0.00"}}]
[null,{"$f":"[6]Tabulka!C55","v":0},{"$f":"[6]Tabulka!D55","v":0},{"$f":"[6]Tabulka!E55","v":"00:00:00"},{"$f":"[6]Tabulka!F55","v":0},{"$f":"[6]Tabulka!G55","v":0},{"$f":"[6]Tabulka!H55","v":0},{"$f":"+[6]Tabulka!AU55","v":0},{"$f":"+[6]Tabulka!AV55","v":{"v":0,"d":"0.00"}},{"$f":"+[6]Tabulka!AW55","v":0},{"$f":"+[6]Tabulka!AX55","v":{"v":0,"d":"0.00"}},{"$f":"+[6]Tabulka!AY55","v":0},{"$f":"+[6]Tabulka!AZ55","v":{"v":0,"d":"0.00"}},{"$f":"+[6]Tabulka!BA55","v":0},{"$f":"+[6]Tabulka!BB55","v":{"v":0,"d":"0.00"}},{"$f":"+[6]Tabulka!BC55","v":0},{"$f":"+[6]Tabulka!BD55","v":{"v":0,"d":"0.00"}},{"$f":"+[6]Tabulka!BE55","v":0},{"$f":"+[6]Tabulka!BF55","v":{"v":0,"d":"0.00"}},{"$f":"+[6]Tabulka!BG55","v":0},{"$f":"+[6]Tabulka!BH55","v":{"v":0,"d":"0.00"}},{"$f":"+[6]Tabulka!BI55","v":0},{"$f":"+[6]Tabulka!BJ55","v":{"v":0,"d":"0.00"}},{"$f":"+[6]Tabulka!AP55","v":{"v":0,"d":"0.00"}},{"$f":"+[6]Tabulka!AQ55","v":{"v":0,"d":"0.00"}},{"$f":"+[6]Tabulka!BM55","v":{"v":0,"d":"0.00"}},{"$f":"+[6]Tabulka!BN55","v":0},{"$f":"+[6]Tabulka!BO55","v":{"v":0,"d":"0.00"}}]
[null,{"$f":"[6]Tabulka!C56","v":0},{"$f":"[6]Tabulka!D56","v":0},{"$f":"[6]Tabulka!E56","v":"00:00:00"},{"$f":"[6]Tabulka!F56","v":0},{"$f":"[6]Tabulka!G56","v":0},{"$f":"[6]Tabulka!H56","v":0},{"$f":"+[6]Tabulka!AU56","v":0},{"$f":"+[6]Tabulka!AV56","v":{"v":0,"d":"0.00"}},{"$f":"+[6]Tabulka!AW56","v":0},{"$f":"+[6]Tabulka!AX56","v":{"v":0,"d":"0.00"}},{"$f":"+[6]Tabulka!AY56","v":0},{"$f":"+[6]Tabulka!AZ56","v":{"v":0,"d":"0.00"}},{"$f":"+[6]Tabulka!BA56","v":0},{"$f":"+[6]Tabulka!BB56","v":{"v":0,"d":"0.00"}},{"$f":"+[6]Tabulka!BC56","v":0},{"$f":"+[6]Tabulka!BD56","v":{"v":0,"d":"0.00"}},{"$f":"+[6]Tabulka!BE56","v":0},{"$f":"+[6]Tabulka!BF56","v":{"v":0,"d":"0.00"}},{"$f":"+[6]Tabulka!BG56","v":0},{"$f":"+[6]Tabulka!BH56","v":{"v":0,"d":"0.00"}},{"$f":"+[6]Tabulka!BI56","v":0},{"$f":"+[6]Tabulka!BJ56","v":{"v":0,"d":"0.00"}},{"$f":"+[6]Tabulka!AP56","v":{"v":0,"d":"0.00"}},{"$f":"+[6]Tabulka!AQ56","v":{"v":0,"d":"0.00"}},{"$f":"+[6]Tabulka!BM56","v":{"v":0,"d":"0.00"}},{"$f":"+[6]Tabulka!BN56","v":0},{"$f":"+[6]Tabulka!BO56","v":{"v":0,"d":"0.00"}}]
[null,{"$f":"[6]Tabulka!C57","v":0},{"$f":"[6]Tabulka!D57","v":0},{"$f":"[6]Tabulka!E57","v":"00:00:00"},{"$f":"[6]Tabulka!F57","v":0},{"$f":"[6]Tabulka!G57","v":0},{"$f":"[6]Tabulka!H57","v":0},{"$f":"+[6]Tabulka!AU57","v":0},{"$f":"+[6]Tabulka!AV57","v":{"v":0,"d":"0.00"}},{"$f":"+[6]Tabulka!AW57","v":0},{"$f":"+[6]Tabulka!AX57","v":{"v":0,"d":"0.00"}},{"$f":"+[6]Tabulka!AY57","v":0},{"$f":"+[6]Tabulka!AZ57","v":{"v":0,"d":"0.00"}},{"$f":"+[6]Tabulka!BA57","v":0},{"$f":"+[6]Tabulka!BB57","v":{"v":0,"d":"0.00"}},{"$f":"+[6]Tabulka!BC57","v":0},{"$f":"+[6]Tabulka!BD57","v":{"v":0,"d":"0.00"}},{"$f":"+[6]Tabulka!BE57","v":0},{"$f":"+[6]Tabulka!BF57","v":{"v":0,"d":"0.00"}},{"$f":"+[6]Tabulka!BG57","v":0},{"$f":"+[6]Tabulka!BH57","v":{"v":0,"d":"0.00"}},{"$f":"+[6]Tabulka!BI57","v":0},{"$f":"+[6]Tabulka!BJ57","v":{"v":0,"d":"0.00"}},{"$f":"+[6]Tabulka!AP57","v":{"v":0,"d":"0.00"}},{"$f":"+[6]Tabulka!AQ57","v":{"v":0,"d":"0.00"}},{"$f":"+[6]Tabulka!BM57","v":{"v":0,"d":"0.00"}},{"$f":"+[6]Tabulka!BN57","v":0},{"$f":"+[6]Tabulka!BO57","v":{"v":0,"d":"0.00"}}]
[null,{"$f":"[6]Tabulka!C58","v":0},{"$f":"[6]Tabulka!D58","v":0},{"$f":"[6]Tabulka!E58","v":"00:00:00"},{"$f":"[6]Tabulka!F58","v":0},{"$f":"[6]Tabulka!G58","v":0},{"$f":"[6]Tabulka!H58","v":0},{"$f":"+[6]Tabulka!AU58","v":0},{"$f":"+[6]Tabulka!AV58","v":{"v":0,"d":"0.00"}},{"$f":"+[6]Tabulka!AW58","v":0},{"$f":"+[6]Tabulka!AX58","v":{"v":0,"d":"0.00"}},{"$f":"+[6]Tabulka!AY58","v":0},{"$f":"+[6]Tabulka!AZ58","v":{"v":0,"d":"0.00"}},{"$f":"+[6]Tabulka!BA58","v":0},{"$f":"+[6]Tabulka!BB58","v":{"v":0,"d":"0.00"}},{"$f":"+[6]Tabulka!BC58","v":0},{"$f":"+[6]Tabulka!BD58","v":{"v":0,"d":"0.00"}},{"$f":"+[6]Tabulka!BE58","v":0},{"$f":"+[6]Tabulka!BF58","v":{"v":0,"d":"0.00"}},{"$f":"+[6]Tabulka!BG58","v":0},{"$f":"+[6]Tabulka!BH58","v":{"v":0,"d":"0.00"}},{"$f":"+[6]Tabulka!BI58","v":0},{"$f":"+[6]Tabulka!BJ58","v":{"v":0,"d":"0.00"}},{"$f":"+[6]Tabulka!AP58","v":{"v":0,"d":"0.00"}},{"$f":"+[6]Tabulka!AQ58","v":{"v":0,"d":"0.00"}},{"$f":"+[6]Tabulka!BM58","v":{"v":0,"d":"0.00"}},{"$f":"+[6]Tabulka!BN58","v":0},{"$f":"+[6]Tabulka!BO58","v":{"v":0,"d":"0.00"}}]
[null,{"$f":"[6]Tabulka!C59","v":0},{"$f":"[6]Tabulka!D59","v":0},{"$f":"[6]Tabulka!E59","v":"00:00:00"},{"$f":"[6]Tabulka!F59","v":0},{"$f":"[6]Tabulka!G59","v":0},{"$f":"[6]Tabulka!H59","v":0},{"$f":"+[6]Tabulka!AU59","v":0},{"$f":"+[6]Tabulka!AV59","v":{"v":0,"d":"0.00"}},{"$f":"+[6]Tabulka!AW59","v":0},{"$f":"+[6]Tabulka!AX59","v":{"v":0,"d":"0.00"}},{"$f":"+[6]Tabulka!AY59","v":0},{"$f":"+[6]Tabulka!AZ59","v":{"v":0,"d":"0.00"}},{"$f":"+[6]Tabulka!BA59","v":0},{"$f":"+[6]Tabulka!BB59","v":{"v":0,"d":"0.00"}},{"$f":"+[6]Tabulka!BC59","v":0},{"$f":"+[6]Tabulka!BD59","v":{"v":0,"d":"0.00"}},{"$f":"+[6]Tabulka!BE59","v":0},{"$f":"+[6]Tabulka!BF59","v":{"v":0,"d":"0.00"}},{"$f":"+[6]Tabulka!BG59","v":0},{"$f":"+[6]Tabulka!BH59","v":{"v":0,"d":"0.00"}},{"$f":"+[6]Tabulka!BI59","v":0},{"$f":"+[6]Tabulka!BJ59","v":{"v":0,"d":"0.00"}},{"$f":"+[6]Tabulka!AP59","v":{"v":0,"d":"0.00"}},{"$f":"+[6]Tabulka!AQ59","v":{"v":0,"d":"0.00"}},{"$f":"+[6]Tabulka!BM59","v":{"v":0,"d":"0.00"}},{"$f":"+[6]Tabulka!BN59","v":0},{"$f":"+[6]Tabulka!BO59","v":{"v":0,"d":"0.00"}}]
[null,{"$f":"[6]Tabulka!C60","v":0},{"$f":"[6]Tabulka!D60","v":0},{"$f":"[6]Tabulka!E60","v":"00:00:00"},{"$f":"[6]Tabulka!F60","v":0},{"$f":"[6]Tabulka!G60","v":0},{"$f":"[6]Tabulka!H60","v":0},{"$f":"+[6]Tabulka!AU60","v":0},{"$f":"+[6]Tabulka!AV60","v":{"v":0,"d":"0.00"}},{"$f":"+[6]Tabulka!AW60","v":0},{"$f":"+[6]Tabulka!AX60","v":{"v":0,"d":"0.00"}},{"$f":"+[6]Tabulka!AY60","v":0},{"$f":"+[6]Tabulka!AZ60","v":{"v":0,"d":"0.00"}},{"$f":"+[6]Tabulka!BA60","v":0},{"$f":"+[6]Tabulka!BB60","v":{"v":0,"d":"0.00"}},{"$f":"+[6]Tabulka!BC60","v":0},{"$f":"+[6]Tabulka!BD60","v":{"v":0,"d":"0.00"}},{"$f":"+[6]Tabulka!BE60","v":0},{"$f":"+[6]Tabulka!BF60","v":{"v":0,"d":"0.00"}},{"$f":"+[6]Tabulka!BG60","v":0},{"$f":"+[6]Tabulka!BH60","v":{"v":0,"d":"0.00"}},{"$f":"+[6]Tabulka!BI60","v":0},{"$f":"+[6]Tabulka!BJ60","v":{"v":0,"d":"0.00"}},{"$f":"+[6]Tabulka!AP60","v":{"v":0,"d":"0.00"}},{"$f":"+[6]Tabulka!AQ60","v":{"v":0,"d":"0.00"}},{"$f":"+[6]Tabulka!BM60","v":{"v":0,"d":"0.00"}},{"$f":"+[6]Tabulka!BN60","v":0},{"$f":"+[6]Tabulka!BO60","v":{"v":0,"d":"0.00"}}]
[null,{"$f":"[6]Tabulka!C61","v":0},{"$f":"[6]Tabulka!D61","v":0},{"$f":"[6]Tabulka!E61","v":"00:00:00"},{"$f":"[6]Tabulka!F61","v":0},{"$f":"[6]Tabulka!G61","v":0},{"$f":"[6]Tabulka!H61","v":0},{"$f":"+[6]Tabulka!AU61","v":0},{"$f":"+[6]Tabulka!AV61","v":{"v":0,"d":"0.00"}},{"$f":"+[6]Tabulka!AW61","v":0},{"$f":"+[6]Tabulka!AX61","v":{"v":0,"d":"0.00"}},{"$f":"+[6]Tabulka!AY61","v":0},{"$f":"+[6]Tabulka!AZ61","v":{"v":0,"d":"0.00"}},{"$f":"+[6]Tabulka!BA61","v":0},{"$f":"+[6]Tabulka!BB61","v":{"v":0,"d":"0.00"}},{"$f":"+[6]Tabulka!BC61","v":0},{"$f":"+[6]Tabulka!BD61","v":{"v":0,"d":"0.00"}},{"$f":"+[6]Tabulka!BE61","v":0},{"$f":"+[6]Tabulka!BF61","v":{"v":0,"d":"0.00"}},{"$f":"+[6]Tabulka!BG61","v":0},{"$f":"+[6]Tabulka!BH61","v":{"v":0,"d":"0.00"}},{"$f":"+[6]Tabulka!BI61","v":0},{"$f":"+[6]Tabulka!BJ61","v":{"v":0,"d":"0.00"}},{"$f":"+[6]Tabulka!AP61","v":{"v":0,"d":"0.00"}},{"$f":"+[6]Tabulka!AQ61","v":{"v":0,"d":"0.00"}},{"$f":"+[6]Tabulka!BM61","v":{"v":0,"d":"0.00"}},{"$f":"+[6]Tabulka!BN61","v":0},{"$f":"+[6]Tabulka!BO61","v":{"v":0,"d":"0.00"}}]
[null,{"$f":"[6]Tabulka!C62","v":0},{"$f":"[6]Tabulka!D62","v":0},{"$f":"[6]Tabulka!E62","v":"00:00:00"},{"$f":"[6]Tabulka!F62","v":0},{"$f":"[6]Tabulka!G62","v":0},{"$f":"[6]Tabulka!H62","v":0},{"$f":"+[6]Tabulka!AU62","v":0},{"$f":"+[6]Tabulka!AV62","v":{"v":0,"d":"0.00"}},{"$f":"+[6]Tabulka!AW62","v":0},{"$f":"+[6]Tabulka!AX62","v":{"v":0,"d":"0.00"}},{"$f":"+[6]Tabulka!AY62","v":0},{"$f":"+[6]Tabulka!AZ62","v":{"v":0,"d":"0.00"}},{"$f":"+[6]Tabulka!BA62","v":0},{"$f":"+[6]Tabulka!BB62","v":{"v":0,"d":"0.00"}},{"$f":"+[6]Tabulka!BC62","v":0},{"$f":"+[6]Tabulka!BD62","v":{"v":0,"d":"0.00"}},{"$f":"+[6]Tabulka!BE62","v":0},{"$f":"+[6]Tabulka!BF62","v":{"v":0,"d":"0.00"}},{"$f":"+[6]Tabulka!BG62","v":0},{"$f":"+[6]Tabulka!BH62","v":{"v":0,"d":"0.00"}},{"$f":"+[6]Tabulka!BI62","v":0},{"$f":"+[6]Tabulka!BJ62","v":{"v":0,"d":"0.00"}},{"$f":"+[6]Tabulka!AP62","v":{"v":0,"d":"0.00"}},{"$f":"+[6]Tabulka!AQ62","v":{"v":0,"d":"0.00"}},{"$f":"+[6]Tabulka!BM62","v":{"v":0,"d":"0.00"}},{"$f":"+[6]Tabulka!BN62","v":0},{"$f":"+[6]Tabulka!BO62","v":{"v":0,"d":"0.00"}}]
[null,{"$f":"[6]Tabulka!C63","v":0},{"$f":"[6]Tabulka!D63","v":0},{"$f":"[6]Tabulka!E63","v":"00:00:00"},{"$f":"[6]Tabulka!F63","v":0},{"$f":"[6]Tabulka!G63","v":0},{"$f":"[6]Tabulka!H63","v":0},{"$f":"+[6]Tabulka!AU63","v":0},{"$f":"+[6]Tabulka!AV63","v":{"v":0,"d":"0.00"}},{"$f":"+[6]Tabulka!AW63","v":0},{"$f":"+[6]Tabulka!AX63","v":{"v":0,"d":"0.00"}},{"$f":"+[6]Tabulka!AY63","v":0},{"$f":"+[6]Tabulka!AZ63","v":{"v":0,"d":"0.00"}},{"$f":"+[6]Tabulka!BA63","v":0},{"$f":"+[6]Tabulka!BB63","v":{"v":0,"d":"0.00"}},{"$f":"+[6]Tabulka!BC63","v":0},{"$f":"+[6]Tabulka!BD63","v":{"v":0,"d":"0.00"}},{"$f":"+[6]Tabulka!BE63","v":0},{"$f":"+[6]Tabulka!BF63","v":{"v":0,"d":"0.00"}},{"$f":"+[6]Tabulka!BG63","v":0},{"$f":"+[6]Tabulka!BH63","v":{"v":0,"d":"0.00"}},{"$f":"+[6]Tabulka!BI63","v":0},{"$f":"+[6]Tabulka!BJ63","v":{"v":0,"d":"0.00"}},{"$f":"+[6]Tabulka!AP63","v":{"v":0,"d":"0.00"}},{"$f":"+[6]Tabulka!AQ63","v":{"v":0,"d":"0.00"}},{"$f":"+[6]Tabulka!BM63","v":{"v":0,"d":"0.00"}},{"$f":"+[6]Tabulka!BN63","v":0},{"$f":"+[6]Tabulka!BO63","v":{"v":0,"d":"0.00"}}]
[null,{"$f":"[6]Tabulka!C64","v":0},{"$f":"[6]Tabulka!D64","v":0},{"$f":"[6]Tabulka!E64","v":"00:00:00"},{"$f":"[6]Tabulka!F64","v":0},{"$f":"[6]Tabulka!G64","v":0},{"$f":"[6]Tabulka!H64","v":0},{"$f":"+[6]Tabulka!AU64","v":0},{"$f":"+[6]Tabulka!AV64","v":{"v":0,"d":"0.00"}},{"$f":"+[6]Tabulka!AW64","v":0},{"$f":"+[6]Tabulka!AX64","v":{"v":0,"d":"0.00"}},{"$f":"+[6]Tabulka!AY64","v":0},{"$f":"+[6]Tabulka!AZ64","v":{"v":0,"d":"0.00"}},{"$f":"+[6]Tabulka!BA64","v":0},{"$f":"+[6]Tabulka!BB64","v":{"v":0,"d":"0.00"}},{"$f":"+[6]Tabulka!BC64","v":0},{"$f":"+[6]Tabulka!BD64","v":{"v":0,"d":"0.00"}},{"$f":"+[6]Tabulka!BE64","v":0},{"$f":"+[6]Tabulka!BF64","v":{"v":0,"d":"0.00"}},{"$f":"+[6]Tabulka!BG64","v":0},{"$f":"+[6]Tabulka!BH64","v":{"v":0,"d":"0.00"}},{"$f":"+[6]Tabulka!BI64","v":0},{"$f":"+[6]Tabulka!BJ64","v":{"v":0,"d":"0.00"}},{"$f":"+[6]Tabulka!AP64","v":{"v":0,"d":"0.00"}},{"$f":"+[6]Tabulka!AQ64","v":{"v":0,"d":"0.00"}},{"$f":"+[6]Tabulka!BM64","v":{"v":0,"d":"0.00"}},{"$f":"+[6]Tabulka!BN64","v":0},{"$f":"+[6]Tabulka!BO64","v":{"v":0,"d":"0.00"}}]

{"sheet":"Dorostenky","index":6,"n_rows":63,"n_cols":87,"rows_kept":63,"merged":[[2,1,2,6],[2,7,2,8],[2,9,2,10],[2,11,2,12],[2,13,2,14],[2,15,2,16],[2,17,2,18],[2,19,2,20],[2,21,2,22]]}
["PRŮBĚŽNÉ BODOVÉ POŘADÍ RBTM A PR KARVINÁ DOROSTENEK"]
[]
[null," - započítává se 5 nejlepších turnajů z 8 odehraných za poslední rok",{"$nulls":5},{"$f":"+Dorost!H3","v":"KARVINÁ 17.9.2011"},null,{"$f":"+Dorost!J3","v":"HAVÍŘOV 24.9.2011"},null,{"$f":"+Dorost!L3","v":"KARVINÁ 3.12.2011"},null,{"$f":"+Dorost!N3","v":"HAVÍŘOV 7.1.2012"},null,{"$f":"+Dorost!P3","v":"HAVÍŘOV 4.2.2012"},null,{"$f":"+Dorost!R3","v":"KARVINÁ 19.3.2011"},null,{"$f":"+Dorost!T3","v":"KARVINÁ 16.4.2011"},null,{"$f":"+Dorost!V3","v":"KARVINÁ 14.5.2011"}]
[{"$nulls":7},{"$f":"+[7]Tabulka!AU109","v":3},{"$f":"SUBTOTAL(9,I6:I300)","v":20.157416175649374},{"$f":"+[7]Tabulka!AW109","v":5},{"$f":"SUBTOTAL(9,K6:K300)","v":24.956989876227933},{"$f":"+[7]Tabulka!AY109","v":4},{"$f":"SUBTOTAL(9,M6:M300)","v":16.974888521872042},{"$f":"+[7]Tabulka!BA109","v":6},{"$f":"SUBTOTAL(9,O6:O300)","v":23.770117351615852},{"$f":"+[7]Tabulka!BC109","v":2},{"$f":"SUBTOTAL(9,Q6:Q300)","v":9.024743869762961},{"$f":"+[7]Tabulka!BE109","v":3},{"$f":"SUBTOTAL(9,S6:S300)","v":19.920992771190566},{"$f":"+[7]Tabulka!BG109","v":4},{"$f":"SUBTOTAL(9,U6:U300)","v":12.873868450188251},{"$f":"+[7]Tabulka!BI109","v":2},{"$f":"SUBTOTAL(9,W6:W300)","v":9.024743869762961},{"$f":"+[5]Tabulka!AP5","v":0},{"$f":"+[5]Tabulka!AQ5","v":0},{"$f":"+[5]Tabulka!AR5","v":0},{"$f":"+[5]Tabulka!AS5","v":0},{"$f":"+[5]Tabulka!AT5","v":0}]
[{"$f":"SUBTOTAL(3,A6:A243)","v":11},{"$f":"[5]Tabulka!C6","v":"Přijmení"},{"$f":"[5]Tabulka!D6","v":"jméno"},{"$f":"[5]Tabulka!E6","v":"nar"},{"$f":"[5]Tabulka!F6","v":"oddíl-klub"},{"$f":"[5]Tabulka!G6","v":"okr"},{"$f":"[5]Tabulka!H6","v":"pop"},{"$f":"+[5]Tabulka!Z6","v":"um."},{"$f":"+[5]Tabulka!AA6","v":"b."},{"$f":"+[5]Tabulka!AB6","v":"um."},{"$f":"+[5]Tabulka!AC6","v":"b."},{"$f":"+[5]Tabulka!AD6","v":"um."},{"$f":"+[5]Tabulka!AE6","v":"b."},{"$f":"+[5]Tabulka!AF6","v":"um."},{"$f":"+[5]Tabulka!AG6","v":"b."},{"$f":"+[5]Tabulka!AH6","v":"um."},{"$f":"+[5]Tabulka!AI6","v":"b."},{"$f":"+[5]Tabulka!AJ6","v":"um."},{"$f":"+[5]Tabulka!AK6","v":"b."},{"$f":"+[5]Tabulka!AL6","v":"um."},{"$f":"+[5]Tabulka!AM6","v":"b."},{"$f":"+[5]Tabulka!AN6","v":"um."},{"$f":"+[5]Tabulka!AO6","v":"b."},{"$f":"+[5]Tabulka!AP6","v":"I."},{"$f":"+[5]Tabulka!AQ6","v":"t"},{"$f":"+[5]Tabulka!AR6","v":"I.+II."},{"$f":"+[5]Tabulka!AS6","v":"t"},{"$f":"+[5]Tabulka!AT6","v":"R"},{"$nulls":5},{"$f":"[5]Tabulka!DG6","v":0},{"$f":"[5]Tabulka!DH6","v":0},{"$f":"[5]Tabulka!DI6","v":0},{"$f":"[5]Tabulka!DJ6","v":0},{"$f":"[5]Tabulka!DK6","v":0},{"$f":"[5]Tabulka!DL6","v":0},{"$f":"[5]Tabulka!DM6","v":0},{"$f":"[5]Tabulka!DN6","v":0},{"$f":"[5]Tabulka!DO6","v":0},{"$f":"[5]Tabulka!DP6","v":0},{"$f":"[5]Tabulka!DQ6","v":0},{"$f":"[5]Tabulka!DR6","v":0},{"$f":"[5]Tabulka!DS6","v":0},{"$f":"[5]Tabulka!DT6","v":0},{"$f":"[5]Tabulka!DU6","v":0},{"$f":"[5]Tabulka!DV6","v":0},{"$f":"[5]Tabulka!DW6","v":0},{"$f":"[5]Tabulka!DX6","v":0},{"$f":"[5]Tabulka!DY6","v":0},{"$f":"[5]Tabulka!DZ6","v":0},{"$f":"[5]Tabulka!EA6","v":0},{"$f":"[5]Tabulka!EB6","v":0},{"$f":"[5]Tabulka!EC6","v":0},{"$f":"[5]Tabulka!ED6","v":0},{"$f":"[5]Tabulka!EE6","v":0},{"$f":"[5]Tabulka!EF6","v":0},{"$f":"[5]Tabulka!EG6","v":0},{"$f":"[5]Tabulka!EH6","v":0},{"$f":"[5]Tabulka!EI6","v":0},{"$f":"[5]Tabulka!EJ6","v":0},{"$f":"[5]Tabulka!EK6","v":0},{"$f":"[5]Tabulka!EL6","v":0},{"$f":"[5]Tabulka!EM6","v":0},{"$f":"[5]Tabulka!EN6","v":0},{"$f":"[5]Tabulka!EO6","v":0},{"$f":"[5]Tabulka!EP6","v":0},{"$f":"[5]Tabulka!EQ6","v":0},{"$f":"[5]Tabulka!ER6","v":0},{"$f":"[5]Tabulka!ES6","v":0},{"$f":"[5]Tabulka!ET6","v":0},{"$f":"[5]Tabulka!EU6","v":0},{"$f":"[5]Tabulka!EV6","v":0},{"$f":"[5]Tabulka!EW6","v":0},{"$f":"[5]Tabulka!EX6","v":0},{"$f":"[5]Tabulka!EY6","v":0},{"$f":"[5]Tabulka!EZ6","v":0},{"$f":"[5]Tabulka!FA6","v":0},{"$f":"[5]Tabulka!FB6","v":0},{"$f":"[5]Tabulka!FC6","v":0},{"$f":"[5]Tabulka!FD6","v":0},{"$f":"[5]Tabulka!FE6","v":0},{"$f":"[5]Tabulka!FF6","v":0},{"$f":"[5]Tabulka!FG6","v":0},{"$f":"[5]Tabulka!FH6","v":0}]
["1",{"$f":"[7]Tabulka!C7","v":"PREFETOVÁ"},{"$f":"[7]Tabulka!D7","v":"Lucie"},{"$f":"[7]Tabulka!E7","v":"1994-07-07"},{"$f":"[7]Tabulka!F7","v":"Karviná- KLUBsten KST"},{"$f":"[7]Tabulka!G7","v":"KA"},{"$f":"[7]Tabulka!H7","v":100},{"$f":"+[7]Tabulka!AU7","v":2},{"$f":"+[7]Tabulka!AV7","v":{"v":4.369400178389413,"d":"4.37"}},{"$f":"+[7]Tabulka!AW7","v":1},{"$f":"+[7]Tabulka!AX7","v":{"v":4.655343691373548,"d":"4.66"}},{"$f":"+[7]Tabulka!AY7","v":1},{"$f":"+[7]Tabulka!AZ7","v":{"v":4.655343691373548,"d":"4.66"}},{"$f":"+[7]Tabulka!BA7","v":1},{"$f":"+[7]Tabulka!BB7","v":{"v":4.655343691373548,"d":"4.66"}},{"$f":"+[7]Tabulka!BC7","v":0},{"$f":"+[7]Tabulka!BD7","v":{"v":0,"d":"0.00"}},{"$f":"+[7]Tabulka!BE7","v":1},{"$f":"+[7]Tabulka!BF7","v":{"v":4.655343691373548,"d":"4.66"}},{"$f":"+[7]Tabulka!BG7","v":1},{"$f":"+[7]Tabulka!BH7","v":{"v":4.655343691373548,"d":"4.66"}},{"$f":"+[7]Tabulka!BI7","v":1},{"$f":"+[7]Tabulka!BJ7","v":{"v":4.655343691373548,"d":"4.66"}},{"$f":"+[7]Tabulka!AP7","v":{"v":38.58455375302595,"d":"38.58"}},{"$f":"+[7]Tabulka!AQ7","v":{"v":3,"d":"3.00"}},{"$f":"+[7]Tabulka!BM7","v":{"v":32.301462326630705,"d":"32.30"}},{"$f":"+[7]Tabulka!BN7","v":7},{"$f":"+[7]Tabulka!BO7","v":{"v":23.27671845686774,"d":"23.28"}}]
["2",{"$f":"[7]Tabulka!C8","v":"KRNÁČOVÁ"},{"$f":"[7]Tabulka!D8","v":"Anna"},{"$f":"[7]Tabulka!E8","v":"1999-02-09"},{"$f":"[7]Tabulka!F8","v":"Karviná- KLUBsten KST"},{"$f":"[7]Tabulka!G8","v":"KA"},{"$f":"[7]Tabulka!H8","v":100},{"$f":"+[7]Tabulka!AU8","v":1},{"$f":"+[7]Tabulka!AV8","v":{"v":4.655343691373548,"d":"4.66"}},{"$f":"+[7]Tabulka!AW8","v":0},{"$f":"+[7]Tabulka!AX8","v":{"v":0,"d":"0.00"}},{"$f":"+[7]Tabulka!AY8","v":2},{"$f":"+[7]Tabulka!AZ8","v":{"v":4.369400178389413,"d":"4.37"}},{"$f":"+[7]Tabulka!BA8","v":2},{"$f":"+[7]Tabulka!BB8","v":{"v":4.369400178389413,"d":"4.37"}},{"$f":"+[7]Tabulka!BC8","v":1},{"$f":"+[7]Tabulka!BD8","v":{"v":4.655343691373548,"d":"4.66"}},{"$f":"+[7]Tabulka!BE8","v":2},{"$f":"+[7]Tabulka!BF8","v":{"v":4.369400178389413,"d":"4.37"}},{"$f":"+[7]Tabulka!BG8","v":2},{"$f":"+[7]Tabulka!BH8","v":{"v":4.369400178389413,"d":"4.37"}},{"$f":"+[7]Tabulka!BI8","v":2},{"$f":"+[7]Tabulka!BJ8","v":{"v":4.369400178389413,"d":"4.37"}},{"$f":"+[7]Tabulka!AP8","v":{"v":32.64289838241398,"d":"32.64"}},{"$f":"+[7]Tabulka!AQ8","v":{"v":3,"d":"3.00"}},{"$f":"+[7]Tabulka!BM8","v":{"v":31.15768827469416,"d":"31.16"}},{"$f":"+[7]Tabulka!BN8","v":7},{"$f":"+[7]Tabulka!BO8","v":{"v":22.418887917915335,"d":"22.42"}}]
["3",{"$f":"[7]Tabulka!C9","v":"URBANIECOVÁ"},{"$f":"[7]Tabulka!D9","v":"Veronika"},{"$f":"[7]Tabulka!E9","v":"1998-11-19"},{"$f":"[7]Tabulka!F9","v":"Chotěbuz- Sokol TJ"},{"$f":"[7]Tabulka!G9","v":"KA"},{"$f":"[7]Tabulka!H9","v":100},{"$f":"+[7]Tabulka!AU9","v":3},{"$f":"+[7]Tabulka!AV9","v":{"v":4.101020071683792,"d":"4.10"}},{"$f":"+[7]Tabulka!AW9","v":2},{"$f":"+[7]Tabulka!AX9","v":{"v":4.369400178389413,"d":"4.37"}},{"$f":"+[7]Tabulka!AY9","v":0},{"$f":"+[7]Tabulka!AZ9","v":{"v":0,"d":"0.00"}},{"$f":"+[7]Tabulka!BA9","v":3},{"$f":"+[7]Tabulka!BB9","v":{"v":4.101020071683792,"d":"4.10"}},{"$f":"+[7]Tabulka!BC9","v":2},{"$f":"+[7]Tabulka!BD9","v":{"v":4.369400178389413,"d":"4.37"}},{"$f":"+[7]Tabulka!BE9","v":0},{"$f":"+[7]Tabulka!BF9","v":{"v":0,"d":"0.00"}},{"$f":"+[7]Tabulka!BG9","v":4},{"$f":"+[7]Tabulka!BH9","v":{"v":3.8491245804252903,"d":"3.85"}},{"$f":"+[7]Tabulka!BI9","v":0},{"$f":"+[7]Tabulka!BJ9","v":{"v":0,"d":"0.00"}},{"$f":"+[7]Tabulka!AP9","v":{"v":0,"d":"0.00"}},{"$f":"+[7]Tabulka!AQ9","v":{"v":0,"d":"0.00"}},{"$f":"+[7]Tabulka!BM9","v":{"v":20.7899650805717,"d":"20.79"}},{"$f":"+[7]Tabulka!BN9","v":5},{"$f":"+[7]Tabulka!BO9","v":{"v":20.7899650805717,"d":"20.79"}}]
["4",{"$f":"[7]Tabulka!C10","v":"KOBLOVSKÁ"},{"$f":"[7]Tabulka!D10","v":"Dominika"},{"$f":"[7]Tabulka!E10","v":"1998-08-30"},{"$f":"[7]Tabulka!F10","v":"Ostrava- Mittal TJ"},{"$f":"[7]Tabulka!G10","v":"OV"},{"$f":"[7]Tabulka!H10","v":100},{"$f":"+[7]Tabulka!AU10","v":1},{"$f":"+[7]Tabulka!AV10","v":{"v":4.655343691373548,"d":"4.66"}},{"$f":"+[7]Tabulka!AW10","v":0},{"$f":"+[7]Tabulka!AX10","v":{"v":0,"d":"0.00"}},{"$f":"+[7]Tabulka!AY10","v":3},{"$f":"+[7]Tabulka!AZ10","v":{"v":4.101020071683792,"d":"4.10"}},{"$f":"+[7]Tabulka!BA10","v":0},{"$f":"+[7]Tabulka!BB10","v":{"v":0,"d":"0.00"}},{"$f":"+[7]Tabulka!BC10","v":1},{"$f":"+[7]Tabulka!BD10","v":{"v":4.655343691373548,"d":"4.66"}},{"$f":"+[7]Tabulka!BE10","v":2},{"$f":"+[7]Tabulka!BF10","v":{"v":4.369400178389413,"d":"4.37"}},{"$f":"+[7]Tabulka!BG10","v":0},{"$f":"+[7]Tabulka!BH10","v":{"v":0,"d":"0.00"}},{"$f":"+[7]Tabulka!BI10","v":0},{"$f":"+[7]Tabulka!BJ10","v":{"v":0,"d":"0.00"}},{"$f":"+[7]Tabulka!AP10","v":{"v":67.35462336896522,"d":"67.35"}},{"$f":"+[7]Tabulka!AQ10","v":{"v":4,"d":"4.00"}},{"$f":"+[7]Tabulka!BM10","v":{"v":17.7811076328203,"d":"17.78"}},{"$f":"+[7]Tabulka!BN10","v":4},{"$f":"+[7]Tabulka!BO10","v":{"v":13.68008756113651,"d":"13.68"}}]
[null,{"$f":"[7]Tabulka!C11","v":"SYNKOVÁ"},{"$f":"[7]Tabulka!D11","v":"Kristýna"},{"$f":"[7]Tabulka!E11","v":"1998-08-10"},{"$f":"[7]Tabulka!F11","v":"Děhylov- Sokol TJ"},{"$f":"[7]Tabulka!G11","v":"OP"},{"$f":"[7]Tabulka!H11","v":100},{"$f":"+[7]Tabulka!AU11","v":2},{"$f":"+[7]Tabulka!AV11","v":{"v":4.369400178389413,"d":"4.37"}},{"$f":"+[7]Tabulka!AW11","v":0},{"$f":"+[7]Tabulka!AX11","v":{"v":0,"d":"0.00"}},{"$f":"+[7]Tabulka!AY11","v":2},{"$f":"+[7]Tabulka!AZ11","v":{"v":4.369400178389413,"d":"4.37"}},{"$f":"+[7]Tabulka!BA11","v":0},{"$f":"+[7]Tabulka!BB11","v":{"v":0,"d":"0.00"}},{"$f":"+[7]Tabulka!BC11","v":2},{"$f":"+[7]Tabulka!BD11","v":{"v":4.369400178389413,"d":"4.37"}},{"$f":"+[7]Tabulka!BE11","v":4},{"$f":"+[7]Tabulka!BF11","v":{"v":3.8491245804252903,"d":"3.85"}},{"$f":"+[7]Tabulka!BG11","v":0},{"$f":"+[7]Tabulka!BH11","v":{"v":0,"d":"0.00"}},{"$f":"+[7]Tabulka!BI11","v":0},{"$f":"+[7]Tabulka!BJ11","v":{"v":0,"d":"0.00"}},{"$f":"+[7]Tabulka!AP11","v":{"v":42.904352879140916,"d":"42.90"}},{"$f":"+[7]Tabulka!AQ11","v":{"v":3,"d":"3.00"}},{"$f":"+[7]Tabulka!BM11","v":{"v":16.95732511559353,"d":"16.96"}},{"$f":"+[7]Tabulka!BN11","v":4},{"$f":"+[7]Tabulka!BO11","v":{"v":13.10820053516824,"d":"13.11"}}]
[null,{"$f":"[7]Tabulka!C12","v":"ŠTĚPÁNOVÁ"},{"$f":"[7]Tabulka!D12","v":"Gabriela"},{"$f":"[7]Tabulka!E12","v":"2001-03-31"},{"$f":"[7]Tabulka!F12","v":"Děhylov- Sokol TJ"},{"$f":"[7]Tabulka!G12","v":"OP"},{"$f":"[7]Tabulka!H12","v":100},{"$f":"+[7]Tabulka!AU12","v":5},{"$f":"+[7]Tabulka!AV12","v":{"v":3.6127011759664778,"d":"3.61"}},{"$f":"+[7]Tabulka!AW12","v":1},{"$f":"+[7]Tabulka!AX12","v":{"v":4.655343691373548,"d":"4.66"}},{"$f":"+[7]Tabulka!AY12","v":0},{"$f":"+[7]Tabulka!AZ12","v":{"v":0,"d":"0.00"}},{"$f":"+[7]Tabulka!BA12","v":1},{"$f":"+[7]Tabulka!BB12","v":{"v":4.655343691373548,"d":"4.66"}},{"$f":"+[7]Tabulka!BC12","v":0},{"$f":"+[7]Tabulka!BD12","v":{"v":0,"d":"0.00"}},{"$f":"+[7]Tabulka!BE12","v":0},{"$f":"+[7]Tabulka!BF12","v":{"v":0,"d":"0.00"}},{"$f":"+[7]Tabulka!BG12","v":0},{"$f":"+[7]Tabulka!BH12","v":{"v":0,"d":"0.00"}},{"$f":"+[7]Tabulka!BI12","v":0},{"$f":"+[7]Tabulka!BJ12","v":{"v":0,"d":"0.00"}},{"$f":"+[7]Tabulka!AP12","v":{"v":43.799921911833735,"d":"43.80"}},{"$f":"+[7]Tabulka!AQ12","v":{"v":3,"d":"3.00"}},{"$f":"+[7]Tabulka!BM12","v":{"v":12.923388558713572,"d":"12.92"}},{"$f":"+[7]Tabulka!BN12","v":3},{"$f":"+[7]Tabulka!BO12","v":{"v":12.923388558713574,"d":"12.92"}}]
["4",{"$f":"[7]Tabulka!C13","v":"FLORKOVÁ"},{"$f":"[7]Tabulka!D13","v":"Adéla"},{"$f":"[7]Tabulka!E13","v":"2001-09-04"},{"$f":"[7]Tabulka!F13","v":"Orlová- Siko TTC"},{"$f":"[7]Tabulka!G13","v":"KA"},{"$f":"[7]Tabulka!H13","v":100},{"$f":"+[7]Tabulka!AU13","v":4},{"$f":"+[7]Tabulka!AV13","v":{"v":3.8491245804252903,"d":"3.85"}},{"$f":"+[7]Tabulka!AW13","v":3},{"$f":"+[7]Tabulka!AX13","v":{"v":4.101020071683792,"d":"4.10"}},{"$f":"+[7]Tabulka!AY13","v":0},{"$f":"+[7]Tabulka!AZ13","v":{"v":0,"d":"0.00"}},{"$f":"+[7]Tabulka!BA13","v":4},{"$f":"+[7]Tabulka!BB13","v":{"v":3.8491245804252903,"d":"3.85"}},{"$f":"+[7]Tabulka!BC13","v":0},{"$f":"+[7]Tabulka!BD13","v":{"v":0,"d":"0.00"}},{"$f":"+[7]Tabulka!BE13","v":0},{"$f":"+[7]Tabulka!BF13","v":{"v":0,"d":"0.00"}},{"$f":"+[7]Tabulka!BG13","v":0},{"$f":"+[7]Tabulka!BH13","v":{"v":0,"d":"0.00"}},{"$f":"+[7]Tabulka!BI13","v":0},{"$f":"+[7]Tabulka!BJ13","v":{"v":0,"d":"0.00"}},{"$f":"+[7]Tabulka!AP13","v":{"v":0,"d":"0.00"}},{"$f":"+[7]Tabulka!AQ13","v":{"v":0,"d":"0.00"}},{"$f":"+[7]Tabulka!BM13","v":{"v":11.799269232534373,"d":"11.80"}},{"$f":"+[7]Tabulka!BN13","v":3},{"$f":"+[7]Tabulka!BO13","v":{"v":11.799269232534373,"d":"11.80"}}]
[null,{"$f":"[7]Tabulka!C14","v":"SELVEKOVÁ"},{"$f":"[7]Tabulka!D14","v":"Eliška"},{"$f":"[7]Tabulka!E14","v":"1999-02-15"},{"$f":"[7]Tabulka!F14","v":"Hradec nad Moravicí- FIT SPORT KLUB "},{"$f":"[7]Tabulka!G14","v":"OP"},{"$f":"[7]Tabulka!H14","v":100},{"$f":"+[7]Tabulka!AU14","v":6},{"$f":"+[7]Tabulka!AV14","v":{"v":3.3907995218454317,"d":"3.39"}},{"$f":"+[7]Tabulka!AW14","v":3},{"$f":"+[7]Tabulka!AX14","v":{"v":4.101020071683792,"d":"4.10"}},{"$f":"+[7]Tabulka!AY14","v":4},{"$f":"+[7]Tabulka!AZ14","v":{"v":3.8491245804252903,"d":"3.85"}},{"$f":"+[7]Tabulka!BA14","v":0},{"$f":"+[7]Tabulka!BB14","v":{"v":0,"d":"0.00"}},{"$f":"+[7]Tabulka!BC14","v":0},{"$f":"+[7]Tabulka!BD14","v":{"v":0,"d":"0.00"}},{"$f":"+[7]Tabulka!BE14","v":0},{"$f":"+[7]Tabulka!BF14","v":{"v":0,"d":"0.00"}},{"$f":"+[7]Tabulka!BG14","v":0},{"$f":"+[7]Tabulka!BH14","v":{"v":0,"d":"0.00"}},{"$f":"+[7]Tabulka!BI14","v":0},{"$f":"+[7]Tabulka!BJ14","v":{"v":0,"d":"0.00"}},{"$f":"+[7]Tabulka!AP14","v":{"v":0,"d":"0.00"}},{"$f":"+[7]Tabulka!AQ14","v":{"v":0,"d":"0.00"}},{"$f":"+[7]Tabulka!BM14","v":{"v":11.340944173954513,"d":"11.34"}},{"$f":"+[7]Tabulka!BN14","v":3},{"$f":"+[7]Tabulka!BO14","v":{"v":11.340944173954515,"d":"11.34"}}]
[null,{"$f":"[7]Tabulka!C15","v":"SYNKOVÁ"},{"$f":"[7]Tabulka!D15","v":"Markéta"},{"$f":"[7]Tabulka!E15","v":"2001-07-30"},{"$f":"[7]Tabulka!F15","v":"Děhylov- Sokol TJ"},{"$f":"[7]Tabulka!G15","v":"OP"},{"$f":"[7]Tabulka!H15","v":100},{"$f":"+[7]Tabulka!AU15","v":4},{"$f":"+[7]Tabulka!AV15","v":{"v":3.8491245804252903,"d":"3.85"}},{"$f":"+[7]Tabulka!AW15","v":0},{"$f":"+[7]Tabulka!AX15","v":{"v":0,"d":"0.00"}},{"$f":"+[7]Tabulka!AY15","v":0},{"$f":"+[7]Tabulka!AZ15","v":{"v":0,"d":"0.00"}},{"$f":"+[7]Tabulka!BA15","v":0},{"$f":"+[7]Tabulka!BB15","v":{"v":0,"d":"0.00"}},{"$f":"+[7]Tabulka!BC15","v":3},{"$f":"+[7]Tabulka!BD15","v":{"v":4.101020071683792,"d":"4.10"}},{"$f":"+[7]Tabulka!BE15","v":6},{"$f":"+[7]Tabulka!BF15","v":{"v":3.3907995218454317,"d":"3.39"}},{"$f":"+[7]Tabulka!BG15","v":0},{"$f":"+[7]Tabulka!BH15","v":{"v":0,"d":"0.00"}},{"$f":"+[7]Tabulka!BI15","v":0},{"$f":"+[7]Tabulka!BJ15","v":{"v":0,"d":"0.00"}},{"$f":"+[7]Tabulka!AP15","v":{"v":32.16728974245534,"d":"32.17"}},{"$f":"+[7]Tabulka!AQ15","v":{"v":3,"d":"3.00"}},{"$f":"+[7]Tabulka!BM15","v":{"v":11.340944173954515,"d":"11.34"}},{"$f":"+[7]Tabulka!BN15","v":3},{"$f":"+[7]Tabulka!BO15","v":{"v":11.340944173954515,"d":"11.34"}}]
[null,{"$f":"[7]Tabulka!C16","v":"PALETOVÁ"},{"$f":"[7]Tabulka!D16","v":"Barbora"},{"$f":"[7]Tabulka!E16","v":"2001-07-14"},{"$f":"[7]Tabulka!F16","v":"Děhylov- Sokol TJ"},{"$f":"[7]Tabulka!G16","v":"OP"},{"$f":"[7]Tabulka!H16","v":100},{"$f":"+[7]Tabulka!AU16","v":7},{"$f":"+[7]Tabulka!AV16","v":{"v":3.1825276537773326,"d":"3.18"}},{"$f":"+[7]Tabulka!AW16","v":4},{"$f":"+[7]Tabulka!AX16","v":{"v":3.8491245804252903,"d":"3.85"}},{"$f":"+[7]Tabulka!AY16","v":0},{"$f":"+[7]Tabulka!AZ16","v":{"v":0,"d":"0.00"}},{"$f":"+[7]Tabulka!BA16","v":4},{"$f":"+[7]Tabulka!BB16","v":{"v":3.8491245804252903,"d":"3.85"}},{"$f":"+[7]Tabulka!BC16","v":5},{"$f":"+[7]Tabulka!BD16","v":{"v":3.6127011759664778,"d":"3.61"}},{"$f":"+[7]Tabulka!BE16","v":7},{"$f":"+[7]Tabulka!BF16","v":{"v":3.1825276537773326,"d":"3.18"}},{"$f":"+[7]Tabulka!BG16","v":0},{"$f":"+[7]Tabulka!BH16","v":{"v":0,"d":"0.00"}},{"$f":"+[7]Tabulka!BI16","v":0},{"$f":"+[7]Tabulka!BJ16","v":{"v":0,"d":"0.00"}},{"$f":"+[7]Tabulka!AP16","v":{"v":26.483545489714103,"d":"26.48"}},{"$f":"+[7]Tabulka!AQ16","v":{"v":3,"d":"3.00"}},{"$f":"+[7]Tabulka!BM16","v":{"v":17.676005644371724,"d":"17.68"}},{"$f":"+[7]Tabulka!BN16","v":5},{"$f":"+[7]Tabulka!BO16","v":{"v":11.310950336817058,"d":"11.31"}}]
[null,{"$f":"[7]Tabulka!C17","v":"STOŠKOVÁ"},{"$f":"[7]Tabulka!D17","v":"Zuzana"},{"$f":"[7]Tabulka!E17","v":"1999-03-16"},{"$f":"[7]Tabulka!F17","v":"Hradec nad Moravicí- FIT SPORT KLUB "},{"$f":"[7]Tabulka!G17","v":"OP"},{"$f":"[7]Tabulka!H17","v":100},{"$f":"+[7]Tabulka!AU17","v":7},{"$f":"+[7]Tabulka!AV17","v":{"v":3.1825276537773326,"d":"3.18"}},{"$f":"+[7]Tabulka!AW17","v":6},{"$f":"+[7]Tabulka!AX17","v":{"v":3.3907995218454317,"d":"3.39"}},{"$f":"+[7]Tabulka!AY17","v":5},{"$f":"+[7]Tabulka!AZ17","v":{"v":3.6127011759664778,"d":"3.61"}},{"$f":"+[7]Tabulka!BA17","v":0},{"$f":"+[7]Tabulka!BB17","v":{"v":0,"d":"0.00"}},{"$f":"+[7]Tabulka!BC17","v":5},{"$f":"+[7]Tabulka!BD17","v":{"v":3.6127011759664778,"d":"3.61"}},{"$f":"+[7]Tabulka!BE17","v":7},{"$f":"+[7]Tabulka!BF17","v":{"v":3.1825276537773326,"d":"3.18"}},{"$f":"+[7]Tabulka!BG17","v":0},{"$f":"+[7]Tabulka!BH17","v":{"v":0,"d":"0.00"}},{"$f":"+[7]Tabulka!BI17","v":0},{"$f":"+[7]Tabulka!BJ17","v":{"v":0,"d":"0.00"}},{"$f":"+[7]Tabulka!AP17","v":{"v":0,"d":"0.00"}},{"$f":"+[7]Tabulka!AQ17","v":{"v":0,"d":"0.00"}},{"$f":"+[7]Tabulka!BM17","v":{"v":16.981257181333053,"d":"16.98"}},{"$f":"+[7]Tabulka!BN17","v":5},{"$f":"+[7]Tabulka!BO17","v":{"v":10.616201873778387,"d":"10.62"}}]
[null,{"$f":"[7]Tabulka!C18","v":"ČECHOVÁ"},{"$f":"[7]Tabulka!D18","v":"Kateřina"},{"$f":"[7]Tabulka!E18","v":"1999-03-29"},{"$f":"[7]Tabulka!F18","v":"Frýdlant nad Ostravicí- SK"},{"$f":"[7]Tabulka!G18","v":"FM"},{"$f":"[7]Tabulka!H18","v":100},{"$f":"+[7]Tabulka!AU18","v":3},{"$f":"+[7]Tabulka!AV18","v":{"v":4.101020071683792,"d":"4.10"}},{"$f":"+[7]Tabulka!AW18","v":0},{"$f":"+[7]Tabulka!AX18","v":{"v":0,"d":"0.00"}},{"$f":"+[7]Tabulka!AY18","v":1},{"$f":"+[7]Tabulka!AZ18","v":{"v":4.655343691373548,"d":"4.66"}},{"$f":"+[7]Tabulka!BA18","v":0},{"$f":"+[7]Tabulka!BB18","v":{"v":0,"d":"0.00"}},{"$f":"+[7]Tabulka!BC18","v":0},{"$f":"+[7]Tabulka!BD18","v":{"v":0,"d":"0.00"}},{"$f":"+[7]Tabulka!BE18","v":0},{"$f":"+[7]Tabulka!BF18","v":{"v":0,"d":"0.00"}},{"$f":"+[7]Tabulka!BG18","v":0},{"$f":"+[7]Tabulka!BH18","v":{"v":0,"d":"0.00"}},{"$f":"+[7]Tabulka!BI18","v":0},{"$f":"+[7]Tabulka!BJ18","v":{"v":0,"d":"0.00"}},{"$f":"+[7]Tabulka!AP18","v":{"v":78.84235438579324,"d":"78.84"}},{"$f":"+[7]Tabulka!AQ18","v":{"v":4,"d":"4.00"}},{"$f":"+[7]Tabulka!BM18","v":{"v":8.75636376305734,"d":"8.76"}},{"$f":"+[7]Tabulka!BN18","v":2},{"$f":"+[7]Tabulka!BO18","v":{"v":8.75636376305734,"d":"8.76"}}]
["5",{"$f":"[7]Tabulka!C19","v":"SWACZYNOVÁ"},{"$f":"[7]Tabulka!D19","v":"Sára"},{"$f":"[7]Tabulka!E19","v":"1997-01-01"},{"$f":"[7]Tabulka!F19","v":"Karviná- KLUBsten KST"},{"$f":"[7]Tabulka!G19","v":"KA"},{"$f":"[7]Tabulka!H19","v":0},{"$f":"+[7]Tabulka!AU19","v":0},{"$f":"+[7]Tabulka!AV19","v":{"v":0,"d":"0.00"}},{"$f":"+[7]Tabulka!AW19","v":0},{"$f":"+[7]Tabulka!AX19","v":{"v":0,"d":"0.00"}},{"$f":"+[7]Tabulka!AY19","v":3},{"$f":"+[7]Tabulka!AZ19","v":{"v":4.101020071683792,"d":"4.10"}},{"$f":"+[7]Tabulka!BA19","v":5},{"$f":"+[7]Tabulka!BB19","v":{"v":3.6127011759664778,"d":"3.61"}},{"$f":"+[7]Tabulka!BC19","v":0},{"$f":"+[7]Tabulka!BD19","v":{"v":0,"d":"0.00"}},{"$f":"+[7]Tabulka!BE19","v":0},{"$f":"+[7]Tabulka!BF19","v":{"v":0,"d":"0.00"}},{"$f":"+[7]Tabulka!BG19","v":0},{"$f":"+[7]Tabulka!BH19","v":{"v":0,"d":"0.00"}},{"$f":"+[7]Tabulka!BI19","v":0},{"$f":"+[7]Tabulka!BJ19","v":{"v":0,"d":"0.00"}},{"$f":"+[7]Tabulka!AP19","v":{"v":6.002768403724998,"d":"6.00"}},{"$f":"+[7]Tabulka!AQ19","v":{"v":1,"d":"1.00"}},{"$f":"+[7]Tabulka!BM19","v":{"v":7.71372124765027,"d":"7.71"}},{"$f":"+[7]Tabulka!BN19","v":2},{"$f":"+[7]Tabulka!BO19","v":{"v":7.71372124765027,"d":"7.71"}}]
["6",{"$f":"[7]Tabulka!C20","v":"WITOSZOVÁ"},{"$f":"[7]Tabulka!D20","v":"Klára"},{"$f":"[7]Tabulka!E20","v":"2003-09-25"},{"$f":"[7]Tabulka!F20","v":"Havířov- Baník SKST"},{"$f":"[7]Tabulka!G20","v":"KA"},{"$f":"[7]Tabulka!H20","v":100},{"$f":"+[7]Tabulka!AU20","v":0},{"$f":"+[7]Tabulka!AV20","v":{"v":0,"d":"0.00"}},{"$f":"+[7]Tabulka!AW20","v":4},{"$f":"+[7]Tabulka!AX20","v":{"v":3.8491245804252903,"d":"3.85"}},{"$f":"+[7]Tabulka!AY20","v":4},{"$f":"+[7]Tabulka!AZ20","v":{"v":3.8491245804252903,"d":"3.85"}},{"$f":"+[7]Tabulka!BA20","v":0},{"$f":"+[7]Tabulka!BB20","v":{"v":0,"d":"0.00"}},{"$f":"+[7]Tabulka!BC20","v":0},{"$f":"+[7]Tabulka!BD20","v":{"v":0,"d":"0.00"}},{"$f":"+[7]Tabulka!BE20","v":0},{"$f":"+[7]Tabulka!BF20","v":{"v":0,"d":"0.00"}},{"$f":"+[7]Tabulka!BG20","v":0},{"$f":"+[7]Tabulka!BH20","v":{"v":0,"d":"0.00"}},{"$f":"+[7]Tabulka!BI20","v":0},{"$f":"+[7]Tabulka!BJ20","v":{"v":0,"d":"0.00"}},{"$f":"+[7]Tabulka!AP20","v":{"v":0,"d":"0.00"}},{"$f":"+[7]Tabulka!AQ20","v":{"v":0,"d":"0.00"}},{"$f":"+[7]Tabulka!BM20","v":{"v":7.6982491608505805,"d":"7.70"}},{"$f":"+[7]Tabulka!BN20","v":2},{"$f":"+[7]Tabulka!BO20","v":{"v":7.6982491608505805,"d":"7.70"}}]
["7",{"$f":"[7]Tabulka!C21","v":"CINGELOVÁ"},{"$f":"[7]Tabulka!D21","v":"Luba"},{"$f":"[7]Tabulka!E21","v":"1998-11-05"},{"$f":"[7]Tabulka!F21","v":"Hradec nad Moravicí- FIT SPORT KLUB "},{"$f":"[7]Tabulka!G21","v":"OP"},{"$f":"[7]Tabulka!H21","v":100},{"$f":"+[7]Tabulka!AU21","v":0},{"$f":"+[7]Tabulka!AV21","v":{"v":0,"d":"0.00"}},{"$f":"+[7]Tabulka!AW21","v":2},{"$f":"+[7]Tabulka!AX21","v":{"v":4.369400178389413,"d":"4.37"}},{"$f":"+[7]Tabulka!AY21","v":0},{"$f":"+[7]Tabulka!AZ21","v":{"v":0,"d":"0.00"}},{"$f":"+[7]Tabulka!BA21","v":0},{"$f":"+[7]Tabulka!BB21","v":{"v":0,"d":"0.00"}},{"$f":"+[7]Tabulka!BC21","v":0},{"$f":"+[7]Tabulka!BD21","v":{"v":0,"d":"0.00"}},{"$f":"+[7]Tabulka!BE21","v":7},{"$f":"+[7]Tabulka!BF21","v":{"v":3.1825276537773326,"d":"3.18"}},{"$f":"+[7]Tabulka!BG21","v":0},{"$f":"+[7]Tabulka!BH21","v":{"v":0,"d":"0.00"}},{"$f":"+[7]Tabulka!BI21","v":0},{"$f":"+[7]Tabulka!BJ21","v":{"v":0,"d":"0.00"}},{"$f":"+[7]Tabulka!AP21","v":{"v":0,"d":"0.00"}},{"$f":"+[7]Tabulka!AQ21","v":{"v":0,"d":"0.00"}},{"$f":"+[7]Tabulka!BM21","v":{"v":7.551927832166745,"d":"7.55"}},{"$f":"+[7]Tabulka!BN21","v":2},{"$f":"+[7]Tabulka!BO21","v":{"v":7.551927832166745,"d":"7.55"}}]
["8",{"$f":"[7]Tabulka!C22","v":"CZOLKOVÁ"},{"$f":"[7]Tabulka!D22","v":"Adéla"},{"$f":"[7]Tabulka!E22","v":"1999-01-01"},{"$f":"[7]Tabulka!F22","v":"Orlová- Siko TTC"},{"$f":"[7]Tabulka!G22","v":"KA"},{"$f":"[7]Tabulka!H22","v":0},{"$f":"+[7]Tabulka!AU22","v":0},{"$f":"+[7]Tabulka!AV22","v":{"v":0,"d":"0.00"}},{"$f":"+[7]Tabulka!AW22","v":5},{"$f":"+[7]Tabulka!AX22","v":{"v":3.6127011759664778,"d":"3.61"}},{"$f":"+[7]Tabulka!AY22","v":0},{"$f":"+[7]Tabulka!AZ22","v":{"v":0,"d":"0.00"}},{"$f":"+[7]Tabulka!BA22","v":7},{"$f":"+[7]Tabulka!BB22","v":{"v":3.1825276537773326,"d":"3.18"}},{"$f":"+[7]Tabulka!BC22","v":0},{"$f":"+[7]Tabulka!BD22","v":{"v":0,"d":"0.00"}},{"$f":"+[7]Tabulka!BE22","v":0},{"$f":"+[7]Tabulka!BF22","v":{"v":0,"d":"0.00"}},{"$f":"+[7]Tabulka!BG22","v":0},{"$f":"+[7]Tabulka!BH22","v":{"v":0,"d":"0.00"}},{"$f":"+[7]Tabulka!BI22","v":0},{"$f":"+[7]Tabulka!BJ22","v":{"v":0,"d":"0.00"}},{"$f":"+[7]Tabulka!AP22","v":{"v":0,"d":"0.00"}},{"$f":"+[7]Tabulka!AQ22","v":{"v":0,"d":"0.00"}},{"$f":"+[7]Tabulka!BM22","v":{"v":6.79522882974381,"d":"6.80"}},{"$f":"+[7]Tabulka!BN22","v":2},{"$f":"+[7]Tabulka!BO22","v":{"v":6.79522882974381,"d":"6.80"}}]
[null,{"$f":"[7]Tabulka!C23","v":"PETROVOVÁ"},{"$f":"[7]Tabulka!D23","v":"Nikita"},{"$f":"[7]Tabulka!E23","v":"1999-09-26"},{"$f":"[7]Tabulka!F23","v":"Frýdlant nad Ostravicí- SK"},{"$f":"[7]Tabulka!G23","v":"FM"},{"$f":"[7]Tabulka!H23","v":100},{"$f":"+[7]Tabulka!AU23","v":0},{"$f":"+[7]Tabulka!AV23","v":{"v":0,"d":"0.00"}},{"$f":"+[7]Tabulka!AW23","v":0},{"$f":"+[7]Tabulka!AX23","v":{"v":0,"d":"0.00"}},{"$f":"+[7]Tabulka!AY23","v":0},{"$f":"+[7]Tabulka!AZ23","v":{"v":0,"d":"0.00"}},{"$f":"+[7]Tabulka!BA23","v":0},{"$f":"+[7]Tabulka!BB23","v":{"v":0,"d":"0.00"}},{"$f":"+[7]Tabulka!BC23","v":0},{"$f":"+[7]Tabulka!BD23","v":{"v":0,"d":"0.00"}},{"$f":"+[7]Tabulka!BE23","v":1},{"$f":"+[7]Tabulka!BF23","v":{"v":4.655343691373548,"d":"4.66"}},{"$f":"+[7]Tabulka!BG23","v":0},{"$f":"+[7]Tabulka!BH23","v":{"v":0,"d":"0.00"}},{"$f":"+[7]Tabulka!BI23","v":0},{"$f":"+[7]Tabulka!BJ23","v":{"v":0,"d":"0.00"}},{"$f":"+[7]Tabulka!AP23","v":{"v":33.102471391657495,"d":"33.10"}},{"$f":"+[7]Tabulka!AQ23","v":{"v":2,"d":"2.00"}},{"$f":"+[7]Tabulka!BM23","v":{"v":4.655343691373548,"d":"4.66"}},{"$f":"+[7]Tabulka!BN23","v":1},{"$f":"+[7]Tabulka!BO23","v":{"v":4.655343691373548,"d":"4.66"}}]
["9",{"$f":"[7]Tabulka!C24","v":"DAŇOVÁ"},{"$f":"[7]Tabulka!D24","v":"Barbora"},{"$f":"[7]Tabulka!E24","v":"1999-05-19"},{"$f":"[7]Tabulka!F24","v":"Frýdlant nad Ostravicí- SK"},{"$f":"[7]Tabulka!G24","v":"FM"},{"$f":"[7]Tabulka!H24","v":100},{"$f":"+[7]Tabulka!AU24","v":0},{"$f":"+[7]Tabulka!AV24","v":{"v":0,"d":"0.00"}},{"$f":"+[7]Tabulka!AW24","v":0},{"$f":"+[7]Tabulka!AX24","v":{"v":0,"d":"0.00"}},{"$f":"+[7]Tabulka!AY24","v":0},{"$f":"+[7]Tabulka!AZ24","v":{"v":0,"d":"0.00"}},{"$f":"+[7]Tabulka!BA24","v":0},{"$f":"+[7]Tabulka!BB24","v":{"v":0,"d":"0.00"}},{"$f":"+[7]Tabulka!BC24","v":0},{"$f":"+[7]Tabulka!BD24","v":{"v":0,"d":"0.00"}},{"$f":"+[7]Tabulka!BE24","v":3},{"$f":"+[7]Tabulka!BF24","v":{"v":4.101020071683792,"d":"4.10"}},{"$f":"+[7]Tabulka!BG24","v":0},{"$f":"+[7]Tabulka!BH24","v":{"v":0,"d":"0.00"}},{"$f":"+[7]Tabulka!BI24","v":0},{"$f":"+[7]Tabulka!BJ24","v":{"v":0,"d":"0.00"}},{"$f":"+[7]Tabulka!AP24","v":{"v":35.51959720189662,"d":"35.52"}},{"$f":"+[7]Tabulka!AQ24","v":{"v":3,"d":"3.00"}},{"$f":"+[7]Tabulka!BM24","v":{"v":4.101020071683792,"d":"4.10"}},{"$f":"+[7]Tabulka!BN24","v":1},{"$f":"+[7]Tabulka!BO24","v":{"v":4.101020071683792,"d":"4.10"}}]
["7",{"$f":"[7]Tabulka!C25","v":"IŠTOKOVÁ"},{"$f":"[7]Tabulka!D25","v":"Jana"},{"$f":"[7]Tabulka!E25","v":"1997-01-01"},{"$f":"[7]Tabulka!F25","v":"Karviná-Lázně Darkov- Slovan VOKD TJ"},{"$f":"[7]Tabulka!G25","v":"KA"},{"$f":"[7]Tabulka!H25","v":0},{"$f":"+[7]Tabulka!AU25","v":0},{"$f":"+[7]Tabulka!AV25","v":{"v":0,"d":"0.00"}},{"$f":"+[7]Tabulka!AW25","v":0},{"$f":"+[7]Tabulka!AX25","v":{"v":0,"d":"0.00"}},{"$f":"+[7]Tabulka!AY25","v":0},{"$f":"+[7]Tabulka!AZ25","v":{"v":0,"d":"0.00"}},{"$f":"+[7]Tabulka!BA25","v":0},{"$f":"+[7]Tabulka!BB25","v":{"v":0,"d":"0.00"}},{"$f":"+[7]Tabulka!BC25","v":0},{"$f":"+[7]Tabulka!BD25","v":{"v":0,"d":"0.00"}},{"$f":"+[7]Tabulka!BE25","v":0},{"$f":"+[7]Tabulka!BF25","v":{"v":0,"d":"0.00"}},{"$f":"+[7]Tabulka!BG25","v":3},{"$f":"+[7]Tabulka!BH25","v":{"v":4.101020071683792,"d":"4.10"}},{"$f":"+[7]Tabulka!BI25","v":0},{"$f":"+[7]Tabulka!BJ25","v":{"v":0,"d":"0.00"}},{"$f":"+[7]Tabulka!AP25","v":{"v":0,"d":"0.00"}},{"$f":"+[7]Tabulka!AQ25","v":{"v":0,"d":"0.00"}},{"$f":"+[7]Tabulka!BM25","v":{"v":4.101020071683792,"d":"4.10"}},{"$f":"+[7]Tabulka!BN25","v":1},{"$f":"+[7]Tabulka!BO25","v":{"v":4.101020071683792,"d":"4.10"}}]
["8",{"$f":"[7]Tabulka!C26","v":"JEMELÍKOVÁ"},{"$f":"[7]Tabulka!D26","v":"Alice"},{"$f":"[7]Tabulka!E26","v":"1998-08-03"},{"$f":"[7]Tabulka!F26","v":"Frýdlant nad Ostravicí- SK"},{"$f":"[7]Tabulka!G26","v":"FM"},{"$f":"[7]Tabulka!H26","v":100},{"$f":"+[7]Tabulka!AU26","v":0},{"$f":"+[7]Tabulka!AV26","v":{"v":0,"d":"0.00"}},{"$f":"+[7]Tabulka!AW26","v":0},{"$f":"+[7]Tabulka!AX26","v":{"v":0,"d":"0.00"}},{"$f":"+[7]Tabulka!AY26","v":0},{"$f":"+[7]Tabulka!AZ26","v":{"v":0,"d":"0.00"}},{"$f":"+[7]Tabulka!BA26","v":3},{"$f":"+[7]Tabulka!BB26","v":{"v":4.101020071683792,"d":"4.10"}},{"$f":"+[7]Tabulka!BC26","v":0},{"$f":"+[7]Tabulka!BD26","v":{"v":0,"d":"0.00"}},{"$f":"+[7]Tabulka!BE26","v":0},{"$f":"+[7]Tabulka!BF26","v":{"v":0,"d":"0.00"}},{"$f":"+[7]Tabulka!BG26","v":0},{"$f":"+[7]Tabulka!BH26","v":{"v":0,"d":"0.00"}},{"$f":"+[7]Tabulka!BI26","v":0},{"$f":"+[7]Tabulka!BJ26","v":{"v":0,"d":"0.00"}},{"$f":"+[7]Tabulka!AP26","v":{"v":38.836601467813644,"d":"38.84"}},{"$f":"+[7]Tabulka!AQ26","v":{"v":4,"d":"4.00"}},{"$f":"+[7]Tabulka!BM26","v":{"v":4.101020071683792,"d":"4.10"}},{"$f":"+[7]Tabulka!BN26","v":1},{"$f":"+[7]Tabulka!BO26","v":{"v":4.101020071683792,"d":"4.10"}}]
["9",{"$f":"[7]Tabulka!C27","v":"VOZIHNOJOVÁ"},{"$f":"[7]Tabulka!D27","v":"Radka"},{"$f":"[7]Tabulka!E27","v":"1994-01-01"},{"$f":"[7]Tabulka!F27","v":"Havířov- Baník SKST"},{"$f":"[7]Tabulka!G27","v":"KA"},{"$f":"[7]Tabulka!H27","v":0},{"$f":"+[7]Tabulka!AU27","v":0},{"$f":"+[7]Tabulka!AV27","v":{"v":0,"d":"0.00"}},{"$f":"+[7]Tabulka!AW27","v":0},{"$f":"+[7]Tabulka!AX27","v":{"v":0,"d":"0.00"}},{"$f":"+[7]Tabulka!AY27","v":0},{"$f":"+[7]Tabulka!AZ27","v":{"v":0,"d":"0.00"}},{"$f":"+[7]Tabulka!BA27","v":0},{"$f":"+[7]Tabulka!BB27","v":{"v":0,"d":"0.00"}},{"$f":"+[7]Tabulka!BC27","v":0},{"$f":"+[7]Tabulka!BD27","v":{"v":0,"d":"0.00"}},{"$f":"+[7]Tabulka!BE27","v":3},{"$f":"+[7]Tabulka!BF27","v":{"v":4.101020071683792,"d":"4.10"}},{"$f":"+[7]Tabulka!BG27","v":0},{"$f":"+[7]Tabulka!BH27","v":{"v":0,"d":"0.00"}},{"$f":"+[7]Tabulka!BI27","v":0},{"$f":"+[7]Tabulka!BJ27","v":{"v":0,"d":"0.00"}},{"$f":"+[7]Tabulka!AP27","v":{"v":0,"d":"0.00"}},{"$f":"+[7]Tabulka!AQ27","v":{"v":0,"d":"0.00"}},{"$f":"+[7]Tabulka!BM27","v":{"v":4.101020071683792,"d":"4.10"}},{"$f":"+[7]Tabulka!BN27","v":1},{"$f":"+[7]Tabulka!BO27","v":{"v":4.101020071683792,"d":"4.10"}}]
["10",{"$f":"[7]Tabulka!C28","v":"DAŇOVÁ"},{"$f":"[7]Tabulka!D28","v":"Andrea"},{"$f":"[7]Tabulka!E28","v":"1997-03-28"},{"$f":"[7]Tabulka!F28","v":"Frýdlant nad Ostravicí- SK"},{"$f":"[7]Tabulka!G28","v":"FM"},{"$f":"[7]Tabulka!H28","v":100},{"$f":"+[7]Tabulka!AU28","v":0},{"$f":"+[7]Tabulka!AV28","v":{"v":0,"d":"0.00"}},{"$f":"+[7]Tabulka!AW28","v":0},{"$f":"+[7]Tabulka!AX28","v":{"v":0,"d":"0.00"}},{"$f":"+[7]Tabulka!AY28","v":0},{"$f":"+[7]Tabulka!AZ28","v":{"v":0,"d":"0.00"}},{"$f":"+[7]Tabulka!BA28","v":0},{"$f":"+[7]Tabulka!BB28","v":{"v":0,"d":"0.00"}},{"$f":"+[7]Tabulka!BC28","v":0},{"$f":"+[7]Tabulka!BD28","v":{"v":0,"d":"0.00"}},{"$f":"+[7]Tabulka!BE28","v":5},{"$f":"+[7]Tabulka!BF28","v":{"v":3.6127011759664778,"d":"3.61"}},{"$f":"+[7]Tabulka!BG28","v":0},{"$f":"+[7]Tabulka!BH28","v":{"v":0,"d":"0.00"}},{"$f":"+[7]Tabulka!BI28","v":0},{"$f":"+[7]Tabulka!BJ28","v":{"v":0,"d":"0.00"}},{"$f":"+[7]Tabulka!AP28","v":{"v":37.05514930345745,"d":"37.06"}},{"$f":"+[7]Tabulka!AQ28","v":{"v":3,"d":"3.00"}},{"$f":"+[7]Tabulka!BM28","v":{"v":3.6127011759664778,"d":"3.61"}},{"$f":"+[7]Tabulka!BN28","v":1},{"$f":"+[7]Tabulka!BO28","v":{"v":3.6127011759664778,"d":"3.61"}}]
["11",{"$f":"[7]Tabulka!C29","v":"OTISKOVÁ"},{"$f":"[7]Tabulka!D29","v":"Hana"},{"$f":"[7]Tabulka!E29","v":"2001-01-01"},{"$f":"[7]Tabulka!F29","v":"Ostrava- Poruba- DDM"},{"$f":"[7]Tabulka!G29","v":"OV"},{"$f":"[7]Tabulka!H29","v":0},{"$f":"+[7]Tabulka!AU29","v":0},{"$f":"+[7]Tabulka!AV29","v":{"v":0,"d":"0.00"}},{"$f":"+[7]Tabulka!AW29","v":0},{"$f":"+[7]Tabulka!AX29","v":{"v":0,"d":"0.00"}},{"$f":"+[7]Tabulka!AY29","v":0},{"$f":"+[7]Tabulka!AZ29","v":{"v":0,"d":"0.00"}},{"$f":"+[7]Tabulka!BA29","v":5},{"$f":"+[7]Tabulka!BB29","v":{"v":3.6127011759664778,"d":"3.61"}},{"$f":"+[7]Tabulka!BC29","v":0},{"$f":"+[7]Tabulka!BD29","v":{"v":0,"d":"0.00"}},{"$f":"+[7]Tabulka!BE29","v":0},{"$f":"+[7]Tabulka!BF29","v":{"v":0,"d":"0.00"}},{"$f":"+[7]Tabulka!BG29","v":0},{"$f":"+[7]Tabulka!BH29","v":{"v":0,"d":"0.00"}},{"$f":"+[7]Tabulka!BI29","v":0},{"$f":"+[7]Tabulka!BJ29","v":{"v":0,"d":"0.00"}},{"$f":"+[7]Tabulka!AP29","v":{"v":0,"d":"0.00"}},{"$f":"+[7]Tabulka!AQ29","v":{"v":0,"d":"0.00"}},{"$f":"+[7]Tabulka!BM29","v":{"v":3.6127011759664778,"d":"3.61"}},{"$f":"+[7]Tabulka!BN29","v":1},{"$f":"+[7]Tabulka!BO29","v":{"v":3.6127011759664778,"d":"3.61"}}]
[null,{"$f":"[7]Tabulka!C30","v":"ROZKYDALOVÁ"},{"$f":"[7]Tabulka!D30","v":"Eliška"},{"$f":"[7]Tabulka!E30","v":"2002-01-11"},{"$f":"[7]Tabulka!F30","v":"Frýdlant nad Ostravicí- SK"},{"$f":"[7]Tabulka!G30","v":"FM"},{"$f":"[7]Tabulka!H30","v":100},{"$f":"+[7]Tabulka!AU30","v":0},{"$f":"+[7]Tabulka!AV30","v":{"v":0,"d":"0.00"}},{"$f":"+[7]Tabulka!AW30","v":5},{"$f":"+[7]Tabulka!AX30","v":{"v":3.6127011759664778,"d":"3.61"}},{"$f":"+[7]Tabulka!AY30","v":0},{"$f":"+[7]Tabulka!AZ30","v":{"v":0,"d":"0.00"}},{"$f":"+[7]Tabulka!BA30","v":0},{"$f":"+[7]Tabulka!BB30","v":{"v":0,"d":"0.00"}},{"$f":"+[7]Tabulka!BC30","v":0},{"$f":"+[7]Tabulka!BD30","v":{"v":0,"d":"0.00"}},{"$f":"+[7]Tabulka!BE30","v":0},{"$f":"+[7]Tabulka!BF30","v":{"v":0,"d":"0.00"}},{"$f":"+[7]Tabulka!BG30","v":0},{"$f":"+[7]Tabulka!BH30","v":{"v":0,"d":"0.00"}},{"$f":"+[7]Tabulka!BI30","v":0},{"$f":"+[7]Tabulka!BJ30","v":{"v":0,"d":"0.00"}},{"$f":"+[7]Tabulka!AP30","v":{"v":18.710744742241364,"d":"18.71"}},{"$f":"+[7]Tabulka!AQ30","v":{"v":2,"d":"2.00"}},{"$f":"+[7]Tabulka!BM30","v":{"v":3.6127011759664778,"d":"3.61"}},{"$f":"+[7]Tabulka!BN30","v":1},{"$f":"+[7]Tabulka!BO30","v":{"v":3.6127011759664778,"d":"3.61"}}]
[null,{"$f":"[7]Tabulka!C31","v":"SEKEROVÁ"},{"$f":"[7]Tabulka!D31","v":"Zuzana"},{"$f":"[7]Tabulka!E31","v":"2002-01-01"},{"$f":"[7]Tabulka!F31","v":"Polanka- Sokol"},{"$f":"[7]Tabulka!G31","v":"OV"},{"$f":"[7]Tabulka!H31","v":0},{"$f":"+[7]Tabulka!AU31","v":0},{"$f":"+[7]Tabulka!AV31","v":{"v":0,"d":"0.00"}},{"$f":"+[7]Tabulka!AW31","v":0},{"$f":"+[7]Tabulka!AX31","v":{"v":0,"d":"0.00"}},{"$f":"+[7]Tabulka!AY31","v":0},{"$f":"+[7]Tabulka!AZ31","v":{"v":0,"d":"0.00"}},{"$f":"+[7]Tabulka!BA31","v":5},{"$f":"+[7]Tabulka!BB31","v":{"v":3.6127011759664778,"d":"3.61"}},{"$f":"+[7]Tabulka!BC31","v":0},{"$f":"+[7]Tabulka!BD31","v":{"v":0,"d":"0.00"}},{"$f":"+[7]Tabulka!BE31","v":0},{"$f":"+[7]Tabulka!BF31","v":{"v":0,"d":"0.00"}},{"$f":"+[7]Tabulka!BG31","v":0},{"$f":"+[7]Tabulka!BH31","v":{"v":0,"d":"0.00"}},{"$f":"+[7]Tabulka!BI31","v":0},{"$f":"+[7]Tabulka!BJ31","v":{"v":0,"d":"0.00"}},{"$f":"+[7]Tabulka!AP31","v":{"v":0,"d":"0.00"}},{"$f":"+[7]Tabulka!AQ31","v":{"v":0,"d":"0.00"}},{"$f":"+[7]Tabulka!BM31","v":{"v":3.6127011759664778,"d":"3.61"}},{"$f":"+[7]Tabulka!BN31","v":1},{"$f":"+[7]Tabulka!BO31","v":{"v":3.6127011759664778,"d":"3.61"}}]
[null,{"$f":"[7]Tabulka!C32","v":"STARÁ"},{"$f":"[7]Tabulka!D32","v":"Petra"},{"$f":"[7]Tabulka!E32","v":"1998-01-01"},{"$f":"[7]Tabulka!F32","v":"Český Těšín- SKST"},{"$f":"[7]Tabulka!G32","v":"KA"},{"$f":"[7]Tabulka!H32","v":0},{"$f":"+[7]Tabulka!AU32","v":0},{"$f":"+[7]Tabulka!AV32","v":{"v":0,"d":"0.00"}},{"$f":"+[7]Tabulka!AW32","v":0},{"$f":"+[7]Tabulka!AX32","v":{"v":0,"d":"0.00"}},{"$f":"+[7]Tabulka!AY32","v":0},{"$f":"+[7]Tabulka!AZ32","v":{"v":0,"d":"0.00"}},{"$f":"+[7]Tabulka!BA32","v":6},{"$f":"+[7]Tabulka!BB32","v":{"v":3.3907995218454317,"d":"3.39"}},{"$f":"+[7]Tabulka!BC32","v":0},{"$f":"+[7]Tabulka!BD32","v":{"v":0,"d":"0.00"}},{"$f":"+[7]Tabulka!BE32","v":0},{"$f":"+[7]Tabulka!BF32","v":{"v":0,"d":"0.00"}},{"$f":"+[7]Tabulka!BG32","v":0},{"$f":"+[7]Tabulka!BH32","v":{"v":0,"d":"0.00"}},{"$f":"+[7]Tabulka!BI32","v":0},{"$f":"+[7]Tabulka!BJ32","v":{"v":0,"d":"0.00"}},{"$f":"+[7]Tabulka!AP32","v":{"v":0,"d":"0.00"}},{"$f":"+[7]Tabulka!AQ32","v":{"v":0,"d":"0.00"}},{"$f":"+[7]Tabulka!BM32","v":{"v":3.3907995218454317,"d":"3.39"}},{"$f":"+[7]Tabulka!BN32","v":1},{"$f":"+[7]Tabulka!BO32","v":{"v":3.3907995218454317,"d":"3.39"}}]
["11",{"$f":"[7]Tabulka!C33","v":"GREIPLOVÁ"},{"$f":"[7]Tabulka!D33","v":"Barbora"},{"$f":"[7]Tabulka!E33","v":"2000-03-22"},{"$f":"[7]Tabulka!F33","v":"Hlučín- DDM"},{"$f":"[7]Tabulka!G33","v":"OP"},{"$f":"[7]Tabulka!H33","v":100},{"$f":"+[7]Tabulka!AU33","v":7},{"$f":"+[7]Tabulka!AV33","v":{"v":3.1825276537773326,"d":"3.18"}},{"$f":"+[7]Tabulka!AW33","v":0},{"$f":"+[7]Tabulka!AX33","v":{"v":0,"d":"0.00"}},{"$f":"+[7]Tabulka!AY33","v":0},{"$f":"+[7]Tabulka!AZ33","v":{"v":0,"d":"0.00"}},{"$f":"+[7]Tabulka!BA33","v":0},{"$f":"+[7]Tabulka!BB33","v":{"v":0,"d":"0.00"}},{"$f":"+[7]Tabulka!BC33","v":0},{"$f":"+[7]Tabulka!BD33","v":{"v":0,"d":"0.00"}},{"$f":"+[7]Tabulka!BE33","v":0},{"$f":"+[7]Tabulka!BF33","v":{"v":0,"d":"0.00"}},{"$f":"+[7]Tabulka!BG33","v":0},{"$f":"+[7]Tabulka!BH33","v":{"v":0,"d":"0.00"}},{"$f":"+[7]Tabulka!BI33","v":0},{"$f":"+[7]Tabulka!BJ33","v":{"v":0,"d":"0.00"}},{"$f":"+[7]Tabulka!AP33","v":{"v":0,"d":"0.00"}},{"$f":"+[7]Tabulka!AQ33","v":{"v":0,"d":"0.00"}},{"$f":"+[7]Tabulka!BM33","v":{"v":3.1825276537773326,"d":"3.18"}},{"$f":"+[7]Tabulka!BN33","v":1},{"$f":"+[7]Tabulka!BO33","v":{"v":3.1825276537773326,"d":"3.18"}}]
[null,{"$f":"[7]Tabulka!C34","v":"HRABCOVÁ"},{"$f":"[7]Tabulka!D34","v":"Bára"},{"$f":"[7]Tabulka!E34","v":"1999-01-01"},{"$f":"[7]Tabulka!F34","v":"Kateřinky- Sokol TJ"},{"$f":"[7]Tabulka!G34","v":"OP"},{"$f":"[7]Tabulka!H34","v":0},{"$f":"+[7]Tabulka!AU34","v":0},{"$f":"+[7]Tabulka!AV34","v":{"v":0,"d":"0.00"}},{"$f":"+[7]Tabulka!AW34","v":7},{"$f":"+[7]Tabulka!AX34","v":{"v":3.1825276537773326,"d":"3.18"}},{"$f":"+[7]Tabulka!AY34","v":0},{"$f":"+[7]Tabulka!AZ34","v":{"v":0,"d":"0.00"}},{"$f":"+[7]Tabulka!BA34","v":0},{"$f":"+[7]Tabulka!BB34","v":{"v":0,"d":"0.00"}},{"$f":"+[7]Tabulka!BC34","v":0},{"$f":"+[7]Tabulka!BD34","v":{"v":0,"d":"0.00"}},{"$f":"+[7]Tabulka!BE34","v":0},{"$f":"+[7]Tabulka!BF34","v":{"v":0,"d":"0.00"}},{"$f":"+[7]Tabulka!BG34","v":0},{"$f":"+[7]Tabulka!BH34","v":{"v":0,"d":"0.00"}},{"$f":"+[7]Tabulka!BI34","v":0},{"$f":"+[7]Tabulka!BJ34","v":{"v":0,"d":"0.00"}},{"$f":"+[7]Tabulka!AP34","v":{"v":0,"d":"0.00"}},{"$f":"+[7]Tabulka!AQ34","v":{"v":0,"d":"0.00"}},{"$f":"+[7]Tabulka!BM34","v":{"v":3.1825276537773326,"d":"3.18"}},{"$f":"+[7]Tabulka!BN34","v":1},{"$f":"+[7]Tabulka!BO34","v":{"v":3.1825276537773326,"d":"3.18"}}]
[null,{"$f":"[7]Tabulka!C35","v":"KOLONIČNÁ"},{"$f":"[7]Tabulka!D35","v":"Markéta"},{"$f":"[7]Tabulka!E35","v":"2002-12-12"},{"$f":"[7]Tabulka!F35","v":"Hrabůvka- Sokol TJ"},{"$f":"[7]Tabulka!G35","v":"OV"},{"$f":"[7]Tabulka!H35","v":100},{"$f":"+[7]Tabulka!AU35","v":0},{"$f":"+[7]Tabulka!AV35","v":{"v":0,"d":"0.00"}},{"$f":"+[7]Tabulka!AW35","v":0},{"$f":"+[7]Tabulka!AX35","v":{"v":0,"d":"0.00"}},{"$f":"+[7]Tabulka!AY35","v":0},{"$f":"+[7]Tabulka!AZ35","v":{"v":0,"d":"0.00"}},{"$f":"+[7]Tabulka!BA35","v":0},{"$f":"+[7]Tabulka!BB35","v":{"v":0,"d":"0.00"}},{"$f":"+[7]Tabulka!BC35","v":0},{"$f":"+[7]Tabulka!BD35","v":{"v":0,"d":"0.00"}},{"$f":"+[7]Tabulka!BE35","v":7},{"$f":"+[7]Tabulka!BF35","v":{"v":3.1825276537773326,"d":"3.18"}},{"$f":"+[7]Tabulka!BG35","v":0},{"$f":"+[7]Tabulka!BH35","v":{"v":0,"d":"0.00"}},{"$f":"+[7]Tabulka!BI35","v":0},{"$f":"+[7]Tabulka!BJ35","v":{"v":0,"d":"0.00"}},{"$f":"+[7]Tabulka!AP35","v":{"v":16.5159362137881,"d":"16.52"}},{"$f":"+[7]Tabulka!AQ35","v":{"v":2,"d":"2.00"}},{"$f":"+[7]Tabulka!BM35","v":{"v":3.1825276537773326,"d":"3.18"}},{"$f":"+[7]Tabulka!BN35","v":1},{"$f":"+[7]Tabulka!BO35","v":{"v":3.1825276537773326,"d":"3.18"}}]
[null,{"$f":"[7]Tabulka!C36","v":"PANKOVÁ"},{"$f":"[7]Tabulka!D36","v":"Lenka"},{"$f":"[7]Tabulka!E36","v":"1999-01-01"},{"$f":"[7]Tabulka!F36","v":"Vratimov- MG Odra Gas TTC"},{"$f":"[7]Tabulka!G36","v":"OV"},{"$f":"[7]Tabulka!H36","v":0},{"$f":"+[7]Tabulka!AU36","v":7},{"$f":"+[7]Tabulka!AV36","v":{"v":3.1825276537773326,"d":"3.18"}},{"$f":"+[7]Tabulka!AW36","v":0},{"$f":"+[7]Tabulka!AX36","v":{"v":0,"d":"0.00"}},{"$f":"+[7]Tabulka!AY36","v":0},{"$f":"+[7]Tabulka!AZ36","v":{"v":0,"d":"0.00"}},{"$f":"+[7]Tabulka!BA36","v":0},{"$f":"+[7]Tabulka!BB36","v":{"v":0,"d":"0.00"}},{"$f":"+[7]Tabulka!BC36","v":0},{"$f":"+[7]Tabulka!BD36","v":{"v":0,"d":"0.00"}},{"$f":"+[7]Tabulka!BE36","v":0},{"$f":"+[7]Tabulka!BF36","v":{"v":0,"d":"0.00"}},{"$f":"+[7]Tabulka!BG36","v":0},{"$f":"+[7]Tabulka!BH36","v":{"v":0,"d":"0.00"}},{"$f":"+[7]Tabulka!BI36","v":0},{"$f":"+[7]Tabulka!BJ36","v":{"v":0,"d":"0.00"}},{"$f":"+[7]Tabulka!AP36","v":{"v":0,"d":"0.00"}},{"$f":"+[7]Tabulka!AQ36","v":{"v":0,"d":"0.00"}},{"$f":"+[7]Tabulka!BM36","v":{"v":3.1825276537773326,"d":"3.18"}},{"$f":"+[7]Tabulka!BN36","v":1},{"$f":"+[7]Tabulka!BO36","v":{"v":3.1825276537773326,"d":"3.18"}}]
[null,{"$f":"[7]Tabulka!C37","v":"SMIEŠKOVÁ"},{"$f":"[7]Tabulka!D37","v":"Adéla"},{"$f":"[7]Tabulka!E37","v":"1999-06-08"},{"$f":"[7]Tabulka!F37","v":"Hrabůvka- Sokol TJ"},{"$f":"[7]Tabulka!G37","v":"OV"},{"$f":"[7]Tabulka!H37","v":100},{"$f":"+[7]Tabulka!AU37","v":0},{"$f":"+[7]Tabulka!AV37","v":{"v":0,"d":"0.00"}},{"$f":"+[7]Tabulka!AW37","v":0},{"$f":"+[7]Tabulka!AX37","v":{"v":0,"d":"0.00"}},{"$f":"+[7]Tabulka!AY37","v":0},{"$f":"+[7]Tabulka!AZ37","v":{"v":0,"d":"0.00"}},{"$f":"+[7]Tabulka!BA37","v":0},{"$f":"+[7]Tabulka!BB37","v":{"v":0,"d":"0.00"}},{"$f":"+[7]Tabulka!BC37","v":0},{"$f":"+[7]Tabulka!BD37","v":{"v":0,"d":"0.00"}},{"$f":"+[7]Tabulka!BE37","v":7},{"$f":"+[7]Tabulka!BF37","v":{"v":3.1825276537773326,"d":"3.18"}},{"$f":"+[7]Tabulka!BG37","v":0},{"$f":"+[7]Tabulka!BH37","v":{"v":0,"d":"0.00"}},{"$f":"+[7]Tabulka!BI37","v":0},{"$f":"+[7]Tabulka!BJ37","v":{"v":0,"d":"0.00"}},{"$f":"+[7]Tabulka!AP37","v":{"v":22.372203173789917,"d":"22.37"}},{"$f":"+[7]Tabulka!AQ37","v":{"v":3,"d":"3.00"}},{"$f":"+[7]Tabulka!BM37","v":{"v":3.1825276537773326,"d":"3.18"}},{"$f":"+[7]Tabulka!BN37","v":1},{"$f":"+[7]Tabulka!BO37","v":{"v":3.1825276537773326,"d":"3.18"}}]
[null,{"$f":"[7]Tabulka!C38","v":"ADÁMKOVÁ"},{"$f":"[7]Tabulka!D38","v":"Karin"},{"$f":"[7]Tabulka!E38","v":"1994-11-27"},{"$f":"[7]Tabulka!F38","v":"Frýdlant nad Ostravicí- SK"},{"$f":"[7]Tabulka!G38","v":"FM"},{"$f":"[7]Tabulka!H38","v":100},{"$f":"+[7]Tabulka!AU38","v":0},{"$f":"+[7]Tabulka!AV38","v":{"v":0,"d":"0.00"}},{"$f":"+[7]Tabulka!AW38","v":0},{"$f":"+[7]Tabulka!AX38","v":{"v":0,"d":"0.00"}},{"$f":"+[7]Tabulka!AY38","v":0},{"$f":"+[7]Tabulka!AZ38","v":{"v":0,"d":"0.00"}},{"$f":"+[7]Tabulka!BA38","v":0},{"$f":"+[7]Tabulka!BB38","v":{"v":0,"d":"0.00"}},{"$f":"+[7]Tabulka!BC38","v":0},{"$f":"+[7]Tabulka!BD38","v":{"v":0,"d":"0.00"}},{"$f":"+[7]Tabulka!BE38","v":0},{"$f":"+[7]Tabulka!BF38","v":{"v":0,"d":"0.00"}},{"$f":"+[7]Tabulka!BG38","v":0},{"$f":"+[7]Tabulka!BH38","v":{"v":0,"d":"0.00"}},{"$f":"+[7]Tabulka!BI38","v":0},{"$f":"+[7]Tabulka!BJ38","v":{"v":0,"d":"0.00"}},{"$f":"+[7]Tabulka!AP38","v":{"v":0,"d":"0.00"}},{"$f":"+[7]Tabulka!AQ38","v":{"v":0,"d":"0.00"}},{"$f":"+[7]Tabulka!BM38","v":{"v":0,"d":"0.00"}},{"$f":"+[7]Tabulka!BN38","v":0},{"$f":"+[7]Tabulka!BO38","v":{"v":0,"d":"0.00"}}]
[null,{"$f":"[7]Tabulka!C39","v":"ANTLOVÁ"},{"$f":"[7]Tabulka!D39","v":"Vanesa"},{"$f":"[7]Tabulka!E39","v":"1997-06-26"},{"$f":"[7]Tabulka!F39","v":"Havířov- CSVČ sv. Jana Boska"},{"$f":"[7]Tabulka!G39","v":"KA"},{"$f":"[7]Tabulka!H39","v":100},{"$f":"+[7]Tabulka!AU39","v":0},{"$f":"+[7]Tabulka!AV39","v":{"v":0,"d":"0.00"}},{"$f":"+[7]Tabulka!AW39","v":0},{"$f":"+[7]Tabulka!AX39","v":{"v":0,"d":"0.00"}},{"$f":"+[7]Tabulka!AY39","v":0},{"$f":"+[7]Tabulka!AZ39","v":{"v":0,"d":"0.00"}},{"$f":"+[7]Tabulka!BA39","v":0},{"$f":"+[7]Tabulka!BB39","v":{"v":0,"d":"0.00"}},{"$f":"+[7]Tabulka!BC39","v":0},{"$f":"+[7]Tabulka!BD39","v":{"v":0,"d":"0.00"}},{"$f":"+[7]Tabulka!BE39","v":0},{"$f":"+[7]Tabulka!BF39","v":{"v":0,"d":"0.00"}},{"$f":"+[7]Tabulka!BG39","v":0},{"$f":"+[7]Tabulka!BH39","v":{"v":0,"d":"0.00"}},{"$f":"+[7]Tabulka!BI39","v":0},{"$f":"+[7]Tabulka!BJ39","v":{"v":0,"d":"0.00"}},{"$f":"+[7]Tabulka!AP39","v":{"v":0,"d":"0.00"}},{"$f":"+[7]Tabulka!AQ39","v":{"v":0,"d":"0.00"}},{"$f":"+[7]Tabulka!BM39","v":{"v":0,"d":"0.00"}},{"$f":"+[7]Tabulka!BN39","v":0},{"$f":"+[7]Tabulka!BO39","v":{"v":0,"d":"0.00"}}]
[null,{"$f":"[7]Tabulka!C40","v":"HRABCOVÁ"},{"$f":"[7]Tabulka!D40","v":"Anna"},{"$f":"[7]Tabulka!E40","v":"2001-11-27"},{"$f":"[7]Tabulka!F40","v":"Frýdlant nad Ostravicí- SK"},{"$f":"[7]Tabulka!G40","v":"FM"},{"$f":"[7]Tabulka!H40","v":100},{"$f":"+[7]Tabulka!AU40","v":0},{"$f":"+[7]Tabulka!AV40","v":{"v":0,"d":"0.00"}},{"$f":"+[7]Tabulka!AW40","v":0},{"$f":"+[7]Tabulka!AX40","v":{"v":0,"d":"0.00"}},{"$f":"+[7]Tabulka!AY40","v":0},{"$f":"+[7]Tabulka!AZ40","v":{"v":0,"d":"0.00"}},{"$f":"+[7]Tabulka!BA40","v":0},{"$f":"+[7]Tabulka!BB40","v":{"v":0,"d":"0.00"}},{"$f":"+[7]Tabulka!BC40","v":0},{"$f":"+[7]Tabulka!BD40","v":{"v":0,"d":"0.00"}},{"$f":"+[7]Tabulka!BE40","v":0},{"$f":"+[7]Tabulka!BF40","v":{"v":0,"d":"0.00"}},{"$f":"+[7]Tabulka!BG40","v":0},{"$f":"+[7]Tabulka!BH40","v":{"v":0,"d":"0.00"}},{"$f":"+[7]Tabulka!BI40","v":0},{"$f":"+[7]Tabulka!BJ40","v":{"v":0,"d":"0.00"}},{"$f":"+[7]Tabulka!AP40","v":{"v":17.702804814644132,"d":"17.70"}},{"$f":"+[7]Tabulka!AQ40","v":{"v":2,"d":"2.00"}},{"$f":"+[7]Tabulka!BM40","v":{"v":0,"d":"0.00"}},{"$f":"+[7]Tabulka!BN40","v":0},{"$f":"+[7]Tabulka!BO40","v":{"v":0,"d":"0.00"}}]
[null,{"$f":"[7]Tabulka!C41","v":"HRUDOVÁ"},{"$f":"[7]Tabulka!D41","v":"Eliška"},{"$f":"[7]Tabulka!E41","v":"1996-05-16"},{"$f":"[7]Tabulka!F41","v":"Frýdlant nad Ostravicí- SK"},{"$f":"[7]Tabulka!G41","v":"FM"},{"$f":"[7]Tabulka!H41","v":100},{"$f":"+[7]Tabulka!AU41","v":0},{"$f":"+[7]Tabulka!AV41","v":{"v":0,"d":"0.00"}},{"$f":"+[7]Tabulka!AW41","v":0},{"$f":"+[7]Tabulka!AX41","v":{"v":0,"d":"0.00"}},{"$f":"+[7]Tabulka!AY41","v":0},{"$f":"+[7]Tabulka!AZ41","v":{"v":0,"d":"0.00"}},{"$f":"+[7]Tabulka!BA41","v":0},{"$f":"+[7]Tabulka!BB41","v":{"v":0,"d":"0.00"}},{"$f":"+[7]Tabulka!BC41","v":0},{"$f":"+[7]Tabulka!BD41","v":{"v":0,"d":"0.00"}},{"$f":"+[7]Tabulka!BE41","v":0},{"$f":"+[7]Tabulka!BF41","v":{"v":0,"d":"0.00"}},{"$f":"+[7]Tabulka!BG41","v":0},{"$f":"+[7]Tabulka!BH41","v":{"v":0,"d":"0.00"}},{"$f":"+[7]Tabulka!BI41","v":0},{"$f":"+[7]Tabulka!BJ41","v":{"v":0,"d":"0.00"}},{"$f":"+[7]Tabulka!AP41","v":{"v":26.63581469031012,"d":"26.64"}},{"$f":"+[7]Tabulka!AQ41","v":{"v":2,"d":"2.00"}},{"$f":"+[7]Tabulka!BM41","v":{"v":0,"d":"0.00"}},{"$f":"+[7]Tabulka!BN41","v":0},{"$f":"+[7]Tabulka!BO41","v":{"v":0,"d":"0.00"}}]
[null,{"$f":"[7]Tabulka!C42","v":"JANÁSKOVÁ"},{"$f":"[7]Tabulka!D42","v":"Iva"},{"$f":"[7]Tabulka!E42","v":"1995-09-13"},{"$f":"[7]Tabulka!F42","v":"Ostrava- Mittal TJ"},{"$f":"[7]Tabulka!G42","v":"OV"},{"$f":"[7]Tabulka!H42","v":100},{"$f":"+[7]Tabulka!AU42","v":0},{"$f":"+[7]Tabulka!AV42","v":{"v":0,"d":"0.00"}},{"$f":"+[7]Tabulka!AW42","v":0},{"$f":"+[7]Tabulka!AX42","v":{"v":0,"d":"0.00"}},{"$f":"+[7]Tabulka!AY42","v":0},{"$f":"+[7]Tabulka!AZ42","v":{"v":0,"d":"0.00"}},{"$f":"+[7]Tabulka!BA42","v":0},{"$f":"+[7]Tabulka!BB42","v":{"v":0,"d":"0.00"}},{"$f":"+[7]Tabulka!BC42","v":0},{"$f":"+[7]Tabulka!BD42","v":{"v":0,"d":"0.00"}},{"$f":"+[7]Tabulka!BE42","v":0},{"$f":"+[7]Tabulka!BF42","v":{"v":0,"d":"0.00"}},{"$f":"+[7]Tabulka!BG42","v":0},{"$f":"+[7]Tabulka!BH42","v":{"v":0,"d":"0.00"}},{"$f":"+[7]Tabulka!BI42","v":0},{"$f":"+[7]Tabulka!BJ42","v":{"v":0,"d":"0.00"}},{"$f":"+[7]Tabulka!AP42","v":{"v":11.31490364584015,"d":"11.31"}},{"$f":"+[7]Tabulka!AQ42","v":{"v":1,"d":"1.00"}},{"$f":"+[7]Tabulka!BM42","v":{"v":0,"d":"0.00"}},{"$f":"+[7]Tabulka!BN42","v":0},{"$f":"+[7]Tabulka!BO42","v":{"v":0,"d":"0.00"}}]
[null,{"$f":"[7]Tabulka!C43","v":"JURDZINOVÁ"},{"$f":"[7]Tabulka!D43","v":"Petra"},{"$f":"[7]Tabulka!E43","v":"1996-01-07"},{"$f":"[7]Tabulka!F43","v":"Ostrava- Mittal TJ"},{"$f":"[7]Tabulka!G43","v":"OV"},{"$f":"[7]Tabulka!H43","v":100},{"$f":"+[7]Tabulka!AU43","v":0},{"$f":"+[7]Tabulka!AV43","v":{"v":0,"d":"0.00"}},{"$f":"+[7]Tabulka!AW43","v":0},{"$f":"+[7]Tabulka!AX43","v":{"v":0,"d":"0.00"}},{"$f":"+[7]Tabulka!AY43","v":0},{"$f":"+[7]Tabulka!AZ43","v":{"v":0,"d":"0.00"}},{"$f":"+[7]Tabulka!BA43","v":0},{"$f":"+[7]Tabulka!BB43","v":{"v":0,"d":"0.00"}},{"$f":"+[7]Tabulka!BC43","v":0},{"$f":"+[7]Tabulka!BD43","v":{"v":0,"d":"0.00"}},{"$f":"+[7]Tabulka!BE43","v":0},{"$f":"+[7]Tabulka!BF43","v":{"v":0,"d":"0.00"}},{"$f":"+[7]Tabulka!BG43","v":0},{"$f":"+[7]Tabulka!BH43","v":{"v":0,"d":"0.00"}},{"$f":"+[7]Tabulka!BI43","v":0},{"$f":"+[7]Tabulka!BJ43","v":{"v":0,"d":"0.00"}},{"$f":"+[7]Tabulka!AP43","v":{"v":15.534615056655854,"d":"15.53"}},{"$f":"+[7]Tabulka!AQ43","v":{"v":1,"d":"1.00"}},{"$f":"+[7]Tabulka!BM43","v":{"v":0,"d":"0.00"}},{"$f":"+[7]Tabulka!BN43","v":0},{"$f":"+[7]Tabulka!BO43","v":{"v":0,"d":"0.00"}}]
[null,{"$f":"[7]Tabulka!C44","v":"KAŠNÍKOVÁ"},{"$f":"[7]Tabulka!D44","v":"Denisa"},{"$f":"[7]Tabulka!E44","v":"1996-04-30"},{"$f":"[7]Tabulka!F44","v":"Havířov- Baník SKST"},{"$f":"[7]Tabulka!G44","v":"KA"},{"$f":"[7]Tabulka!H44","v":100},{"$f":"+[7]Tabulka!AU44","v":0},{"$f":"+[7]Tabulka!AV44","v":{"v":0,"d":"0.00"}},{"$f":"+[7]Tabulka!AW44","v":0},{"$f":"+[7]Tabulka!AX44","v":{"v":0,"d":"0.00"}},{"$f":"+[7]Tabulka!AY44","v":0},{"$f":"+[7]Tabulka!AZ44","v":{"v":0,"d":"0.00"}},{"$f":"+[7]Tabulka!BA44","v":0},{"$f":"+[7]Tabulka!BB44","v":{"v":0,"d":"0.00"}},{"$f":"+[7]Tabulka!BC44","v":0},{"$f":"+[7]Tabulka!BD44","v":{"v":0,"d":"0.00"}},{"$f":"+[7]Tabulka!BE44","v":0},{"$f":"+[7]Tabulka!BF44","v":{"v":0,"d":"0.00"}},{"$f":"+[7]Tabulka!BG44","v":0},{"$f":"+[7]Tabulka!BH44","v":{"v":0,"d":"0.00"}},{"$f":"+[7]Tabulka!BI44","v":0},{"$f":"+[7]Tabulka!BJ44","v":{"v":0,"d":"0.00"}},{"$f":"+[7]Tabulka!AP44","v":{"v":75.22920571529552,"d":"75.23"}},{"$f":"+[7]Tabulka!AQ44","v":{"v":4,"d":"4.00"}},{"$f":"+[7]Tabulka!BM44","v":{"v":0,"d":"0.00"}},{"$f":"+[7]Tabulka!BN44","v":0},{"$f":"+[7]Tabulka!BO44","v":{"v":0,"d":"0.00"}}]
[null,{"$f":"[7]Tabulka!C45","v":"KOTKOVÁ"},{"$f":"[7]Tabulka!D45","v":"Daniela"},{"$f":"[7]Tabulka!E45","v":"2000-12-27"},{"$f":"[7]Tabulka!F45","v":"Frýdlant nad Ostravicí- SK"},{"$f":"[7]Tabulka!G45","v":"FM"},{"$f":"[7]Tabulka!H45","v":100},{"$f":"+[7]Tabulka!AU45","v":0},{"$f":"+[7]Tabulka!AV45","v":{"v":0,"d":"0.00"}},{"$f":"+[7]Tabulka!AW45","v":0},{"$f":"+[7]Tabulka!AX45","v":{"v":0,"d":"0.00"}},{"$f":"+[7]Tabulka!AY45","v":0},{"$f":"+[7]Tabulka!AZ45","v":{"v":0,"d":"0.00"}},{"$f":"+[7]Tabulka!BA45","v":0},{"$f":"+[7]Tabulka!BB45","v":{"v":0,"d":"0.00"}},{"$f":"+[7]Tabulka!BC45","v":0},{"$f":"+[7]Tabulka!BD45","v":{"v":0,"d":"0.00"}},{"$f":"+[7]Tabulka!BE45","v":0},{"$f":"+[7]Tabulka!BF45","v":{"v":0,"d":"0.00"}},{"$f":"+[7]Tabulka!BG45","v":0},{"$f":"+[7]Tabulka!BH45","v":{"v":0,"d":"0.00"}},{"$f":"+[7]Tabulka!BI45","v":0},{"$f":"+[7]Tabulka!BJ45","v":{"v":0,"d":"0.00"}},{"$f":"+[7]Tabulka!AP45","v":{"v":15.055550498795583,"d":"15.06"}},{"$f":"+[7]Tabulka!AQ45","v":{"v":2,"d":"2.00"}},{"$f":"+[7]Tabulka!BM45","v":{"v":0,"d":"0.00"}},{"$f":"+[7]Tabulka!BN45","v":0},{"$f":"+[7]Tabulka!BO45","v":{"v":0,"d":"0.00"}}]
[null,{"$f":"[7]Tabulka!C46","v":"LUKÁŠOVÁ"},{"$f":"[7]Tabulka!D46","v":"Petra"},{"$f":"[7]Tabulka!E46","v":"1995-04-10"},{"$f":"[7]Tabulka!F46","v":"Orlová- Slávie SK"},{"$f":"[7]Tabulka!G46","v":"KA"},{"$f":"[7]Tabulka!H46","v":100},{"$f":"+[7]Tabulka!AU46","v":0},{"$f":"+[7]Tabulka!AV46","v":{"v":0,"d":"0.00"}},{"$f":"+[7]Tabulka!AW46","v":0},{"$f":"+[7]Tabulka!AX46","v":{"v":0,"d":"0.00"}},{"$f":"+[7]Tabulka!AY46","v":0},{"$f":"+[7]Tabulka!AZ46","v":{"v":0,"d":"0.00"}},{"$f":"+[7]Tabulka!BA46","v":0},{"$f":"+[7]Tabulka!BB46","v":{"v":0,"d":"0.00"}},{"$f":"+[7]Tabulka!BC46","v":0},{"$f":"+[7]Tabulka!BD46","v":{"v":0,"d":"0.00"}},{"$f":"+[7]Tabulka!BE46","v":0},{"$f":"+[7]Tabulka!BF46","v":{"v":0,"d":"0.00"}},{"$f":"+[7]Tabulka!BG46","v":0},{"$f":"+[7]Tabulka!BH46","v":{"v":0,"d":"0.00"}},{"$f":"+[7]Tabulka!BI46","v":0},{"$f":"+[7]Tabulka!BJ46","v":{"v":0,"d":"0.00"}},{"$f":"+[7]Tabulka!AP46","v":{"v":0,"d":"0.00"}},{"$f":"+[7]Tabulka!AQ46","v":{"v":0,"d":"0.00"}},{"$f":"+[7]Tabulka!BM46","v":{"v":0,"d":"0.00"}},{"$f":"+[7]Tabulka!BN46","v":0},{"$f":"+[7]Tabulka!BO46","v":{"v":0,"d":"0.00"}}]
[null,{"$f":"[7]Tabulka!C47","v":"MYNÁŘOVÁ"},{"$f":"[7]Tabulka!D47","v":"Karolína"},{"$f":"[7]Tabulka!E47","v":"1996-09-24"},{"$f":"[7]Tabulka!F47","v":"Havířov- Baník SKST"},{"$f":"[7]Tabulka!G47","v":"KA"},{"$f":"[7]Tabulka!H47","v":100},{"$f":"+[7]Tabulka!AU47","v":0},{"$f":"+[7]Tabulka!AV47","v":{"v":0,"d":"0.00"}},{"$f":"+[7]Tabulka!AW47","v":0},{"$f":"+[7]Tabulka!AX47","v":{"v":0,"d":"0.00"}},{"$f":"+[7]Tabulka!AY47","v":0},{"$f":"+[7]Tabulka!AZ47","v":{"v":0,"d":"0.00"}},{"$f":"+[7]Tabulka!BA47","v":0},{"$f":"+[7]Tabulka!BB47","v":{"v":0,"d":"0.00"}},{"$f":"+[7]Tabulka!BC47","v":0},{"$f":"+[7]Tabulka!BD47","v":{"v":0,"d":"0.00"}},{"$f":"+[7]Tabulka!BE47","v":0},{"$f":"+[7]Tabulka!BF47","v":{"v":0,"d":"0.00"}},{"$f":"+[7]Tabulka!BG47","v":0},{"$f":"+[7]Tabulka!BH47","v":{"v":0,"d":"0.00"}},{"$f":"+[7]Tabulka!BI47","v":0},{"$f":"+[7]Tabulka!BJ47","v":{"v":0,"d":"0.00"}},{"$f":"+[7]Tabulka!AP47","v":{"v":0,"d":"0.00"}},{"$f":"+[7]Tabulka!AQ47","v":{"v":0,"d":"0.00"}},{"$f":"+[7]Tabulka!BM47","v":{"v":0,"d":"0.00"}},{"$f":"+[7]Tabulka!BN47","v":0},{"$f":"+[7]Tabulka!BO47","v":{"v":0,"d":"0.00"}}]
[null,{"$f":"[7]Tabulka!C48","v":"NEMÉTHOVÁ"},{"$f":"[7]Tabulka!D48","v":"Štěpánka"},{"$f":"[7]Tabulka!E48","v":"1999-01-01"},{"$f":"[7]Tabulka!F48","v":"Kopřivnice- Tatra  ASK"},{"$f":"[7]Tabulka!G48","v":"NJ"},{"$f":"[7]Tabulka!H48","v":0},{"$f":"+[7]Tabulka!AU48","v":0},{"$f":"+[7]Tabulka!AV48","v":{"v":0,"d":"0.00"}},{"$f":"+[7]Tabulka!AW48","v":0},{"$f":"+[7]Tabulka!AX48","v":{"v":0,"d":"0.00"}},{"$f":"+[7]Tabulka!AY48","v":0},{"$f":"+[7]Tabulka!AZ48","v":{"v":0,"d":"0.00"}},{"$f":"+[7]Tabulka!BA48","v":0},{"$f":"+[7]Tabulka!BB48","v":{"v":0,"d":"0.00"}},{"$f":"+[7]Tabulka!BC48","v":0},{"$f":"+[7]Tabulka!BD48","v":{"v":0,"d":"0.00"}},{"$f":"+[7]Tabulka!BE48","v":0},{"$f":"+[7]Tabulka!BF48","v":{"v":0,"d":"0.00"}},{"$f":"+[7]Tabulka!BG48","v":0},{"$f":"+[7]Tabulka!BH48","v":{"v":0,"d":"0.00"}},{"$f":"+[7]Tabulka!BI48","v":0},{"$f":"+[7]Tabulka!BJ48","v":{"v":0,"d":"0.00"}},{"$f":"+[7]Tabulka!AP48","v":{"v":5.2880034947714405,"d":"5.29"}},{"$f":"+[7]Tabulka!AQ48","v":{"v":1,"d":"1.00"}},{"$f":"+[7]Tabulka!BM48","v":{"v":0,"d":"0.00"}},{"$f":"+[7]Tabulka!BN48","v":0},{"$f":"+[7]Tabulka!BO48","v":{"v":0,"d":"0.00"}}]
[null,{"$f":"[7]Tabulka!C49","v":"RUSNÁKOVÁ"},{"$f":"[7]Tabulka!D49","v":"Markéta"},{"$f":"[7]Tabulka!E49","v":"1998-01-20"},{"$f":"[7]Tabulka!F49","v":"Ropice- Sokol TJ"},{"$f":"[7]Tabulka!G49","v":"FM"},{"$f":"[7]Tabulka!H49","v":100},{"$f":"+[7]Tabulka!AU49","v":0},{"$f":"+[7]Tabulka!AV49","v":{"v":0,"d":"0.00"}},{"$f":"+[7]Tabulka!AW49","v":0},{"$f":"+[7]Tabulka!AX49","v":{"v":0,"d":"0.00"}},{"$f":"+[7]Tabulka!AY49","v":0},{"$f":"+[7]Tabulka!AZ49","v":{"v":0,"d":"0.00"}},{"$f":"+[7]Tabulka!BA49","v":0},{"$f":"+[7]Tabulka!BB49","v":{"v":0,"d":"0.00"}},{"$f":"+[7]Tabulka!BC49","v":0},{"$f":"+[7]Tabulka!BD49","v":{"v":0,"d":"0.00"}},{"$f":"+[7]Tabulka!BE49","v":0},{"$f":"+[7]Tabulka!BF49","v":{"v":0,"d":"0.00"}},{"$f":"+[7]Tabulka!BG49","v":0},{"$f":"+[7]Tabulka!BH49","v":{"v":0,"d":"0.00"}},{"$f":"+[7]Tabulka!BI49","v":0},{"$f":"+[7]Tabulka!BJ49","v":{"v":0,"d":"0.00"}},{"$f":"+[7]Tabulka!AP49","v":{"v":0,"d":"0.00"}},{"$f":"+[7]Tabulka!AQ49","v":{"v":0,"d":"0.00"}},{"$f":"+[7]Tabulka!BM49","v":{"v":0,"d":"0.00"}},{"$f":"+[7]Tabulka!BN49","v":0},{"$f":"+[7]Tabulka!BO49","v":{"v":0,"d":"0.00"}}]
[null,{"$f":"[7]Tabulka!C50","v":"SIKOROVÁ"},{"$f":"[7]Tabulka!D50","v":"Kamila"},{"$f":"[7]Tabulka!E50","v":"1997-02-07"},{"$f":"[7]Tabulka!F50","v":"Havířov- Baník SKST"},{"$f":"[7]Tabulka!G50","v":"KA"},{"$f":"[7]Tabulka!H50","v":100},{"$f":"+[7]Tabulka!AU50","v":0},{"$f":"+[7]Tabulka!AV50","v":{"v":0,"d":"0.00"}},{"$f":"+[7]Tabulka!AW50","v":0},{"$f":"+[7]Tabulka!AX50","v":{"v":0,"d":"0.00"}},{"$f":"+[7]Tabulka!AY50","v":0},{"$f":"+[7]Tabulka!AZ50","v":{"v":0,"d":"0.00"}},{"$f":"+[7]Tabulka!BA50","v":0},{"$f":"+[7]Tabulka!BB50","v":{"v":0,"d":"0.00"}},{"$f":"+[7]Tabulka!BC50","v":0},{"$f":"+[7]Tabulka!BD50","v":{"v":0,"d":"0.00"}},{"$f":"+[7]Tabulka!BE50","v":0},{"$f":"+[7]Tabulka!BF50","v":{"v":0,"d":"0.00"}},{"$f":"+[7]Tabulka!BG50","v":0},{"$f":"+[7]Tabulka!BH50","v":{"v":0,"d":"0.00"}},{"$f":"+[7]Tabulka!BI50","v":0},{"$f":"+[7]Tabulka!BJ50","v":{"v":0,"d":"0.00"}},{"$f":"+[7]Tabulka!AP50","v":{"v":18.788420767074477,"d":"18.79"}},{"$f":"+[7]Tabulka!AQ50","v":{"v":1,"d":"1.00"}},{"$f":"+[7]Tabulka!BM50","v":{"v":0,"d":"0.00"}},{"$f":"+[7]Tabulka!BN50","v":0},{"$f":"+[7]Tabulka!BO50","v":{"v":0,"d":"0.00"}}]
[null,{"$f":"[7]Tabulka!C51","v":"ŠTEFÁNKOVÁ"},{"$f":"[7]Tabulka!D51","v":"Šarlota"},{"$f":"[7]Tabulka!E51","v":"2003-01-01"},{"$f":"[7]Tabulka!F51","v":"Frýdlant nad Ostravicí- SK"},{"$f":"[7]Tabulka!G51","v":"FM"},{"$f":"[7]Tabulka!H51","v":0},{"$f":"+[7]Tabulka!AU51","v":0},{"$f":"+[7]Tabulka!AV51","v":{"v":0,"d":"0.00"}},{"$f":"+[7]Tabulka!AW51","v":0},{"$f":"+[7]Tabulka!AX51","v":{"v":0,"d":"0.00"}},{"$f":"+[7]Tabulka!AY51","v":0},{"$f":"+[7]Tabulka!AZ51","v":{"v":0,"d":"0.00"}},{"$f":"+[7]Tabulka!BA51","v":0},{"$f":"+[7]Tabulka!BB51","v":{"v":0,"d":"0.00"}},{"$f":"+[7]Tabulka!BC51","v":0},{"$f":"+[7]Tabulka!BD51","v":{"v":0,"d":"0.00"}},{"$f":"+[7]Tabulka!BE51","v":0},{"$f":"+[7]Tabulka!BF51","v":{"v":0,"d":"0.00"}},{"$f":"+[7]Tabulka!BG51","v":0},{"$f":"+[7]Tabulka!BH51","v":{"v":0,"d":"0.00"}},{"$f":"+[7]Tabulka!BI51","v":0},{"$f":"+[7]Tabulka!BJ51","v":{"v":0,"d":"0.00"}},{"$f":"+[7]Tabulka!AP51","v":{"v":8.241404376466553,"d":"8.24"}},{"$f":"+[7]Tabulka!AQ51","v":{"v":1,"d":"1.00"}},{"$f":"+[7]Tabulka!BM51","v":{"v":0,"d":"0.00"}},{"$f":"+[7]Tabulka!BN51","v":0},{"$f":"+[7]Tabulka!BO51","v":{"v":0,"d":"0.00"}}]
[null,{"$f":"[7]Tabulka!C52","v":"TOBOLOVÁ"},{"$f":"[7]Tabulka!D52","v":"Nikola"},{"$f":"[7]Tabulka!E52","v":"1998-07-03"},{"$f":"[7]Tabulka!F52","v":"Frýdlant nad Ostravicí- SK"},{"$f":"[7]Tabulka!G52","v":"FM"},{"$f":"[7]Tabulka!H52","v":100},{"$f":"+[7]Tabulka!AU52","v":0},{"$f":"+[7]Tabulka!AV52","v":{"v":0,"d":"0.00"}},{"$f":"+[7]Tabulka!AW52","v":0},{"$f":"+[7]Tabulka!AX52","v":{"v":0,"d":"0.00"}},{"$f":"+[7]Tabulka!AY52","v":0},{"$f":"+[7]Tabulka!AZ52","v":{"v":0,"d":"0.00"}},{"$f":"+[7]Tabulka!BA52","v":0},{"$f":"+[7]Tabulka!BB52","v":{"v":0,"d":"0.00"}},{"$f":"+[7]Tabulka!BC52","v":0},{"$f":"+[7]Tabulka!BD52","v":{"v":0,"d":"0.00"}},{"$f":"+[7]Tabulka!BE52","v":0},{"$f":"+[7]Tabulka!BF52","v":{"v":0,"d":"0.00"}},{"$f":"+[7]Tabulka!BG52","v":0},{"$f":"+[7]Tabulka!BH52","v":{"v":0,"d":"0.00"}},{"$f":"+[7]Tabulka!BI52","v":0},{"$f":"+[7]Tabulka!BJ52","v":{"v":0,"d":"0.00"}},{"$f":"+[7]Tabulka!AP52","v":{"v":31.410547966750272,"d":"31.41"}},{"$f":"+[7]Tabulka!AQ52","v":{"v":3,"d":"3.00"}},{"$f":"+[7]Tabulka!BM52","v":{"v":0,"d":"0.00"}},{"$f":"+[7]Tabulka!BN52","v":0},{"$f":"+[7]Tabulka!BO52","v":{"v":0,"d":"0.00"}}]
[null,{"$f":"[7]Tabulka!C53","v":"TOMANOVÁ"},{"$f":"[7]Tabulka!D53","v":"Tamara"},{"$f":"[7]Tabulka!E53","v":"1994-02-24"},{"$f":"[7]Tabulka!F53","v":"Havířov- Baník SKST"},{"$f":"[7]Tabulka!G53","v":"KA"},{"$f":"[7]Tabulka!H53","v":100},{"$f":"+[7]Tabulka!AU53","v":0},{"$f":"+[7]Tabulka!AV53","v":{"v":0,"d":"0.00"}},{"$f":"+[7]Tabulka!AW53","v":0},{"$f":"+[7]Tabulka!AX53","v":{"v":0,"d":"0.00"}},{"$f":"+[7]Tabulka!AY53","v":0},{"$f":"+[7]Tabulka!AZ53","v":{"v":0,"d":"0.00"}},{"$f":"+[7]Tabulka!BA53","v":0},{"$f":"+[7]Tabulka!BB53","v":{"v":0,"d":"0.00"}},{"$f":"+[7]Tabulka!BC53","v":0},{"$f":"+[7]Tabulka!BD53","v":{"v":0,"d":"0.00"}},{"$f":"+[7]Tabulka!BE53","v":0},{"$f":"+[7]Tabulka!BF53","v":{"v":0,"d":"0.00"}},{"$f":"+[7]Tabulka!BG53","v":0},{"$f":"+[7]Tabulka!BH53","v":{"v":0,"d":"0.00"}},{"$f":"+[7]Tabulka!BI53","v":0},{"$f":"+[7]Tabulka!BJ53","v":{"v":0,"d":"0.00"}},{"$f":"+[7]Tabulka!AP53","v":{"v":0,"d":"0.00"}},{"$f":"+[7]Tabulka!AQ53","v":{"v":0,"d":"0.00"}},{"$f":"+[7]Tabulka!BM53","v":{"v":0,"d":"0.00"}},{"$f":"+[7]Tabulka!BN53","v":0},{"$f":"+[7]Tabulka!BO53","v":{"v":0,"d":"0.00"}}]
[null,{"$f":"[7]Tabulka!C54","v":"TOMANOVSKÁ"},{"$f":"[7]Tabulka!D54","v":"Kateřina"},{"$f":"[7]Tabulka!E54","v":"1995-08-24"},{"$f":"[7]Tabulka!F54","v":"Frýdlant nad Ostravicí- SK"},{"$f":"[7]Tabulka!G54","v":"FM"},{"$f":"[7]Tabulka!H54","v":100},{"$f":"+[7]Tabulka!AU54","v":0},{"$f":"+[7]Tabulka!AV54","v":{"v":0,"d":"0.00"}},{"$f":"+[7]Tabulka!AW54","v":0},{"$f":"+[7]Tabulka!AX54","v":{"v":0,"d":"0.00"}},{"$f":"+[7]Tabulka!AY54","v":0},{"$f":"+[7]Tabulka!AZ54","v":{"v":0,"d":"0.00"}},{"$f":"+[7]Tabulka!BA54","v":0},{"$f":"+[7]Tabulka!BB54","v":{"v":0,"d":"0.00"}},{"$f":"+[7]Tabulka!BC54","v":0},{"$f":"+[7]Tabulka!BD54","v":{"v":0,"d":"0.00"}},{"$f":"+[7]Tabulka!BE54","v":0},{"$f":"+[7]Tabulka!BF54","v":{"v":0,"d":"0.00"}},{"$f":"+[7]Tabulka!BG54","v":0},{"$f":"+[7]Tabulka!BH54","v":{"v":0,"d":"0.00"}},{"$f":"+[7]Tabulka!BI54","v":0},{"$f":"+[7]Tabulka!BJ54","v":{"v":0,"d":"0.00"}},{"$f":"+[7]Tabulka!AP54","v":{"v":0,"d":"0.00"}},{"$f":"+[7]Tabulka!AQ54","v":{"v":0,"d":"0.00"}},{"$f":"+[7]Tabulka!BM54","v":{"v":0,"d":"0.00"}},{"$f":"+[7]Tabulka!BN54","v":0},{"$f":"+[7]Tabulka!BO54","v":{"v":0,"d":"0.00"}}]
[null,{"$f":"[7]Tabulka!C55","v":"UVÍROVÁ"},{"$f":"[7]Tabulka!D55","v":"Nela"},{"$f":"[7]Tabulka!E55","v":"2000-12-18"},{"$f":"[7]Tabulka!F55","v":"Kateřinky- Sokol TJ"},{"$f":"[7]Tabulka!G55","v":"OP"},{"$f":"[7]Tabulka!H55","v":100},{"$f":"+[7]Tabulka!AU55","v":0},{"$f":"+[7]Tabulka!AV55","v":{"v":0,"d":"0.00"}},{"$f":"+[7]Tabulka!AW55","v":0},{"$f":"+[7]Tabulka!AX55","v":{"v":0,"d":"0.00"}},{"$f":"+[7]Tabulka!AY55","v":0},{"$f":"+[7]Tabulka!AZ55","v":{"v":0,"d":"0.00"}},{"$f":"+[7]Tabulka!BA55","v":0},{"$f":"+[7]Tabulka!BB55","v":{"v":0,"d":"0.00"}},{"$f":"+[7]Tabulka!BC55","v":0},{"$f":"+[7]Tabulka!BD55","v":{"v":0,"d":"0.00"}},{"$f":"+[7]Tabulka!BE55","v":0},{"$f":"+[7]Tabulka!BF55","v":{"v":0,"d":"0.00"}},{"$f":"+[7]Tabulka!BG55","v":0},{"$f":"+[7]Tabulka!BH55","v":{"v":0,"d":"0.00"}},{"$f":"+[7]Tabulka!BI55","v":0},{"$f":"+[7]Tabulka!BJ55","v":{"v":0,"d":"0.00"}},{"$f":"+[7]Tabulka!AP55","v":{"v":22.043588464422438,"d":"22.04"}},{"$f":"+[7]Tabulka!AQ55","v":{"v":3,"d":"3.00"}},{"$f":"+[7]Tabulka!BM55","v":{"v":0,"d":"0.00"}},{"$f":"+[7]Tabulka!BN55","v":0},{"$f":"+[7]Tabulka!BO55","v":{"v":0,"d":"0.00"}}]
[null,{"$f":"[7]Tabulka!C56","v":"VÁCLAVÍKOVÁ"},{"$f":"[7]Tabulka!D56","v":"Anežka"},{"$f":"[7]Tabulka!E56","v":"1996-03-29"},{"$f":"[7]Tabulka!F56","v":"Ostrava- Mittal TJ"},{"$f":"[7]Tabulka!G56","v":"OV"},{"$f":"[7]Tabulka!H56","v":100},{"$f":"+[7]Tabulka!AU56","v":0},{"$f":"+[7]Tabulka!AV56","v":{"v":0,"d":"0.00"}},{"$f":"+[7]Tabulka!AW56","v":0},{"$f":"+[7]Tabulka!AX56","v":{"v":0,"d":"0.00"}},{"$f":"+[7]Tabulka!AY56","v":0},{"$f":"+[7]Tabulka!AZ56","v":{"v":0,"d":"0.00"}},{"$f":"+[7]Tabulka!BA56","v":0},{"$f":"+[7]Tabulka!BB56","v":{"v":0,"d":"0.00"}},{"$f":"+[7]Tabulka!BC56","v":0},{"$f":"+[7]Tabulka!BD56","v":{"v":0,"d":"0.00"}},{"$f":"+[7]Tabulka!BE56","v":0},{"$f":"+[7]Tabulka!BF56","v":{"v":0,"d":"0.00"}},{"$f":"+[7]Tabulka!BG56","v":0},{"$f":"+[7]Tabulka!BH56","v":{"v":0,"d":"0.00"}},{"$f":"+[7]Tabulka!BI56","v":0},{"$f":"+[7]Tabulka!BJ56","v":{"v":0,"d":"0.00"}},{"$f":"+[7]Tabulka!AP56","v":{"v":48.76605994800441,"d":"48.77"}},{"$f":"+[7]Tabulka!AQ56","v":{"v":3,"d":"3.00"}},{"$f":"+[7]Tabulka!BM56","v":{"v":0,"d":"0.00"}},{"$f":"+[7]Tabulka!BN56","v":0},{"$f":"+[7]Tabulka!BO56","v":{"v":0,"d":"0.00"}}]
[null,{"$f":"[7]Tabulka!C57","v":"VACULOVÁ"},{"$f":"[7]Tabulka!D57","v":"Kristýna"},{"$f":"[7]Tabulka!E57","v":"1998-10-19"},{"$f":"[7]Tabulka!F57","v":"Frýdlant nad Ostravicí- SK"},{"$f":"[7]Tabulka!G57","v":"FM"},{"$f":"[7]Tabulka!H57","v":100},{"$f":"+[7]Tabulka!AU57","v":0},{"$f":"+[7]Tabulka!AV57","v":{"v":0,"d":"0.00"}},{"$f":"+[7]Tabulka!AW57","v":0},{"$f":"+[7]Tabulka!AX57","v":{"v":0,"d":"0.00"}},{"$f":"+[7]Tabulka!AY57","v":0},{"$f":"+[7]Tabulka!AZ57","v":{"v":0,"d":"0.00"}},{"$f":"+[7]Tabulka!BA57","v":0},{"$f":"+[7]Tabulka!BB57","v":{"v":0,"d":"0.00"}},{"$f":"+[7]Tabulka!BC57","v":0},{"$f":"+[7]Tabulka!BD57","v":{"v":0,"d":"0.00"}},{"$f":"+[7]Tabulka!BE57","v":0},{"$f":"+[7]Tabulka!BF57","v":{"v":0,"d":"0.00"}},{"$f":"+[7]Tabulka!BG57","v":0},{"$f":"+[7]Tabulka!BH57","v":{"v":0,"d":"0.00"}},{"$f":"+[7]Tabulka!BI57","v":0},{"$f":"+[7]Tabulka!BJ57","v":{"v":0,"d":"0.00"}},{"$f":"+[7]Tabulka!AP57","v":{"v":0,"d":"0.00"}},{"$f":"+[7]Tabulka!AQ57","v":{"v":0,"d":"0.00"}},{"$f":"+[7]Tabulka!BM57","v":{"v":0,"d":"0.00"}},{"$f":"+[7]Tabulka!BN57","v":0},{"$f":"+[7]Tabulka!BO57","v":{"v":0,"d":"0.00"}}]
[null,{"$f":"[7]Tabulka!C58","v":0},{"$f":"[7]Tabulka!D58","v":0},{"$f":"[7]Tabulka!E58","v":"00:00:00"},{"$f":"[7]Tabulka!F58","v":0},{"$f":"[7]Tabulka!G58","v":0},{"$f":"[7]Tabulka!H58","v":0},{"$f":"+[7]Tabulka!AU58","v":0},{"$f":"+[7]Tabulka!AV58","v":{"v":0,"d":"0.00"}},{"$f":"+[7]Tabulka!AW58","v":0},{"$f":"+[7]Tabulka!AX58","v":{"v":0,"d":"0.00"}},{"$f":"+[7]Tabulka!AY58","v":0},{"$f":"+[7]Tabulka!AZ58","v":{"v":0,"d":"0.00"}},{"$f":"+[7]Tabulka!BA58","v":0},{"$f":"+[7]Tabulka!BB58","v":{"v":0,"d":"0.00"}},{"$f":"+[7]Tabulka!BC58","v":0},{"$f":"+[7]Tabulka!BD58","v":{"v":0,"d":"0.00"}},{"$f":"+[7]Tabulka!BE58","v":0},{"$f":"+[7]Tabulka!BF58","v":{"v":0,"d":"0.00"}},{"$f":"+[7]Tabulka!BG58","v":0},{"$f":"+[7]Tabulka!BH58","v":{"v":0,"d":"0.00"}},{"$f":"+[7]Tabulka!BI58","v":0},{"$f":"+[7]Tabulka!BJ58","v":{"v":0,"d":"0.00"}},{"$f":"+[7]Tabulka!AP58","v":{"v":0,"d":"0.00"}},{"$f":"+[7]Tabulka!AQ58","v":{"v":0,"d":"0.00"}},{"$f":"+[7]Tabulka!BM58","v":{"v":0,"d":"0.00"}},{"$f":"+[7]Tabulka!BN58","v":0},{"$f":"+[7]Tabulka!BO58","v":{"v":0,"d":"0.00"}}]
[null,{"$f":"[7]Tabulka!C59","v":0},{"$f":"[7]Tabulka!D59","v":0},{"$f":"[7]Tabulka!E59","v":"00:00:00"},{"$f":"[7]Tabulka!F59","v":0},{"$f":"[7]Tabulka!G59","v":0},{"$f":"[7]Tabulka!H59","v":0},{"$f":"+[7]Tabulka!AU59","v":0},{"$f":"+[7]Tabulka!AV59","v":{"v":0,"d":"0.00"}},{"$f":"+[7]Tabulka!AW59","v":0},{"$f":"+[7]Tabulka!AX59","v":{"v":0,"d":"0.00"}},{"$f":"+[7]Tabulka!AY59","v":0},{"$f":"+[7]Tabulka!AZ59","v":{"v":0,"d":"0.00"}},{"$f":"+[7]Tabulka!BA59","v":0},{"$f":"+[7]Tabulka!BB59","v":{"v":0,"d":"0.00"}},{"$f":"+[7]Tabulka!BC59","v":0},{"$f":"+[7]Tabulka!BD59","v":{"v":0,"d":"0.00"}},{"$f":"+[7]Tabulka!BE59","v":0},{"$f":"+[7]Tabulka!BF59","v":{"v":0,"d":"0.00"}},{"$f":"+[7]Tabulka!BG59","v":0},{"$f":"+[7]Tabulka!BH59","v":{"v":0,"d":"0.00"}},{"$f":"+[7]Tabulka!BI59","v":0},{"$f":"+[7]Tabulka!BJ59","v":{"v":0,"d":"0.00"}},{"$f":"+[7]Tabulka!AP59","v":{"v":0,"d":"0.00"}},{"$f":"+[7]Tabulka!AQ59","v":{"v":0,"d":"0.00"}},{"$f":"+[7]Tabulka!BM59","v":{"v":0,"d":"0.00"}},{"$f":"+[7]Tabulka!BN59","v":0},{"$f":"+[7]Tabulka!BO59","v":{"v":0,"d":"0.00"}}]
[null,{"$f":"[7]Tabulka!C60","v":0},{"$f":"[7]Tabulka!D60","v":0},{"$f":"[7]Tabulka!E60","v":"00:00:00"},{"$f":"[7]Tabulka!F60","v":0},{"$f":"[7]Tabulka!G60","v":0},{"$f":"[7]Tabulka!H60","v":0},{"$f":"+[7]Tabulka!AU60","v":0},{"$f":"+[7]Tabulka!AV60","v":{"v":0,"d":"0.00"}},{"$f":"+[7]Tabulka!AW60","v":0},{"$f":"+[7]Tabulka!AX60","v":{"v":0,"d":"0.00"}},{"$f":"+[7]Tabulka!AY60","v":0},{"$f":"+[7]Tabulka!AZ60","v":{"v":0,"d":"0.00"}},{"$f":"+[7]Tabulka!BA60","v":0},{"$f":"+[7]Tabulka!BB60","v":{"v":0,"d":"0.00"}},{"$f":"+[7]Tabulka!BC60","v":0},{"$f":"+[7]Tabulka!BD60","v":{"v":0,"d":"0.00"}},{"$f":"+[7]Tabulka!BE60","v":0},{"$f":"+[7]Tabulka!BF60","v":{"v":0,"d":"0.00"}},{"$f":"+[7]Tabulka!BG60","v":0},{"$f":"+[7]Tabulka!BH60","v":{"v":0,"d":"0.00"}},{"$f":"+[7]Tabulka!BI60","v":0},{"$f":"+[7]Tabulka!BJ60","v":{"v":0,"d":"0.00"}},{"$f":"+[7]Tabulka!AP60","v":{"v":0,"d":"0.00"}},{"$f":"+[7]Tabulka!AQ60","v":{"v":0,"d":"0.00"}},{"$f":"+[7]Tabulka!BM60","v":{"v":0,"d":"0.00"}},{"$f":"+[7]Tabulka!BN60","v":0},{"$f":"+[7]Tabulka!BO60","v":{"v":0,"d":"0.00"}}]
[null,{"$f":"[7]Tabulka!C61","v":0},{"$f":"[7]Tabulka!D61","v":0},{"$f":"[7]Tabulka!E61","v":"00:00:00"},{"$f":"[7]Tabulka!F61","v":0},{"$f":"[7]Tabulka!G61","v":0},{"$f":"[7]Tabulka!H61","v":0},{"$f":"+[7]Tabulka!AU61","v":0},{"$f":"+[7]Tabulka!AV61","v":{"v":0,"d":"0.00"}},{"$f":"+[7]Tabulka!AW61","v":0},{"$f":"+[7]Tabulka!AX61","v":{"v":0,"d":"0.00"}},{"$f":"+[7]Tabulka!AY61","v":0},{"$f":"+[7]Tabulka!AZ61","v":{"v":0,"d":"0.00"}},{"$f":"+[7]Tabulka!BA61","v":0},{"$f":"+[7]Tabulka!BB61","v":{"v":0,"d":"0.00"}},{"$f":"+[7]Tabulka!BC61","v":0},{"$f":"+[7]Tabulka!BD61","v":{"v":0,"d":"0.00"}},{"$f":"+[7]Tabulka!BE61","v":0},{"$f":"+[7]Tabulka!BF61","v":{"v":0,"d":"0.00"}},{"$f":"+[7]Tabulka!BG61","v":0},{"$f":"+[7]Tabulka!BH61","v":{"v":0,"d":"0.00"}},{"$f":"+[7]Tabulka!BI61","v":0},{"$f":"+[7]Tabulka!BJ61","v":{"v":0,"d":"0.00"}},{"$f":"+[7]Tabulka!AP61","v":{"v":0,"d":"0.00"}},{"$f":"+[7]Tabulka!AQ61","v":{"v":0,"d":"0.00"}},{"$f":"+[7]Tabulka!BM61","v":{"v":0,"d":"0.00"}},{"$f":"+[7]Tabulka!BN61","v":0},{"$f":"+[7]Tabulka!BO61","v":{"v":0,"d":"0.00"}}]
[null,{"$f":"[7]Tabulka!C62","v":0},{"$f":"[7]Tabulka!D62","v":0},{"$f":"[7]Tabulka!E62","v":"00:00:00"},{"$f":"[7]Tabulka!F62","v":0},{"$f":"[7]Tabulka!G62","v":0},{"$f":"[7]Tabulka!H62","v":0},{"$f":"+[7]Tabulka!AU62","v":0},{"$f":"+[7]Tabulka!AV62","v":{"v":0,"d":"0.00"}},{"$f":"+[7]Tabulka!AW62","v":0},{"$f":"+[7]Tabulka!AX62","v":{"v":0,"d":"0.00"}},{"$f":"+[7]Tabulka!AY62","v":0},{"$f":"+[7]Tabulka!AZ62","v":{"v":0,"d":"0.00"}},{"$f":"+[7]Tabulka!BA62","v":0},{"$f":"+[7]Tabulka!BB62","v":{"v":0,"d":"0.00"}},{"$f":"+[7]Tabulka!BC62","v":0},{"$f":"+[7]Tabulka!BD62","v":{"v":0,"d":"0.00"}},{"$f":"+[7]Tabulka!BE62","v":0},{"$f":"+[7]Tabulka!BF62","v":{"v":0,"d":"0.00"}},{"$f":"+[7]Tabulka!BG62","v":0},{"$f":"+[7]Tabulka!BH62","v":{"v":0,"d":"0.00"}},{"$f":"+[7]Tabulka!BI62","v":0},{"$f":"+[7]Tabulka!BJ62","v":{"v":0,"d":"0.00"}},{"$f":"+[7]Tabulka!AP62","v":{"v":0,"d":"0.00"}},{"$f":"+[7]Tabulka!AQ62","v":{"v":0,"d":"0.00"}},{"$f":"+[7]Tabulka!BM62","v":{"v":0,"d":"0.00"}},{"$f":"+[7]Tabulka!BN62","v":0},{"$f":"+[7]Tabulka!BO62","v":{"v":0,"d":"0.00"}}]
[null,{"$f":"[7]Tabulka!C63","v":0},{"$f":"[7]Tabulka!D63","v":0},{"$f":"[7]Tabulka!E63","v":"00:00:00"},{"$f":"[7]Tabulka!F63","v":0},{"$f":"[7]Tabulka!G63","v":0},{"$f":"[7]Tabulka!H63","v":0},{"$f":"+[7]Tabulka!AU63","v":0},{"$f":"+[7]Tabulka!AV63","v":{"v":0,"d":"0.00"}},{"$f":"+[7]Tabulka!AW63","v":0},{"$f":"+[7]Tabulka!AX63","v":{"v":0,"d":"0.00"}},{"$f":"+[7]Tabulka!AY63","v":0},{"$f":"+[7]Tabulka!AZ63","v":{"v":0,"d":"0.00"}},{"$f":"+[7]Tabulka!BA63","v":0},{"$f":"+[7]Tabulka!BB63","v":{"v":0,"d":"0.00"}},{"$f":"+[7]Tabulka!BC63","v":0},{"$f":"+[7]Tabulka!BD63","v":{"v":0,"d":"0.00"}},{"$f":"+[7]Tabulka!BE63","v":0},{"$f":"+[7]Tabulka!BF63","v":{"v":0,"d":"0.00"}},{"$f":"+[7]Tabulka!BG63","v":0},{"$f":"+[7]Tabulka!BH63","v":{"v":0,"d":"0.00"}},{"$f":"+[7]Tabulka!BI63","v":0},{"$f":"+[7]Tabulka!BJ63","v":{"v":0,"d":"0.00"}},{"$f":"+[7]Tabulka!AP63","v":{"v":0,"d":"0.00"}},{"$f":"+[7]Tabulka!AQ63","v":{"v":0,"d":"0.00"}},{"$f":"+[7]Tabulka!BM63","v":{"v":0,"d":"0.00"}},{"$f":"+[7]Tabulka!BN63","v":0},{"$f":"+[7]Tabulka!BO63","v":{"v":0,"d":"0.00"}}]
[null,{"$f":"[7]Tabulka!C64","v":0},{"$f":"[7]Tabulka!D64","v":0},{"$f":"[7]Tabulka!E64","v":"00:00:00"},{"$f":"[7]Tabulka!F64","v":0},{"$f":"[7]Tabulka!G64","v":0},{"$f":"[7]Tabulka!H64","v":0},{"$f":"+[7]Tabulka!AU64","v":0},{"$f":"+[7]Tabulka!AV64","v":{"v":0,"d":"0.00"}},{"$f":"+[7]Tabulka!AW64","v":0},{"$f":"+[7]Tabulka!AX64","v":{"v":0,"d":"0.00"}},{"$f":"+[7]Tabulka!AY64","v":0},{"$f":"+[7]Tabulka!AZ64","v":{"v":0,"d":"0.00"}},{"$f":"+[7]Tabulka!BA64","v":0},{"$f":"+[7]Tabulka!BB64","v":{"v":0,"d":"0.00"}},{"$f":"+[7]Tabulka!BC64","v":0},{"$f":"+[7]Tabulka!BD64","v":{"v":0,"d":"0.00"}},{"$f":"+[7]Tabulka!BE64","v":0},{"$f":"+[7]Tabulka!BF64","v":{"v":0,"d":"0.00"}},{"$f":"+[7]Tabulka!BG64","v":0},{"$f":"+[7]Tabulka!BH64","v":{"v":0,"d":"0.00"}},{"$f":"+[7]Tabulka!BI64","v":0},{"$f":"+[7]Tabulka!BJ64","v":{"v":0,"d":"0.00"}},{"$f":"+[7]Tabulka!AP64","v":{"v":0,"d":"0.00"}},{"$f":"+[7]Tabulka!AQ64","v":{"v":0,"d":"0.00"}},{"$f":"+[7]Tabulka!BM64","v":{"v":0,"d":"0.00"}},{"$f":"+[7]Tabulka!BN64","v":0},{"$f":"+[7]Tabulka!BO64","v":{"v":0,"d":"0.00"}}]

{"sheet":"Starší žákyně","index":7,"n_rows":55,"n_cols":87,"rows_kept":55,"merged":[[2,1,2,6],[2,7,2,8],[2,9,2,10],[2,11,2,12],[2,13,2,14],[2,15,2,16],[2,17,2,18],[2,19,2,20],[2,21,2,22]]}
["PRŮBĚŽNÉ BODOVÉ POŘADÍ RBTM A PR KARVINÁ STARŠÍCH ŽÁKYŇ"]
[]
[null," - započítává se 5 nejlepších turnajů z 8 odehraných za poslední rok",{"$nulls":5},{"$f":"+Dorost!H3","v":"KARVINÁ 17.9.2011"},null,{"$f":"+Dorost!J3","v":"HAVÍŘOV 24.9.2011"},null,{"$f":"+Dorost!L3","v":"KARVINÁ 3.12.2011"},null,{"$f":"+Dorost!N3","v":"HAVÍŘOV 7.1.2012"},null,{"$f":"+Dorost!P3","v":"HAVÍŘOV 4.2.2012"},null,{"$f":"+Dorost!R3","v":"KARVINÁ 19.3.2011"},null,{"$f":"+Dorost!T3","v":"KARVINÁ 16.4.2011"},null,{"$f":"+Dorost!V3","v":"KARVINÁ 14.5.2011"}]
[{"$nulls":7},{"$f":"+[8]Tabulka!AU89","v":3},{"$f":"SUBTOTAL(9,I6:I300)","v":16.308291595224084},{"$f":"+[8]Tabulka!AW89","v":4},{"$f":"SUBTOTAL(9,K6:K300)","v":17.495164119836165},{"$f":"+[8]Tabulka!AY89","v":3},{"$f":"SUBTOTAL(9,M6:M300)","v":12.857383834741132},{"$f":"+[8]Tabulka!BA89","v":6},{"$f":"SUBTOTAL(9,O6:O300)","v":17.495164119836165},{"$f":"+[8]Tabulka!BC89","v":2},{"$f":"SUBTOTAL(9,Q6:Q300)","v":9.024743869762961},{"$f":"+[8]Tabulka!BE89","v":2},{"$f":"SUBTOTAL(9,S6:S300)","v":20.963635286597633},{"$f":"+[8]Tabulka!BG89","v":3},{"$f":"SUBTOTAL(9,U6:U300)","v":8.75636376305734},{"$f":"+[8]Tabulka!BI89","v":1},{"$f":"SUBTOTAL(9,W6:W300)","v":4.655343691373548},{"$f":"+[5]Tabulka!AP5","v":0},{"$f":"+[5]Tabulka!AQ5","v":0},{"$f":"+[5]Tabulka!AR5","v":0},{"$f":"+[5]Tabulka!AS5","v":0},{"$f":"+[5]Tabulka!AT5","v":0}]
[{"$f":"SUBTOTAL(3,A6:A235)","v":9},{"$f":"[5]Tabulka!C6","v":"Přijmení"},{"$f":"[5]Tabulka!D6","v":"jméno"},{"$f":"[5]Tabulka!E6","v":"nar"},{"$f":"[5]Tabulka!F6","v":"oddíl-klub"},{"$f":"[5]Tabulka!G6","v":"okr"},{"$f":"[5]Tabulka!H6","v":"pop"},{"$f":"+[5]Tabulka!Z6","v":"um."},{"$f":"+[5]Tabulka!AA6","v":"b."},{"$f":"+[5]Tabulka!AB6","v":"um."},{"$f":"+[5]Tabulka!AC6","v":"b."},{"$f":"+[5]Tabulka!AD6","v":"um."},{"$f":"+[5]Tabulka!AE6","v":"b."},{"$f":"+[5]Tabulka!AF6","v":"um."},{"$f":"+[5]Tabulka!AG6","v":"b."},{"$f":"+[5]Tabulka!AH6","v":"um."},{"$f":"+[5]Tabulka!AI6","v":"b."},{"$f":"+[5]Tabulka!AJ6","v":"um."},{"$f":"+[5]Tabulka!AK6","v":"b."},{"$f":"+[5]Tabulka!AL6","v":"um."},{"$f":"+[5]Tabulka!AM6","v":"b."},{"$f":"+[5]Tabulka!AN6","v":"um."},{"$f":"+[5]Tabulka!AO6","v":"b."},{"$f":"+[5]Tabulka!AP6","v":"I."},{"$f":"+[5]Tabulka!AQ6","v":"t"},{"$f":"+[5]Tabulka!AR6","v":"I.+II."},{"$f":"+[5]Tabulka!AS6","v":"t"},{"$f":"+[5]Tabulka!AT6","v":"R"},{"$nulls":5},{"$f":"[5]Tabulka!DG6","v":0},{"$f":"[5]Tabulka!DH6","v":0},{"$f":"[5]Tabulka!DI6","v":0},{"$f":"[5]Tabulka!DJ6","v":0},{"$f":"[5]Tabulka!DK6","v":0},{"$f":"[5]Tabulka!DL6","v":0},{"$f":"[5]Tabulka!DM6","v":0},{"$f":"[5]Tabulka!DN6","v":0},{"$f":"[5]Tabulka!DO6","v":0},{"$f":"[5]Tabulka!DP6","v":0},{"$f":"[5]Tabulka!DQ6","v":0},{"$f":"[5]Tabulka!DR6","v":0},{"$f":"[5]Tabulka!DS6","v":0},{"$f":"[5]Tabulka!DT6","v":0},{"$f":"[5]Tabulka!DU6","v":0},{"$f":"[5]Tabulka!DV6","v":0},{"$f":"[5]Tabulka!DW6","v":0},{"$f":"[5]Tabulka!DX6","v":0},{"$f":"[5]Tabulka!DY6","v":0},{"$f":"[5]Tabulka!DZ6","v":0},{"$f":"[5]Tabulka!EA6","v":0},{"$f":"[5]Tabulka!EB6","v":0},{"$f":"[5]Tabulka!EC6","v":0},{"$f":"[5]Tabulka!ED6","v":0},{"$f":"[5]Tabulka!EE6","v":0},{"$f":"[5]Tabulka!EF6","v":0},{"$f":"[5]Tabulka!EG6","v":0},{"$f":"[5]Tabulka!EH6","v":0},{"$f":"[5]Tabulka!EI6","v":0},{"$f":"[5]Tabulka!EJ6","v":0},{"$f":"[5]Tabulka!EK6","v":0},{"$f":"[5]Tabulka!EL6","v":0},{"$f":"[5]Tabulka!EM6","v":0},{"$f":"[5]Tabulka!EN6","v":0},{"$f":"[5]Tabulka!EO6","v":0},{"$f":"[5]Tabulka!EP6","v":0},{"$f":"[5]Tabulka!EQ6","v":0},{"$f":"[5]Tabulka!ER6","v":0},{"$f":"[5]Tabulka!ES6","v":0},{"$f":"[5]Tabulka!ET6","v":0},{"$f":"[5]Tabulka!EU6","v":0},{"$f":"[5]Tabulka!EV6","v":0},{"$f":"[5]Tabulka!EW6","v":0},{"$f":"[5]Tabulka!EX6","v":0},{"$f":"[5]Tabulka!EY6","v":0},{"$f":"[5]Tabulka!EZ6","v":0},{"$f":"[5]Tabulka!FA6","v":0},{"$f":"[5]Tabulka!FB6","v":0},{"$f":"[5]Tabulka!FC6","v":0},{"$f":"[5]Tabulka!FD6","v":0},{"$f":"[5]Tabulka!FE6","v":0},{"$f":"[5]Tabulka!FF6","v":0},{"$f":"[5]Tabulka!FG6","v":0},{"$f":"[5]Tabulka!FH6","v":0}]
["1",{"$f":"[8]Tabulka!C7","v":"KRNÁČOVÁ"},{"$f":"[8]Tabulka!D7","v":"Anna"},{"$f":"[8]Tabulka!E7","v":"1999-02-09"},{"$f":"[8]Tabulka!F7","v":"Karviná- KLUBsten KST"},{"$f":"[8]Tabulka!G7","v":"KA"},{"$f":"[8]Tabulka!H7","v":100},{"$f":"+[8]Tabulka!AU7","v":1},{"$f":"+[8]Tabulka!AV7","v":{"v":4.655343691373548,"d":"4.66"}},{"$f":"+[8]Tabulka!AW7","v":0},{"$f":"+[8]Tabulka!AX7","v":{"v":0,"d":"0.00"}},{"$f":"+[8]Tabulka!AY7","v":1},{"$f":"+[8]Tabulka!AZ7","v":{"v":4.655343691373548,"d":"4.66"}},{"$f":"+[8]Tabulka!BA7","v":1},{"$f":"+[8]Tabulka!BB7","v":{"v":4.655343691373548,"d":"4.66"}},{"$f":"+[8]Tabulka!BC7","v":1},{"$f":"+[8]Tabulka!BD7","v":{"v":4.655343691373548,"d":"4.66"}},{"$f":"+[8]Tabulka!BE7","v":1},{"$f":"+[8]Tabulka!BF7","v":{"v":4.655343691373548,"d":"4.66"}},{"$f":"+[8]Tabulka!BG7","v":1},{"$f":"+[8]Tabulka!BH7","v":{"v":4.655343691373548,"d":"4.66"}},{"$f":"+[8]Tabulka!BI7","v":1},{"$f":"+[8]Tabulka!BJ7","v":{"v":4.655343691373548,"d":"4.66"}},{"$f":"+[8]Tabulka!AP7","v":{"v":41.10961495058653,"d":"41.11"}},{"$f":"+[8]Tabulka!AQ7","v":{"v":3,"d":"3.00"}},{"$f":"+[8]Tabulka!BM7","v":{"v":32.58740583961484,"d":"32.59"}},{"$f":"+[8]Tabulka!BN7","v":7},{"$f":"+[8]Tabulka!BO7","v":{"v":23.27671845686774,"d":"23.28"}}]
["2",{"$f":"[8]Tabulka!C8","v":"URBANIECOVÁ"},{"$f":"[8]Tabulka!D8","v":"Veronika"},{"$f":"[8]Tabulka!E8","v":"1998-11-19"},{"$f":"[8]Tabulka!F8","v":"Chotěbuz- Sokol TJ"},{"$f":"[8]Tabulka!G8","v":"KA"},{"$f":"[8]Tabulka!H8","v":100},{"$f":"+[8]Tabulka!AU8","v":2},{"$f":"+[8]Tabulka!AV8","v":{"v":4.369400178389413,"d":"4.37"}},{"$f":"+[8]Tabulka!AW8","v":1},{"$f":"+[8]Tabulka!AX8","v":{"v":4.655343691373548,"d":"4.66"}},{"$f":"+[8]Tabulka!AY8","v":0},{"$f":"+[8]Tabulka!AZ8","v":{"v":0,"d":"0.00"}},{"$f":"+[8]Tabulka!BA8","v":2},{"$f":"+[8]Tabulka!BB8","v":{"v":4.369400178389413,"d":"4.37"}},{"$f":"+[8]Tabulka!BC8","v":2},{"$f":"+[8]Tabulka!BD8","v":{"v":4.369400178389413,"d":"4.37"}},{"$f":"+[8]Tabulka!BE8","v":2},{"$f":"+[8]Tabulka!BF8","v":{"v":4.369400178389413,"d":"4.37"}},{"$f":"+[8]Tabulka!BG8","v":3},{"$f":"+[8]Tabulka!BH8","v":{"v":4.101020071683792,"d":"4.10"}},{"$f":"+[8]Tabulka!BI8","v":0},{"$f":"+[8]Tabulka!BJ8","v":{"v":0,"d":"0.00"}},{"$f":"+[8]Tabulka!AP8","v":{"v":0,"d":"0.00"}},{"$f":"+[8]Tabulka!AQ8","v":{"v":0,"d":"0.00"}},{"$f":"+[8]Tabulka!BM8","v":{"v":26.23396447661499,"d":"26.23"}},{"$f":"+[8]Tabulka!BN8","v":6},{"$f":"+[8]Tabulka!BO8","v":{"v":22.132944404931198,"d":"22.13"}}]
["3",{"$f":"[8]Tabulka!C9","v":"KOBLOVSKÁ"},{"$f":"[8]Tabulka!D9","v":"Dominika"},{"$f":"[8]Tabulka!E9","v":"1998-08-30"},{"$f":"[8]Tabulka!F9","v":"Ostrava- Mittal TJ"},{"$f":"[8]Tabulka!G9","v":"OV"},{"$f":"[8]Tabulka!H9","v":100},{"$f":"+[8]Tabulka!AU9","v":1},{"$f":"+[8]Tabulka!AV9","v":{"v":4.655343691373548,"d":"4.66"}},{"$f":"+[8]Tabulka!AW9","v":0},{"$f":"+[8]Tabulka!AX9","v":{"v":0,"d":"0.00"}},{"$f":"+[8]Tabulka!AY9","v":0},{"$f":"+[8]Tabulka!AZ9","v":{"v":0,"d":"0.00"}},{"$f":"+[8]Tabulka!BA9","v":0},{"$f":"+[8]Tabulka!BB9","v":{"v":0,"d":"0.00"}},{"$f":"+[8]Tabulka!BC9","v":1},{"$f":"+[8]Tabulka!BD9","v":{"v":4.655343691373548,"d":"4.66"}},{"$f":"+[8]Tabulka!BE9","v":2},{"$f":"+[8]Tabulka!BF9","v":{"v":4.369400178389413,"d":"4.37"}},{"$f":"+[8]Tabulka!BG9","v":0},{"$f":"+[8]Tabulka!BH9","v":{"v":0,"d":"0.00"}},{"$f":"+[8]Tabulka!BI9","v":0},{"$f":"+[8]Tabulka!BJ9","v":{"v":0,"d":"0.00"}},{"$f":"+[8]Tabulka!AP9","v":{"v":72.91649799705218,"d":"72.92"}},{"$f":"+[8]Tabulka!AQ9","v":{"v":4,"d":"4.00"}},{"$f":"+[8]Tabulka!BM9","v":{"v":13.68008756113651,"d":"13.68"}},{"$f":"+[8]Tabulka!BN9","v":3},{"$f":"+[8]Tabulka!BO9","v":{"v":13.68008756113651,"d":"13.68"}}]
["3",{"$f":"[8]Tabulka!C10","v":"SMIEŠKOVÁ"},{"$f":"[8]Tabulka!D10","v":"Adéla"},{"$f":"[8]Tabulka!E10","v":"1999-06-08"},{"$f":"[8]Tabulka!F10","v":"Hrabůvka- Sokol TJ"},{"$f":"[8]Tabulka!G10","v":"OV"},{"$f":"[8]Tabulka!H10","v":100},{"$f":"+[8]Tabulka!AU10","v":7},{"$f":"+[8]Tabulka!AV10","v":{"v":3.1825276537773326,"d":"3.18"}},{"$f":"+[8]Tabulka!AW10","v":6},{"$f":"+[8]Tabulka!AX10","v":{"v":3.3907995218454317,"d":"3.39"}},{"$f":"+[8]Tabulka!AY10","v":5},{"$f":"+[8]Tabulka!AZ10","v":{"v":3.6127011759664778,"d":"3.61"}},{"$f":"+[8]Tabulka!BA10","v":0},{"$f":"+[8]Tabulka!BB10","v":{"v":0,"d":"0.00"}},{"$f":"+[8]Tabulka!BC10","v":0},{"$f":"+[8]Tabulka!BD10","v":{"v":0,"d":"0.00"}},{"$f":"+[8]Tabulka!BE10","v":7},{"$f":"+[8]Tabulka!BF10","v":{"v":3.1825276537773326,"d":"3.18"}},{"$f":"+[8]Tabulka!BG10","v":0},{"$f":"+[8]Tabulka!BH10","v":{"v":0,"d":"0.00"}},{"$f":"+[8]Tabulka!BI10","v":0},{"$f":"+[8]Tabulka!BJ10","v":{"v":0,"d":"0.00"}},{"$f":"+[8]Tabulka!AP10","v":{"v":28.75602540630386,"d":"28.76"}},{"$f":"+[8]Tabulka!AQ10","v":{"v":3,"d":"3.00"}},{"$f":"+[8]Tabulka!BM10","v":{"v":13.368556005366575,"d":"13.37"}},{"$f":"+[8]Tabulka!BN10","v":4},{"$f":"+[8]Tabulka!BO10","v":{"v":13.368556005366575,"d":"13.37"}}]
[null,{"$f":"[8]Tabulka!C11","v":"SYNKOVÁ"},{"$f":"[8]Tabulka!D11","v":"Kristýna"},{"$f":"[8]Tabulka!E11","v":"1998-08-10"},{"$f":"[8]Tabulka!F11","v":"Děhylov- Sokol TJ"},{"$f":"[8]Tabulka!G11","v":"OP"},{"$f":"[8]Tabulka!H11","v":100},{"$f":"+[8]Tabulka!AU11","v":2},{"$f":"+[8]Tabulka!AV11","v":{"v":4.369400178389413,"d":"4.37"}},{"$f":"+[8]Tabulka!AW11","v":0},{"$f":"+[8]Tabulka!AX11","v":{"v":0,"d":"0.00"}},{"$f":"+[8]Tabulka!AY11","v":2},{"$f":"+[8]Tabulka!AZ11","v":{"v":4.369400178389413,"d":"4.37"}},{"$f":"+[8]Tabulka!BA11","v":0},{"$f":"+[8]Tabulka!BB11","v":{"v":0,"d":"0.00"}},{"$f":"+[8]Tabulka!BC11","v":2},{"$f":"+[8]Tabulka!BD11","v":{"v":4.369400178389413,"d":"4.37"}},{"$f":"+[8]Tabulka!BE11","v":4},{"$f":"+[8]Tabulka!BF11","v":{"v":3.8491245804252903,"d":"3.85"}},{"$f":"+[8]Tabulka!BG11","v":0},{"$f":"+[8]Tabulka!BH11","v":{"v":0,"d":"0.00"}},{"$f":"+[8]Tabulka!BI11","v":0},{"$f":"+[8]Tabulka!BJ11","v":{"v":0,"d":"0.00"}},{"$f":"+[8]Tabulka!AP11","v":{"v":49.72023706072491,"d":"49.72"}},{"$f":"+[8]Tabulka!AQ11","v":{"v":3,"d":"3.00"}},{"$f":"+[8]Tabulka!BM11","v":{"v":16.95732511559353,"d":"16.96"}},{"$f":"+[8]Tabulka!BN11","v":4},{"$f":"+[8]Tabulka!BO11","v":{"v":13.10820053516824,"d":"13.11"}}]
[null,{"$f":"[8]Tabulka!C12","v":"ŠTĚPÁNOVÁ"},{"$f":"[8]Tabulka!D12","v":"Gabriela"},{"$f":"[8]Tabulka!E12","v":"2001-03-31"},{"$f":"[8]Tabulka!F12","v":"Děhylov- Sokol TJ"},{"$f":"[8]Tabulka!G12","v":"OP"},{"$f":"[8]Tabulka!H12","v":100},{"$f":"+[8]Tabulka!AU12","v":5},{"$f":"+[8]Tabulka!AV12","v":{"v":3.6127011759664778,"d":"3.61"}},{"$f":"+[8]Tabulka!AW12","v":1},{"$f":"+[8]Tabulka!AX12","v":{"v":4.655343691373548,"d":"4.66"}},{"$f":"+[8]Tabulka!AY12","v":0},{"$f":"+[8]Tabulka!AZ12","v":{"v":0,"d":"0.00"}},{"$f":"+[8]Tabulka!BA12","v":1},{"$f":"+[8]Tabulka!BB12","v":{"v":4.655343691373548,"d":"4.66"}},{"$f":"+[8]Tabulka!BC12","v":0},{"$f":"+[8]Tabulka!BD12","v":{"v":0,"d":"0.00"}},{"$f":"+[8]Tabulka!BE12","v":0},{"$f":"+[8]Tabulka!BF12","v":{"v":0,"d":"0.00"}},{"$f":"+[8]Tabulka!BG12","v":0},{"$f":"+[8]Tabulka!BH12","v":{"v":0,"d":"0.00"}},{"$f":"+[8]Tabulka!BI12","v":0},{"$f":"+[8]Tabulka!BJ12","v":{"v":0,"d":"0.00"}},{"$f":"+[8]Tabulka!AP12","v":{"v":51.82000831230937,"d":"51.82"}},{"$f":"+[8]Tabulka!AQ12","v":{"v":3,"d":"3.00"}},{"$f":"+[8]Tabulka!BM12","v":{"v":12.923388558713572,"d":"12.92"}},{"$f":"+[8]Tabulka!BN12","v":3},{"$f":"+[8]Tabulka!BO12","v":{"v":12.923388558713574,"d":"12.92"}}]
["3",{"$f":"[8]Tabulka!C13","v":"FLORKOVÁ"},{"$f":"[8]Tabulka!D13","v":"Adéla"},{"$f":"[8]Tabulka!E13","v":"2001-09-04"},{"$f":"[8]Tabulka!F13","v":"Orlová- Siko TTC"},{"$f":"[8]Tabulka!G13","v":"KA"},{"$f":"[8]Tabulka!H13","v":100},{"$f":"+[8]Tabulka!AU13","v":3},{"$f":"+[8]Tabulka!AV13","v":{"v":4.101020071683792,"d":"4.10"}},{"$f":"+[8]Tabulka!AW13","v":2},{"$f":"+[8]Tabulka!AX13","v":{"v":4.369400178389413,"d":"4.37"}},{"$f":"+[8]Tabulka!AY13","v":0},{"$f":"+[8]Tabulka!AZ13","v":{"v":0,"d":"0.00"}},{"$f":"+[8]Tabulka!BA13","v":3},{"$f":"+[8]Tabulka!BB13","v":{"v":4.101020071683792,"d":"4.10"}},{"$f":"+[8]Tabulka!BC13","v":0},{"$f":"+[8]Tabulka!BD13","v":{"v":0,"d":"0.00"}},{"$f":"+[8]Tabulka!BE13","v":0},{"$f":"+[8]Tabulka!BF13","v":{"v":0,"d":"0.00"}},{"$f":"+[8]Tabulka!BG13","v":0},{"$f":"+[8]Tabulka!BH13","v":{"v":0,"d":"0.00"}},{"$f":"+[8]Tabulka!BI13","v":0},{"$f":"+[8]Tabulka!BJ13","v":{"v":0,"d":"0.00"}},{"$f":"+[8]Tabulka!AP13","v":{"v":0,"d":"0.00"}},{"$f":"+[8]Tabulka!AQ13","v":{"v":0,"d":"0.00"}},{"$f":"+[8]Tabulka!BM13","v":{"v":12.571440321756999,"d":"12.57"}},{"$f":"+[8]Tabulka!BN13","v":3},{"$f":"+[8]Tabulka!BO13","v":{"v":12.571440321756999,"d":"12.57"}}]
[null,{"$f":"[8]Tabulka!C14","v":"PALETOVÁ"},{"$f":"[8]Tabulka!D14","v":"Barbora"},{"$f":"[8]Tabulka!E14","v":"2001-07-14"},{"$f":"[8]Tabulka!F14","v":"Děhylov- Sokol TJ"},{"$f":"[8]Tabulka!G14","v":"OP"},{"$f":"[8]Tabulka!H14","v":100},{"$f":"+[8]Tabulka!AU14","v":7},{"$f":"+[8]Tabulka!AV14","v":{"v":3.1825276537773326,"d":"3.18"}},{"$f":"+[8]Tabulka!AW14","v":4},{"$f":"+[8]Tabulka!AX14","v":{"v":3.8491245804252903,"d":"3.85"}},{"$f":"+[8]Tabulka!AY14","v":0},{"$f":"+[8]Tabulka!AZ14","v":{"v":0,"d":"0.00"}},{"$f":"+[8]Tabulka!BA14","v":3},{"$f":"+[8]Tabulka!BB14","v":{"v":4.101020071683792,"d":"4.10"}},{"$f":"+[8]Tabulka!BC14","v":4},{"$f":"+[8]Tabulka!BD14","v":{"v":3.8491245804252903,"d":"3.85"}},{"$f":"+[8]Tabulka!BE14","v":7},{"$f":"+[8]Tabulka!BF14","v":{"v":3.1825276537773326,"d":"3.18"}},{"$f":"+[8]Tabulka!BG14","v":0},{"$f":"+[8]Tabulka!BH14","v":{"v":0,"d":"0.00"}},{"$f":"+[8]Tabulka!BI14","v":0},{"$f":"+[8]Tabulka!BJ14","v":{"v":0,"d":"0.00"}},{"$f":"+[8]Tabulka!AP14","v":{"v":34.084132815635066,"d":"34.08"}},{"$f":"+[8]Tabulka!AQ14","v":{"v":3,"d":"3.00"}},{"$f":"+[8]Tabulka!BM14","v":{"v":18.164324540089037,"d":"18.16"}},{"$f":"+[8]Tabulka!BN14","v":5},{"$f":"+[8]Tabulka!BO14","v":{"v":11.799269232534373,"d":"11.80"}}]
[null,{"$f":"[8]Tabulka!C15","v":"SELVEKOVÁ"},{"$f":"[8]Tabulka!D15","v":"Eliška"},{"$f":"[8]Tabulka!E15","v":"1999-02-15"},{"$f":"[8]Tabulka!F15","v":"Hradec nad Moravicí- FIT SPORT KLUB "},{"$f":"[8]Tabulka!G15","v":"OP"},{"$f":"[8]Tabulka!H15","v":100},{"$f":"+[8]Tabulka!AU15","v":6},{"$f":"+[8]Tabulka!AV15","v":{"v":3.3907995218454317,"d":"3.39"}},{"$f":"+[8]Tabulka!AW15","v":3},{"$f":"+[8]Tabulka!AX15","v":{"v":4.101020071683792,"d":"4.10"}},{"$f":"+[8]Tabulka!AY15","v":4},{"$f":"+[8]Tabulka!AZ15","v":{"v":3.8491245804252903,"d":"3.85"}},{"$f":"+[8]Tabulka!BA15","v":0},{"$f":"+[8]Tabulka!BB15","v":{"v":0,"d":"0.00"}},{"$f":"+[8]Tabulka!BC15","v":0},{"$f":"+[8]Tabulka!BD15","v":{"v":0,"d":"0.00"}},{"$f":"+[8]Tabulka!BE15","v":0},{"$f":"+[8]Tabulka!BF15","v":{"v":0,"d":"0.00"}},{"$f":"+[8]Tabulka!BG15","v":0},{"$f":"+[8]Tabulka!BH15","v":{"v":0,"d":"0.00"}},{"$f":"+[8]Tabulka!BI15","v":0},{"$f":"+[8]Tabulka!BJ15","v":{"v":0,"d":"0.00"}},{"$f":"+[8]Tabulka!AP15","v":{"v":0,"d":"0.00"}},{"$f":"+[8]Tabulka!AQ15","v":{"v":0,"d":"0.00"}},{"$f":"+[8]Tabulka!BM15","v":{"v":11.340944173954513,"d":"11.34"}},{"$f":"+[8]Tabulka!BN15","v":3},{"$f":"+[8]Tabulka!BO15","v":{"v":11.340944173954515,"d":"11.34"}}]
[null,{"$f":"[8]Tabulka!C16","v":"SYNKOVÁ"},{"$f":"[8]Tabulka!D16","v":"Markéta"},{"$f":"[8]Tabulka!E16","v":"2001-07-30"},{"$f":"[8]Tabulka!F16","v":"Děhylov- Sokol TJ"},{"$f":"[8]Tabulka!G16","v":"OP"},{"$f":"[8]Tabulka!H16","v":100},{"$f":"+[8]Tabulka!AU16","v":4},{"$f":"+[8]Tabulka!AV16","v":{"v":3.8491245804252903,"d":"3.85"}},{"$f":"+[8]Tabulka!AW16","v":0},{"$f":"+[8]Tabulka!AX16","v":{"v":0,"d":"0.00"}},{"$f":"+[8]Tabulka!AY16","v":0},{"$f":"+[8]Tabulka!AZ16","v":{"v":0,"d":"0.00"}},{"$f":"+[8]Tabulka!BA16","v":0},{"$f":"+[8]Tabulka!BB16","v":{"v":0,"d":"0.00"}},{"$f":"+[8]Tabulka!BC16","v":3},{"$f":"+[8]Tabulka!BD16","v":{"v":4.101020071683792,"d":"4.10"}},{"$f":"+[8]Tabulka!BE16","v":6},{"$f":"+[8]Tabulka!BF16","v":{"v":3.3907995218454317,"d":"3.39"}},{"$f":"+[8]Tabulka!BG16","v":0},{"$f":"+[8]Tabulka!BH16","v":{"v":0,"d":"0.00"}},{"$f":"+[8]Tabulka!BI16","v":0},{"$f":"+[8]Tabulka!BJ16","v":{"v":0,"d":"0.00"}},{"$f":"+[8]Tabulka!AP16","v":{"v":40.43429989843927,"d":"40.43"}},{"$f":"+[8]Tabulka!AQ16","v":{"v":3,"d":"3.00"}},{"$f":"+[8]Tabulka!BM16","v":{"v":11.340944173954515,"d":"11.34"}},{"$f":"+[8]Tabulka!BN16","v":3},{"$f":"+[8]Tabulka!BO16","v":{"v":11.340944173954515,"d":"11.34"}}]
[null,{"$f":"[8]Tabulka!C17","v":"STOŠKOVÁ"},{"$f":"[8]Tabulka!D17","v":"Zuzana"},{"$f":"[8]Tabulka!E17","v":"1999-03-16"},{"$f":"[8]Tabulka!F17","v":"Hradec nad Moravicí- FIT SPORT KLUB "},{"$f":"[8]Tabulka!G17","v":"OP"},{"$f":"[8]Tabulka!H17","v":100},{"$f":"+[8]Tabulka!AU17","v":7},{"$f":"+[8]Tabulka!AV17","v":{"v":3.1825276537773326,"d":"3.18"}},{"$f":"+[8]Tabulka!AW17","v":6},{"$f":"+[8]Tabulka!AX17","v":{"v":3.3907995218454317,"d":"3.39"}},{"$f":"+[8]Tabulka!AY17","v":5},{"$f":"+[8]Tabulka!AZ17","v":{"v":3.6127011759664778,"d":"3.61"}},{"$f":"+[8]Tabulka!BA17","v":0},{"$f":"+[8]Tabulka!BB17","v":{"v":0,"d":"0.00"}},{"$f":"+[8]Tabulka!BC17","v":4},{"$f":"+[8]Tabulka!BD17","v":{"v":3.8491245804252903,"d":"3.85"}},{"$f":"+[8]Tabulka!BE17","v":7},{"$f":"+[8]Tabulka!BF17","v":{"v":3.1825276537773326,"d":"3.18"}},{"$f":"+[8]Tabulka!BG17","v":0},{"$f":"+[8]Tabulka!BH17","v":{"v":0,"d":"0.00"}},{"$f":"+[8]Tabulka!BI17","v":0},{"$f":"+[8]Tabulka!BJ17","v":{"v":0,"d":"0.00"}},{"$f":"+[8]Tabulka!AP17","v":{"v":0,"d":"0.00"}},{"$f":"+[8]Tabulka!AQ17","v":{"v":0,"d":"0.00"}},{"$f":"+[8]Tabulka!BM17","v":{"v":17.217680585791864,"d":"17.22"}},{"$f":"+[8]Tabulka!BN17","v":5},{"$f":"+[8]Tabulka!BO17","v":{"v":10.8526252782372,"d":"10.85"}}]
[null,{"$f":"[8]Tabulka!C18","v":"ČECHOVÁ"},{"$f":"[8]Tabulka!D18","v":"Kateřina"},{"$f":"[8]Tabulka!E18","v":"1999-03-29"},{"$f":"[8]Tabulka!F18","v":"Frýdlant nad Ostravicí- SK"},{"$f":"[8]Tabulka!G18","v":"FM"},{"$f":"[8]Tabulka!H18","v":100},{"$f":"+[8]Tabulka!AU18","v":3},{"$f":"+[8]Tabulka!AV18","v":{"v":4.101020071683792,"d":"4.10"}},{"$f":"+[8]Tabulka!AW18","v":0},{"$f":"+[8]Tabulka!AX18","v":{"v":0,"d":"0.00"}},{"$f":"+[8]Tabulka!AY18","v":1},{"$f":"+[8]Tabulka!AZ18","v":{"v":4.655343691373548,"d":"4.66"}},{"$f":"+[8]Tabulka!BA18","v":0},{"$f":"+[8]Tabulka!BB18","v":{"v":0,"d":"0.00"}},{"$f":"+[8]Tabulka!BC18","v":0},{"$f":"+[8]Tabulka!BD18","v":{"v":0,"d":"0.00"}},{"$f":"+[8]Tabulka!BE18","v":0},{"$f":"+[8]Tabulka!BF18","v":{"v":0,"d":"0.00"}},{"$f":"+[8]Tabulka!BG18","v":0},{"$f":"+[8]Tabulka!BH18","v":{"v":0,"d":"0.00"}},{"$f":"+[8]Tabulka!BI18","v":0},{"$f":"+[8]Tabulka!BJ18","v":{"v":0,"d":"0.00"}},{"$f":"+[8]Tabulka!AP18","v":{"v":80.07191149162503,"d":"80.07"}},{"$f":"+[8]Tabulka!AQ18","v":{"v":4,"d":"4.00"}},{"$f":"+[8]Tabulka!BM18","v":{"v":8.75636376305734,"d":"8.76"}},{"$f":"+[8]Tabulka!BN18","v":2},{"$f":"+[8]Tabulka!BO18","v":{"v":8.75636376305734,"d":"8.76"}}]
["4",{"$f":"[8]Tabulka!C19","v":"JEMELÍKOVÁ"},{"$f":"[8]Tabulka!D19","v":"Alice"},{"$f":"[8]Tabulka!E19","v":"1998-08-03"},{"$f":"[8]Tabulka!F19","v":"Frýdlant nad Ostravicí- SK"},{"$f":"[8]Tabulka!G19","v":"FM"},{"$f":"[8]Tabulka!H19","v":100},{"$f":"+[8]Tabulka!AU19","v":0},{"$f":"+[8]Tabulka!AV19","v":{"v":0,"d":"0.00"}},{"$f":"+[8]Tabulka!AW19","v":0},{"$f":"+[8]Tabulka!AX19","v":{"v":0,"d":"0.00"}},{"$f":"+[8]Tabulka!AY19","v":3},{"$f":"+[8]Tabulka!AZ19","v":{"v":4.101020071683792,"d":"4.10"}},{"$f":"+[8]Tabulka!BA19","v":2},{"$f":"+[8]Tabulka!BB19","v":{"v":4.369400178389413,"d":"4.37"}},{"$f":"+[8]Tabulka!BC19","v":0},{"$f":"+[8]Tabulka!BD19","v":{"v":0,"d":"0.00"}},{"$f":"+[8]Tabulka!BE19","v":0},{"$f":"+[8]Tabulka!BF19","v":{"v":0,"d":"0.00"}},{"$f":"+[8]Tabulka!BG19","v":0},{"$f":"+[8]Tabulka!BH19","v":{"v":0,"d":"0.00"}},{"$f":"+[8]Tabulka!BI19","v":0},{"$f":"+[8]Tabulka!BJ19","v":{"v":0,"d":"0.00"}},{"$f":"+[8]Tabulka!AP19","v":{"v":49.158984298331475,"d":"49.16"}},{"$f":"+[8]Tabulka!AQ19","v":{"v":4,"d":"4.00"}},{"$f":"+[8]Tabulka!BM19","v":{"v":8.470420250073206,"d":"8.47"}},{"$f":"+[8]Tabulka!BN19","v":2},{"$f":"+[8]Tabulka!BO19","v":{"v":8.470420250073206,"d":"8.47"}}]
[null,{"$f":"[8]Tabulka!C20","v":"SWACZYNOVÁ"},{"$f":"[8]Tabulka!D20","v":"Sára"},{"$f":"[8]Tabulka!E20","v":"1997-01-01"},{"$f":"[8]Tabulka!F20","v":"Karviná- KLUBsten KST"},{"$f":"[8]Tabulka!G20","v":"KA"},{"$f":"[8]Tabulka!H20","v":0},{"$f":"+[8]Tabulka!AU20","v":0},{"$f":"+[8]Tabulka!AV20","v":{"v":0,"d":"0.00"}},{"$f":"+[8]Tabulka!AW20","v":0},{"$f":"+[8]Tabulka!AX20","v":{"v":0,"d":"0.00"}},{"$f":"+[8]Tabulka!AY20","v":2},{"$f":"+[8]Tabulka!AZ20","v":{"v":4.369400178389413,"d":"4.37"}},{"$f":"+[8]Tabulka!BA20","v":4},{"$f":"+[8]Tabulka!BB20","v":{"v":3.8491245804252903,"d":"3.85"}},{"$f":"+[8]Tabulka!BC20","v":0},{"$f":"+[8]Tabulka!BD20","v":{"v":0,"d":"0.00"}},{"$f":"+[8]Tabulka!BE20","v":0},{"$f":"+[8]Tabulka!BF20","v":{"v":0,"d":"0.00"}},{"$f":"+[8]Tabulka!BG20","v":0},{"$f":"+[8]Tabulka!BH20","v":{"v":0,"d":"0.00"}},{"$f":"+[8]Tabulka!BI20","v":0},{"$f":"+[8]Tabulka!BJ20","v":{"v":0,"d":"0.00"}},{"$f":"+[8]Tabulka!AP20","v":{"v":8.241404376466553,"d":"8.24"}},{"$f":"+[8]Tabulka!AQ20","v":{"v":1,"d":"1.00"}},{"$f":"+[8]Tabulka!BM20","v":{"v":8.218524758814704,"d":"8.22"}},{"$f":"+[8]Tabulka!BN20","v":2},{"$f":"+[8]Tabulka!BO20","v":{"v":8.218524758814704,"d":"8.22"}}]
["5",{"$f":"[8]Tabulka!C21","v":"WITOSZOVÁ"},{"$f":"[8]Tabulka!D21","v":"Klára"},{"$f":"[8]Tabulka!E21","v":"2003-09-25"},{"$f":"[8]Tabulka!F21","v":"Havířov- Baník SKST"},{"$f":"[8]Tabulka!G21","v":"KA"},{"$f":"[8]Tabulka!H21","v":100},{"$f":"+[8]Tabulka!AU21","v":0},{"$f":"+[8]Tabulka!AV21","v":{"v":0,"d":"0.00"}},{"$f":"+[8]Tabulka!AW21","v":3},{"$f":"+[8]Tabulka!AX21","v":{"v":4.101020071683792,"d":"4.10"}},{"$f":"+[8]Tabulka!AY21","v":3},{"$f":"+[8]Tabulka!AZ21","v":{"v":4.101020071683792,"d":"4.10"}},{"$f":"+[8]Tabulka!BA21","v":0},{"$f":"+[8]Tabulka!BB21","v":{"v":0,"d":"0.00"}},{"$f":"+[8]Tabulka!BC21","v":0},{"$f":"+[8]Tabulka!BD21","v":{"v":0,"d":"0.00"}},{"$f":"+[8]Tabulka!BE21","v":0},{"$f":"+[8]Tabulka!BF21","v":{"v":0,"d":"0.00"}},{"$f":"+[8]Tabulka!BG21","v":0},{"$f":"+[8]Tabulka!BH21","v":{"v":0,"d":"0.00"}},{"$f":"+[8]Tabulka!BI21","v":0},{"$f":"+[8]Tabulka!BJ21","v":{"v":0,"d":"0.00"}},{"$f":"+[8]Tabulka!AP21","v":{"v":0,"d":"0.00"}},{"$f":"+[8]Tabulka!AQ21","v":{"v":0,"d":"0.00"}},{"$f":"+[8]Tabulka!BM21","v":{"v":8.202040143367585,"d":"8.20"}},{"$f":"+[8]Tabulka!BN21","v":2},{"$f":"+[8]Tabulka!BO21","v":{"v":8.202040143367585,"d":"8.20"}}]
["6",{"$f":"[8]Tabulka!C22","v":"CINGELOVÁ"},{"$f":"[8]Tabulka!D22","v":"Luba"},{"$f":"[8]Tabulka!E22","v":"1998-11-05"},{"$f":"[8]Tabulka!F22","v":"Hradec nad Moravicí- FIT SPORT KLUB "},{"$f":"[8]Tabulka!G22","v":"OP"},{"$f":"[8]Tabulka!H22","v":100},{"$f":"+[8]Tabulka!AU22","v":0},{"$f":"+[8]Tabulka!AV22","v":{"v":0,"d":"0.00"}},{"$f":"+[8]Tabulka!AW22","v":2},{"$f":"+[8]Tabulka!AX22","v":{"v":4.369400178389413,"d":"4.37"}},{"$f":"+[8]Tabulka!AY22","v":0},{"$f":"+[8]Tabulka!AZ22","v":{"v":0,"d":"0.00"}},{"$f":"+[8]Tabulka!BA22","v":0},{"$f":"+[8]Tabulka!BB22","v":{"v":0,"d":"0.00"}},{"$f":"+[8]Tabulka!BC22","v":0},{"$f":"+[8]Tabulka!BD22","v":{"v":0,"d":"0.00"}},{"$f":"+[8]Tabulka!BE22","v":7},{"$f":"+[8]Tabulka!BF22","v":{"v":3.1825276537773326,"d":"3.18"}},{"$f":"+[8]Tabulka!BG22","v":0},{"$f":"+[8]Tabulka!BH22","v":{"v":0,"d":"0.00"}},{"$f":"+[8]Tabulka!BI22","v":0},{"$f":"+[8]Tabulka!BJ22","v":{"v":0,"d":"0.00"}},{"$f":"+[8]Tabulka!AP22","v":{"v":0,"d":"0.00"}},{"$f":"+[8]Tabulka!AQ22","v":{"v":0,"d":"0.00"}},{"$f":"+[8]Tabulka!BM22","v":{"v":7.551927832166745,"d":"7.55"}},{"$f":"+[8]Tabulka!BN22","v":2},{"$f":"+[8]Tabulka!BO22","v":{"v":7.551927832166745,"d":"7.55"}}]
["5",{"$f":"[8]Tabulka!C23","v":"CZOLKOVÁ"},{"$f":"[8]Tabulka!D23","v":"Adéla"},{"$f":"[8]Tabulka!E23","v":"1999-01-01"},{"$f":"[8]Tabulka!F23","v":"Orlová- Siko TTC"},{"$f":"[8]Tabulka!G23","v":"KA"},{"$f":"[8]Tabulka!H23","v":0},{"$f":"+[8]Tabulka!AU23","v":0},{"$f":"+[8]Tabulka!AV23","v":{"v":0,"d":"0.00"}},{"$f":"+[8]Tabulka!AW23","v":4},{"$f":"+[8]Tabulka!AX23","v":{"v":3.8491245804252903,"d":"3.85"}},{"$f":"+[8]Tabulka!AY23","v":0},{"$f":"+[8]Tabulka!AZ23","v":{"v":0,"d":"0.00"}},{"$f":"+[8]Tabulka!BA23","v":6},{"$f":"+[8]Tabulka!BB23","v":{"v":3.3907995218454317,"d":"3.39"}},{"$f":"+[8]Tabulka!BC23","v":0},{"$f":"+[8]Tabulka!BD23","v":{"v":0,"d":"0.00"}},{"$f":"+[8]Tabulka!BE23","v":0},{"$f":"+[8]Tabulka!BF23","v":{"v":0,"d":"0.00"}},{"$f":"+[8]Tabulka!BG23","v":0},{"$f":"+[8]Tabulka!BH23","v":{"v":0,"d":"0.00"}},{"$f":"+[8]Tabulka!BI23","v":0},{"$f":"+[8]Tabulka!BJ23","v":{"v":0,"d":"0.00"}},{"$f":"+[8]Tabulka!AP23","v":{"v":0,"d":"0.00"}},{"$f":"+[8]Tabulka!AQ23","v":{"v":0,"d":"0.00"}},{"$f":"+[8]Tabulka!BM23","v":{"v":7.239924102270722,"d":"7.24"}},{"$f":"+[8]Tabulka!BN23","v":2},{"$f":"+[8]Tabulka!BO23","v":{"v":7.239924102270722,"d":"7.24"}}]
["7",{"$f":"[8]Tabulka!C24","v":"PETROVOVÁ"},{"$f":"[8]Tabulka!D24","v":"Nikita"},{"$f":"[8]Tabulka!E24","v":"1999-09-26"},{"$f":"[8]Tabulka!F24","v":"Frýdlant nad Ostravicí- SK"},{"$f":"[8]Tabulka!G24","v":"FM"},{"$f":"[8]Tabulka!H24","v":100},{"$f":"+[8]Tabulka!AU24","v":0},{"$f":"+[8]Tabulka!AV24","v":{"v":0,"d":"0.00"}},{"$f":"+[8]Tabulka!AW24","v":0},{"$f":"+[8]Tabulka!AX24","v":{"v":0,"d":"0.00"}},{"$f":"+[8]Tabulka!AY24","v":0},{"$f":"+[8]Tabulka!AZ24","v":{"v":0,"d":"0.00"}},{"$f":"+[8]Tabulka!BA24","v":0},{"$f":"+[8]Tabulka!BB24","v":{"v":0,"d":"0.00"}},{"$f":"+[8]Tabulka!BC24","v":0},{"$f":"+[8]Tabulka!BD24","v":{"v":0,"d":"0.00"}},{"$f":"+[8]Tabulka!BE24","v":1},{"$f":"+[8]Tabulka!BF24","v":{"v":4.655343691373548,"d":"4.66"}},{"$f":"+[8]Tabulka!BG24","v":0},{"$f":"+[8]Tabulka!BH24","v":{"v":0,"d":"0.00"}},{"$f":"+[8]Tabulka!BI24","v":0},{"$f":"+[8]Tabulka!BJ24","v":{"v":0,"d":"0.00"}},{"$f":"+[8]Tabulka!AP24","v":{"v":17.63438630824031,"d":"17.63"}},{"$f":"+[8]Tabulka!AQ24","v":{"v":1,"d":"1.00"}},{"$f":"+[8]Tabulka!BM24","v":{"v":4.655343691373548,"d":"4.66"}},{"$f":"+[8]Tabulka!BN24","v":1},{"$f":"+[8]Tabulka!BO24","v":{"v":4.655343691373548,"d":"4.66"}}]
["6",{"$f":"[8]Tabulka!C25","v":"IŠTOKOVÁ"},{"$f":"[8]Tabulka!D25","v":"Jana"},{"$f":"[8]Tabulka!E25","v":"1997-01-01"},{"$f":"[8]Tabulka!F25","v":"Karviná-Lázně Darkov- Slovan VOKD TJ"},{"$f":"[8]Tabulka!G25","v":"KA"},{"$f":"[8]Tabulka!H25","v":0},{"$f":"+[8]Tabulka!AU25","v":0},{"$f":"+[8]Tabulka!AV25","v":{"v":0,"d":"0.00"}},{"$f":"+[8]Tabulka!AW25","v":0},{"$f":"+[8]Tabulka!AX25","v":{"v":0,"d":"0.00"}},{"$f":"+[8]Tabulka!AY25","v":0},{"$f":"+[8]Tabulka!AZ25","v":{"v":0,"d":"0.00"}},{"$f":"+[8]Tabulka!BA25","v":0},{"$f":"+[8]Tabulka!BB25","v":{"v":0,"d":"0.00"}},{"$f":"+[8]Tabulka!BC25","v":0},{"$f":"+[8]Tabulka!BD25","v":{"v":0,"d":"0.00"}},{"$f":"+[8]Tabulka!BE25","v":0},{"$f":"+[8]Tabulka!BF25","v":{"v":0,"d":"0.00"}},{"$f":"+[8]Tabulka!BG25","v":2},{"$f":"+[8]Tabulka!BH25","v":{"v":4.369400178389413,"d":"4.37"}},{"$f":"+[8]Tabulka!BI25","v":0},{"$f":"+[8]Tabulka!BJ25","v":{"v":0,"d":"0.00"}},{"$f":"+[8]Tabulka!AP25","v":{"v":0,"d":"0.00"}},{"$f":"+[8]Tabulka!AQ25","v":{"v":0,"d":"0.00"}},{"$f":"+[8]Tabulka!BM25","v":{"v":4.369400178389413,"d":"4.37"}},{"$f":"+[8]Tabulka!BN25","v":1},{"$f":"+[8]Tabulka!BO25","v":{"v":4.369400178389413,"d":"4.37"}}]
["8",{"$f":"[8]Tabulka!C26","v":"DAŇOVÁ"},{"$f":"[8]Tabulka!D26","v":"Barbora"},{"$f":"[8]Tabulka!E26","v":"1999-05-19"},{"$f":"[8]Tabulka!F26","v":"Frýdlant nad Ostravicí- SK"},{"$f":"[8]Tabulka!G26","v":"FM"},{"$f":"[8]Tabulka!H26","v":100},{"$f":"+[8]Tabulka!AU26","v":0},{"$f":"+[8]Tabulka!AV26","v":{"v":0,"d":"0.00"}},{"$f":"+[8]Tabulka!AW26","v":0},{"$f":"+[8]Tabulka!AX26","v":{"v":0,"d":"0.00"}},{"$f":"+[8]Tabulka!AY26","v":0},{"$f":"+[8]Tabulka!AZ26","v":{"v":0,"d":"0.00"}},{"$f":"+[8]Tabulka!BA26","v":0},{"$f":"+[8]Tabulka!BB26","v":{"v":0,"d":"0.00"}},{"$f":"+[8]Tabulka!BC26","v":0},{"$f":"+[8]Tabulka!BD26","v":{"v":0,"d":"0.00"}},{"$f":"+[8]Tabulka!BE26","v":3},{"$f":"+[8]Tabulka!BF26","v":{"v":4.101020071683792,"d":"4.10"}},{"$f":"+[8]Tabulka!BG26","v":0},{"$f":"+[8]Tabulka!BH26","v":{"v":0,"d":"0.00"}},{"$f":"+[8]Tabulka!BI26","v":0},{"$f":"+[8]Tabulka!BJ26","v":{"v":0,"d":"0.00"}},{"$f":"+[8]Tabulka!AP26","v":{"v":44.69549094452656,"d":"44.70"}},{"$f":"+[8]Tabulka!AQ26","v":{"v":3,"d":"3.00"}},{"$f":"+[8]Tabulka!BM26","v":{"v":4.101020071683792,"d":"4.10"}},{"$f":"+[8]Tabulka!BN26","v":1},{"$f":"+[8]Tabulka!BO26","v":{"v":4.101020071683792,"d":"4.10"}}]
["7",{"$f":"[8]Tabulka!C27","v":"OTISKOVÁ"},{"$f":"[8]Tabulka!D27","v":"Hana"},{"$f":"[8]Tabulka!E27","v":"2001-01-01"},{"$f":"[8]Tabulka!F27","v":"Ostrava- Poruba- DDM"},{"$f":"[8]Tabulka!G27","v":"OV"},{"$f":"[8]Tabulka!H27","v":0},{"$f":"+[8]Tabulka!AU27","v":0},{"$f":"+[8]Tabulka!AV27","v":{"v":0,"d":"0.00"}},{"$f":"+[8]Tabulka!AW27","v":0},{"$f":"+[8]Tabulka!AX27","v":{"v":0,"d":"0.00"}},{"$f":"+[8]Tabulka!AY27","v":0},{"$f":"+[8]Tabulka!AZ27","v":{"v":0,"d":"0.00"}},{"$f":"+[8]Tabulka!BA27","v":4},{"$f":"+[8]Tabulka!BB27","v":{"v":3.8491245804252903,"d":"3.85"}},{"$f":"+[8]Tabulka!BC27","v":0},{"$f":"+[8]Tabulka!BD27","v":{"v":0,"d":"0.00"}},{"$f":"+[8]Tabulka!BE27","v":0},{"$f":"+[8]Tabulka!BF27","v":{"v":0,"d":"0.00"}},{"$f":"+[8]Tabulka!BG27","v":0},{"$f":"+[8]Tabulka!BH27","v":{"v":0,"d":"0.00"}},{"$f":"+[8]Tabulka!BI27","v":0},{"$f":"+[8]Tabulka!BJ27","v":{"v":0,"d":"0.00"}},{"$f":"+[8]Tabulka!AP27","v":{"v":0,"d":"0.00"}},{"$f":"+[8]Tabulka!AQ27","v":{"v":0,"d":"0.00"}},{"$f":"+[8]Tabulka!BM27","v":{"v":3.8491245804252903,"d":"3.85"}},{"$f":"+[8]Tabulka!BN27","v":1},{"$f":"+[8]Tabulka!BO27","v":{"v":3.8491245804252903,"d":"3.85"}}]
[null,{"$f":"[8]Tabulka!C28","v":"SEKEROVÁ"},{"$f":"[8]Tabulka!D28","v":"Zuzana"},{"$f":"[8]Tabulka!E28","v":"2002-01-01"},{"$f":"[8]Tabulka!F28","v":"Polanka- Sokol"},{"$f":"[8]Tabulka!G28","v":"OV"},{"$f":"[8]Tabulka!H28","v":0},{"$f":"+[8]Tabulka!AU28","v":0},{"$f":"+[8]Tabulka!AV28","v":{"v":0,"d":"0.00"}},{"$f":"+[8]Tabulka!AW28","v":0},{"$f":"+[8]Tabulka!AX28","v":{"v":0,"d":"0.00"}},{"$f":"+[8]Tabulka!AY28","v":0},{"$f":"+[8]Tabulka!AZ28","v":{"v":0,"d":"0.00"}},{"$f":"+[8]Tabulka!BA28","v":4},{"$f":"+[8]Tabulka!BB28","v":{"v":3.8491245804252903,"d":"3.85"}},{"$f":"+[8]Tabulka!BC28","v":0},{"$f":"+[8]Tabulka!BD28","v":{"v":0,"d":"0.00"}},{"$f":"+[8]Tabulka!BE28","v":0},{"$f":"+[8]Tabulka!BF28","v":{"v":0,"d":"0.00"}},{"$f":"+[8]Tabulka!BG28","v":0},{"$f":"+[8]Tabulka!BH28","v":{"v":0,"d":"0.00"}},{"$f":"+[8]Tabulka!BI28","v":0},{"$f":"+[8]Tabulka!BJ28","v":{"v":0,"d":"0.00"}},{"$f":"+[8]Tabulka!AP28","v":{"v":0,"d":"0.00"}},{"$f":"+[8]Tabulka!AQ28","v":{"v":0,"d":"0.00"}},{"$f":"+[8]Tabulka!BM28","v":{"v":3.8491245804252903,"d":"3.85"}},{"$f":"+[8]Tabulka!BN28","v":1},{"$f":"+[8]Tabulka!BO28","v":{"v":3.8491245804252903,"d":"3.85"}}]
[null,{"$f":"[8]Tabulka!C29","v":"DAŇOVÁ"},{"$f":"[8]Tabulka!D29","v":"Andrea"},{"$f":"[8]Tabulka!E29","v":"1997-03-28"},{"$f":"[8]Tabulka!F29","v":"Frýdlant nad Ostravicí- SK"},{"$f":"[8]Tabulka!G29","v":"FM"},{"$f":"[8]Tabulka!H29","v":100},{"$f":"+[8]Tabulka!AU29","v":0},{"$f":"+[8]Tabulka!AV29","v":{"v":0,"d":"0.00"}},{"$f":"+[8]Tabulka!AW29","v":0},{"$f":"+[8]Tabulka!AX29","v":{"v":0,"d":"0.00"}},{"$f":"+[8]Tabulka!AY29","v":0},{"$f":"+[8]Tabulka!AZ29","v":{"v":0,"d":"0.00"}},{"$f":"+[8]Tabulka!BA29","v":0},{"$f":"+[8]Tabulka!BB29","v":{"v":0,"d":"0.00"}},{"$f":"+[8]Tabulka!BC29","v":0},{"$f":"+[8]Tabulka!BD29","v":{"v":0,"d":"0.00"}},{"$f":"+[8]Tabulka!BE29","v":5},{"$f":"+[8]Tabulka!BF29","v":{"v":3.6127011759664778,"d":"3.61"}},{"$f":"+[8]Tabulka!BG29","v":0},{"$f":"+[8]Tabulka!BH29","v":{"v":0,"d":"0.00"}},{"$f":"+[8]Tabulka!BI29","v":0},{"$f":"+[8]Tabulka!BJ29","v":{"v":0,"d":"0.00"}},{"$f":"+[8]Tabulka!AP29","v":{"v":45.770719663727135,"d":"45.77"}},{"$f":"+[8]Tabulka!AQ29","v":{"v":3,"d":"3.00"}},{"$f":"+[8]Tabulka!BM29","v":{"v":3.6127011759664778,"d":"3.61"}},{"$f":"+[8]Tabulka!BN29","v":1},{"$f":"+[8]Tabulka!BO29","v":{"v":3.6127011759664778,"d":"3.61"}}]
[null,{"$f":"[8]Tabulka!C30","v":"ROZKYDALOVÁ"},{"$f":"[8]Tabulka!D30","v":"Eliška"},{"$f":"[8]Tabulka!E30","v":"2002-01-11"},{"$f":"[8]Tabulka!F30","v":"Frýdlant nad Ostravicí- SK"},{"$f":"[8]Tabulka!G30","v":"FM"},{"$f":"[8]Tabulka!H30","v":100},{"$f":"+[8]Tabulka!AU30","v":0},{"$f":"+[8]Tabulka!AV30","v":{"v":0,"d":"0.00"}},{"$f":"+[8]Tabulka!AW30","v":5},{"$f":"+[8]Tabulka!AX30","v":{"v":3.6127011759664778,"d":"3.61"}},{"$f":"+[8]Tabulka!AY30","v":0},{"$f":"+[8]Tabulka!AZ30","v":{"v":0,"d":"0.00"}},{"$f":"+[8]Tabulka!BA30","v":0},{"$f":"+[8]Tabulka!BB30","v":{"v":0,"d":"0.00"}},{"$f":"+[8]Tabulka!BC30","v":0},{"$f":"+[8]Tabulka!BD30","v":{"v":0,"d":"0.00"}},{"$f":"+[8]Tabulka!BE30","v":0},{"$f":"+[8]Tabulka!BF30","v":{"v":0,"d":"0.00"}},{"$f":"+[8]Tabulka!BG30","v":0},{"$f":"+[8]Tabulka!BH30","v":{"v":0,"d":"0.00"}},{"$f":"+[8]Tabulka!BI30","v":0},{"$f":"+[8]Tabulka!BJ30","v":{"v":0,"d":"0.00"}},{"$f":"+[8]Tabulka!AP30","v":{"v":22.675289106487973,"d":"22.68"}},{"$f":"+[8]Tabulka!AQ30","v":{"v":2,"d":"2.00"}},{"$f":"+[8]Tabulka!BM30","v":{"v":3.6127011759664778,"d":"3.61"}},{"$f":"+[8]Tabulka!BN30","v":1},{"$f":"+[8]Tabulka!BO30","v":{"v":3.6127011759664778,"d":"3.61"}}]
[null,{"$f":"[8]Tabulka!C31","v":"STARÁ"},{"$f":"[8]Tabulka!D31","v":"Petra"},{"$f":"[8]Tabulka!E31","v":"1998-01-01"},{"$f":"[8]Tabulka!F31","v":"Český Těšín- SKST"},{"$f":"[8]Tabulka!G31","v":"KA"},{"$f":"[8]Tabulka!H31","v":0},{"$f":"+[8]Tabulka!AU31","v":0},{"$f":"+[8]Tabulka!AV31","v":{"v":0,"d":"0.00"}},{"$f":"+[8]Tabulka!AW31","v":0},{"$f":"+[8]Tabulka!AX31","v":{"v":0,"d":"0.00"}},{"$f":"+[8]Tabulka!AY31","v":0},{"$f":"+[8]Tabulka!AZ31","v":{"v":0,"d":"0.00"}},{"$f":"+[8]Tabulka!BA31","v":5},{"$f":"+[8]Tabulka!BB31","v":{"v":3.6127011759664778,"d":"3.61"}},{"$f":"+[8]Tabulka!BC31","v":0},{"$f":"+[8]Tabulka!BD31","v":{"v":0,"d":"0.00"}},{"$f":"+[8]Tabulka!BE31","v":0},{"$f":"+[8]Tabulka!BF31","v":{"v":0,"d":"0.00"}},{"$f":"+[8]Tabulka!BG31","v":0},{"$f":"+[8]Tabulka!BH31","v":{"v":0,"d":"0.00"}},{"$f":"+[8]Tabulka!BI31","v":0},{"$f":"+[8]Tabulka!BJ31","v":{"v":0,"d":"0.00"}},{"$f":"+[8]Tabulka!AP31","v":{"v":0,"d":"0.00"}},{"$f":"+[8]Tabulka!AQ31","v":{"v":0,"d":"0.00"}},{"$f":"+[8]Tabulka!BM31","v":{"v":3.6127011759664778,"d":"3.61"}},{"$f":"+[8]Tabulka!BN31","v":1},{"$f":"+[8]Tabulka!BO31","v":{"v":3.6127011759664778,"d":"3.61"}}]
["9",{"$f":"[8]Tabulka!C32","v":"GREIPLOVÁ"},{"$f":"[8]Tabulka!D32","v":"Barbora"},{"$f":"[8]Tabulka!E32","v":"2000-03-22"},{"$f":"[8]Tabulka!F32","v":"Hlučín- DDM"},{"$f":"[8]Tabulka!G32","v":"OP"},{"$f":"[8]Tabulka!H32","v":100},{"$f":"+[8]Tabulka!AU32","v":7},{"$f":"+[8]Tabulka!AV32","v":{"v":3.1825276537773326,"d":"3.18"}},{"$f":"+[8]Tabulka!AW32","v":0},{"$f":"+[8]Tabulka!AX32","v":{"v":0,"d":"0.00"}},{"$f":"+[8]Tabulka!AY32","v":0},{"$f":"+[8]Tabulka!AZ32","v":{"v":0,"d":"0.00"}},{"$f":"+[8]Tabulka!BA32","v":0},{"$f":"+[8]Tabulka!BB32","v":{"v":0,"d":"0.00"}},{"$f":"+[8]Tabulka!BC32","v":0},{"$f":"+[8]Tabulka!BD32","v":{"v":0,"d":"0.00"}},{"$f":"+[8]Tabulka!BE32","v":0},{"$f":"+[8]Tabulka!BF32","v":{"v":0,"d":"0.00"}},{"$f":"+[8]Tabulka!BG32","v":0},{"$f":"+[8]Tabulka!BH32","v":{"v":0,"d":"0.00"}},{"$f":"+[8]Tabulka!BI32","v":0},{"$f":"+[8]Tabulka!BJ32","v":{"v":0,"d":"0.00"}},{"$f":"+[8]Tabulka!AP32","v":{"v":0,"d":"0.00"}},{"$f":"+[8]Tabulka!AQ32","v":{"v":0,"d":"0.00"}},{"$f":"+[8]Tabulka!BM32","v":{"v":3.1825276537773326,"d":"3.18"}},{"$f":"+[8]Tabulka!BN32","v":1},{"$f":"+[8]Tabulka!BO32","v":{"v":3.1825276537773326,"d":"3.18"}}]
[null,{"$f":"[8]Tabulka!C33","v":"HRABCOVÁ"},{"$f":"[8]Tabulka!D33","v":"Bára"},{"$f":"[8]Tabulka!E33","v":"1999-01-01"},{"$f":"[8]Tabulka!F33","v":"Kateřinky- Sokol TJ"},{"$f":"[8]Tabulka!G33","v":"OP"},{"$f":"[8]Tabulka!H33","v":0},{"$f":"+[8]Tabulka!AU33","v":0},{"$f":"+[8]Tabulka!AV33","v":{"v":0,"d":"0.00"}},{"$f":"+[8]Tabulka!AW33","v":7},{"$f":"+[8]Tabulka!AX33","v":{"v":3.1825276537773326,"d":"3.18"}},{"$f":"+[8]Tabulka!AY33","v":0},{"$f":"+[8]Tabulka!AZ33","v":{"v":0,"d":"0.00"}},{"$f":"+[8]Tabulka!BA33","v":0},{"$f":"+[8]Tabulka!BB33","v":{"v":0,"d":"0.00"}},{"$f":"+[8]Tabulka!BC33","v":0},{"$f":"+[8]Tabulka!BD33","v":{"v":0,"d":"0.00"}},{"$f":"+[8]Tabulka!BE33","v":0},{"$f":"+[8]Tabulka!BF33","v":{"v":0,"d":"0.00"}},{"$f":"+[8]Tabulka!BG33","v":0},{"$f":"+[8]Tabulka!BH33","v":{"v":0,"d":"0.00"}},{"$f":"+[8]Tabulka!BI33","v":0},{"$f":"+[8]Tabulka!BJ33","v":{"v":0,"d":"0.00"}},{"$f":"+[8]Tabulka!AP33","v":{"v":0,"d":"0.00"}},{"$f":"+[8]Tabulka!AQ33","v":{"v":0,"d":"0.00"}},{"$f":"+[8]Tabulka!BM33","v":{"v":3.1825276537773326,"d":"3.18"}},{"$f":"+[8]Tabulka!BN33","v":1},{"$f":"+[8]Tabulka!BO33","v":{"v":3.1825276537773326,"d":"3.18"}}]
[null,{"$f":"[8]Tabulka!C34","v":"KOLONIČNÁ"},{"$f":"[8]Tabulka!D34","v":"Markéta"},{"$f":"[8]Tabulka!E34","v":"2002-12-12"},{"$f":"[8]Tabulka!F34","v":"Hrabůvka- Sokol TJ"},{"$f":"[8]Tabulka!G34","v":"OV"},{"$f":"[8]Tabulka!H34","v":100},{"$f":"+[8]Tabulka!AU34","v":0},{"$f":"+[8]Tabulka!AV34","v":{"v":0,"d":"0.00"}},{"$f":"+[8]Tabulka!AW34","v":0},{"$f":"+[8]Tabulka!AX34","v":{"v":0,"d":"0.00"}},{"$f":"+[8]Tabulka!AY34","v":0},{"$f":"+[8]Tabulka!AZ34","v":{"v":0,"d":"0.00"}},{"$f":"+[8]Tabulka!BA34","v":0},{"$f":"+[8]Tabulka!BB34","v":{"v":0,"d":"0.00"}},{"$f":"+[8]Tabulka!BC34","v":0},{"$f":"+[8]Tabulka!BD34","v":{"v":0,"d":"0.00"}},{"$f":"+[8]Tabulka!BE34","v":7},{"$f":"+[8]Tabulka!BF34","v":{"v":3.1825276537773326,"d":"3.18"}},{"$f":"+[8]Tabulka!BG34","v":0},{"$f":"+[8]Tabulka!BH34","v":{"v":0,"d":"0.00"}},{"$f":"+[8]Tabulka!BI34","v":0},{"$f":"+[8]Tabulka!BJ34","v":{"v":0,"d":"0.00"}},{"$f":"+[8]Tabulka!AP34","v":{"v":21.93481600595336,"d":"21.93"}},{"$f":"+[8]Tabulka!AQ34","v":{"v":2,"d":"2.00"}},{"$f":"+[8]Tabulka!BM34","v":{"v":3.1825276537773326,"d":"3.18"}},{"$f":"+[8]Tabulka!BN34","v":1},{"$f":"+[8]Tabulka!BO34","v":{"v":3.1825276537773326,"d":"3.18"}}]
[null,{"$f":"[8]Tabulka!C35","v":"PANKOVÁ"},{"$f":"[8]Tabulka!D35","v":"Lenka"},{"$f":"[8]Tabulka!E35","v":"1999-01-01"},{"$f":"[8]Tabulka!F35","v":"Vratimov- MG Odra Gas TTC"},{"$f":"[8]Tabulka!G35","v":"OV"},{"$f":"[8]Tabulka!H35","v":0},{"$f":"+[8]Tabulka!AU35","v":7},{"$f":"+[8]Tabulka!AV35","v":{"v":3.1825276537773326,"d":"3.18"}},{"$f":"+[8]Tabulka!AW35","v":0},{"$f":"+[8]Tabulka!AX35","v":{"v":0,"d":"0.00"}},{"$f":"+[8]Tabulka!AY35","v":0},{"$f":"+[8]Tabulka!AZ35","v":{"v":0,"d":"0.00"}},{"$f":"+[8]Tabulka!BA35","v":0},{"$f":"+[8]Tabulka!BB35","v":{"v":0,"d":"0.00"}},{"$f":"+[8]Tabulka!BC35","v":0},{"$f":"+[8]Tabulka!BD35","v":{"v":0,"d":"0.00"}},{"$f":"+[8]Tabulka!BE35","v":0},{"$f":"+[8]Tabulka!BF35","v":{"v":0,"d":"0.00"}},{"$f":"+[8]Tabulka!BG35","v":0},{"$f":"+[8]Tabulka!BH35","v":{"v":0,"d":"0.00"}},{"$f":"+[8]Tabulka!BI35","v":0},{"$f":"+[8]Tabulka!BJ35","v":{"v":0,"d":"0.00"}},{"$f":"+[8]Tabulka!AP35","v":{"v":0,"d":"0.00"}},{"$f":"+[8]Tabulka!AQ35","v":{"v":0,"d":"0.00"}},{"$f":"+[8]Tabulka!BM35","v":{"v":3.1825276537773326,"d":"3.18"}},{"$f":"+[8]Tabulka!BN35","v":1},{"$f":"+[8]Tabulka!BO35","v":{"v":3.1825276537773326,"d":"3.18"}}]
[null,{"$f":"[8]Tabulka!C36","v":"ANTLOVÁ"},{"$f":"[8]Tabulka!D36","v":"Vanesa"},{"$f":"[8]Tabulka!E36","v":"1997-06-26"},{"$f":"[8]Tabulka!F36","v":"Havířov- CSVČ sv. Jana Boska"},{"$f":"[8]Tabulka!G36","v":"KA"},{"$f":"[8]Tabulka!H36","v":100},{"$f":"+[8]Tabulka!AU36","v":0},{"$f":"+[8]Tabulka!AV36","v":{"v":0,"d":"0.00"}},{"$f":"+[8]Tabulka!AW36","v":0},{"$f":"+[8]Tabulka!AX36","v":{"v":0,"d":"0.00"}},{"$f":"+[8]Tabulka!AY36","v":0},{"$f":"+[8]Tabulka!AZ36","v":{"v":0,"d":"0.00"}},{"$f":"+[8]Tabulka!BA36","v":0},{"$f":"+[8]Tabulka!BB36","v":{"v":0,"d":"0.00"}},{"$f":"+[8]Tabulka!BC36","v":0},{"$f":"+[8]Tabulka!BD36","v":{"v":0,"d":"0.00"}},{"$f":"+[8]Tabulka!BE36","v":0},{"$f":"+[8]Tabulka!BF36","v":{"v":0,"d":"0.00"}},{"$f":"+[8]Tabulka!BG36","v":0},{"$f":"+[8]Tabulka!BH36","v":{"v":0,"d":"0.00"}},{"$f":"+[8]Tabulka!BI36","v":0},{"$f":"+[8]Tabulka!BJ36","v":{"v":0,"d":"0.00"}},{"$f":"+[8]Tabulka!AP36","v":{"v":0,"d":"0.00"}},{"$f":"+[8]Tabulka!AQ36","v":{"v":0,"d":"0.00"}},{"$f":"+[8]Tabulka!BM36","v":{"v":0,"d":"0.00"}},{"$f":"+[8]Tabulka!BN36","v":0},{"$f":"+[8]Tabulka!BO36","v":{"v":0,"d":"0.00"}}]
[null,{"$f":"[8]Tabulka!C37","v":"DIATILOVÁ"},{"$f":"[8]Tabulka!D37","v":"Tereza"},{"$f":"[8]Tabulka!E37","v":"1999-01-01"},{"$f":"[8]Tabulka!F37","v":"Kateřinky- Sokol TJ"},{"$f":"[8]Tabulka!G37","v":"OP"},{"$f":"[8]Tabulka!H37","v":0},{"$f":"+[8]Tabulka!AU37","v":0},{"$f":"+[8]Tabulka!AV37","v":{"v":0,"d":"0.00"}},{"$f":"+[8]Tabulka!AW37","v":0},{"$f":"+[8]Tabulka!AX37","v":{"v":0,"d":"0.00"}},{"$f":"+[8]Tabulka!AY37","v":0},{"$f":"+[8]Tabulka!AZ37","v":{"v":0,"d":"0.00"}},{"$f":"+[8]Tabulka!BA37","v":0},{"$f":"+[8]Tabulka!BB37","v":{"v":0,"d":"0.00"}},{"$f":"+[8]Tabulka!BC37","v":0},{"$f":"+[8]Tabulka!BD37","v":{"v":0,"d":"0.00"}},{"$f":"+[8]Tabulka!BE37","v":0},{"$f":"+[8]Tabulka!BF37","v":{"v":0,"d":"0.00"}},{"$f":"+[8]Tabulka!BG37","v":0},{"$f":"+[8]Tabulka!BH37","v":{"v":0,"d":"0.00"}},{"$f":"+[8]Tabulka!BI37","v":0},{"$f":"+[8]Tabulka!BJ37","v":{"v":0,"d":"0.00"}},{"$f":"+[8]Tabulka!AP37","v":{"v":0,"d":"0.00"}},{"$f":"+[8]Tabulka!AQ37","v":{"v":0,"d":"0.00"}},{"$f":"+[8]Tabulka!BM37","v":{"v":0,"d":"0.00"}},{"$f":"+[8]Tabulka!BN37","v":0},{"$f":"+[8]Tabulka!BO37","v":{"v":0,"d":"0.00"}}]
[null,{"$f":"[8]Tabulka!C38","v":"HALFAROVÁ"},{"$f":"[8]Tabulka!D38","v":"Natálie"},{"$f":"[8]Tabulka!E38","v":"2000-11-18"},{"$f":"[8]Tabulka!F38","v":"Darkovice- KST"},{"$f":"[8]Tabulka!G38","v":"OP"},{"$f":"[8]Tabulka!H38","v":100},{"$f":"+[8]Tabulka!AU38","v":0},{"$f":"+[8]Tabulka!AV38","v":{"v":0,"d":"0.00"}},{"$f":"+[8]Tabulka!AW38","v":0},{"$f":"+[8]Tabulka!AX38","v":{"v":0,"d":"0.00"}},{"$f":"+[8]Tabulka!AY38","v":0},{"$f":"+[8]Tabulka!AZ38","v":{"v":0,"d":"0.00"}},{"$f":"+[8]Tabulka!BA38","v":0},{"$f":"+[8]Tabulka!BB38","v":{"v":0,"d":"0.00"}},{"$f":"+[8]Tabulka!BC38","v":0},{"$f":"+[8]Tabulka!BD38","v":{"v":0,"d":"0.00"}},{"$f":"+[8]Tabulka!BE38","v":0},{"$f":"+[8]Tabulka!BF38","v":{"v":0,"d":"0.00"}},{"$f":"+[8]Tabulka!BG38","v":0},{"$f":"+[8]Tabulka!BH38","v":{"v":0,"d":"0.00"}},{"$f":"+[8]Tabulka!BI38","v":0},{"$f":"+[8]Tabulka!BJ38","v":{"v":0,"d":"0.00"}},{"$f":"+[8]Tabulka!AP38","v":{"v":0,"d":"0.00"}},{"$f":"+[8]Tabulka!AQ38","v":{"v":0,"d":"0.00"}},{"$f":"+[8]Tabulka!BM38","v":{"v":0,"d":"0.00"}},{"$f":"+[8]Tabulka!BN38","v":0},{"$f":"+[8]Tabulka!BO38","v":{"v":0,"d":"0.00"}}]
[null,{"$f":"[8]Tabulka!C39","v":"HRABCOVÁ"},{"$f":"[8]Tabulka!D39","v":"Anna"},{"$f":"[8]Tabulka!E39","v":"2001-11-27"},{"$f":"[8]Tabulka!F39","v":"Frýdlant nad Ostravicí- SK"},{"$f":"[8]Tabulka!G39","v":"FM"},{"$f":"[8]Tabulka!H39","v":100},{"$f":"+[8]Tabulka!AU39","v":0},{"$f":"+[8]Tabulka!AV39","v":{"v":0,"d":"0.00"}},{"$f":"+[8]Tabulka!AW39","v":0},{"$f":"+[8]Tabulka!AX39","v":{"v":0,"d":"0.00"}},{"$f":"+[8]Tabulka!AY39","v":0},{"$f":"+[8]Tabulka!AZ39","v":{"v":0,"d":"0.00"}},{"$f":"+[8]Tabulka!BA39","v":0},{"$f":"+[8]Tabulka!BB39","v":{"v":0,"d":"0.00"}},{"$f":"+[8]Tabulka!BC39","v":0},{"$f":"+[8]Tabulka!BD39","v":{"v":0,"d":"0.00"}},{"$f":"+[8]Tabulka!BE39","v":0},{"$f":"+[8]Tabulka!BF39","v":{"v":0,"d":"0.00"}},{"$f":"+[8]Tabulka!BG39","v":0},{"$f":"+[8]Tabulka!BH39","v":{"v":0,"d":"0.00"}},{"$f":"+[8]Tabulka!BI39","v":0},{"$f":"+[8]Tabulka!BJ39","v":{"v":0,"d":"0.00"}},{"$f":"+[8]Tabulka!AP39","v":{"v":21.282512921766156,"d":"21.28"}},{"$f":"+[8]Tabulka!AQ39","v":{"v":2,"d":"2.00"}},{"$f":"+[8]Tabulka!BM39","v":{"v":0,"d":"0.00"}},{"$f":"+[8]Tabulka!BN39","v":0},{"$f":"+[8]Tabulka!BO39","v":{"v":0,"d":"0.00"}}]
[null,{"$f":"[8]Tabulka!C40","v":"KOHÚTOVÁ"},{"$f":"[8]Tabulka!D40","v":"Michaela"},{"$f":"[8]Tabulka!E40","v":"2002-01-01"},{"$f":"[8]Tabulka!F40","v":"Karviná- KLUBsten KST"},{"$f":"[8]Tabulka!G40","v":"KA"},{"$f":"[8]Tabulka!H40","v":0},{"$f":"+[8]Tabulka!AU40","v":0},{"$f":"+[8]Tabulka!AV40","v":{"v":0,"d":"0.00"}},{"$f":"+[8]Tabulka!AW40","v":0},{"$f":"+[8]Tabulka!AX40","v":{"v":0,"d":"0.00"}},{"$f":"+[8]Tabulka!AY40","v":0},{"$f":"+[8]Tabulka!AZ40","v":{"v":0,"d":"0.00"}},{"$f":"+[8]Tabulka!BA40","v":0},{"$f":"+[8]Tabulka!BB40","v":{"v":0,"d":"0.00"}},{"$f":"+[8]Tabulka!BC40","v":0},{"$f":"+[8]Tabulka!BD40","v":{"v":0,"d":"0.00"}},{"$f":"+[8]Tabulka!BE40","v":0},{"$f":"+[8]Tabulka!BF40","v":{"v":0,"d":"0.00"}},{"$f":"+[8]Tabulka!BG40","v":0},{"$f":"+[8]Tabulka!BH40","v":{"v":0,"d":"0.00"}},{"$f":"+[8]Tabulka!BI40","v":0},{"$f":"+[8]Tabulka!BJ40","v":{"v":0,"d":"0.00"}},{"$f":"+[8]Tabulka!AP40","v":{"v":0,"d":"0.00"}},{"$f":"+[8]Tabulka!AQ40","v":{"v":0,"d":"0.00"}},{"$f":"+[8]Tabulka!BM40","v":{"v":0,"d":"0.00"}},{"$f":"+[8]Tabulka!BN40","v":0},{"$f":"+[8]Tabulka!BO40","v":{"v":0,"d":"0.00"}}]
[null,{"$f":"[8]Tabulka!C41","v":"KOTKOVÁ"},{"$f":"[8]Tabulka!D41","v":"Daniela"},{"$f":"[8]Tabulka!E41","v":"2000-12-27"},{"$f":"[8]Tabulka!F41","v":"Frýdlant nad Ostravicí- SK"},{"$f":"[8]Tabulka!G41","v":"FM"},{"$f":"[8]Tabulka!H41","v":100},{"$f":"+[8]Tabulka!AU41","v":0},{"$f":"+[8]Tabulka!AV41","v":{"v":0,"d":"0.00"}},{"$f":"+[8]Tabulka!AW41","v":0},{"$f":"+[8]Tabulka!AX41","v":{"v":0,"d":"0.00"}},{"$f":"+[8]Tabulka!AY41","v":0},{"$f":"+[8]Tabulka!AZ41","v":{"v":0,"d":"0.00"}},{"$f":"+[8]Tabulka!BA41","v":0},{"$f":"+[8]Tabulka!BB41","v":{"v":0,"d":"0.00"}},{"$f":"+[8]Tabulka!BC41","v":0},{"$f":"+[8]Tabulka!BD41","v":{"v":0,"d":"0.00"}},{"$f":"+[8]Tabulka!BE41","v":0},{"$f":"+[8]Tabulka!BF41","v":{"v":0,"d":"0.00"}},{"$f":"+[8]Tabulka!BG41","v":0},{"$f":"+[8]Tabulka!BH41","v":{"v":0,"d":"0.00"}},{"$f":"+[8]Tabulka!BI41","v":0},{"$f":"+[8]Tabulka!BJ41","v":{"v":0,"d":"0.00"}},{"$f":"+[8]Tabulka!AP41","v":{"v":19.32298164704669,"d":"19.32"}},{"$f":"+[8]Tabulka!AQ41","v":{"v":2,"d":"2.00"}},{"$f":"+[8]Tabulka!BM41","v":{"v":0,"d":"0.00"}},{"$f":"+[8]Tabulka!BN41","v":0},{"$f":"+[8]Tabulka!BO41","v":{"v":0,"d":"0.00"}}]
[null,{"$f":"[8]Tabulka!C42","v":"MLČOCHOVÁ"},{"$f":"[8]Tabulka!D42","v":"Karolína"},{"$f":"[8]Tabulka!E42","v":"1999-05-07"},{"$f":"[8]Tabulka!F42","v":"Kravaře- SK TJ"},{"$f":"[8]Tabulka!G42","v":"OP"},{"$f":"[8]Tabulka!H42","v":100},{"$f":"+[8]Tabulka!AU42","v":0},{"$f":"+[8]Tabulka!AV42","v":{"v":0,"d":"0.00"}},{"$f":"+[8]Tabulka!AW42","v":0},{"$f":"+[8]Tabulka!AX42","v":{"v":0,"d":"0.00"}},{"$f":"+[8]Tabulka!AY42","v":0},{"$f":"+[8]Tabulka!AZ42","v":{"v":0,"d":"0.00"}},{"$f":"+[8]Tabulka!BA42","v":0},{"$f":"+[8]Tabulka!BB42","v":{"v":0,"d":"0.00"}},{"$f":"+[8]Tabulka!BC42","v":0},{"$f":"+[8]Tabulka!BD42","v":{"v":0,"d":"0.00"}},{"$f":"+[8]Tabulka!BE42","v":0},{"$f":"+[8]Tabulka!BF42","v":{"v":0,"d":"0.00"}},{"$f":"+[8]Tabulka!BG42","v":0},{"$f":"+[8]Tabulka!BH42","v":{"v":0,"d":"0.00"}},{"$f":"+[8]Tabulka!BI42","v":0},{"$f":"+[8]Tabulka!BJ42","v":{"v":0,"d":"0.00"}},{"$f":"+[8]Tabulka!AP42","v":{"v":0,"d":"0.00"}},{"$f":"+[8]Tabulka!AQ42","v":{"v":0,"d":"0.00"}},{"$f":"+[8]Tabulka!BM42","v":{"v":0,"d":"0.00"}},{"$f":"+[8]Tabulka!BN42","v":0},{"$f":"+[8]Tabulka!BO42","v":{"v":0,"d":"0.00"}}]
[null,{"$f":"[8]Tabulka!C43","v":"OČADLÍKOVÁ"},{"$f":"[8]Tabulka!D43","v":"Jana"},{"$f":"[8]Tabulka!E43","v":"1999-01-01"},{"$f":"[8]Tabulka!F43","v":"Hradec nad Moravicí- FIT SPORT KLUB "},{"$f":"[8]Tabulka!G43","v":"OP"},{"$f":"[8]Tabulka!H43","v":0},{"$f":"+[8]Tabulka!AU43","v":0},{"$f":"+[8]Tabulka!AV43","v":{"v":0,"d":"0.00"}},{"$f":"+[8]Tabulka!AW43","v":0},{"$f":"+[8]Tabulka!AX43","v":{"v":0,"d":"0.00"}},{"$f":"+[8]Tabulka!AY43","v":0},{"$f":"+[8]Tabulka!AZ43","v":{"v":0,"d":"0.00"}},{"$f":"+[8]Tabulka!BA43","v":0},{"$f":"+[8]Tabulka!BB43","v":{"v":0,"d":"0.00"}},{"$f":"+[8]Tabulka!BC43","v":0},{"$f":"+[8]Tabulka!BD43","v":{"v":0,"d":"0.00"}},{"$f":"+[8]Tabulka!BE43","v":0},{"$f":"+[8]Tabulka!BF43","v":{"v":0,"d":"0.00"}},{"$f":"+[8]Tabulka!BG43","v":0},{"$f":"+[8]Tabulka!BH43","v":{"v":0,"d":"0.00"}},{"$f":"+[8]Tabulka!BI43","v":0},{"$f":"+[8]Tabulka!BJ43","v":{"v":0,"d":"0.00"}},{"$f":"+[8]Tabulka!AP43","v":{"v":0,"d":"0.00"}},{"$f":"+[8]Tabulka!AQ43","v":{"v":0,"d":"0.00"}},{"$f":"+[8]Tabulka!BM43","v":{"v":0,"d":"0.00"}},{"$f":"+[8]Tabulka!BN43","v":0},{"$f":"+[8]Tabulka!BO43","v":{"v":0,"d":"0.00"}}]
[null,{"$f":"[8]Tabulka!C44","v":"PLAČKOVÁ"},{"$f":"[8]Tabulka!D44","v":"Gabriela"},{"$f":"[8]Tabulka!E44","v":"1997-03-27"},{"$f":"[8]Tabulka!F44","v":"Hať- TTC"},{"$f":"[8]Tabulka!G44","v":"OP"},{"$f":"[8]Tabulka!H44","v":100},{"$f":"+[8]Tabulka!AU44","v":0},{"$f":"+[8]Tabulka!AV44","v":{"v":0,"d":"0.00"}},{"$f":"+[8]Tabulka!AW44","v":0},{"$f":"+[8]Tabulka!AX44","v":{"v":0,"d":"0.00"}},{"$f":"+[8]Tabulka!AY44","v":0},{"$f":"+[8]Tabulka!AZ44","v":{"v":0,"d":"0.00"}},{"$f":"+[8]Tabulka!BA44","v":0},{"$f":"+[8]Tabulka!BB44","v":{"v":0,"d":"0.00"}},{"$f":"+[8]Tabulka!BC44","v":0},{"$f":"+[8]Tabulka!BD44","v":{"v":0,"d":"0.00"}},{"$f":"+[8]Tabulka!BE44","v":0},{"$f":"+[8]Tabulka!BF44","v":{"v":0,"d":"0.00"}},{"$f":"+[8]Tabulka!BG44","v":0},{"$f":"+[8]Tabulka!BH44","v":{"v":0,"d":"0.00"}},{"$f":"+[8]Tabulka!BI44","v":0},{"$f":"+[8]Tabulka!BJ44","v":{"v":0,"d":"0.00"}},{"$f":"+[8]Tabulka!AP44","v":{"v":0,"d":"0.00"}},{"$f":"+[8]Tabulka!AQ44","v":{"v":0,"d":"0.00"}},{"$f":"+[8]Tabulka!BM44","v":{"v":0,"d":"0.00"}},{"$f":"+[8]Tabulka!BN44","v":0},{"$f":"+[8]Tabulka!BO44","v":{"v":0,"d":"0.00"}}]
[null,{"$f":"[8]Tabulka!C45","v":"POLLOVÁ"},{"$f":"[8]Tabulka!D45","v":"Valentýna"},{"$f":"[8]Tabulka!E45","v":"2001-01-01"},{"$f":"[8]Tabulka!F45","v":"Frýdlant nad Ostravicí- SK"},{"$f":"[8]Tabulka!G45","v":"FM"},{"$f":"[8]Tabulka!H45","v":0},{"$f":"+[8]Tabulka!AU45","v":0},{"$f":"+[8]Tabulka!AV45","v":{"v":0,"d":"0.00"}},{"$f":"+[8]Tabulka!AW45","v":0},{"$f":"+[8]Tabulka!AX45","v":{"v":0,"d":"0.00"}},{"$f":"+[8]Tabulka!AY45","v":0},{"$f":"+[8]Tabulka!AZ45","v":{"v":0,"d":"0.00"}},{"$f":"+[8]Tabulka!BA45","v":0},{"$f":"+[8]Tabulka!BB45","v":{"v":0,"d":"0.00"}},{"$f":"+[8]Tabulka!BC45","v":0},{"$f":"+[8]Tabulka!BD45","v":{"v":0,"d":"0.00"}},{"$f":"+[8]Tabulka!BE45","v":0},{"$f":"+[8]Tabulka!BF45","v":{"v":0,"d":"0.00"}},{"$f":"+[8]Tabulka!BG45","v":0},{"$f":"+[8]Tabulka!BH45","v":{"v":0,"d":"0.00"}},{"$f":"+[8]Tabulka!BI45","v":0},{"$f":"+[8]Tabulka!BJ45","v":{"v":0,"d":"0.00"}},{"$f":"+[8]Tabulka!AP45","v":{"v":0,"d":"0.00"}},{"$f":"+[8]Tabulka!AQ45","v":{"v":0,"d":"0.00"}},{"$f":"+[8]Tabulka!BM45","v":{"v":0,"d":"0.00"}},{"$f":"+[8]Tabulka!BN45","v":0},{"$f":"+[8]Tabulka!BO45","v":{"v":0,"d":"0.00"}}]
[null,{"$f":"[8]Tabulka!C46","v":"RUSNÁKOVÁ"},{"$f":"[8]Tabulka!D46","v":"Markéta"},{"$f":"[8]Tabulka!E46","v":"1998-01-20"},{"$f":"[8]Tabulka!F46","v":"Ropice- Sokol TJ"},{"$f":"[8]Tabulka!G46","v":"FM"},{"$f":"[8]Tabulka!H46","v":100},{"$f":"+[8]Tabulka!AU46","v":0},{"$f":"+[8]Tabulka!AV46","v":{"v":0,"d":"0.00"}},{"$f":"+[8]Tabulka!AW46","v":0},{"$f":"+[8]Tabulka!AX46","v":{"v":0,"d":"0.00"}},{"$f":"+[8]Tabulka!AY46","v":0},{"$f":"+[8]Tabulka!AZ46","v":{"v":0,"d":"0.00"}},{"$f":"+[8]Tabulka!BA46","v":0},{"$f":"+[8]Tabulka!BB46","v":{"v":0,"d":"0.00"}},{"$f":"+[8]Tabulka!BC46","v":0},{"$f":"+[8]Tabulka!BD46","v":{"v":0,"d":"0.00"}},{"$f":"+[8]Tabulka!BE46","v":0},{"$f":"+[8]Tabulka!BF46","v":{"v":0,"d":"0.00"}},{"$f":"+[8]Tabulka!BG46","v":0},{"$f":"+[8]Tabulka!BH46","v":{"v":0,"d":"0.00"}},{"$f":"+[8]Tabulka!BI46","v":0},{"$f":"+[8]Tabulka!BJ46","v":{"v":0,"d":"0.00"}},{"$f":"+[8]Tabulka!AP46","v":{"v":0,"d":"0.00"}},{"$f":"+[8]Tabulka!AQ46","v":{"v":0,"d":"0.00"}},{"$f":"+[8]Tabulka!BM46","v":{"v":0,"d":"0.00"}},{"$f":"+[8]Tabulka!BN46","v":0},{"$f":"+[8]Tabulka!BO46","v":{"v":0,"d":"0.00"}}]
[null,{"$f":"[8]Tabulka!C47","v":"SIKOROVÁ"},{"$f":"[8]Tabulka!D47","v":"Kamila"},{"$f":"[8]Tabulka!E47","v":"1997-02-07"},{"$f":"[8]Tabulka!F47","v":"Havířov- Baník SKST"},{"$f":"[8]Tabulka!G47","v":"KA"},{"$f":"[8]Tabulka!H47","v":100},{"$f":"+[8]Tabulka!AU47","v":0},{"$f":"+[8]Tabulka!AV47","v":{"v":0,"d":"0.00"}},{"$f":"+[8]Tabulka!AW47","v":0},{"$f":"+[8]Tabulka!AX47","v":{"v":0,"d":"0.00"}},{"$f":"+[8]Tabulka!AY47","v":0},{"$f":"+[8]Tabulka!AZ47","v":{"v":0,"d":"0.00"}},{"$f":"+[8]Tabulka!BA47","v":0},{"$f":"+[8]Tabulka!BB47","v":{"v":0,"d":"0.00"}},{"$f":"+[8]Tabulka!BC47","v":0},{"$f":"+[8]Tabulka!BD47","v":{"v":0,"d":"0.00"}},{"$f":"+[8]Tabulka!BE47","v":0},{"$f":"+[8]Tabulka!BF47","v":{"v":0,"d":"0.00"}},{"$f":"+[8]Tabulka!BG47","v":0},{"$f":"+[8]Tabulka!BH47","v":{"v":0,"d":"0.00"}},{"$f":"+[8]Tabulka!BI47","v":0},{"$f":"+[8]Tabulka!BJ47","v":{"v":0,"d":"0.00"}},{"$f":"+[8]Tabulka!AP47","v":{"v":18.788420767074477,"d":"18.79"}},{"$f":"+[8]Tabulka!AQ47","v":{"v":1,"d":"1.00"}},{"$f":"+[8]Tabulka!BM47","v":{"v":0,"d":"0.00"}},{"$f":"+[8]Tabulka!BN47","v":0},{"$f":"+[8]Tabulka!BO47","v":{"v":0,"d":"0.00"}}]
[null,{"$f":"[8]Tabulka!C48","v":"ŠKROBÁNKOVÁ"},{"$f":"[8]Tabulka!D48","v":"Šárka"},{"$f":"[8]Tabulka!E48","v":"1999-01-01"},{"$f":"[8]Tabulka!F48","v":"Hradec nad Moravicí- FIT SPORT KLUB "},{"$f":"[8]Tabulka!G48","v":"OP"},{"$f":"[8]Tabulka!H48","v":0},{"$f":"+[8]Tabulka!AU48","v":0},{"$f":"+[8]Tabulka!AV48","v":{"v":0,"d":"0.00"}},{"$f":"+[8]Tabulka!AW48","v":0},{"$f":"+[8]Tabulka!AX48","v":{"v":0,"d":"0.00"}},{"$f":"+[8]Tabulka!AY48","v":0},{"$f":"+[8]Tabulka!AZ48","v":{"v":0,"d":"0.00"}},{"$f":"+[8]Tabulka!BA48","v":0},{"$f":"+[8]Tabulka!BB48","v":{"v":0,"d":"0.00"}},{"$f":"+[8]Tabulka!BC48","v":0},{"$f":"+[8]Tabulka!BD48","v":{"v":0,"d":"0.00"}},{"$f":"+[8]Tabulka!BE48","v":0},{"$f":"+[8]Tabulka!BF48","v":{"v":0,"d":"0.00"}},{"$f":"+[8]Tabulka!BG48","v":0},{"$f":"+[8]Tabulka!BH48","v":{"v":0,"d":"0.00"}},{"$f":"+[8]Tabulka!BI48","v":0},{"$f":"+[8]Tabulka!BJ48","v":{"v":0,"d":"0.00"}},{"$f":"+[8]Tabulka!AP48","v":{"v":0,"d":"0.00"}},{"$f":"+[8]Tabulka!AQ48","v":{"v":0,"d":"0.00"}},{"$f":"+[8]Tabulka!BM48","v":{"v":0,"d":"0.00"}},{"$f":"+[8]Tabulka!BN48","v":0},{"$f":"+[8]Tabulka!BO48","v":{"v":0,"d":"0.00"}}]
[null,{"$f":"[8]Tabulka!C49","v":"ŠTEFÁNKOVÁ"},{"$f":"[8]Tabulka!D49","v":"Šarlota"},{"$f":"[8]Tabulka!E49","v":"2003-01-01"},{"$f":"[8]Tabulka!F49","v":"Frýdlant nad Ostravicí- SK"},{"$f":"[8]Tabulka!G49","v":"FM"},{"$f":"[8]Tabulka!H49","v":0},{"$f":"+[8]Tabulka!AU49","v":0},{"$f":"+[8]Tabulka!AV49","v":{"v":0,"d":"0.00"}},{"$f":"+[8]Tabulka!AW49","v":0},{"$f":"+[8]Tabulka!AX49","v":{"v":0,"d":"0.00"}},{"$f":"+[8]Tabulka!AY49","v":0},{"$f":"+[8]Tabulka!AZ49","v":{"v":0,"d":"0.00"}},{"$f":"+[8]Tabulka!BA49","v":0},{"$f":"+[8]Tabulka!BB49","v":{"v":0,"d":"0.00"}},{"$f":"+[8]Tabulka!BC49","v":0},{"$f":"+[8]Tabulka!BD49","v":{"v":0,"d":"0.00"}},{"$f":"+[8]Tabulka!BE49","v":0},{"$f":"+[8]Tabulka!BF49","v":{"v":0,"d":"0.00"}},{"$f":"+[8]Tabulka!BG49","v":0},{"$f":"+[8]Tabulka!BH49","v":{"v":0,"d":"0.00"}},{"$f":"+[8]Tabulka!BI49","v":0},{"$f":"+[8]Tabulka!BJ49","v":{"v":0,"d":"0.00"}},{"$f":"+[8]Tabulka!AP49","v":{"v":9.355372371120682,"d":"9.36"}},{"$f":"+[8]Tabulka!AQ49","v":{"v":1,"d":"1.00"}},{"$f":"+[8]Tabulka!BM49","v":{"v":0,"d":"0.00"}},{"$f":"+[8]Tabulka!BN49","v":0},{"$f":"+[8]Tabulka!BO49","v":{"v":0,"d":"0.00"}}]
[null,{"$f":"[8]Tabulka!C50","v":"TOBOLOVÁ"},{"$f":"[8]Tabulka!D50","v":"Nikola"},{"$f":"[8]Tabulka!E50","v":"1998-07-03"},{"$f":"[8]Tabulka!F50","v":"Frýdlant nad Ostravicí- SK"},{"$f":"[8]Tabulka!G50","v":"FM"},{"$f":"[8]Tabulka!H50","v":100},{"$f":"+[8]Tabulka!AU50","v":0},{"$f":"+[8]Tabulka!AV50","v":{"v":0,"d":"0.00"}},{"$f":"+[8]Tabulka!AW50","v":0},{"$f":"+[8]Tabulka!AX50","v":{"v":0,"d":"0.00"}},{"$f":"+[8]Tabulka!AY50","v":0},{"$f":"+[8]Tabulka!AZ50","v":{"v":0,"d":"0.00"}},{"$f":"+[8]Tabulka!BA50","v":0},{"$f":"+[8]Tabulka!BB50","v":{"v":0,"d":"0.00"}},{"$f":"+[8]Tabulka!BC50","v":0},{"$f":"+[8]Tabulka!BD50","v":{"v":0,"d":"0.00"}},{"$f":"+[8]Tabulka!BE50","v":0},{"$f":"+[8]Tabulka!BF50","v":{"v":0,"d":"0.00"}},{"$f":"+[8]Tabulka!BG50","v":0},{"$f":"+[8]Tabulka!BH50","v":{"v":0,"d":"0.00"}},{"$f":"+[8]Tabulka!BI50","v":0},{"$f":"+[8]Tabulka!BJ50","v":{"v":0,"d":"0.00"}},{"$f":"+[8]Tabulka!AP50","v":{"v":40.32068360155265,"d":"40.32"}},{"$f":"+[8]Tabulka!AQ50","v":{"v":3,"d":"3.00"}},{"$f":"+[8]Tabulka!BM50","v":{"v":0,"d":"0.00"}},{"$f":"+[8]Tabulka!BN50","v":0},{"$f":"+[8]Tabulka!BO50","v":{"v":0,"d":"0.00"}}]
[null,{"$f":"[8]Tabulka!C51","v":"UVÍROVÁ"},{"$f":"[8]Tabulka!D51","v":"Nela"},{"$f":"[8]Tabulka!E51","v":"2000-12-18"},{"$f":"[8]Tabulka!F51","v":"Kateřinky- Sokol TJ"},{"$f":"[8]Tabulka!G51","v":"OP"},{"$f":"[8]Tabulka!H51","v":100},{"$f":"+[8]Tabulka!AU51","v":0},{"$f":"+[8]Tabulka!AV51","v":{"v":0,"d":"0.00"}},{"$f":"+[8]Tabulka!AW51","v":0},{"$f":"+[8]Tabulka!AX51","v":{"v":0,"d":"0.00"}},{"$f":"+[8]Tabulka!AY51","v":0},{"$f":"+[8]Tabulka!AZ51","v":{"v":0,"d":"0.00"}},{"$f":"+[8]Tabulka!BA51","v":0},{"$f":"+[8]Tabulka!BB51","v":{"v":0,"d":"0.00"}},{"$f":"+[8]Tabulka!BC51","v":0},{"$f":"+[8]Tabulka!BD51","v":{"v":0,"d":"0.00"}},{"$f":"+[8]Tabulka!BE51","v":0},{"$f":"+[8]Tabulka!BF51","v":{"v":0,"d":"0.00"}},{"$f":"+[8]Tabulka!BG51","v":0},{"$f":"+[8]Tabulka!BH51","v":{"v":0,"d":"0.00"}},{"$f":"+[8]Tabulka!BI51","v":0},{"$f":"+[8]Tabulka!BJ51","v":{"v":0,"d":"0.00"}},{"$f":"+[8]Tabulka!AP51","v":{"v":26.483545489714103,"d":"26.48"}},{"$f":"+[8]Tabulka!AQ51","v":{"v":3,"d":"3.00"}},{"$f":"+[8]Tabulka!BM51","v":{"v":0,"d":"0.00"}},{"$f":"+[8]Tabulka!BN51","v":0},{"$f":"+[8]Tabulka!BO51","v":{"v":0,"d":"0.00"}}]
[null,{"$f":"[8]Tabulka!C52","v":"VACULOVÁ"},{"$f":"[8]Tabulka!D52","v":"Kristýna"},{"$f":"[8]Tabulka!E52","v":"1998-10-19"},{"$f":"[8]Tabulka!F52","v":"Frýdlant nad Ostravicí- SK"},{"$f":"[8]Tabulka!G52","v":"FM"},{"$f":"[8]Tabulka!H52","v":100},{"$f":"+[8]Tabulka!AU52","v":0},{"$f":"+[8]Tabulka!AV52","v":{"v":0,"d":"0.00"}},{"$f":"+[8]Tabulka!AW52","v":0},{"$f":"+[8]Tabulka!AX52","v":{"v":0,"d":"0.00"}},{"$f":"+[8]Tabulka!AY52","v":0},{"$f":"+[8]Tabulka!AZ52","v":{"v":0,"d":"0.00"}},{"$f":"+[8]Tabulka!BA52","v":0},{"$f":"+[8]Tabulka!BB52","v":{"v":0,"d":"0.00"}},{"$f":"+[8]Tabulka!BC52","v":0},{"$f":"+[8]Tabulka!BD52","v":{"v":0,"d":"0.00"}},{"$f":"+[8]Tabulka!BE52","v":0},{"$f":"+[8]Tabulka!BF52","v":{"v":0,"d":"0.00"}},{"$f":"+[8]Tabulka!BG52","v":0},{"$f":"+[8]Tabulka!BH52","v":{"v":0,"d":"0.00"}},{"$f":"+[8]Tabulka!BI52","v":0},{"$f":"+[8]Tabulka!BJ52","v":{"v":0,"d":"0.00"}},{"$f":"+[8]Tabulka!AP52","v":{"v":0,"d":"0.00"}},{"$f":"+[8]Tabulka!AQ52","v":{"v":0,"d":"0.00"}},{"$f":"+[8]Tabulka!BM52","v":{"v":0,"d":"0.00"}},{"$f":"+[8]Tabulka!BN52","v":0},{"$f":"+[8]Tabulka!BO52","v":{"v":0,"d":"0.00"}}]
[null,{"$f":"[8]Tabulka!C53","v":"VOZNICOVÁ"},{"$f":"[8]Tabulka!D53","v":"Gabriela"},{"$f":"[8]Tabulka!E53","v":"1999-08-05"},{"$f":"[8]Tabulka!F53","v":"Darkovice- KST"},{"$f":"[8]Tabulka!G53","v":"OP"},{"$f":"[8]Tabulka!H53","v":100},{"$f":"+[8]Tabulka!AU53","v":0},{"$f":"+[8]Tabulka!AV53","v":{"v":0,"d":"0.00"}},{"$f":"+[8]Tabulka!AW53","v":0},{"$f":"+[8]Tabulka!AX53","v":{"v":0,"d":"0.00"}},{"$f":"+[8]Tabulka!AY53","v":0},{"$f":"+[8]Tabulka!AZ53","v":{"v":0,"d":"0.00"}},{"$f":"+[8]Tabulka!BA53","v":0},{"$f":"+[8]Tabulka!BB53","v":{"v":0,"d":"0.00"}},{"$f":"+[8]Tabulka!BC53","v":0},{"$f":"+[8]Tabulka!BD53","v":{"v":0,"d":"0.00"}},{"$f":"+[8]Tabulka!BE53","v":0},{"$f":"+[8]Tabulka!BF53","v":{"v":0,"d":"0.00"}},{"$f":"+[8]Tabulka!BG53","v":0},{"$f":"+[8]Tabulka!BH53","v":{"v":0,"d":"0.00"}},{"$f":"+[8]Tabulka!BI53","v":0},{"$f":"+[8]Tabulka!BJ53","v":{"v":0,"d":"0.00"}},{"$f":"+[8]Tabulka!AP53","v":{"v":0,"d":"0.00"}},{"$f":"+[8]Tabulka!AQ53","v":{"v":0,"d":"0.00"}},{"$f":"+[8]Tabulka!BM53","v":{"v":0,"d":"0.00"}},{"$f":"+[8]Tabulka!BN53","v":0},{"$f":"+[8]Tabulka!BO53","v":{"v":0,"d":"0.00"}}]
[null,{"$f":"[8]Tabulka!C54","v":0},{"$f":"[8]Tabulka!D54","v":0},{"$f":"[8]Tabulka!E54","v":"00:00:00"},{"$f":"[8]Tabulka!F54","v":0},{"$f":"[8]Tabulka!G54","v":0},{"$f":"[8]Tabulka!H54","v":0},{"$f":"+[8]Tabulka!AU54","v":0},{"$f":"+[8]Tabulka!AV54","v":{"v":0,"d":"0.00"}},{"$f":"+[8]Tabulka!AW54","v":0},{"$f":"+[8]Tabulka!AX54","v":{"v":0,"d":"0.00"}},{"$f":"+[8]Tabulka!AY54","v":0},{"$f":"+[8]Tabulka!AZ54","v":{"v":0,"d":"0.00"}},{"$f":"+[8]Tabulka!BA54","v":0},{"$f":"+[8]Tabulka!BB54","v":{"v":0,"d":"0.00"}},{"$f":"+[8]Tabulka!BC54","v":0},{"$f":"+[8]Tabulka!BD54","v":{"v":0,"d":"0.00"}},{"$f":"+[8]Tabulka!BE54","v":0},{"$f":"+[8]Tabulka!BF54","v":{"v":0,"d":"0.00"}},{"$f":"+[8]Tabulka!BG54","v":0},{"$f":"+[8]Tabulka!BH54","v":{"v":0,"d":"0.00"}},{"$f":"+[8]Tabulka!BI54","v":0},{"$f":"+[8]Tabulka!BJ54","v":{"v":0,"d":"0.00"}},{"$f":"+[8]Tabulka!AP54","v":{"v":0,"d":"0.00"}},{"$f":"+[8]Tabulka!AQ54","v":{"v":0,"d":"0.00"}},{"$f":"+[8]Tabulka!BM54","v":{"v":0,"d":"0.00"}},{"$f":"+[8]Tabulka!BN54","v":0},{"$f":"+[8]Tabulka!BO54","v":{"v":0,"d":"0.00"}}]
[null,{"$f":"[8]Tabulka!C55","v":0},{"$f":"[8]Tabulka!D55","v":0},{"$f":"[8]Tabulka!E55","v":"00:00:00"},{"$f":"[8]Tabulka!F55","v":0},{"$f":"[8]Tabulka!G55","v":0},{"$f":"[8]Tabulka!H55","v":0},{"$f":"+[8]Tabulka!AU55","v":0},{"$f":"+[8]Tabulka!AV55","v":{"v":0,"d":"0.00"}},{"$f":"+[8]Tabulka!AW55","v":0},{"$f":"+[8]Tabulka!AX55","v":{"v":0,"d":"0.00"}},{"$f":"+[8]Tabulka!AY55","v":0},{"$f":"+[8]Tabulka!AZ55","v":{"v":0,"d":"0.00"}},{"$f":"+[8]Tabulka!BA55","v":0},{"$f":"+[8]Tabulka!BB55","v":{"v":0,"d":"0.00"}},{"$f":"+[8]Tabulka!BC55","v":0},{"$f":"+[8]Tabulka!BD55","v":{"v":0,"d":"0.00"}},{"$f":"+[8]Tabulka!BE55","v":0},{"$f":"+[8]Tabulka!BF55","v":{"v":0,"d":"0.00"}},{"$f":"+[8]Tabulka!BG55","v":0},{"$f":"+[8]Tabulka!BH55","v":{"v":0,"d":"0.00"}},{"$f":"+[8]Tabulka!BI55","v":0},{"$f":"+[8]Tabulka!BJ55","v":{"v":0,"d":"0.00"}},{"$f":"+[8]Tabulka!AP55","v":{"v":0,"d":"0.00"}},{"$f":"+[8]Tabulka!AQ55","v":{"v":0,"d":"0.00"}},{"$f":"+[8]Tabulka!BM55","v":{"v":0,"d":"0.00"}},{"$f":"+[8]Tabulka!BN55","v":0},{"$f":"+[8]Tabulka!BO55","v":{"v":0,"d":"0.00"}}]
[null,{"$f":"[8]Tabulka!C56","v":0},{"$f":"[8]Tabulka!D56","v":0},{"$f":"[8]Tabulka!E56","v":"00:00:00"},{"$f":"[8]Tabulka!F56","v":0},{"$f":"[8]Tabulka!G56","v":0},{"$f":"[8]Tabulka!H56","v":0},{"$f":"+[8]Tabulka!AU56","v":0},{"$f":"+[8]Tabulka!AV56","v":{"v":0,"d":"0.00"}},{"$f":"+[8]Tabulka!AW56","v":0},{"$f":"+[8]Tabulka!AX56","v":{"v":0,"d":"0.00"}},{"$f":"+[8]Tabulka!AY56","v":0},{"$f":"+[8]Tabulka!AZ56","v":{"v":0,"d":"0.00"}},{"$f":"+[8]Tabulka!BA56","v":0},{"$f":"+[8]Tabulka!BB56","v":{"v":0,"d":"0.00"}},{"$f":"+[8]Tabulka!BC56","v":0},{"$f":"+[8]Tabulka!BD56","v":{"v":0,"d":"0.00"}},{"$f":"+[8]Tabulka!BE56","v":0},{"$f":"+[8]Tabulka!BF56","v":{"v":0,"d":"0.00"}},{"$f":"+[8]Tabulka!BG56","v":0},{"$f":"+[8]Tabulka!BH56","v":{"v":0,"d":"0.00"}},{"$f":"+[8]Tabulka!BI56","v":0},{"$f":"+[8]Tabulka!BJ56","v":{"v":0,"d":"0.00"}},{"$f":"+[8]Tabulka!AP56","v":{"v":0,"d":"0.00"}},{"$f":"+[8]Tabulka!AQ56","v":{"v":0,"d":"0.00"}},{"$f":"+[8]Tabulka!BM56","v":{"v":0,"d":"0.00"}},{"$f":"+[8]Tabulka!BN56","v":0},{"$f":"+[8]Tabulka!BO56","v":{"v":0,"d":"0.00"}}]

{"sheet":"Mladší žákyně","index":8,"n_rows":65,"n_cols":87,"rows_kept":65,"merged":[[2,1,2,6],[2,7,2,8],[2,9,2,10],[2,11,2,12],[2,13,2,14],[2,15,2,16],[2,17,2,18],[2,19,2,20],[2,21,2,22]]}
["PRŮBĚŽNÉ BODOVÉ POŘADÍ RBTM A PR KARVINÁ MLADŠÍCH ŽÁKYŇ"]
[]
[null," - započítává se 5 nejlepších turnajů z 8 odehraných za poslední rok",{"$nulls":5},{"$f":"+Dorost!H3","v":"KARVINÁ 17.9.2011"},null,{"$f":"+Dorost!J3","v":"HAVÍŘOV 24.9.2011"},null,{"$f":"+Dorost!L3","v":"KARVINÁ 3.12.2011"},null,{"$f":"+Dorost!N3","v":"HAVÍŘOV 7.1.2012"},null,{"$f":"+Dorost!P3","v":"HAVÍŘOV 4.2.2012"},null,{"$f":"+Dorost!R3","v":"KARVINÁ 19.3.2011"},null,{"$f":"+Dorost!T3","v":"KARVINÁ 16.4.2011"},null,{"$f":"+Dorost!V3","v":"KARVINÁ 14.5.2011"}]
[{"$nulls":7},{"$f":"+[9]Tabulka!AU69","v":2},{"$f":"SUBTOTAL(9,I6:I300)","v":9.024743869762961},{"$f":"+[9]Tabulka!AW69","v":3},{"$f":"SUBTOTAL(9,K6:K300)","v":13.125763941446753},{"$f":"+[9]Tabulka!AY69","v":2},{"$f":"SUBTOTAL(9,M6:M300)","v":9.024743869762961},{"$f":"+[9]Tabulka!BA69","v":3},{"$f":"SUBTOTAL(9,O6:O300)","v":13.125763941446753},{"$f":"+[9]Tabulka!BC69","v":1},{"$f":"SUBTOTAL(9,Q6:Q300)","v":4.655343691373548},{"$f":"+[9]Tabulka!BE69","v":2},{"$f":"SUBTOTAL(9,S6:S300)","v":4.655343691373548},{"$f":"+[9]Tabulka!BG69","v":2},{"$f":"SUBTOTAL(9,U6:U300)","v":4.655343691373548},{"$f":"+[9]Tabulka!BI69","v":1},{"$f":"SUBTOTAL(9,W6:W300)","v":0.03764239793264688},{"$f":"+[5]Tabulka!AP5","v":0},{"$f":"+[5]Tabulka!AQ5","v":0},{"$f":"+[5]Tabulka!AR5","v":0},{"$f":"+[5]Tabulka!AS5","v":0},{"$f":"+[5]Tabulka!AT5","v":0}]
[{"$f":"SUBTOTAL(3,A6:A245)","v":4},{"$f":"[5]Tabulka!C6","v":"Přijmení"},{"$f":"[5]Tabulka!D6","v":"jméno"},{"$f":"[5]Tabulka!E6","v":"nar"},{"$f":"[5]Tabulka!F6","v":"oddíl-klub"},{"$f":"[5]Tabulka!G6","v":"okr"},{"$f":"[5]Tabulka!H6","v":"pop"},{"$f":"+[5]Tabulka!Z6","v":"um."},{"$f":"+[5]Tabulka!AA6","v":"b."},{"$f":"+[5]Tabulka!AB6","v":"um."},{"$f":"+[5]Tabulka!AC6","v":"b."},{"$f":"+[5]Tabulka!AD6","v":"um."},{"$f":"+[5]Tabulka!AE6","v":"b."},{"$f":"+[5]Tabulka!AF6","v":"um."},{"$f":"+[5]Tabulka!AG6","v":"b."},{"$f":"+[5]Tabulka!AH6","v":"um."},{"$f":"+[5]Tabulka!AI6","v":"b."},{"$f":"+[5]Tabulka!AJ6","v":"um."},{"$f":"+[5]Tabulka!AK6","v":"b."},{"$f":"+[5]Tabulka!AL6","v":"um."},{"$f":"+[5]Tabulka!AM6","v":"b."},{"$f":"+[5]Tabulka!AN6","v":"um."},{"$f":"+[5]Tabulka!AO6","v":"b."},{"$f":"+[5]Tabulka!AP6","v":"I."},{"$f":"+[5]Tabulka!AQ6","v":"t"},{"$f":"+[5]Tabulka!AR6","v":"I.+II."},{"$f":"+[5]Tabulka!AS6","v":"t"},{"$f":"+[5]Tabulka!AT6","v":"R"},{"$nulls":5},{"$f":"[5]Tabulka!DG6","v":0},{"$f":"[5]Tabulka!DH6","v":0},{"$f":"[5]Tabulka!DI6","v":0},{"$f":"[5]Tabulka!DJ6","v":0},{"$f":"[5]Tabulka!DK6","v":0},{"$f":"[5]Tabulka!DL6","v":0},{"$f":"[5]Tabulka!DM6","v":0},{"$f":"[5]Tabulka!DN6","v":0},{"$f":"[5]Tabulka!DO6","v":0},{"$f":"[5]Tabulka!DP6","v":0},{"$f":"[5]Tabulka!DQ6","v":0},{"$f":"[5]Tabulka!DR6","v":0},{"$f":"[5]Tabulka!DS6","v":0},{"$f":"[5]Tabulka!DT6","v":0},{"$f":"[5]Tabulka!DU6","v":0},{"$f":"[5]Tabulka!DV6","v":0},{"$f":"[5]Tabulka!DW6","v":0},{"$f":"[5]Tabulka!DX6","v":0},{"$f":"[5]Tabulka!DY6","v":0},{"$f":"[5]Tabulka!DZ6","v":0},{"$f":"[5]Tabulka!EA6","v":0},{"$f":"[5]Tabulka!EB6","v":0},{"$f":"[5]Tabulka!EC6","v":0},{"$f":"[5]Tabulka!ED6","v":0},{"$f":"[5]Tabulka!EE6","v":0},{"$f":"[5]Tabulka!EF6","v":0},{"$f":"[5]Tabulka!EG6","v":0},{"$f":"[5]Tabulka!EH6","v":0},{"$f":"[5]Tabulka!EI6","v":0},{"$f":"[5]Tabulka!EJ6","v":0},{"$f":"[5]Tabulka!EK6","v":0},{"$f":"[5]Tabulka!EL6","v":0},{"$f":"[5]Tabulka!EM6","v":0},{"$f":"[5]Tabulka!EN6","v":0},{"$f":"[5]Tabulka!EO6","v":0},{"$f":"[5]Tabulka!EP6","v":0},{"$f":"[5]Tabulka!EQ6","v":0},{"$f":"[5]Tabulka!ER6","v":0},{"$f":"[5]Tabulka!ES6","v":0},{"$f":"[5]Tabulka!ET6","v":0},{"$f":"[5]Tabulka!EU6","v":0},{"$f":"[5]Tabulka!EV6","v":0},{"$f":"[5]Tabulka!EW6","v":0},{"$f":"[5]Tabulka!EX6","v":0},{"$f":"[5]Tabulka!EY6","v":0},{"$f":"[5]Tabulka!EZ6","v":0},{"$f":"[5]Tabulka!FA6","v":0},{"$f":"[5]Tabulka!FB6","v":0},{"$f":"[5]Tabulka!FC6","v":0},{"$f":"[5]Tabulka!FD6","v":0},{"$f":"[5]Tabulka!FE6","v":0},{"$f":"[5]Tabulka!FF6","v":0},{"$f":"[5]Tabulka!FG6","v":0},{"$f":"[5]Tabulka!FH6","v":0}]
["1",{"$f":"[9]Tabulka!C7","v":"KRNÁČOVÁ"},{"$f":"[9]Tabulka!D7","v":"Anna"},{"$f":"[9]Tabulka!E7","v":"1999-02-09"},{"$f":"[9]Tabulka!F7","v":"Karviná- KLUBsten KST"},{"$f":"[9]Tabulka!G7","v":"KA"},{"$f":"[9]Tabulka!H7","v":100},{"$f":"+[9]Tabulka!AU7","v":1},{"$f":"+[9]Tabulka!AV7","v":{"v":4.655343691373548,"d":"4.66"}},{"$f":"+[9]Tabulka!AW7","v":0},{"$f":"+[9]Tabulka!AX7","v":{"v":0,"d":"0.00"}},{"$f":"+[9]Tabulka!AY7","v":1},{"$f":"+[9]Tabulka!AZ7","v":{"v":4.655343691373548,"d":"4.66"}},{"$f":"+[9]Tabulka!BA7","v":1},{"$f":"+[9]Tabulka!BB7","v":{"v":4.655343691373548,"d":"4.66"}},{"$f":"+[9]Tabulka!BC7","v":1},{"$f":"+[9]Tabulka!BD7","v":{"v":4.655343691373548,"d":"4.66"}},{"$f":"+[9]Tabulka!BE7","v":1},{"$f":"+[9]Tabulka!BF7","v":{"v":4.655343691373548,"d":"4.66"}},{"$f":"+[9]Tabulka!BG7","v":1},{"$f":"+[9]Tabulka!BH7","v":{"v":4.655343691373548,"d":"4.66"}},{"$f":"+[9]Tabulka!BI7","v":100},{"$f":"+[9]Tabulka!BJ7","v":{"v":0.03764239793264688,"d":"0.04"}},{"$f":"+[9]Tabulka!AP7","v":{"v":49.65370708748624,"d":"49.65"}},{"$f":"+[9]Tabulka!AQ7","v":{"v":3,"d":"3.00"}},{"$f":"+[9]Tabulka!BM7","v":{"v":27.969704546173936,"d":"27.97"}},{"$f":"+[9]Tabulka!BN7","v":7},{"$f":"+[9]Tabulka!BO7","v":{"v":23.27671845686774,"d":"23.28"}}]
["1",{"$f":"[9]Tabulka!C8","v":"ŠTĚPÁNOVÁ"},{"$f":"[9]Tabulka!D8","v":"Gabriela"},{"$f":"[9]Tabulka!E8","v":"2001-03-31"},{"$f":"[9]Tabulka!F8","v":"Děhylov- Sokol TJ"},{"$f":"[9]Tabulka!G8","v":"OP"},{"$f":"[9]Tabulka!H8","v":100},{"$f":"+[9]Tabulka!AU8","v":5},{"$f":"+[9]Tabulka!AV8","v":{"v":3.6127011759664778,"d":"3.61"}},{"$f":"+[9]Tabulka!AW8","v":1},{"$f":"+[9]Tabulka!AX8","v":{"v":4.655343691373548,"d":"4.66"}},{"$f":"+[9]Tabulka!AY8","v":0},{"$f":"+[9]Tabulka!AZ8","v":{"v":0,"d":"0.00"}},{"$f":"+[9]Tabulka!BA8","v":1},{"$f":"+[9]Tabulka!BB8","v":{"v":4.655343691373548,"d":"4.66"}},{"$f":"+[9]Tabulka!BC8","v":0},{"$f":"+[9]Tabulka!BD8","v":{"v":0,"d":"0.00"}},{"$f":"+[9]Tabulka!BE8","v":3},{"$f":"+[9]Tabulka!BF8","v":{"v":4.101020071683792,"d":"4.10"}},{"$f":"+[9]Tabulka!BG8","v":0},{"$f":"+[9]Tabulka!BH8","v":{"v":0,"d":"0.00"}},{"$f":"+[9]Tabulka!BI8","v":0},{"$f":"+[9]Tabulka!BJ8","v":{"v":0,"d":"0.00"}},{"$f":"+[9]Tabulka!AP8","v":{"v":56.36526230122343,"d":"56.37"}},{"$f":"+[9]Tabulka!AQ8","v":{"v":3,"d":"3.00"}},{"$f":"+[9]Tabulka!BM8","v":{"v":17.024408630397364,"d":"17.02"}},{"$f":"+[9]Tabulka!BN8","v":4},{"$f":"+[9]Tabulka!BO8","v":{"v":13.41170745443089,"d":"13.41"}}]
["2",{"$f":"[9]Tabulka!C9","v":"FLORKOVÁ"},{"$f":"[9]Tabulka!D9","v":"Adéla"},{"$f":"[9]Tabulka!E9","v":"2001-09-04"},{"$f":"[9]Tabulka!F9","v":"Orlová- Siko TTC"},{"$f":"[9]Tabulka!G9","v":"KA"},{"$f":"[9]Tabulka!H9","v":100},{"$f":"+[9]Tabulka!AU9","v":2},{"$f":"+[9]Tabulka!AV9","v":{"v":4.369400178389413,"d":"4.37"}},{"$f":"+[9]Tabulka!AW9","v":1},{"$f":"+[9]Tabulka!AX9","v":{"v":4.655343691373548,"d":"4.66"}},{"$f":"+[9]Tabulka!AY9","v":0},{"$f":"+[9]Tabulka!AZ9","v":{"v":0,"d":"0.00"}},{"$f":"+[9]Tabulka!BA9","v":2},{"$f":"+[9]Tabulka!BB9","v":{"v":4.369400178389413,"d":"4.37"}},{"$f":"+[9]Tabulka!BC9","v":0},{"$f":"+[9]Tabulka!BD9","v":{"v":0,"d":"0.00"}},{"$f":"+[9]Tabulka!BE9","v":0},{"$f":"+[9]Tabulka!BF9","v":{"v":0,"d":"0.00"}},{"$f":"+[9]Tabulka!BG9","v":0},{"$f":"+[9]Tabulka!BH9","v":{"v":0,"d":"0.00"}},{"$f":"+[9]Tabulka!BI9","v":0},{"$f":"+[9]Tabulka!BJ9","v":{"v":0,"d":"0.00"}},{"$f":"+[9]Tabulka!AP9","v":{"v":0,"d":"0.00"}},{"$f":"+[9]Tabulka!AQ9","v":{"v":0,"d":"0.00"}},{"$f":"+[9]Tabulka!BM9","v":{"v":13.394144048152373,"d":"13.39"}},{"$f":"+[9]Tabulka!BN9","v":3},{"$f":"+[9]Tabulka!BO9","v":{"v":13.394144048152373,"d":"13.39"}}]
["2",{"$f":"[9]Tabulka!C10","v":"ČECHOVÁ"},{"$f":"[9]Tabulka!D10","v":"Kateřina"},{"$f":"[9]Tabulka!E10","v":"1999-03-29"},{"$f":"[9]Tabulka!F10","v":"Frýdlant nad Ostravicí- SK"},{"$f":"[9]Tabulka!G10","v":"FM"},{"$f":"[9]Tabulka!H10","v":100},{"$f":"+[9]Tabulka!AU10","v":3},{"$f":"+[9]Tabulka!AV10","v":{"v":4.101020071683792,"d":"4.10"}},{"$f":"+[9]Tabulka!AW10","v":0},{"$f":"+[9]Tabulka!AX10","v":{"v":0,"d":"0.00"}},{"$f":"+[9]Tabulka!AY10","v":1},{"$f":"+[9]Tabulka!AZ10","v":{"v":4.655343691373548,"d":"4.66"}},{"$f":"+[9]Tabulka!BA10","v":0},{"$f":"+[9]Tabulka!BB10","v":{"v":0,"d":"0.00"}},{"$f":"+[9]Tabulka!BC10","v":0},{"$f":"+[9]Tabulka!BD10","v":{"v":0,"d":"0.00"}},{"$f":"+[9]Tabulka!BE10","v":2},{"$f":"+[9]Tabulka!BF10","v":{"v":4.369400178389413,"d":"4.37"}},{"$f":"+[9]Tabulka!BG10","v":0},{"$f":"+[9]Tabulka!BH10","v":{"v":0,"d":"0.00"}},{"$f":"+[9]Tabulka!BI10","v":0},{"$f":"+[9]Tabulka!BJ10","v":{"v":0,"d":"0.00"}},{"$f":"+[9]Tabulka!AP10","v":{"v":80.07191149162503,"d":"80.07"}},{"$f":"+[9]Tabulka!AQ10","v":{"v":4,"d":"4.00"}},{"$f":"+[9]Tabulka!BM10","v":{"v":13.125763941446753,"d":"13.13"}},{"$f":"+[9]Tabulka!BN10","v":3},{"$f":"+[9]Tabulka!BO10","v":{"v":13.125763941446753,"d":"13.13"}}]
["5",{"$f":"[9]Tabulka!C11","v":"PALETOVÁ"},{"$f":"[9]Tabulka!D11","v":"Barbora"},{"$f":"[9]Tabulka!E11","v":"2001-07-14"},{"$f":"[9]Tabulka!F11","v":"Děhylov- Sokol TJ"},{"$f":"[9]Tabulka!G11","v":"OP"},{"$f":"[9]Tabulka!H11","v":100},{"$f":"+[9]Tabulka!AU11","v":7},{"$f":"+[9]Tabulka!AV11","v":{"v":3.1825276537773326,"d":"3.18"}},{"$f":"+[9]Tabulka!AW11","v":4},{"$f":"+[9]Tabulka!AX11","v":{"v":3.8491245804252903,"d":"3.85"}},{"$f":"+[9]Tabulka!AY11","v":0},{"$f":"+[9]Tabulka!AZ11","v":{"v":0,"d":"0.00"}},{"$f":"+[9]Tabulka!BA11","v":3},{"$f":"+[9]Tabulka!BB11","v":{"v":4.101020071683792,"d":"4.10"}},{"$f":"+[9]Tabulka!BC11","v":4},{"$f":"+[9]Tabulka!BD11","v":{"v":3.8491245804252903,"d":"3.85"}},{"$f":"+[9]Tabulka!BE11","v":0},{"$f":"+[9]Tabulka!BF11","v":{"v":0,"d":"0.00"}},{"$f":"+[9]Tabulka!BG11","v":0},{"$f":"+[9]Tabulka!BH11","v":{"v":0,"d":"0.00"}},{"$f":"+[9]Tabulka!BI11","v":0},{"$f":"+[9]Tabulka!BJ11","v":{"v":0,"d":"0.00"}},{"$f":"+[9]Tabulka!AP11","v":{"v":45.71211158369945,"d":"45.71"}},{"$f":"+[9]Tabulka!AQ11","v":{"v":3,"d":"3.00"}},{"$f":"+[9]Tabulka!BM11","v":{"v":14.981796886311706,"d":"14.98"}},{"$f":"+[9]Tabulka!BN11","v":4},{"$f":"+[9]Tabulka!BO11","v":{"v":11.799269232534373,"d":"11.80"}}]
[null,{"$f":"[9]Tabulka!C12","v":"SELVEKOVÁ"},{"$f":"[9]Tabulka!D12","v":"Eliška"},{"$f":"[9]Tabulka!E12","v":"1999-02-15"},{"$f":"[9]Tabulka!F12","v":"Hradec nad Moravicí- FIT SPORT KLUB "},{"$f":"[9]Tabulka!G12","v":"OP"},{"$f":"[9]Tabulka!H12","v":100},{"$f":"+[9]Tabulka!AU12","v":6},{"$f":"+[9]Tabulka!AV12","v":{"v":3.3907995218454317,"d":"3.39"}},{"$f":"+[9]Tabulka!AW12","v":3},{"$f":"+[9]Tabulka!AX12","v":{"v":4.101020071683792,"d":"4.10"}},{"$f":"+[9]Tabulka!AY12","v":4},{"$f":"+[9]Tabulka!AZ12","v":{"v":3.8491245804252903,"d":"3.85"}},{"$f":"+[9]Tabulka!BA12","v":0},{"$f":"+[9]Tabulka!BB12","v":{"v":0,"d":"0.00"}},{"$f":"+[9]Tabulka!BC12","v":0},{"$f":"+[9]Tabulka!BD12","v":{"v":0,"d":"0.00"}},{"$f":"+[9]Tabulka!BE12","v":4},{"$f":"+[9]Tabulka!BF12","v":{"v":3.8491245804252903,"d":"3.85"}},{"$f":"+[9]Tabulka!BG12","v":0},{"$f":"+[9]Tabulka!BH12","v":{"v":0,"d":"0.00"}},{"$f":"+[9]Tabulka!BI12","v":0},{"$f":"+[9]Tabulka!BJ12","v":{"v":0,"d":"0.00"}},{"$f":"+[9]Tabulka!AP12","v":{"v":0,"d":"0.00"}},{"$f":"+[9]Tabulka!AQ12","v":{"v":0,"d":"0.00"}},{"$f":"+[9]Tabulka!BM12","v":{"v":15.190068754379803,"d":"15.19"}},{"$f":"+[9]Tabulka!BN12","v":4},{"$f":"+[9]Tabulka!BO12","v":{"v":11.799269232534373,"d":"11.80"}}]
["1",{"$f":"[9]Tabulka!C13","v":"SYNKOVÁ"},{"$f":"[9]Tabulka!D13","v":"Markéta"},{"$f":"[9]Tabulka!E13","v":"2001-07-30"},{"$f":"[9]Tabulka!F13","v":"Děhylov- Sokol TJ"},{"$f":"[9]Tabulka!G13","v":"OP"},{"$f":"[9]Tabulka!H13","v":100},{"$f":"+[9]Tabulka!AU13","v":4},{"$f":"+[9]Tabulka!AV13","v":{"v":3.8491245804252903,"d":"3.85"}},{"$f":"+[9]Tabulka!AW13","v":0},{"$f":"+[9]Tabulka!AX13","v":{"v":0,"d":"0.00"}},{"$f":"+[9]Tabulka!AY13","v":0},{"$f":"+[9]Tabulka!AZ13","v":{"v":0,"d":"0.00"}},{"$f":"+[9]Tabulka!BA13","v":0},{"$f":"+[9]Tabulka!BB13","v":{"v":0,"d":"0.00"}},{"$f":"+[9]Tabulka!BC13","v":3},{"$f":"+[9]Tabulka!BD13","v":{"v":4.101020071683792,"d":"4.10"}},{"$f":"+[9]Tabulka!BE13","v":5},{"$f":"+[9]Tabulka!BF13","v":{"v":3.6127011759664778,"d":"3.61"}},{"$f":"+[9]Tabulka!BG13","v":0},{"$f":"+[9]Tabulka!BH13","v":{"v":0,"d":"0.00"}},{"$f":"+[9]Tabulka!BI13","v":0},{"$f":"+[9]Tabulka!BJ13","v":{"v":0,"d":"0.00"}},{"$f":"+[9]Tabulka!AP13","v":{"v":48.70361642155201,"d":"48.70"}},{"$f":"+[9]Tabulka!AQ13","v":{"v":3,"d":"3.00"}},{"$f":"+[9]Tabulka!BM13","v":{"v":11.562845828075561,"d":"11.56"}},{"$f":"+[9]Tabulka!BN13","v":3},{"$f":"+[9]Tabulka!BO13","v":{"v":11.562845828075561,"d":"11.56"}}]
["2",{"$f":"[9]Tabulka!C14","v":"STOŠKOVÁ"},{"$f":"[9]Tabulka!D14","v":"Zuzana"},{"$f":"[9]Tabulka!E14","v":"1999-03-16"},{"$f":"[9]Tabulka!F14","v":"Hradec nad Moravicí- FIT SPORT KLUB "},{"$f":"[9]Tabulka!G14","v":"OP"},{"$f":"[9]Tabulka!H14","v":100},{"$f":"+[9]Tabulka!AU14","v":7},{"$f":"+[9]Tabulka!AV14","v":{"v":3.1825276537773326,"d":"3.18"}},{"$f":"+[9]Tabulka!AW14","v":6},{"$f":"+[9]Tabulka!AX14","v":{"v":3.3907995218454317,"d":"3.39"}},{"$f":"+[9]Tabulka!AY14","v":5},{"$f":"+[9]Tabulka!AZ14","v":{"v":3.6127011759664778,"d":"3.61"}},{"$f":"+[9]Tabulka!BA14","v":0},{"$f":"+[9]Tabulka!BB14","v":{"v":0,"d":"0.00"}},{"$f":"+[9]Tabulka!BC14","v":4},{"$f":"+[9]Tabulka!BD14","v":{"v":3.8491245804252903,"d":"3.85"}},{"$f":"+[9]Tabulka!BE14","v":7},{"$f":"+[9]Tabulka!BF14","v":{"v":3.1825276537773326,"d":"3.18"}},{"$f":"+[9]Tabulka!BG14","v":0},{"$f":"+[9]Tabulka!BH14","v":{"v":0,"d":"0.00"}},{"$f":"+[9]Tabulka!BI14","v":0},{"$f":"+[9]Tabulka!BJ14","v":{"v":0,"d":"0.00"}},{"$f":"+[9]Tabulka!AP14","v":{"v":0,"d":"0.00"}},{"$f":"+[9]Tabulka!AQ14","v":{"v":0,"d":"0.00"}},{"$f":"+[9]Tabulka!BM14","v":{"v":17.217680585791864,"d":"17.22"}},{"$f":"+[9]Tabulka!BN14","v":5},{"$f":"+[9]Tabulka!BO14","v":{"v":10.8526252782372,"d":"10.85"}}]
["3",{"$f":"[9]Tabulka!C15","v":"WITOSZOVÁ"},{"$f":"[9]Tabulka!D15","v":"Klára"},{"$f":"[9]Tabulka!E15","v":"2003-09-25"},{"$f":"[9]Tabulka!F15","v":"Havířov- Baník SKST"},{"$f":"[9]Tabulka!G15","v":"KA"},{"$f":"[9]Tabulka!H15","v":100},{"$f":"+[9]Tabulka!AU15","v":0},{"$f":"+[9]Tabulka!AV15","v":{"v":0,"d":"0.00"}},{"$f":"+[9]Tabulka!AW15","v":2},{"$f":"+[9]Tabulka!AX15","v":{"v":4.369400178389413,"d":"4.37"}},{"$f":"+[9]Tabulka!AY15","v":2},{"$f":"+[9]Tabulka!AZ15","v":{"v":4.369400178389413,"d":"4.37"}},{"$f":"+[9]Tabulka!BA15","v":0},{"$f":"+[9]Tabulka!BB15","v":{"v":0,"d":"0.00"}},{"$f":"+[9]Tabulka!BC15","v":0},{"$f":"+[9]Tabulka!BD15","v":{"v":0,"d":"0.00"}},{"$f":"+[9]Tabulka!BE15","v":0},{"$f":"+[9]Tabulka!BF15","v":{"v":0,"d":"0.00"}},{"$f":"+[9]Tabulka!BG15","v":0},{"$f":"+[9]Tabulka!BH15","v":{"v":0,"d":"0.00"}},{"$f":"+[9]Tabulka!BI15","v":0},{"$f":"+[9]Tabulka!BJ15","v":{"v":0,"d":"0.00"}},{"$f":"+[9]Tabulka!AP15","v":{"v":0,"d":"0.00"}},{"$f":"+[9]Tabulka!AQ15","v":{"v":0,"d":"0.00"}},{"$f":"+[9]Tabulka!BM15","v":{"v":8.738800356778826,"d":"8.74"}},{"$f":"+[9]Tabulka!BN15","v":2},{"$f":"+[9]Tabulka!BO15","v":{"v":8.738800356778826,"d":"8.74"}}]
["4",{"$f":"[9]Tabulka!C16","v":"CZOLKOVÁ"},{"$f":"[9]Tabulka!D16","v":"Adéla"},{"$f":"[9]Tabulka!E16","v":"1999-01-01"},{"$f":"[9]Tabulka!F16","v":"Orlová- Siko TTC"},{"$f":"[9]Tabulka!G16","v":"KA"},{"$f":"[9]Tabulka!H16","v":0},{"$f":"+[9]Tabulka!AU16","v":0},{"$f":"+[9]Tabulka!AV16","v":{"v":0,"d":"0.00"}},{"$f":"+[9]Tabulka!AW16","v":3},{"$f":"+[9]Tabulka!AX16","v":{"v":4.101020071683792,"d":"4.10"}},{"$f":"+[9]Tabulka!AY16","v":0},{"$f":"+[9]Tabulka!AZ16","v":{"v":0,"d":"0.00"}},{"$f":"+[9]Tabulka!BA16","v":3},{"$f":"+[9]Tabulka!BB16","v":{"v":4.101020071683792,"d":"4.10"}},{"$f":"+[9]Tabulka!BC16","v":0},{"$f":"+[9]Tabulka!BD16","v":{"v":0,"d":"0.00"}},{"$f":"+[9]Tabulka!BE16","v":0},{"$f":"+[9]Tabulka!BF16","v":{"v":0,"d":"0.00"}},{"$f":"+[9]Tabulka!BG16","v":0},{"$f":"+[9]Tabulka!BH16","v":{"v":0,"d":"0.00"}},{"$f":"+[9]Tabulka!BI16","v":0},{"$f":"+[9]Tabulka!BJ16","v":{"v":0,"d":"0.00"}},{"$f":"+[9]Tabulka!AP16","v":{"v":0,"d":"0.00"}},{"$f":"+[9]Tabulka!AQ16","v":{"v":0,"d":"0.00"}},{"$f":"+[9]Tabulka!BM16","v":{"v":8.202040143367585,"d":"8.20"}},{"$f":"+[9]Tabulka!BN16","v":2},{"$f":"+[9]Tabulka!BO16","v":{"v":8.202040143367585,"d":"8.20"}}]
["3",{"$f":"[9]Tabulka!C17","v":"NEMÉTHOVÁ"},{"$f":"[9]Tabulka!D17","v":"Štěpánka"},{"$f":"[9]Tabulka!E17","v":"1999-01-01"},{"$f":"[9]Tabulka!F17","v":"Kopřivnice- Tatra  ASK"},{"$f":"[9]Tabulka!G17","v":"NJ"},{"$f":"[9]Tabulka!H17","v":0},{"$f":"+[9]Tabulka!AU17","v":0},{"$f":"+[9]Tabulka!AV17","v":{"v":0,"d":"0.00"}},{"$f":"+[9]Tabulka!AW17","v":0},{"$f":"+[9]Tabulka!AX17","v":{"v":0,"d":"0.00"}},{"$f":"+[9]Tabulka!AY17","v":1},{"$f":"+[9]Tabulka!AZ17","v":{"v":4.655343691373548,"d":"4.66"}},{"$f":"+[9]Tabulka!BA17","v":0},{"$f":"+[9]Tabulka!BB17","v":{"v":0,"d":"0.00"}},{"$f":"+[9]Tabulka!BC17","v":0},{"$f":"+[9]Tabulka!BD17","v":{"v":0,"d":"0.00"}},{"$f":"+[9]Tabulka!BE17","v":0},{"$f":"+[9]Tabulka!BF17","v":{"v":0,"d":"0.00"}},{"$f":"+[9]Tabulka!BG17","v":0},{"$f":"+[9]Tabulka!BH17","v":{"v":0,"d":"0.00"}},{"$f":"+[9]Tabulka!BI17","v":0},{"$f":"+[9]Tabulka!BJ17","v":{"v":0,"d":"0.00"}},{"$f":"+[9]Tabulka!AP17","v":{"v":10.619912360113206,"d":"10.62"}},{"$f":"+[9]Tabulka!AQ17","v":{"v":1,"d":"1.00"}},{"$f":"+[9]Tabulka!BM17","v":{"v":4.655343691373548,"d":"4.66"}},{"$f":"+[9]Tabulka!BN17","v":1},{"$f":"+[9]Tabulka!BO17","v":{"v":4.655343691373548,"d":"4.66"}}]
["4",{"$f":"[9]Tabulka!C18","v":"KOSTUROVÁ"},{"$f":"[9]Tabulka!D18","v":"Michaela"},{"$f":"[9]Tabulka!E18","v":"2000-01-01"},{"$f":"[9]Tabulka!F18","v":"Nový Jičín- TJ"},{"$f":"[9]Tabulka!G18","v":"NJ"},{"$f":"[9]Tabulka!H18","v":0},{"$f":"+[9]Tabulka!AU18","v":0},{"$f":"+[9]Tabulka!AV18","v":{"v":0,"d":"0.00"}},{"$f":"+[9]Tabulka!AW18","v":0},{"$f":"+[9]Tabulka!AX18","v":{"v":0,"d":"0.00"}},{"$f":"+[9]Tabulka!AY18","v":2},{"$f":"+[9]Tabulka!AZ18","v":{"v":4.369400178389413,"d":"4.37"}},{"$f":"+[9]Tabulka!BA18","v":0},{"$f":"+[9]Tabulka!BB18","v":{"v":0,"d":"0.00"}},{"$f":"+[9]Tabulka!BC18","v":0},{"$f":"+[9]Tabulka!BD18","v":{"v":0,"d":"0.00"}},{"$f":"+[9]Tabulka!BE18","v":0},{"$f":"+[9]Tabulka!BF18","v":{"v":0,"d":"0.00"}},{"$f":"+[9]Tabulka!BG18","v":0},{"$f":"+[9]Tabulka!BH18","v":{"v":0,"d":"0.00"}},{"$f":"+[9]Tabulka!BI18","v":0},{"$f":"+[9]Tabulka!BJ18","v":{"v":0,"d":"0.00"}},{"$f":"+[9]Tabulka!AP18","v":{"v":0,"d":"0.00"}},{"$f":"+[9]Tabulka!AQ18","v":{"v":0,"d":"0.00"}},{"$f":"+[9]Tabulka!BM18","v":{"v":4.369400178389413,"d":"4.37"}},{"$f":"+[9]Tabulka!BN18","v":1},{"$f":"+[9]Tabulka!BO18","v":{"v":4.369400178389413,"d":"4.37"}}]
["2",{"$f":"[9]Tabulka!C19","v":"KARASOVÁ"},{"$f":"[9]Tabulka!D19","v":"Viktorie"},{"$f":"[9]Tabulka!E19","v":"2001-01-01"},{"$f":"[9]Tabulka!F19","v":"Nový Jičín- TJ"},{"$f":"[9]Tabulka!G19","v":"NJ"},{"$f":"[9]Tabulka!H19","v":0},{"$f":"+[9]Tabulka!AU19","v":0},{"$f":"+[9]Tabulka!AV19","v":{"v":0,"d":"0.00"}},{"$f":"+[9]Tabulka!AW19","v":0},{"$f":"+[9]Tabulka!AX19","v":{"v":0,"d":"0.00"}},{"$f":"+[9]Tabulka!AY19","v":3},{"$f":"+[9]Tabulka!AZ19","v":{"v":4.101020071683792,"d":"4.10"}},{"$f":"+[9]Tabulka!BA19","v":0},{"$f":"+[9]Tabulka!BB19","v":{"v":0,"d":"0.00"}},{"$f":"+[9]Tabulka!BC19","v":0},{"$f":"+[9]Tabulka!BD19","v":{"v":0,"d":"0.00"}},{"$f":"+[9]Tabulka!BE19","v":0},{"$f":"+[9]Tabulka!BF19","v":{"v":0,"d":"0.00"}},{"$f":"+[9]Tabulka!BG19","v":0},{"$f":"+[9]Tabulka!BH19","v":{"v":0,"d":"0.00"}},{"$f":"+[9]Tabulka!BI19","v":0},{"$f":"+[9]Tabulka!BJ19","v":{"v":0,"d":"0.00"}},{"$f":"+[9]Tabulka!AP19","v":{"v":0,"d":"0.00"}},{"$f":"+[9]Tabulka!AQ19","v":{"v":0,"d":"0.00"}},{"$f":"+[9]Tabulka!BM19","v":{"v":4.101020071683792,"d":"4.10"}},{"$f":"+[9]Tabulka!BN19","v":1},{"$f":"+[9]Tabulka!BO19","v":{"v":4.101020071683792,"d":"4.10"}}]
["3",{"$f":"[9]Tabulka!C20","v":"OTISKOVÁ"},{"$f":"[9]Tabulka!D20","v":"Hana"},{"$f":"[9]Tabulka!E20","v":"2001-01-01"},{"$f":"[9]Tabulka!F20","v":"Ostrava- Poruba- DDM"},{"$f":"[9]Tabulka!G20","v":"OV"},{"$f":"[9]Tabulka!H20","v":0},{"$f":"+[9]Tabulka!AU20","v":0},{"$f":"+[9]Tabulka!AV20","v":{"v":0,"d":"0.00"}},{"$f":"+[9]Tabulka!AW20","v":0},{"$f":"+[9]Tabulka!AX20","v":{"v":0,"d":"0.00"}},{"$f":"+[9]Tabulka!AY20","v":0},{"$f":"+[9]Tabulka!AZ20","v":{"v":0,"d":"0.00"}},{"$f":"+[9]Tabulka!BA20","v":4},{"$f":"+[9]Tabulka!BB20","v":{"v":3.8491245804252903,"d":"3.85"}},{"$f":"+[9]Tabulka!BC20","v":0},{"$f":"+[9]Tabulka!BD20","v":{"v":0,"d":"0.00"}},{"$f":"+[9]Tabulka!BE20","v":0},{"$f":"+[9]Tabulka!BF20","v":{"v":0,"d":"0.00"}},{"$f":"+[9]Tabulka!BG20","v":0},{"$f":"+[9]Tabulka!BH20","v":{"v":0,"d":"0.00"}},{"$f":"+[9]Tabulka!BI20","v":0},{"$f":"+[9]Tabulka!BJ20","v":{"v":0,"d":"0.00"}},{"$f":"+[9]Tabulka!AP20","v":{"v":0,"d":"0.00"}},{"$f":"+[9]Tabulka!AQ20","v":{"v":0,"d":"0.00"}},{"$f":"+[9]Tabulka!BM20","v":{"v":3.8491245804252903,"d":"3.85"}},{"$f":"+[9]Tabulka!BN20","v":1},{"$f":"+[9]Tabulka!BO20","v":{"v":3.8491245804252903,"d":"3.85"}}]
["3",{"$f":"[9]Tabulka!C21","v":"SEKEROVÁ"},{"$f":"[9]Tabulka!D21","v":"Zuzana"},{"$f":"[9]Tabulka!E21","v":"2002-01-01"},{"$f":"[9]Tabulka!F21","v":"Polanka- Sokol"},{"$f":"[9]Tabulka!G21","v":"OV"},{"$f":"[9]Tabulka!H21","v":0},{"$f":"+[9]Tabulka!AU21","v":0},{"$f":"+[9]Tabulka!AV21","v":{"v":0,"d":"0.00"}},{"$f":"+[9]Tabulka!AW21","v":0},{"$f":"+[9]Tabulka!AX21","v":{"v":0,"d":"0.00"}},{"$f":"+[9]Tabulka!AY21","v":0},{"$f":"+[9]Tabulka!AZ21","v":{"v":0,"d":"0.00"}},{"$f":"+[9]Tabulka!BA21","v":4},{"$f":"+[9]Tabulka!BB21","v":{"v":3.8491245804252903,"d":"3.85"}},{"$f":"+[9]Tabulka!BC21","v":0},{"$f":"+[9]Tabulka!BD21","v":{"v":0,"d":"0.00"}},{"$f":"+[9]Tabulka!BE21","v":0},{"$f":"+[9]Tabulka!BF21","v":{"v":0,"d":"0.00"}},{"$f":"+[9]Tabulka!BG21","v":0},{"$f":"+[9]Tabulka!BH21","v":{"v":0,"d":"0.00"}},{"$f":"+[9]Tabulka!BI21","v":0},{"$f":"+[9]Tabulka!BJ21","v":{"v":0,"d":"0.00"}},{"$f":"+[9]Tabulka!AP21","v":{"v":0,"d":"0.00"}},{"$f":"+[9]Tabulka!AQ21","v":{"v":0,"d":"0.00"}},{"$f":"+[9]Tabulka!BM21","v":{"v":3.8491245804252903,"d":"3.85"}},{"$f":"+[9]Tabulka!BN21","v":1},{"$f":"+[9]Tabulka!BO21","v":{"v":3.8491245804252903,"d":"3.85"}}]
["3",{"$f":"[9]Tabulka!C22","v":"ROZKYDALOVÁ"},{"$f":"[9]Tabulka!D22","v":"Eliška"},{"$f":"[9]Tabulka!E22","v":"2002-01-11"},{"$f":"[9]Tabulka!F22","v":"Frýdlant nad Ostravicí- SK"},{"$f":"[9]Tabulka!G22","v":"FM"},{"$f":"[9]Tabulka!H22","v":100},{"$f":"+[9]Tabulka!AU22","v":0},{"$f":"+[9]Tabulka!AV22","v":{"v":0,"d":"0.00"}},{"$f":"+[9]Tabulka!AW22","v":5},{"$f":"+[9]Tabulka!AX22","v":{"v":3.6127011759664778,"d":"3.61"}},{"$f":"+[9]Tabulka!AY22","v":0},{"$f":"+[9]Tabulka!AZ22","v":{"v":0,"d":"0.00"}},{"$f":"+[9]Tabulka!BA22","v":0},{"$f":"+[9]Tabulka!BB22","v":{"v":0,"d":"0.00"}},{"$f":"+[9]Tabulka!BC22","v":0},{"$f":"+[9]Tabulka!BD22","v":{"v":0,"d":"0.00"}},{"$f":"+[9]Tabulka!BE22","v":0},{"$f":"+[9]Tabulka!BF22","v":{"v":0,"d":"0.00"}},{"$f":"+[9]Tabulka!BG22","v":0},{"$f":"+[9]Tabulka!BH22","v":{"v":0,"d":"0.00"}},{"$f":"+[9]Tabulka!BI22","v":0},{"$f":"+[9]Tabulka!BJ22","v":{"v":0,"d":"0.00"}},{"$f":"+[9]Tabulka!AP22","v":{"v":30.11505300059121,"d":"30.12"}},{"$f":"+[9]Tabulka!AQ22","v":{"v":2,"d":"2.00"}},{"$f":"+[9]Tabulka!BM22","v":{"v":3.6127011759664778,"d":"3.61"}},{"$f":"+[9]Tabulka!BN22","v":1},{"$f":"+[9]Tabulka!BO22","v":{"v":3.6127011759664778,"d":"3.61"}}]
[null,{"$f":"[9]Tabulka!C23","v":"GREIPLOVÁ"},{"$f":"[9]Tabulka!D23","v":"Barbora"},{"$f":"[9]Tabulka!E23","v":"2000-03-22"},{"$f":"[9]Tabulka!F23","v":"Hlučín- DDM"},{"$f":"[9]Tabulka!G23","v":"OP"},{"$f":"[9]Tabulka!H23","v":100},{"$f":"+[9]Tabulka!AU23","v":7},{"$f":"+[9]Tabulka!AV23","v":{"v":3.1825276537773326,"d":"3.18"}},{"$f":"+[9]Tabulka!AW23","v":0},{"$f":"+[9]Tabulka!AX23","v":{"v":0,"d":"0.00"}},{"$f":"+[9]Tabulka!AY23","v":0},{"$f":"+[9]Tabulka!AZ23","v":{"v":0,"d":"0.00"}},{"$f":"+[9]Tabulka!BA23","v":0},{"$f":"+[9]Tabulka!BB23","v":{"v":0,"d":"0.00"}},{"$f":"+[9]Tabulka!BC23","v":0},{"$f":"+[9]Tabulka!BD23","v":{"v":0,"d":"0.00"}},{"$f":"+[9]Tabulka!BE23","v":0},{"$f":"+[9]Tabulka!BF23","v":{"v":0,"d":"0.00"}},{"$f":"+[9]Tabulka!BG23","v":0},{"$f":"+[9]Tabulka!BH23","v":{"v":0,"d":"0.00"}},{"$f":"+[9]Tabulka!BI23","v":0},{"$f":"+[9]Tabulka!BJ23","v":{"v":0,"d":"0.00"}},{"$f":"+[9]Tabulka!AP23","v":{"v":0,"d":"0.00"}},{"$f":"+[9]Tabulka!AQ23","v":{"v":0,"d":"0.00"}},{"$f":"+[9]Tabulka!BM23","v":{"v":3.1825276537773326,"d":"3.18"}},{"$f":"+[9]Tabulka!BN23","v":1},{"$f":"+[9]Tabulka!BO23","v":{"v":3.1825276537773326,"d":"3.18"}}]
[null,{"$f":"[9]Tabulka!C24","v":"HRABCOVÁ"},{"$f":"[9]Tabulka!D24","v":"Bára"},{"$f":"[9]Tabulka!E24","v":"1999-01-01"},{"$f":"[9]Tabulka!F24","v":"Kateřinky- Sokol TJ"},{"$f":"[9]Tabulka!G24","v":"OP"},{"$f":"[9]Tabulka!H24","v":0},{"$f":"+[9]Tabulka!AU24","v":0},{"$f":"+[9]Tabulka!AV24","v":{"v":0,"d":"0.00"}},{"$f":"+[9]Tabulka!AW24","v":7},{"$f":"+[9]Tabulka!AX24","v":{"v":3.1825276537773326,"d":"3.18"}},{"$f":"+[9]Tabulka!AY24","v":0},{"$f":"+[9]Tabulka!AZ24","v":{"v":0,"d":"0.00"}},{"$f":"+[9]Tabulka!BA24","v":0},{"$f":"+[9]Tabulka!BB24","v":{"v":0,"d":"0.00"}},{"$f":"+[9]Tabulka!BC24","v":0},{"$f":"+[9]Tabulka!BD24","v":{"v":0,"d":"0.00"}},{"$f":"+[9]Tabulka!BE24","v":0},{"$f":"+[9]Tabulka!BF24","v":{"v":0,"d":"0.00"}},{"$f":"+[9]Tabulka!BG24","v":0},{"$f":"+[9]Tabulka!BH24","v":{"v":0,"d":"0.00"}},{"$f":"+[9]Tabulka!BI24","v":0},{"$f":"+[9]Tabulka!BJ24","v":{"v":0,"d":"0.00"}},{"$f":"+[9]Tabulka!AP24","v":{"v":0,"d":"0.00"}},{"$f":"+[9]Tabulka!AQ24","v":{"v":0,"d":"0.00"}},{"$f":"+[9]Tabulka!BM24","v":{"v":3.1825276537773326,"d":"3.18"}},{"$f":"+[9]Tabulka!BN24","v":1},{"$f":"+[9]Tabulka!BO24","v":{"v":3.1825276537773326,"d":"3.18"}}]
[null,{"$f":"[9]Tabulka!C25","v":"OČADLÍKOVÁ"},{"$f":"[9]Tabulka!D25","v":"Jana"},{"$f":"[9]Tabulka!E25","v":"1999-01-01"},{"$f":"[9]Tabulka!F25","v":"Hradec nad Moravicí- FIT SPORT KLUB "},{"$f":"[9]Tabulka!G25","v":"OP"},{"$f":"[9]Tabulka!H25","v":0},{"$f":"+[9]Tabulka!AU25","v":0},{"$f":"+[9]Tabulka!AV25","v":{"v":0,"d":"0.00"}},{"$f":"+[9]Tabulka!AW25","v":0},{"$f":"+[9]Tabulka!AX25","v":{"v":0,"d":"0.00"}},{"$f":"+[9]Tabulka!AY25","v":0},{"$f":"+[9]Tabulka!AZ25","v":{"v":0,"d":"0.00"}},{"$f":"+[9]Tabulka!BA25","v":0},{"$f":"+[9]Tabulka!BB25","v":{"v":0,"d":"0.00"}},{"$f":"+[9]Tabulka!BC25","v":0},{"$f":"+[9]Tabulka!BD25","v":{"v":0,"d":"0.00"}},{"$f":"+[9]Tabulka!BE25","v":7},{"$f":"+[9]Tabulka!BF25","v":{"v":3.1825276537773326,"d":"3.18"}},{"$f":"+[9]Tabulka!BG25","v":0},{"$f":"+[9]Tabulka!BH25","v":{"v":0,"d":"0.00"}},{"$f":"+[9]Tabulka!BI25","v":0},{"$f":"+[9]Tabulka!BJ25","v":{"v":0,"d":"0.00"}},{"$f":"+[9]Tabulka!AP25","v":{"v":0,"d":"0.00"}},{"$f":"+[9]Tabulka!AQ25","v":{"v":0,"d":"0.00"}},{"$f":"+[9]Tabulka!BM25","v":{"v":3.1825276537773326,"d":"3.18"}},{"$f":"+[9]Tabulka!BN25","v":1},{"$f":"+[9]Tabulka!BO25","v":{"v":3.1825276537773326,"d":"3.18"}}]
[null,{"$f":"[9]Tabulka!C26","v":"PANKOVÁ"},{"$f":"[9]Tabulka!D26","v":"Lenka"},{"$f":"[9]Tabulka!E26","v":"1999-01-01"},{"$f":"[9]Tabulka!F26","v":"Vratimov- MG Odra Gas TTC"},{"$f":"[9]Tabulka!G26","v":"OV"},{"$f":"[9]Tabulka!H26","v":0},{"$f":"+[9]Tabulka!AU26","v":7},{"$f":"+[9]Tabulka!AV26","v":{"v":3.1825276537773326,"d":"3.18"}},{"$f":"+[9]Tabulka!AW26","v":0},{"$f":"+[9]Tabulka!AX26","v":{"v":0,"d":"0.00"}},{"$f":"+[9]Tabulka!AY26","v":0},{"$f":"+[9]Tabulka!AZ26","v":{"v":0,"d":"0.00"}},{"$f":"+[9]Tabulka!BA26","v":0},{"$f":"+[9]Tabulka!BB26","v":{"v":0,"d":"0.00"}},{"$f":"+[9]Tabulka!BC26","v":0},{"$f":"+[9]Tabulka!BD26","v":{"v":0,"d":"0.00"}},{"$f":"+[9]Tabulka!BE26","v":0},{"$f":"+[9]Tabulka!BF26","v":{"v":0,"d":"0.00"}},{"$f":"+[9]Tabulka!BG26","v":0},{"$f":"+[9]Tabulka!BH26","v":{"v":0,"d":"0.00"}},{"$f":"+[9]Tabulka!BI26","v":0},{"$f":"+[9]Tabulka!BJ26","v":{"v":0,"d":"0.00"}},{"$f":"+[9]Tabulka!AP26","v":{"v":0,"d":"0.00"}},{"$f":"+[9]Tabulka!AQ26","v":{"v":0,"d":"0.00"}},{"$f":"+[9]Tabulka!BM26","v":{"v":3.1825276537773326,"d":"3.18"}},{"$f":"+[9]Tabulka!BN26","v":1},{"$f":"+[9]Tabulka!BO26","v":{"v":3.1825276537773326,"d":"3.18"}}]
[null,{"$f":"[9]Tabulka!C27","v":"BELUSKÁ"},{"$f":"[9]Tabulka!D27","v":"Tereza"},{"$f":"[9]Tabulka!E27","v":"1999-12-08"},{"$f":"[9]Tabulka!F27","v":"Frýdlant nad Ostravicí- SK"},{"$f":"[9]Tabulka!G27","v":"FM"},{"$f":"[9]Tabulka!H27","v":100},{"$f":"+[9]Tabulka!AU27","v":0},{"$f":"+[9]Tabulka!AV27","v":{"v":0,"d":"0.00"}},{"$f":"+[9]Tabulka!AW27","v":0},{"$f":"+[9]Tabulka!AX27","v":{"v":0,"d":"0.00"}},{"$f":"+[9]Tabulka!AY27","v":0},{"$f":"+[9]Tabulka!AZ27","v":{"v":0,"d":"0.00"}},{"$f":"+[9]Tabulka!BA27","v":0},{"$f":"+[9]Tabulka!BB27","v":{"v":0,"d":"0.00"}},{"$f":"+[9]Tabulka!BC27","v":0},{"$f":"+[9]Tabulka!BD27","v":{"v":0,"d":"0.00"}},{"$f":"+[9]Tabulka!BE27","v":0},{"$f":"+[9]Tabulka!BF27","v":{"v":0,"d":"0.00"}},{"$f":"+[9]Tabulka!BG27","v":0},{"$f":"+[9]Tabulka!BH27","v":{"v":0,"d":"0.00"}},{"$f":"+[9]Tabulka!BI27","v":0},{"$f":"+[9]Tabulka!BJ27","v":{"v":0,"d":"0.00"}},{"$f":"+[9]Tabulka!AP27","v":{"v":0,"d":"0.00"}},{"$f":"+[9]Tabulka!AQ27","v":{"v":0,"d":"0.00"}},{"$f":"+[9]Tabulka!BM27","v":{"v":0,"d":"0.00"}},{"$f":"+[9]Tabulka!BN27","v":0},{"$f":"+[9]Tabulka!BO27","v":{"v":0,"d":"0.00"}}]
[null,{"$f":"[9]Tabulka!C28","v":"DAŇOVÁ"},{"$f":"[9]Tabulka!D28","v":"Barbora"},{"$f":"[9]Tabulka!E28","v":"1999-05-19"},{"$f":"[9]Tabulka!F28","v":"Frýdlant nad Ostravicí- SK"},{"$f":"[9]Tabulka!G28","v":"FM"},{"$f":"[9]Tabulka!H28","v":100},{"$f":"+[9]Tabulka!AU28","v":0},{"$f":"+[9]Tabulka!AV28","v":{"v":0,"d":"0.00"}},{"$f":"+[9]Tabulka!AW28","v":0},{"$f":"+[9]Tabulka!AX28","v":{"v":0,"d":"0.00"}},{"$f":"+[9]Tabulka!AY28","v":0},{"$f":"+[9]Tabulka!AZ28","v":{"v":0,"d":"0.00"}},{"$f":"+[9]Tabulka!BA28","v":0},{"$f":"+[9]Tabulka!BB28","v":{"v":0,"d":"0.00"}},{"$f":"+[9]Tabulka!BC28","v":0},{"$f":"+[9]Tabulka!BD28","v":{"v":0,"d":"0.00"}},{"$f":"+[9]Tabulka!BE28","v":0},{"$f":"+[9]Tabulka!BF28","v":{"v":0,"d":"0.00"}},{"$f":"+[9]Tabulka!BG28","v":0},{"$f":"+[9]Tabulka!BH28","v":{"v":0,"d":"0.00"}},{"$f":"+[9]Tabulka!BI28","v":0},{"$f":"+[9]Tabulka!BJ28","v":{"v":0,"d":"0.00"}},{"$f":"+[9]Tabulka!AP28","v":{"v":52.90315892472093,"d":"52.90"}},{"$f":"+[9]Tabulka!AQ28","v":{"v":3,"d":"3.00"}},{"$f":"+[9]Tabulka!BM28","v":{"v":0,"d":"0.00"}},{"$f":"+[9]Tabulka!BN28","v":0},{"$f":"+[9]Tabulka!BO28","v":{"v":0,"d":"0.00"}}]
[null,{"$f":"[9]Tabulka!C29","v":"DIATILOVÁ"},{"$f":"[9]Tabulka!D29","v":"Tereza"},{"$f":"[9]Tabulka!E29","v":"1999-01-01"},{"$f":"[9]Tabulka!F29","v":"Kateřinky- Sokol TJ"},{"$f":"[9]Tabulka!G29","v":"OP"},{"$f":"[9]Tabulka!H29","v":0},{"$f":"+[9]Tabulka!AU29","v":0},{"$f":"+[9]Tabulka!AV29","v":{"v":0,"d":"0.00"}},{"$f":"+[9]Tabulka!AW29","v":0},{"$f":"+[9]Tabulka!AX29","v":{"v":0,"d":"0.00"}},{"$f":"+[9]Tabulka!AY29","v":0},{"$f":"+[9]Tabulka!AZ29","v":{"v":0,"d":"0.00"}},{"$f":"+[9]Tabulka!BA29","v":0},{"$f":"+[9]Tabulka!BB29","v":{"v":0,"d":"0.00"}},{"$f":"+[9]Tabulka!BC29","v":0},{"$f":"+[9]Tabulka!BD29","v":{"v":0,"d":"0.00"}},{"$f":"+[9]Tabulka!BE29","v":0},{"$f":"+[9]Tabulka!BF29","v":{"v":0,"d":"0.00"}},{"$f":"+[9]Tabulka!BG29","v":0},{"$f":"+[9]Tabulka!BH29","v":{"v":0,"d":"0.00"}},{"$f":"+[9]Tabulka!BI29","v":0},{"$f":"+[9]Tabulka!BJ29","v":{"v":0,"d":"0.00"}},{"$f":"+[9]Tabulka!AP29","v":{"v":0,"d":"0.00"}},{"$f":"+[9]Tabulka!AQ29","v":{"v":0,"d":"0.00"}},{"$f":"+[9]Tabulka!BM29","v":{"v":0,"d":"0.00"}},{"$f":"+[9]Tabulka!BN29","v":0},{"$f":"+[9]Tabulka!BO29","v":{"v":0,"d":"0.00"}}]
[null,{"$f":"[9]Tabulka!C30","v":"HALFAROVÁ"},{"$f":"[9]Tabulka!D30","v":"Natálie"},{"$f":"[9]Tabulka!E30","v":"2000-11-18"},{"$f":"[9]Tabulka!F30","v":"Darkovice- KST"},{"$f":"[9]Tabulka!G30","v":"OP"},{"$f":"[9]Tabulka!H30","v":100},{"$f":"+[9]Tabulka!AU30","v":0},{"$f":"+[9]Tabulka!AV30","v":{"v":0,"d":"0.00"}},{"$f":"+[9]Tabulka!AW30","v":0},{"$f":"+[9]Tabulka!AX30","v":{"v":0,"d":"0.00"}},{"$f":"+[9]Tabulka!AY30","v":0},{"$f":"+[9]Tabulka!AZ30","v":{"v":0,"d":"0.00"}},{"$f":"+[9]Tabulka!BA30","v":0},{"$f":"+[9]Tabulka!BB30","v":{"v":0,"d":"0.00"}},{"$f":"+[9]Tabulka!BC30","v":0},{"$f":"+[9]Tabulka!BD30","v":{"v":0,"d":"0.00"}},{"$f":"+[9]Tabulka!BE30","v":0},{"$f":"+[9]Tabulka!BF30","v":{"v":0,"d":"0.00"}},{"$f":"+[9]Tabulka!BG30","v":0},{"$f":"+[9]Tabulka!BH30","v":{"v":0,"d":"0.00"}},{"$f":"+[9]Tabulka!BI30","v":0},{"$f":"+[9]Tabulka!BJ30","v":{"v":0,"d":"0.00"}},{"$f":"+[9]Tabulka!AP30","v":{"v":0,"d":"0.00"}},{"$f":"+[9]Tabulka!AQ30","v":{"v":0,"d":"0.00"}},{"$f":"+[9]Tabulka!BM30","v":{"v":0,"d":"0.00"}},{"$f":"+[9]Tabulka!BN30","v":0},{"$f":"+[9]Tabulka!BO30","v":{"v":0,"d":"0.00"}}]
[null,{"$f":"[9]Tabulka!C31","v":"HRABCOVÁ"},{"$f":"[9]Tabulka!D31","v":"Anna"},{"$f":"[9]Tabulka!E31","v":"2001-11-27"},{"$f":"[9]Tabulka!F31","v":"Frýdlant nad Ostravicí- SK"},{"$f":"[9]Tabulka!G31","v":"FM"},{"$f":"[9]Tabulka!H31","v":100},{"$f":"+[9]Tabulka!AU31","v":0},{"$f":"+[9]Tabulka!AV31","v":{"v":0,"d":"0.00"}},{"$f":"+[9]Tabulka!AW31","v":0},{"$f":"+[9]Tabulka!AX31","v":{"v":0,"d":"0.00"}},{"$f":"+[9]Tabulka!AY31","v":0},{"$f":"+[9]Tabulka!AZ31","v":{"v":0,"d":"0.00"}},{"$f":"+[9]Tabulka!BA31","v":0},{"$f":"+[9]Tabulka!BB31","v":{"v":0,"d":"0.00"}},{"$f":"+[9]Tabulka!BC31","v":0},{"$f":"+[9]Tabulka!BD31","v":{"v":0,"d":"0.00"}},{"$f":"+[9]Tabulka!BE31","v":0},{"$f":"+[9]Tabulka!BF31","v":{"v":0,"d":"0.00"}},{"$f":"+[9]Tabulka!BG31","v":0},{"$f":"+[9]Tabulka!BH31","v":{"v":0,"d":"0.00"}},{"$f":"+[9]Tabulka!BI31","v":0},{"$f":"+[9]Tabulka!BJ31","v":{"v":0,"d":"0.00"}},{"$f":"+[9]Tabulka!AP31","v":{"v":28.378923152064505,"d":"28.38"}},{"$f":"+[9]Tabulka!AQ31","v":{"v":2,"d":"2.00"}},{"$f":"+[9]Tabulka!BM31","v":{"v":0,"d":"0.00"}},{"$f":"+[9]Tabulka!BN31","v":0},{"$f":"+[9]Tabulka!BO31","v":{"v":0,"d":"0.00"}}]
[null,{"$f":"[9]Tabulka!C32","v":"KOHÚTOVÁ"},{"$f":"[9]Tabulka!D32","v":"Michaela"},{"$f":"[9]Tabulka!E32","v":"2002-01-01"},{"$f":"[9]Tabulka!F32","v":"Karviná- KLUBsten KST"},{"$f":"[9]Tabulka!G32","v":"KA"},{"$f":"[9]Tabulka!H32","v":0},{"$f":"+[9]Tabulka!AU32","v":0},{"$f":"+[9]Tabulka!AV32","v":{"v":0,"d":"0.00"}},{"$f":"+[9]Tabulka!AW32","v":0},{"$f":"+[9]Tabulka!AX32","v":{"v":0,"d":"0.00"}},{"$f":"+[9]Tabulka!AY32","v":0},{"$f":"+[9]Tabulka!AZ32","v":{"v":0,"d":"0.00"}},{"$f":"+[9]Tabulka!BA32","v":0},{"$f":"+[9]Tabulka!BB32","v":{"v":0,"d":"0.00"}},{"$f":"+[9]Tabulka!BC32","v":0},{"$f":"+[9]Tabulka!BD32","v":{"v":0,"d":"0.00"}},{"$f":"+[9]Tabulka!BE32","v":0},{"$f":"+[9]Tabulka!BF32","v":{"v":0,"d":"0.00"}},{"$f":"+[9]Tabulka!BG32","v":0},{"$f":"+[9]Tabulka!BH32","v":{"v":0,"d":"0.00"}},{"$f":"+[9]Tabulka!BI32","v":0},{"$f":"+[9]Tabulka!BJ32","v":{"v":0,"d":"0.00"}},{"$f":"+[9]Tabulka!AP32","v":{"v":0,"d":"0.00"}},{"$f":"+[9]Tabulka!AQ32","v":{"v":0,"d":"0.00"}},{"$f":"+[9]Tabulka!BM32","v":{"v":0,"d":"0.00"}},{"$f":"+[9]Tabulka!BN32","v":0},{"$f":"+[9]Tabulka!BO32","v":{"v":0,"d":"0.00"}}]
[null,{"$f":"[9]Tabulka!C33","v":"KOLONIČNÁ"},{"$f":"[9]Tabulka!D33","v":"Markéta"},{"$f":"[9]Tabulka!E33","v":"2002-12-12"},{"$f":"[9]Tabulka!F33","v":"Hrabůvka- Sokol TJ"},{"$f":"[9]Tabulka!G33","v":"OV"},{"$f":"[9]Tabulka!H33","v":100},{"$f":"+[9]Tabulka!AU33","v":0},{"$f":"+[9]Tabulka!AV33","v":{"v":0,"d":"0.00"}},{"$f":"+[9]Tabulka!AW33","v":0},{"$f":"+[9]Tabulka!AX33","v":{"v":0,"d":"0.00"}},{"$f":"+[9]Tabulka!AY33","v":0},{"$f":"+[9]Tabulka!AZ33","v":{"v":0,"d":"0.00"}},{"$f":"+[9]Tabulka!BA33","v":0},{"$f":"+[9]Tabulka!BB33","v":{"v":0,"d":"0.00"}},{"$f":"+[9]Tabulka!BC33","v":0},{"$f":"+[9]Tabulka!BD33","v":{"v":0,"d":"0.00"}},{"$f":"+[9]Tabulka!BE33","v":0},{"$f":"+[9]Tabulka!BF33","v":{"v":0,"d":"0.00"}},{"$f":"+[9]Tabulka!BG33","v":0},{"$f":"+[9]Tabulka!BH33","v":{"v":0,"d":"0.00"}},{"$f":"+[9]Tabulka!BI33","v":0},{"$f":"+[9]Tabulka!BJ33","v":{"v":0,"d":"0.00"}},{"$f":"+[9]Tabulka!AP33","v":{"v":29.16087588787071,"d":"29.16"}},{"$f":"+[9]Tabulka!AQ33","v":{"v":2,"d":"2.00"}},{"$f":"+[9]Tabulka!BM33","v":{"v":0,"d":"0.00"}},{"$f":"+[9]Tabulka!BN33","v":0},{"$f":"+[9]Tabulka!BO33","v":{"v":0,"d":"0.00"}}]
[null,{"$f":"[9]Tabulka!C34","v":"KOTKOVÁ"},{"$f":"[9]Tabulka!D34","v":"Daniela"},{"$f":"[9]Tabulka!E34","v":"2000-12-27"},{"$f":"[9]Tabulka!F34","v":"Frýdlant nad Ostravicí- SK"},{"$f":"[9]Tabulka!G34","v":"FM"},{"$f":"[9]Tabulka!H34","v":100},{"$f":"+[9]Tabulka!AU34","v":0},{"$f":"+[9]Tabulka!AV34","v":{"v":0,"d":"0.00"}},{"$f":"+[9]Tabulka!AW34","v":0},{"$f":"+[9]Tabulka!AX34","v":{"v":0,"d":"0.00"}},{"$f":"+[9]Tabulka!AY34","v":0},{"$f":"+[9]Tabulka!AZ34","v":{"v":0,"d":"0.00"}},{"$f":"+[9]Tabulka!BA34","v":0},{"$f":"+[9]Tabulka!BB34","v":{"v":0,"d":"0.00"}},{"$f":"+[9]Tabulka!BC34","v":0},{"$f":"+[9]Tabulka!BD34","v":{"v":0,"d":"0.00"}},{"$f":"+[9]Tabulka!BE34","v":0},{"$f":"+[9]Tabulka!BF34","v":{"v":0,"d":"0.00"}},{"$f":"+[9]Tabulka!BG34","v":0},{"$f":"+[9]Tabulka!BH34","v":{"v":0,"d":"0.00"}},{"$f":"+[9]Tabulka!BI34","v":0},{"$f":"+[9]Tabulka!BJ34","v":{"v":0,"d":"0.00"}},{"$f":"+[9]Tabulka!AP34","v":{"v":26.52917700665118,"d":"26.53"}},{"$f":"+[9]Tabulka!AQ34","v":{"v":2,"d":"2.00"}},{"$f":"+[9]Tabulka!BM34","v":{"v":0,"d":"0.00"}},{"$f":"+[9]Tabulka!BN34","v":0},{"$f":"+[9]Tabulka!BO34","v":{"v":0,"d":"0.00"}}]
[null,{"$f":"[9]Tabulka!C35","v":"MLČOCHOVÁ"},{"$f":"[9]Tabulka!D35","v":"Karolína"},{"$f":"[9]Tabulka!E35","v":"1999-05-07"},{"$f":"[9]Tabulka!F35","v":"Kravaře- SK TJ"},{"$f":"[9]Tabulka!G35","v":"OP"},{"$f":"[9]Tabulka!H35","v":100},{"$f":"+[9]Tabulka!AU35","v":0},{"$f":"+[9]Tabulka!AV35","v":{"v":0,"d":"0.00"}},{"$f":"+[9]Tabulka!AW35","v":0},{"$f":"+[9]Tabulka!AX35","v":{"v":0,"d":"0.00"}},{"$f":"+[9]Tabulka!AY35","v":0},{"$f":"+[9]Tabulka!AZ35","v":{"v":0,"d":"0.00"}},{"$f":"+[9]Tabulka!BA35","v":0},{"$f":"+[9]Tabulka!BB35","v":{"v":0,"d":"0.00"}},{"$f":"+[9]Tabulka!BC35","v":0},{"$f":"+[9]Tabulka!BD35","v":{"v":0,"d":"0.00"}},{"$f":"+[9]Tabulka!BE35","v":0},{"$f":"+[9]Tabulka!BF35","v":{"v":0,"d":"0.00"}},{"$f":"+[9]Tabulka!BG35","v":0},{"$f":"+[9]Tabulka!BH35","v":{"v":0,"d":"0.00"}},{"$f":"+[9]Tabulka!BI35","v":0},{"$f":"+[9]Tabulka!BJ35","v":{"v":0,"d":"0.00"}},{"$f":"+[9]Tabulka!AP35","v":{"v":0,"d":"0.00"}},{"$f":"+[9]Tabulka!AQ35","v":{"v":0,"d":"0.00"}},{"$f":"+[9]Tabulka!BM35","v":{"v":0,"d":"0.00"}},{"$f":"+[9]Tabulka!BN35","v":0},{"$f":"+[9]Tabulka!BO35","v":{"v":0,"d":"0.00"}}]
[null,{"$f":"[9]Tabulka!C36","v":"PANKOVÁ"},{"$f":"[9]Tabulka!D36","v":"Lenka"},{"$f":"[9]Tabulka!E36","v":"1999-01-01"},{"$f":"[9]Tabulka!F36","v":"Vratimov- MG Odra Gas TTC"},{"$f":"[9]Tabulka!G36","v":"OV"},{"$f":"[9]Tabulka!H36","v":0},{"$f":"+[9]Tabulka!AU36","v":0},{"$f":"+[9]Tabulka!AV36","v":{"v":0,"d":"0.00"}},{"$f":"+[9]Tabulka!AW36","v":0},{"$f":"+[9]Tabulka!AX36","v":{"v":0,"d":"0.00"}},{"$f":"+[9]Tabulka!AY36","v":0},{"$f":"+[9]Tabulka!AZ36","v":{"v":0,"d":"0.00"}},{"$f":"+[9]Tabulka!BA36","v":0},{"$f":"+[9]Tabulka!BB36","v":{"v":0,"d":"0.00"}},{"$f":"+[9]Tabulka!BC36","v":0},{"$f":"+[9]Tabulka!BD36","v":{"v":0,"d":"0.00"}},{"$f":"+[9]Tabulka!BE36","v":0},{"$f":"+[9]Tabulka!BF36","v":{"v":0,"d":"0.00"}},{"$f":"+[9]Tabulka!BG36","v":0},{"$f":"+[9]Tabulka!BH36","v":{"v":0,"d":"0.00"}},{"$f":"+[9]Tabulka!BI36","v":0},{"$f":"+[9]Tabulka!BJ36","v":{"v":0,"d":"0.00"}},{"$f":"+[9]Tabulka!AP36","v":{"v":0,"d":"0.00"}},{"$f":"+[9]Tabulka!AQ36","v":{"v":0,"d":"0.00"}},{"$f":"+[9]Tabulka!BM36","v":{"v":0,"d":"0.00"}},{"$f":"+[9]Tabulka!BN36","v":0},{"$f":"+[9]Tabulka!BO36","v":{"v":0,"d":"0.00"}}]
[null,{"$f":"[9]Tabulka!C37","v":"PETROVOVÁ"},{"$f":"[9]Tabulka!D37","v":"Nikita"},{"$f":"[9]Tabulka!E37","v":"1999-09-26"},{"$f":"[9]Tabulka!F37","v":"Frýdlant nad Ostravicí- SK"},{"$f":"[9]Tabulka!G37","v":"FM"},{"$f":"[9]Tabulka!H37","v":100},{"$f":"+[9]Tabulka!AU37","v":0},{"$f":"+[9]Tabulka!AV37","v":{"v":0,"d":"0.00"}},{"$f":"+[9]Tabulka!AW37","v":0},{"$f":"+[9]Tabulka!AX37","v":{"v":0,"d":"0.00"}},{"$f":"+[9]Tabulka!AY37","v":0},{"$f":"+[9]Tabulka!AZ37","v":{"v":0,"d":"0.00"}},{"$f":"+[9]Tabulka!BA37","v":0},{"$f":"+[9]Tabulka!BB37","v":{"v":0,"d":"0.00"}},{"$f":"+[9]Tabulka!BC37","v":0},{"$f":"+[9]Tabulka!BD37","v":{"v":0,"d":"0.00"}},{"$f":"+[9]Tabulka!BE37","v":0},{"$f":"+[9]Tabulka!BF37","v":{"v":0,"d":"0.00"}},{"$f":"+[9]Tabulka!BG37","v":0},{"$f":"+[9]Tabulka!BH37","v":{"v":0,"d":"0.00"}},{"$f":"+[9]Tabulka!BI37","v":0},{"$f":"+[9]Tabulka!BJ37","v":{"v":0,"d":"0.00"}},{"$f":"+[9]Tabulka!AP37","v":{"v":18.788420767074477,"d":"18.79"}},{"$f":"+[9]Tabulka!AQ37","v":{"v":1,"d":"1.00"}},{"$f":"+[9]Tabulka!BM37","v":{"v":0,"d":"0.00"}},{"$f":"+[9]Tabulka!BN37","v":0},{"$f":"+[9]Tabulka!BO37","v":{"v":0,"d":"0.00"}}]
[null,{"$f":"[9]Tabulka!C38","v":"POLLOVÁ"},{"$f":"[9]Tabulka!D38","v":"Valentýna"},{"$f":"[9]Tabulka!E38","v":"2001-01-01"},{"$f":"[9]Tabulka!F38","v":"Frýdlant nad Ostravicí- SK"},{"$f":"[9]Tabulka!G38","v":"FM"},{"$f":"[9]Tabulka!H38","v":0},{"$f":"+[9]Tabulka!AU38","v":0},{"$f":"+[9]Tabulka!AV38","v":{"v":0,"d":"0.00"}},{"$f":"+[9]Tabulka!AW38","v":0},{"$f":"+[9]Tabulka!AX38","v":{"v":0,"d":"0.00"}},{"$f":"+[9]Tabulka!AY38","v":0},{"$f":"+[9]Tabulka!AZ38","v":{"v":0,"d":"0.00"}},{"$f":"+[9]Tabulka!BA38","v":0},{"$f":"+[9]Tabulka!BB38","v":{"v":0,"d":"0.00"}},{"$f":"+[9]Tabulka!BC38","v":0},{"$f":"+[9]Tabulka!BD38","v":{"v":0,"d":"0.00"}},{"$f":"+[9]Tabulka!BE38","v":0},{"$f":"+[9]Tabulka!BF38","v":{"v":0,"d":"0.00"}},{"$f":"+[9]Tabulka!BG38","v":0},{"$f":"+[9]Tabulka!BH38","v":{"v":0,"d":"0.00"}},{"$f":"+[9]Tabulka!BI38","v":0},{"$f":"+[9]Tabulka!BJ38","v":{"v":0,"d":"0.00"}},{"$f":"+[9]Tabulka!AP38","v":{"v":0,"d":"0.00"}},{"$f":"+[9]Tabulka!AQ38","v":{"v":0,"d":"0.00"}},{"$f":"+[9]Tabulka!BM38","v":{"v":0,"d":"0.00"}},{"$f":"+[9]Tabulka!BN38","v":0},{"$f":"+[9]Tabulka!BO38","v":{"v":0,"d":"0.00"}}]
[null,{"$f":"[9]Tabulka!C39","v":"REMENÍK"},{"$f":"[9]Tabulka!D39","v":"Filip"},{"$f":"[9]Tabulka!E39","v":"2000-01-01"},{"$f":"[9]Tabulka!F39","v":"Karviná- KLUBsten KST"},{"$f":"[9]Tabulka!G39","v":"KA"},{"$f":"[9]Tabulka!H39","v":100},{"$f":"+[9]Tabulka!AU39","v":0},{"$f":"+[9]Tabulka!AV39","v":{"v":0,"d":"0.00"}},{"$f":"+[9]Tabulka!AW39","v":0},{"$f":"+[9]Tabulka!AX39","v":{"v":0,"d":"0.00"}},{"$f":"+[9]Tabulka!AY39","v":0},{"$f":"+[9]Tabulka!AZ39","v":{"v":0,"d":"0.00"}},{"$f":"+[9]Tabulka!BA39","v":0},{"$f":"+[9]Tabulka!BB39","v":{"v":0,"d":"0.00"}},{"$f":"+[9]Tabulka!BC39","v":0},{"$f":"+[9]Tabulka!BD39","v":{"v":0,"d":"0.00"}},{"$f":"+[9]Tabulka!BE39","v":0},{"$f":"+[9]Tabulka!BF39","v":{"v":0,"d":"0.00"}},{"$f":"+[9]Tabulka!BG39","v":0},{"$f":"+[9]Tabulka!BH39","v":{"v":0,"d":"0.00"}},{"$f":"+[9]Tabulka!BI39","v":0},{"$f":"+[9]Tabulka!BJ39","v":{"v":0,"d":"0.00"}},{"$f":"+[9]Tabulka!AP39","v":{"v":26.52917700665118,"d":"26.53"}},{"$f":"+[9]Tabulka!AQ39","v":{"v":2,"d":"2.00"}},{"$f":"+[9]Tabulka!BM39","v":{"v":0,"d":"0.00"}},{"$f":"+[9]Tabulka!BN39","v":0},{"$f":"+[9]Tabulka!BO39","v":{"v":0,"d":"0.00"}}]
[null,{"$f":"[9]Tabulka!C40","v":"SMIEŠKOVÁ"},{"$f":"[9]Tabulka!D40","v":"Adéla"},{"$f":"[9]Tabulka!E40","v":"1999-06-08"},{"$f":"[9]Tabulka!F40","v":"Hrabůvka- Sokol TJ"},{"$f":"[9]Tabulka!G40","v":"OV"},{"$f":"[9]Tabulka!H40","v":100},{"$f":"+[9]Tabulka!AU40","v":0},{"$f":"+[9]Tabulka!AV40","v":{"v":0,"d":"0.00"}},{"$f":"+[9]Tabulka!AW40","v":0},{"$f":"+[9]Tabulka!AX40","v":{"v":0,"d":"0.00"}},{"$f":"+[9]Tabulka!AY40","v":0},{"$f":"+[9]Tabulka!AZ40","v":{"v":0,"d":"0.00"}},{"$f":"+[9]Tabulka!BA40","v":0},{"$f":"+[9]Tabulka!BB40","v":{"v":0,"d":"0.00"}},{"$f":"+[9]Tabulka!BC40","v":0},{"$f":"+[9]Tabulka!BD40","v":{"v":0,"d":"0.00"}},{"$f":"+[9]Tabulka!BE40","v":0},{"$f":"+[9]Tabulka!BF40","v":{"v":0,"d":"0.00"}},{"$f":"+[9]Tabulka!BG40","v":0},{"$f":"+[9]Tabulka!BH40","v":{"v":0,"d":"0.00"}},{"$f":"+[9]Tabulka!BI40","v":0},{"$f":"+[9]Tabulka!BJ40","v":{"v":0,"d":"0.00"}},{"$f":"+[9]Tabulka!AP40","v":{"v":12.055376746374767,"d":"12.06"}},{"$f":"+[9]Tabulka!AQ40","v":{"v":1,"d":"1.00"}},{"$f":"+[9]Tabulka!BM40","v":{"v":0,"d":"0.00"}},{"$f":"+[9]Tabulka!BN40","v":0},{"$f":"+[9]Tabulka!BO40","v":{"v":0,"d":"0.00"}}]
[null,{"$f":"[9]Tabulka!C41","v":"ŠKROBÁNKOVÁ"},{"$f":"[9]Tabulka!D41","v":"Šárka"},{"$f":"[9]Tabulka!E41","v":"1999-01-01"},{"$f":"[9]Tabulka!F41","v":"Hradec nad Moravicí- FIT SPORT KLUB "},{"$f":"[9]Tabulka!G41","v":"OP"},{"$f":"[9]Tabulka!H41","v":0},{"$f":"+[9]Tabulka!AU41","v":0},{"$f":"+[9]Tabulka!AV41","v":{"v":0,"d":"0.00"}},{"$f":"+[9]Tabulka!AW41","v":0},{"$f":"+[9]Tabulka!AX41","v":{"v":0,"d":"0.00"}},{"$f":"+[9]Tabulka!AY41","v":0},{"$f":"+[9]Tabulka!AZ41","v":{"v":0,"d":"0.00"}},{"$f":"+[9]Tabulka!BA41","v":0},{"$f":"+[9]Tabulka!BB41","v":{"v":0,"d":"0.00"}},{"$f":"+[9]Tabulka!BC41","v":0},{"$f":"+[9]Tabulka!BD41","v":{"v":0,"d":"0.00"}},{"$f":"+[9]Tabulka!BE41","v":0},{"$f":"+[9]Tabulka!BF41","v":{"v":0,"d":"0.00"}},{"$f":"+[9]Tabulka!BG41","v":0},{"$f":"+[9]Tabulka!BH41","v":{"v":0,"d":"0.00"}},{"$f":"+[9]Tabulka!BI41","v":0},{"$f":"+[9]Tabulka!BJ41","v":{"v":0,"d":"0.00"}},{"$f":"+[9]Tabulka!AP41","v":{"v":0,"d":"0.00"}},{"$f":"+[9]Tabulka!AQ41","v":{"v":0,"d":"0.00"}},{"$f":"+[9]Tabulka!BM41","v":{"v":0,"d":"0.00"}},{"$f":"+[9]Tabulka!BN41","v":0},{"$f":"+[9]Tabulka!BO41","v":{"v":0,"d":"0.00"}}]
[null,{"$f":"[9]Tabulka!C42","v":"ŠTEFÁNKOVÁ"},{"$f":"[9]Tabulka!D42","v":"Šarlota"},{"$f":"[9]Tabulka!E42","v":"2003-01-01"},{"$f":"[9]Tabulka!F42","v":"Frýdlant nad Ostravicí- SK"},{"$f":"[9]Tabulka!G42","v":"FM"},{"$f":"[9]Tabulka!H42","v":0},{"$f":"+[9]Tabulka!AU42","v":0},{"$f":"+[9]Tabulka!AV42","v":{"v":0,"d":"0.00"}},{"$f":"+[9]Tabulka!AW42","v":0},{"$f":"+[9]Tabulka!AX42","v":{"v":0,"d":"0.00"}},{"$f":"+[9]Tabulka!AY42","v":0},{"$f":"+[9]Tabulka!AZ42","v":{"v":0,"d":"0.00"}},{"$f":"+[9]Tabulka!BA42","v":0},{"$f":"+[9]Tabulka!BB42","v":{"v":0,"d":"0.00"}},{"$f":"+[9]Tabulka!BC42","v":0},{"$f":"+[9]Tabulka!BD42","v":{"v":0,"d":"0.00"}},{"$f":"+[9]Tabulka!BE42","v":0},{"$f":"+[9]Tabulka!BF42","v":{"v":0,"d":"0.00"}},{"$f":"+[9]Tabulka!BG42","v":0},{"$f":"+[9]Tabulka!BH42","v":{"v":0,"d":"0.00"}},{"$f":"+[9]Tabulka!BI42","v":0},{"$f":"+[9]Tabulka!BJ42","v":{"v":0,"d":"0.00"}},{"$f":"+[9]Tabulka!AP42","v":{"v":12.844308095408651,"d":"12.84"}},{"$f":"+[9]Tabulka!AQ42","v":{"v":1,"d":"1.00"}},{"$f":"+[9]Tabulka!BM42","v":{"v":0,"d":"0.00"}},{"$f":"+[9]Tabulka!BN42","v":0},{"$f":"+[9]Tabulka!BO42","v":{"v":0,"d":"0.00"}}]
[null,{"$f":"[9]Tabulka!C43","v":"UVÍROVÁ"},{"$f":"[9]Tabulka!D43","v":"Nela"},{"$f":"[9]Tabulka!E43","v":"2000-12-18"},{"$f":"[9]Tabulka!F43","v":"Kateřinky- Sokol TJ"},{"$f":"[9]Tabulka!G43","v":"OP"},{"$f":"[9]Tabulka!H43","v":100},{"$f":"+[9]Tabulka!AU43","v":0},{"$f":"+[9]Tabulka!AV43","v":{"v":0,"d":"0.00"}},{"$f":"+[9]Tabulka!AW43","v":0},{"$f":"+[9]Tabulka!AX43","v":{"v":0,"d":"0.00"}},{"$f":"+[9]Tabulka!AY43","v":0},{"$f":"+[9]Tabulka!AZ43","v":{"v":0,"d":"0.00"}},{"$f":"+[9]Tabulka!BA43","v":0},{"$f":"+[9]Tabulka!BB43","v":{"v":0,"d":"0.00"}},{"$f":"+[9]Tabulka!BC43","v":0},{"$f":"+[9]Tabulka!BD43","v":{"v":0,"d":"0.00"}},{"$f":"+[9]Tabulka!BE43","v":0},{"$f":"+[9]Tabulka!BF43","v":{"v":0,"d":"0.00"}},{"$f":"+[9]Tabulka!BG43","v":0},{"$f":"+[9]Tabulka!BH43","v":{"v":0,"d":"0.00"}},{"$f":"+[9]Tabulka!BI43","v":0},{"$f":"+[9]Tabulka!BJ43","v":{"v":0,"d":"0.00"}},{"$f":"+[9]Tabulka!AP43","v":{"v":37.05514930345745,"d":"37.06"}},{"$f":"+[9]Tabulka!AQ43","v":{"v":3,"d":"3.00"}},{"$f":"+[9]Tabulka!BM43","v":{"v":0,"d":"0.00"}},{"$f":"+[9]Tabulka!BN43","v":0},{"$f":"+[9]Tabulka!BO43","v":{"v":0,"d":"0.00"}}]
[null,{"$f":"[9]Tabulka!C44","v":"VOZNICOVÁ"},{"$f":"[9]Tabulka!D44","v":"Gabriela"},{"$f":"[9]Tabulka!E44","v":"1999-08-05"},{"$f":"[9]Tabulka!F44","v":"Darkovice- KST"},{"$f":"[9]Tabulka!G44","v":"OP"},{"$f":"[9]Tabulka!H44","v":100},{"$f":"+[9]Tabulka!AU44","v":0},{"$f":"+[9]Tabulka!AV44","v":{"v":0,"d":"0.00"}},{"$f":"+[9]Tabulka!AW44","v":0},{"$f":"+[9]Tabulka!AX44","v":{"v":0,"d":"0.00"}},{"$f":"+[9]Tabulka!AY44","v":0},{"$f":"+[9]Tabulka!AZ44","v":{"v":0,"d":"0.00"}},{"$f":"+[9]Tabulka!BA44","v":0},{"$f":"+[9]Tabulka!BB44","v":{"v":0,"d":"0.00"}},{"$f":"+[9]Tabulka!BC44","v":0},{"$f":"+[9]Tabulka!BD44","v":{"v":0,"d":"0.00"}},{"$f":"+[9]Tabulka!BE44","v":0},{"$f":"+[9]Tabulka!BF44","v":{"v":0,"d":"0.00"}},{"$f":"+[9]Tabulka!BG44","v":0},{"$f":"+[9]Tabulka!BH44","v":{"v":0,"d":"0.00"}},{"$f":"+[9]Tabulka!BI44","v":0},{"$f":"+[9]Tabulka!BJ44","v":{"v":0,"d":"0.00"}},{"$f":"+[9]Tabulka!AP44","v":{"v":0,"d":"0.00"}},{"$f":"+[9]Tabulka!AQ44","v":{"v":0,"d":"0.00"}},{"$f":"+[9]Tabulka!BM44","v":{"v":0,"d":"0.00"}},{"$f":"+[9]Tabulka!BN44","v":0},{"$f":"+[9]Tabulka!BO44","v":{"v":0,"d":"0.00"}}]
[null,{"$f":"[9]Tabulka!C45","v":0},{"$f":"[9]Tabulka!D45","v":0},{"$f":"[9]Tabulka!E45","v":"00:00:00"},{"$f":"[9]Tabulka!F45","v":0},{"$f":"[9]Tabulka!G45","v":0},{"$f":"[9]Tabulka!H45","v":0},{"$f":"+[9]Tabulka!AU45","v":0},{"$f":"+[9]Tabulka!AV45","v":{"v":0,"d":"0.00"}},{"$f":"+[9]Tabulka!AW45","v":0},{"$f":"+[9]Tabulka!AX45","v":{"v":0,"d":"0.00"}},{"$f":"+[9]Tabulka!AY45","v":0},{"$f":"+[9]Tabulka!AZ45","v":{"v":0,"d":"0.00"}},{"$f":"+[9]Tabulka!BA45","v":0},{"$f":"+[9]Tabulka!BB45","v":{"v":0,"d":"0.00"}},{"$f":"+[9]Tabulka!BC45","v":0},{"$f":"+[9]Tabulka!BD45","v":{"v":0,"d":"0.00"}},{"$f":"+[9]Tabulka!BE45","v":0},{"$f":"+[9]Tabulka!BF45","v":{"v":0,"d":"0.00"}},{"$f":"+[9]Tabulka!BG45","v":0},{"$f":"+[9]Tabulka!BH45","v":{"v":0,"d":"0.00"}},{"$f":"+[9]Tabulka!BI45","v":0},{"$f":"+[9]Tabulka!BJ45","v":{"v":0,"d":"0.00"}},{"$f":"+[9]Tabulka!AP45","v":{"v":0,"d":"0.00"}},{"$f":"+[9]Tabulka!AQ45","v":{"v":0,"d":"0.00"}},{"$f":"+[9]Tabulka!BM45","v":{"v":0,"d":"0.00"}},{"$f":"+[9]Tabulka!BN45","v":0},{"$f":"+[9]Tabulka!BO45","v":{"v":0,"d":"0.00"}}]
[null,{"$f":"[9]Tabulka!C46","v":0},{"$f":"[9]Tabulka!D46","v":0},{"$f":"[9]Tabulka!E46","v":"00:00:00"},{"$f":"[9]Tabulka!F46","v":0},{"$f":"[9]Tabulka!G46","v":0},{"$f":"[9]Tabulka!H46","v":0},{"$f":"+[9]Tabulka!AU46","v":0},{"$f":"+[9]Tabulka!AV46","v":{"v":0,"d":"0.00"}},{"$f":"+[9]Tabulka!AW46","v":0},{"$f":"+[9]Tabulka!AX46","v":{"v":0,"d":"0.00"}},{"$f":"+[9]Tabulka!AY46","v":0},{"$f":"+[9]Tabulka!AZ46","v":{"v":0,"d":"0.00"}},{"$f":"+[9]Tabulka!BA46","v":0},{"$f":"+[9]Tabulka!BB46","v":{"v":0,"d":"0.00"}},{"$f":"+[9]Tabulka!BC46","v":0},{"$f":"+[9]Tabulka!BD46","v":{"v":0,"d":"0.00"}},{"$f":"+[9]Tabulka!BE46","v":0},{"$f":"+[9]Tabulka!BF46","v":{"v":0,"d":"0.00"}},{"$f":"+[9]Tabulka!BG46","v":0},{"$f":"+[9]Tabulka!BH46","v":{"v":0,"d":"0.00"}},{"$f":"+[9]Tabulka!BI46","v":0},{"$f":"+[9]Tabulka!BJ46","v":{"v":0,"d":"0.00"}},{"$f":"+[9]Tabulka!AP46","v":{"v":0,"d":"0.00"}},{"$f":"+[9]Tabulka!AQ46","v":{"v":0,"d":"0.00"}},{"$f":"+[9]Tabulka!BM46","v":{"v":0,"d":"0.00"}},{"$f":"+[9]Tabulka!BN46","v":0},{"$f":"+[9]Tabulka!BO46","v":{"v":0,"d":"0.00"}}]
[null,{"$f":"[9]Tabulka!C47","v":0},{"$f":"[9]Tabulka!D47","v":0},{"$f":"[9]Tabulka!E47","v":"00:00:00"},{"$f":"[9]Tabulka!F47","v":0},{"$f":"[9]Tabulka!G47","v":0},{"$f":"[9]Tabulka!H47","v":0},{"$f":"+[9]Tabulka!AU47","v":0},{"$f":"+[9]Tabulka!AV47","v":{"v":0,"d":"0.00"}},{"$f":"+[9]Tabulka!AW47","v":0},{"$f":"+[9]Tabulka!AX47","v":{"v":0,"d":"0.00"}},{"$f":"+[9]Tabulka!AY47","v":0},{"$f":"+[9]Tabulka!AZ47","v":{"v":0,"d":"0.00"}},{"$f":"+[9]Tabulka!BA47","v":0},{"$f":"+[9]Tabulka!BB47","v":{"v":0,"d":"0.00"}},{"$f":"+[9]Tabulka!BC47","v":0},{"$f":"+[9]Tabulka!BD47","v":{"v":0,"d":"0.00"}},{"$f":"+[9]Tabulka!BE47","v":0},{"$f":"+[9]Tabulka!BF47","v":{"v":0,"d":"0.00"}},{"$f":"+[9]Tabulka!BG47","v":0},{"$f":"+[9]Tabulka!BH47","v":{"v":0,"d":"0.00"}},{"$f":"+[9]Tabulka!BI47","v":0},{"$f":"+[9]Tabulka!BJ47","v":{"v":0,"d":"0.00"}},{"$f":"+[9]Tabulka!AP47","v":{"v":0,"d":"0.00"}},{"$f":"+[9]Tabulka!AQ47","v":{"v":0,"d":"0.00"}},{"$f":"+[9]Tabulka!BM47","v":{"v":0,"d":"0.00"}},{"$f":"+[9]Tabulka!BN47","v":0},{"$f":"+[9]Tabulka!BO47","v":{"v":0,"d":"0.00"}}]
[null,{"$f":"[9]Tabulka!C48","v":0},{"$f":"[9]Tabulka!D48","v":0},{"$f":"[9]Tabulka!E48","v":"00:00:00"},{"$f":"[9]Tabulka!F48","v":0},{"$f":"[9]Tabulka!G48","v":0},{"$f":"[9]Tabulka!H48","v":0},{"$f":"+[9]Tabulka!AU48","v":0},{"$f":"+[9]Tabulka!AV48","v":{"v":0,"d":"0.00"}},{"$f":"+[9]Tabulka!AW48","v":0},{"$f":"+[9]Tabulka!AX48","v":{"v":0,"d":"0.00"}},{"$f":"+[9]Tabulka!AY48","v":0},{"$f":"+[9]Tabulka!AZ48","v":{"v":0,"d":"0.00"}},{"$f":"+[9]Tabulka!BA48","v":0},{"$f":"+[9]Tabulka!BB48","v":{"v":0,"d":"0.00"}},{"$f":"+[9]Tabulka!BC48","v":0},{"$f":"+[9]Tabulka!BD48","v":{"v":0,"d":"0.00"}},{"$f":"+[9]Tabulka!BE48","v":0},{"$f":"+[9]Tabulka!BF48","v":{"v":0,"d":"0.00"}},{"$f":"+[9]Tabulka!BG48","v":0},{"$f":"+[9]Tabulka!BH48","v":{"v":0,"d":"0.00"}},{"$f":"+[9]Tabulka!BI48","v":0},{"$f":"+[9]Tabulka!BJ48","v":{"v":0,"d":"0.00"}},{"$f":"+[9]Tabulka!AP48","v":{"v":0,"d":"0.00"}},{"$f":"+[9]Tabulka!AQ48","v":{"v":0,"d":"0.00"}},{"$f":"+[9]Tabulka!BM48","v":{"v":0,"d":"0.00"}},{"$f":"+[9]Tabulka!BN48","v":0},{"$f":"+[9]Tabulka!BO48","v":{"v":0,"d":"0.00"}}]
[null,{"$f":"[9]Tabulka!C49","v":0},{"$f":"[9]Tabulka!D49","v":0},{"$f":"[9]Tabulka!E49","v":"00:00:00"},{"$f":"[9]Tabulka!F49","v":0},{"$f":"[9]Tabulka!G49","v":0},{"$f":"[9]Tabulka!H49","v":0},{"$f":"+[9]Tabulka!AU49","v":0},{"$f":"+[9]Tabulka!AV49","v":{"v":0,"d":"0.00"}},{"$f":"+[9]Tabulka!AW49","v":0},{"$f":"+[9]Tabulka!AX49","v":{"v":0,"d":"0.00"}},{"$f":"+[9]Tabulka!AY49","v":0},{"$f":"+[9]Tabulka!AZ49","v":{"v":0,"d":"0.00"}},{"$f":"+[9]Tabulka!BA49","v":0},{"$f":"+[9]Tabulka!BB49","v":{"v":0,"d":"0.00"}},{"$f":"+[9]Tabulka!BC49","v":0},{"$f":"+[9]Tabulka!BD49","v":{"v":0,"d":"0.00"}},{"$f":"+[9]Tabulka!BE49","v":0},{"$f":"+[9]Tabulka!BF49","v":{"v":0,"d":"0.00"}},{"$f":"+[9]Tabulka!BG49","v":0},{"$f":"+[9]Tabulka!BH49","v":{"v":0,"d":"0.00"}},{"$f":"+[9]Tabulka!BI49","v":0},{"$f":"+[9]Tabulka!BJ49","v":{"v":0,"d":"0.00"}},{"$f":"+[9]Tabulka!AP49","v":{"v":0,"d":"0.00"}},{"$f":"+[9]Tabulka!AQ49","v":{"v":0,"d":"0.00"}},{"$f":"+[9]Tabulka!BM49","v":{"v":0,"d":"0.00"}},{"$f":"+[9]Tabulka!BN49","v":0},{"$f":"+[9]Tabulka!BO49","v":{"v":0,"d":"0.00"}}]
[null,{"$f":"[9]Tabulka!C50","v":0},{"$f":"[9]Tabulka!D50","v":0},{"$f":"[9]Tabulka!E50","v":"00:00:00"},{"$f":"[9]Tabulka!F50","v":0},{"$f":"[9]Tabulka!G50","v":0},{"$f":"[9]Tabulka!H50","v":0},{"$f":"+[9]Tabulka!AU50","v":0},{"$f":"+[9]Tabulka!AV50","v":{"v":0,"d":"0.00"}},{"$f":"+[9]Tabulka!AW50","v":0},{"$f":"+[9]Tabulka!AX50","v":{"v":0,"d":"0.00"}},{"$f":"+[9]Tabulka!AY50","v":0},{"$f":"+[9]Tabulka!AZ50","v":{"v":0,"d":"0.00"}},{"$f":"+[9]Tabulka!BA50","v":0},{"$f":"+[9]Tabulka!BB50","v":{"v":0,"d":"0.00"}},{"$f":"+[9]Tabulka!BC50","v":0},{"$f":"+[9]Tabulka!BD50","v":{"v":0,"d":"0.00"}},{"$f":"+[9]Tabulka!BE50","v":0},{"$f":"+[9]Tabulka!BF50","v":{"v":0,"d":"0.00"}},{"$f":"+[9]Tabulka!BG50","v":0},{"$f":"+[9]Tabulka!BH50","v":{"v":0,"d":"0.00"}},{"$f":"+[9]Tabulka!BI50","v":0},{"$f":"+[9]Tabulka!BJ50","v":{"v":0,"d":"0.00"}},{"$f":"+[9]Tabulka!AP50","v":{"v":0,"d":"0.00"}},{"$f":"+[9]Tabulka!AQ50","v":{"v":0,"d":"0.00"}},{"$f":"+[9]Tabulka!BM50","v":{"v":0,"d":"0.00"}},{"$f":"+[9]Tabulka!BN50","v":0},{"$f":"+[9]Tabulka!BO50","v":{"v":0,"d":"0.00"}}]
[null,{"$f":"[9]Tabulka!C51","v":0},{"$f":"[9]Tabulka!D51","v":0},{"$f":"[9]Tabulka!E51","v":"00:00:00"},{"$f":"[9]Tabulka!F51","v":0},{"$f":"[9]Tabulka!G51","v":0},{"$f":"[9]Tabulka!H51","v":0},{"$f":"+[9]Tabulka!AU51","v":0},{"$f":"+[9]Tabulka!AV51","v":{"v":0,"d":"0.00"}},{"$f":"+[9]Tabulka!AW51","v":0},{"$f":"+[9]Tabulka!AX51","v":{"v":0,"d":"0.00"}},{"$f":"+[9]Tabulka!AY51","v":0},{"$f":"+[9]Tabulka!AZ51","v":{"v":0,"d":"0.00"}},{"$f":"+[9]Tabulka!BA51","v":0},{"$f":"+[9]Tabulka!BB51","v":{"v":0,"d":"0.00"}},{"$f":"+[9]Tabulka!BC51","v":0},{"$f":"+[9]Tabulka!BD51","v":{"v":0,"d":"0.00"}},{"$f":"+[9]Tabulka!BE51","v":0},{"$f":"+[9]Tabulka!BF51","v":{"v":0,"d":"0.00"}},{"$f":"+[9]Tabulka!BG51","v":0},{"$f":"+[9]Tabulka!BH51","v":{"v":0,"d":"0.00"}},{"$f":"+[9]Tabulka!BI51","v":0},{"$f":"+[9]Tabulka!BJ51","v":{"v":0,"d":"0.00"}},{"$f":"+[9]Tabulka!AP51","v":{"v":0,"d":"0.00"}},{"$f":"+[9]Tabulka!AQ51","v":{"v":0,"d":"0.00"}},{"$f":"+[9]Tabulka!BM51","v":{"v":0,"d":"0.00"}},{"$f":"+[9]Tabulka!BN51","v":0},{"$f":"+[9]Tabulka!BO51","v":{"v":0,"d":"0.00"}}]
[null,{"$f":"[9]Tabulka!C52","v":0},{"$f":"[9]Tabulka!D52","v":0},{"$f":"[9]Tabulka!E52","v":"00:00:00"},{"$f":"[9]Tabulka!F52","v":0},{"$f":"[9]Tabulka!G52","v":0},{"$f":"[9]Tabulka!H52","v":0},{"$f":"+[9]Tabulka!AU52","v":0},{"$f":"+[9]Tabulka!AV52","v":{"v":0,"d":"0.00"}},{"$f":"+[9]Tabulka!AW52","v":0},{"$f":"+[9]Tabulka!AX52","v":{"v":0,"d":"0.00"}},{"$f":"+[9]Tabulka!AY52","v":0},{"$f":"+[9]Tabulka!AZ52","v":{"v":0,"d":"0.00"}},{"$f":"+[9]Tabulka!BA52","v":0},{"$f":"+[9]Tabulka!BB52","v":{"v":0,"d":"0.00"}},{"$f":"+[9]Tabulka!BC52","v":0},{"$f":"+[9]Tabulka!BD52","v":{"v":0,"d":"0.00"}},{"$f":"+[9]Tabulka!BE52","v":0},{"$f":"+[9]Tabulka!BF52","v":{"v":0,"d":"0.00"}},{"$f":"+[9]Tabulka!BG52","v":0},{"$f":"+[9]Tabulka!BH52","v":{"v":0,"d":"0.00"}},{"$f":"+[9]Tabulka!BI52","v":0},{"$f":"+[9]Tabulka!BJ52","v":{"v":0,"d":"0.00"}},{"$f":"+[9]Tabulka!AP52","v":{"v":0,"d":"0.00"}},{"$f":"+[9]Tabulka!AQ52","v":{"v":0,"d":"0.00"}},{"$f":"+[9]Tabulka!BM52","v":{"v":0,"d":"0.00"}},{"$f":"+[9]Tabulka!BN52","v":0},{"$f":"+[9]Tabulka!BO52","v":{"v":0,"d":"0.00"}}]
[null,{"$f":"[9]Tabulka!C53","v":0},{"$f":"[9]Tabulka!D53","v":0},{"$f":"[9]Tabulka!E53","v":"00:00:00"},{"$f":"[9]Tabulka!F53","v":0},{"$f":"[9]Tabulka!G53","v":0},{"$f":"[9]Tabulka!H53","v":0},{"$f":"+[9]Tabulka!AU53","v":0},{"$f":"+[9]Tabulka!AV53","v":{"v":0,"d":"0.00"}},{"$f":"+[9]Tabulka!AW53","v":0},{"$f":"+[9]Tabulka!AX53","v":{"v":0,"d":"0.00"}},{"$f":"+[9]Tabulka!AY53","v":0},{"$f":"+[9]Tabulka!AZ53","v":{"v":0,"d":"0.00"}},{"$f":"+[9]Tabulka!BA53","v":0},{"$f":"+[9]Tabulka!BB53","v":{"v":0,"d":"0.00"}},{"$f":"+[9]Tabulka!BC53","v":0},{"$f":"+[9]Tabulka!BD53","v":{"v":0,"d":"0.00"}},{"$f":"+[9]Tabulka!BE53","v":0},{"$f":"+[9]Tabulka!BF53","v":{"v":0,"d":"0.00"}},{"$f":"+[9]Tabulka!BG53","v":0},{"$f":"+[9]Tabulka!BH53","v":{"v":0,"d":"0.00"}},{"$f":"+[9]Tabulka!BI53","v":0},{"$f":"+[9]Tabulka!BJ53","v":{"v":0,"d":"0.00"}},{"$f":"+[9]Tabulka!AP53","v":{"v":0,"d":"0.00"}},{"$f":"+[9]Tabulka!AQ53","v":{"v":0,"d":"0.00"}},{"$f":"+[9]Tabulka!BM53","v":{"v":0,"d":"0.00"}},{"$f":"+[9]Tabulka!BN53","v":0},{"$f":"+[9]Tabulka!BO53","v":{"v":0,"d":"0.00"}}]
[null,{"$f":"[9]Tabulka!C54","v":0},{"$f":"[9]Tabulka!D54","v":0},{"$f":"[9]Tabulka!E54","v":"00:00:00"},{"$f":"[9]Tabulka!F54","v":0},{"$f":"[9]Tabulka!G54","v":0},{"$f":"[9]Tabulka!H54","v":0},{"$f":"+[9]Tabulka!AU54","v":0},{"$f":"+[9]Tabulka!AV54","v":{"v":0,"d":"0.00"}},{"$f":"+[9]Tabulka!AW54","v":0},{"$f":"+[9]Tabulka!AX54","v":{"v":0,"d":"0.00"}},{"$f":"+[9]Tabulka!AY54","v":0},{"$f":"+[9]Tabulka!AZ54","v":{"v":0,"d":"0.00"}},{"$f":"+[9]Tabulka!BA54","v":0},{"$f":"+[9]Tabulka!BB54","v":{"v":0,"d":"0.00"}},{"$f":"+[9]Tabulka!BC54","v":0},{"$f":"+[9]Tabulka!BD54","v":{"v":0,"d":"0.00"}},{"$f":"+[9]Tabulka!BE54","v":0},{"$f":"+[9]Tabulka!BF54","v":{"v":0,"d":"0.00"}},{"$f":"+[9]Tabulka!BG54","v":0},{"$f":"+[9]Tabulka!BH54","v":{"v":0,"d":"0.00"}},{"$f":"+[9]Tabulka!BI54","v":0},{"$f":"+[9]Tabulka!BJ54","v":{"v":0,"d":"0.00"}},{"$f":"+[9]Tabulka!AP54","v":{"v":0,"d":"0.00"}},{"$f":"+[9]Tabulka!AQ54","v":{"v":0,"d":"0.00"}},{"$f":"+[9]Tabulka!BM54","v":{"v":0,"d":"0.00"}},{"$f":"+[9]Tabulka!BN54","v":0},{"$f":"+[9]Tabulka!BO54","v":{"v":0,"d":"0.00"}}]
[null,{"$f":"[9]Tabulka!C55","v":0},{"$f":"[9]Tabulka!D55","v":0},{"$f":"[9]Tabulka!E55","v":"00:00:00"},{"$f":"[9]Tabulka!F55","v":0},{"$f":"[9]Tabulka!G55","v":0},{"$f":"[9]Tabulka!H55","v":0},{"$f":"+[9]Tabulka!AU55","v":0},{"$f":"+[9]Tabulka!AV55","v":{"v":0,"d":"0.00"}},{"$f":"+[9]Tabulka!AW55","v":0},{"$f":"+[9]Tabulka!AX55","v":{"v":0,"d":"0.00"}},{"$f":"+[9]Tabulka!AY55","v":0},{"$f":"+[9]Tabulka!AZ55","v":{"v":0,"d":"0.00"}},{"$f":"+[9]Tabulka!BA55","v":0},{"$f":"+[9]Tabulka!BB55","v":{"v":0,"d":"0.00"}},{"$f":"+[9]Tabulka!BC55","v":0},{"$f":"+[9]Tabulka!BD55","v":{"v":0,"d":"0.00"}},{"$f":"+[9]Tabulka!BE55","v":0},{"$f":"+[9]Tabulka!BF55","v":{"v":0,"d":"0.00"}},{"$f":"+[9]Tabulka!BG55","v":0},{"$f":"+[9]Tabulka!BH55","v":{"v":0,"d":"0.00"}},{"$f":"+[9]Tabulka!BI55","v":0},{"$f":"+[9]Tabulka!BJ55","v":{"v":0,"d":"0.00"}},{"$f":"+[9]Tabulka!AP55","v":{"v":0,"d":"0.00"}},{"$f":"+[9]Tabulka!AQ55","v":{"v":0,"d":"0.00"}},{"$f":"+[9]Tabulka!BM55","v":{"v":0,"d":"0.00"}},{"$f":"+[9]Tabulka!BN55","v":0},{"$f":"+[9]Tabulka!BO55","v":{"v":0,"d":"0.00"}}]
[null,{"$f":"[9]Tabulka!C56","v":0},{"$f":"[9]Tabulka!D56","v":0},{"$f":"[9]Tabulka!E56","v":"00:00:00"},{"$f":"[9]Tabulka!F56","v":0},{"$f":"[9]Tabulka!G56","v":0},{"$f":"[9]Tabulka!H56","v":0},{"$f":"+[9]Tabulka!AU56","v":0},{"$f":"+[9]Tabulka!AV56","v":{"v":0,"d":"0.00"}},{"$f":"+[9]Tabulka!AW56","v":0},{"$f":"+[9]Tabulka!AX56","v":{"v":0,"d":"0.00"}},{"$f":"+[9]Tabulka!AY56","v":0},{"$f":"+[9]Tabulka!AZ56","v":{"v":0,"d":"0.00"}},{"$f":"+[9]Tabulka!BA56","v":0},{"$f":"+[9]Tabulka!BB56","v":{"v":0,"d":"0.00"}},{"$f":"+[9]Tabulka!BC56","v":0},{"$f":"+[9]Tabulka!BD56","v":{"v":0,"d":"0.00"}},{"$f":"+[9]Tabulka!BE56","v":0},{"$f":"+[9]Tabulka!BF56","v":{"v":0,"d":"0.00"}},{"$f":"+[9]Tabulka!BG56","v":0},{"$f":"+[9]Tabulka!BH56","v":{"v":0,"d":"0.00"}},{"$f":"+[9]Tabulka!BI56","v":0},{"$f":"+[9]Tabulka!BJ56","v":{"v":0,"d":"0.00"}},{"$f":"+[9]Tabulka!AP56","v":{"v":0,"d":"0.00"}},{"$f":"+[9]Tabulka!AQ56","v":{"v":0,"d":"0.00"}},{"$f":"+[9]Tabulka!BM56","v":{"v":0,"d":"0.00"}},{"$f":"+[9]Tabulka!BN56","v":0},{"$f":"+[9]Tabulka!BO56","v":{"v":0,"d":"0.00"}}]
[null,{"$f":"[9]Tabulka!C57","v":0},{"$f":"[9]Tabulka!D57","v":0},{"$f":"[9]Tabulka!E57","v":"00:00:00"},{"$f":"[9]Tabulka!F57","v":0},{"$f":"[9]Tabulka!G57","v":0},{"$f":"[9]Tabulka!H57","v":0},{"$f":"+[9]Tabulka!AU57","v":0},{"$f":"+[9]Tabulka!AV57","v":{"v":0,"d":"0.00"}},{"$f":"+[9]Tabulka!AW57","v":0},{"$f":"+[9]Tabulka!AX57","v":{"v":0,"d":"0.00"}},{"$f":"+[9]Tabulka!AY57","v":0},{"$f":"+[9]Tabulka!AZ57","v":{"v":0,"d":"0.00"}},{"$f":"+[9]Tabulka!BA57","v":0},{"$f":"+[9]Tabulka!BB57","v":{"v":0,"d":"0.00"}},{"$f":"+[9]Tabulka!BC57","v":0},{"$f":"+[9]Tabulka!BD57","v":{"v":0,"d":"0.00"}},{"$f":"+[9]Tabulka!BE57","v":0},{"$f":"+[9]Tabulka!BF57","v":{"v":0,"d":"0.00"}},{"$f":"+[9]Tabulka!BG57","v":0},{"$f":"+[9]Tabulka!BH57","v":{"v":0,"d":"0.00"}},{"$f":"+[9]Tabulka!BI57","v":0},{"$f":"+[9]Tabulka!BJ57","v":{"v":0,"d":"0.00"}},{"$f":"+[9]Tabulka!AP57","v":{"v":0,"d":"0.00"}},{"$f":"+[9]Tabulka!AQ57","v":{"v":0,"d":"0.00"}},{"$f":"+[9]Tabulka!BM57","v":{"v":0,"d":"0.00"}},{"$f":"+[9]Tabulka!BN57","v":0},{"$f":"+[9]Tabulka!BO57","v":{"v":0,"d":"0.00"}}]
[null,{"$f":"[9]Tabulka!C58","v":0},{"$f":"[9]Tabulka!D58","v":0},{"$f":"[9]Tabulka!E58","v":"00:00:00"},{"$f":"[9]Tabulka!F58","v":0},{"$f":"[9]Tabulka!G58","v":0},{"$f":"[9]Tabulka!H58","v":0},{"$f":"+[9]Tabulka!AU58","v":0},{"$f":"+[9]Tabulka!AV58","v":{"v":0,"d":"0.00"}},{"$f":"+[9]Tabulka!AW58","v":0},{"$f":"+[9]Tabulka!AX58","v":{"v":0,"d":"0.00"}},{"$f":"+[9]Tabulka!AY58","v":0},{"$f":"+[9]Tabulka!AZ58","v":{"v":0,"d":"0.00"}},{"$f":"+[9]Tabulka!BA58","v":0},{"$f":"+[9]Tabulka!BB58","v":{"v":0,"d":"0.00"}},{"$f":"+[9]Tabulka!BC58","v":0},{"$f":"+[9]Tabulka!BD58","v":{"v":0,"d":"0.00"}},{"$f":"+[9]Tabulka!BE58","v":0},{"$f":"+[9]Tabulka!BF58","v":{"v":0,"d":"0.00"}},{"$f":"+[9]Tabulka!BG58","v":0},{"$f":"+[9]Tabulka!BH58","v":{"v":0,"d":"0.00"}},{"$f":"+[9]Tabulka!BI58","v":0},{"$f":"+[9]Tabulka!BJ58","v":{"v":0,"d":"0.00"}},{"$f":"+[9]Tabulka!AP58","v":{"v":0,"d":"0.00"}},{"$f":"+[9]Tabulka!AQ58","v":{"v":0,"d":"0.00"}},{"$f":"+[9]Tabulka!BM58","v":{"v":0,"d":"0.00"}},{"$f":"+[9]Tabulka!BN58","v":0},{"$f":"+[9]Tabulka!BO58","v":{"v":0,"d":"0.00"}}]
[null,{"$f":"[9]Tabulka!C59","v":0},{"$f":"[9]Tabulka!D59","v":0},{"$f":"[9]Tabulka!E59","v":"00:00:00"},{"$f":"[9]Tabulka!F59","v":0},{"$f":"[9]Tabulka!G59","v":0},{"$f":"[9]Tabulka!H59","v":0},{"$f":"+[9]Tabulka!AU59","v":0},{"$f":"+[9]Tabulka!AV59","v":{"v":0,"d":"0.00"}},{"$f":"+[9]Tabulka!AW59","v":0},{"$f":"+[9]Tabulka!AX59","v":{"v":0,"d":"0.00"}},{"$f":"+[9]Tabulka!AY59","v":0},{"$f":"+[9]Tabulka!AZ59","v":{"v":0,"d":"0.00"}},{"$f":"+[9]Tabulka!BA59","v":0},{"$f":"+[9]Tabulka!BB59","v":{"v":0,"d":"0.00"}},{"$f":"+[9]Tabulka!BC59","v":0},{"$f":"+[9]Tabulka!BD59","v":{"v":0,"d":"0.00"}},{"$f":"+[9]Tabulka!BE59","v":0},{"$f":"+[9]Tabulka!BF59","v":{"v":0,"d":"0.00"}},{"$f":"+[9]Tabulka!BG59","v":0},{"$f":"+[9]Tabulka!BH59","v":{"v":0,"d":"0.00"}},{"$f":"+[9]Tabulka!BI59","v":0},{"$f":"+[9]Tabulka!BJ59","v":{"v":0,"d":"0.00"}},{"$f":"+[9]Tabulka!AP59","v":{"v":0,"d":"0.00"}},{"$f":"+[9]Tabulka!AQ59","v":{"v":0,"d":"0.00"}},{"$f":"+[9]Tabulka!BM59","v":{"v":0,"d":"0.00"}},{"$f":"+[9]Tabulka!BN59","v":0},{"$f":"+[9]Tabulka!BO59","v":{"v":0,"d":"0.00"}}]
[null,{"$f":"[9]Tabulka!C60","v":0},{"$f":"[9]Tabulka!D60","v":0},{"$f":"[9]Tabulka!E60","v":"00:00:00"},{"$f":"[9]Tabulka!F60","v":0},{"$f":"[9]Tabulka!G60","v":0},{"$f":"[9]Tabulka!H60","v":0},{"$f":"+[9]Tabulka!AU60","v":0},{"$f":"+[9]Tabulka!AV60","v":{"v":0,"d":"0.00"}},{"$f":"+[9]Tabulka!AW60","v":0},{"$f":"+[9]Tabulka!AX60","v":{"v":0,"d":"0.00"}},{"$f":"+[9]Tabulka!AY60","v":0},{"$f":"+[9]Tabulka!AZ60","v":{"v":0,"d":"0.00"}},{"$f":"+[9]Tabulka!BA60","v":0},{"$f":"+[9]Tabulka!BB60","v":{"v":0,"d":"0.00"}},{"$f":"+[9]Tabulka!BC60","v":0},{"$f":"+[9]Tabulka!BD60","v":{"v":0,"d":"0.00"}},{"$f":"+[9]Tabulka!BE60","v":0},{"$f":"+[9]Tabulka!BF60","v":{"v":0,"d":"0.00"}},{"$f":"+[9]Tabulka!BG60","v":0},{"$f":"+[9]Tabulka!BH60","v":{"v":0,"d":"0.00"}},{"$f":"+[9]Tabulka!BI60","v":0},{"$f":"+[9]Tabulka!BJ60","v":{"v":0,"d":"0.00"}},{"$f":"+[9]Tabulka!AP60","v":{"v":0,"d":"0.00"}},{"$f":"+[9]Tabulka!AQ60","v":{"v":0,"d":"0.00"}},{"$f":"+[9]Tabulka!BM60","v":{"v":0,"d":"0.00"}},{"$f":"+[9]Tabulka!BN60","v":0},{"$f":"+[9]Tabulka!BO60","v":{"v":0,"d":"0.00"}}]
[null,{"$f":"[9]Tabulka!C61","v":0},{"$f":"[9]Tabulka!D61","v":0},{"$f":"[9]Tabulka!E61","v":"00:00:00"},{"$f":"[9]Tabulka!F61","v":0},{"$f":"[9]Tabulka!G61","v":0},{"$f":"[9]Tabulka!H61","v":0},{"$f":"+[9]Tabulka!AU61","v":0},{"$f":"+[9]Tabulka!AV61","v":{"v":0,"d":"0.00"}},{"$f":"+[9]Tabulka!AW61","v":0},{"$f":"+[9]Tabulka!AX61","v":{"v":0,"d":"0.00"}},{"$f":"+[9]Tabulka!AY61","v":0},{"$f":"+[9]Tabulka!AZ61","v":{"v":0,"d":"0.00"}},{"$f":"+[9]Tabulka!BA61","v":0},{"$f":"+[9]Tabulka!BB61","v":{"v":0,"d":"0.00"}},{"$f":"+[9]Tabulka!BC61","v":0},{"$f":"+[9]Tabulka!BD61","v":{"v":0,"d":"0.00"}},{"$f":"+[9]Tabulka!BE61","v":0},{"$f":"+[9]Tabulka!BF61","v":{"v":0,"d":"0.00"}},{"$f":"+[9]Tabulka!BG61","v":0},{"$f":"+[9]Tabulka!BH61","v":{"v":0,"d":"0.00"}},{"$f":"+[9]Tabulka!BI61","v":0},{"$f":"+[9]Tabulka!BJ61","v":{"v":0,"d":"0.00"}},{"$f":"+[9]Tabulka!AP61","v":{"v":0,"d":"0.00"}},{"$f":"+[9]Tabulka!AQ61","v":{"v":0,"d":"0.00"}},{"$f":"+[9]Tabulka!BM61","v":{"v":0,"d":"0.00"}},{"$f":"+[9]Tabulka!BN61","v":0},{"$f":"+[9]Tabulka!BO61","v":{"v":0,"d":"0.00"}}]
[null,{"$f":"[9]Tabulka!C62","v":0},{"$f":"[9]Tabulka!D62","v":0},{"$f":"[9]Tabulka!E62","v":"00:00:00"},{"$f":"[9]Tabulka!F62","v":0},{"$f":"[9]Tabulka!G62","v":0},{"$f":"[9]Tabulka!H62","v":0},{"$f":"+[9]Tabulka!AU62","v":0},{"$f":"+[9]Tabulka!AV62","v":{"v":0,"d":"0.00"}},{"$f":"+[9]Tabulka!AW62","v":0},{"$f":"+[9]Tabulka!AX62","v":{"v":0,"d":"0.00"}},{"$f":"+[9]Tabulka!AY62","v":0},{"$f":"+[9]Tabulka!AZ62","v":{"v":0,"d":"0.00"}},{"$f":"+[9]Tabulka!BA62","v":0},{"$f":"+[9]Tabulka!BB62","v":{"v":0,"d":"0.00"}},{"$f":"+[9]Tabulka!BC62","v":0},{"$f":"+[9]Tabulka!BD62","v":{"v":0,"d":"0.00"}},{"$f":"+[9]Tabulka!BE62","v":0},{"$f":"+[9]Tabulka!BF62","v":{"v":0,"d":"0.00"}},{"$f":"+[9]Tabulka!BG62","v":0},{"$f":"+[9]Tabulka!BH62","v":{"v":0,"d":"0.00"}},{"$f":"+[9]Tabulka!BI62","v":0},{"$f":"+[9]Tabulka!BJ62","v":{"v":0,"d":"0.00"}},{"$f":"+[9]Tabulka!AP62","v":{"v":0,"d":"0.00"}},{"$f":"+[9]Tabulka!AQ62","v":{"v":0,"d":"0.00"}},{"$f":"+[9]Tabulka!BM62","v":{"v":0,"d":"0.00"}},{"$f":"+[9]Tabulka!BN62","v":0},{"$f":"+[9]Tabulka!BO62","v":{"v":0,"d":"0.00"}}]
[null,{"$f":"[9]Tabulka!C63","v":0},{"$f":"[9]Tabulka!D63","v":0},{"$f":"[9]Tabulka!E63","v":"00:00:00"},{"$f":"[9]Tabulka!F63","v":0},{"$f":"[9]Tabulka!G63","v":0},{"$f":"[9]Tabulka!H63","v":0},{"$f":"+[9]Tabulka!AU63","v":0},{"$f":"+[9]Tabulka!AV63","v":{"v":0,"d":"0.00"}},{"$f":"+[9]Tabulka!AW63","v":0},{"$f":"+[9]Tabulka!AX63","v":{"v":0,"d":"0.00"}},{"$f":"+[9]Tabulka!AY63","v":0},{"$f":"+[9]Tabulka!AZ63","v":{"v":0,"d":"0.00"}},{"$f":"+[9]Tabulka!BA63","v":0},{"$f":"+[9]Tabulka!BB63","v":{"v":0,"d":"0.00"}},{"$f":"+[9]Tabulka!BC63","v":0},{"$f":"+[9]Tabulka!BD63","v":{"v":0,"d":"0.00"}},{"$f":"+[9]Tabulka!BE63","v":0},{"$f":"+[9]Tabulka!BF63","v":{"v":0,"d":"0.00"}},{"$f":"+[9]Tabulka!BG63","v":0},{"$f":"+[9]Tabulka!BH63","v":{"v":0,"d":"0.00"}},{"$f":"+[9]Tabulka!BI63","v":0},{"$f":"+[9]Tabulka!BJ63","v":{"v":0,"d":"0.00"}},{"$f":"+[9]Tabulka!AP63","v":{"v":0,"d":"0.00"}},{"$f":"+[9]Tabulka!AQ63","v":{"v":0,"d":"0.00"}},{"$f":"+[9]Tabulka!BM63","v":{"v":0,"d":"0.00"}},{"$f":"+[9]Tabulka!BN63","v":0},{"$f":"+[9]Tabulka!BO63","v":{"v":0,"d":"0.00"}}]
[null,{"$f":"[9]Tabulka!C64","v":0},{"$f":"[9]Tabulka!D64","v":0},{"$f":"[9]Tabulka!E64","v":"00:00:00"},{"$f":"[9]Tabulka!F64","v":0},{"$f":"[9]Tabulka!G64","v":0},{"$f":"[9]Tabulka!H64","v":0},{"$f":"+[9]Tabulka!AU64","v":0},{"$f":"+[9]Tabulka!AV64","v":{"v":0,"d":"0.00"}},{"$f":"+[9]Tabulka!AW64","v":0},{"$f":"+[9]Tabulka!AX64","v":{"v":0,"d":"0.00"}},{"$f":"+[9]Tabulka!AY64","v":0},{"$f":"+[9]Tabulka!AZ64","v":{"v":0,"d":"0.00"}},{"$f":"+[9]Tabulka!BA64","v":0},{"$f":"+[9]Tabulka!BB64","v":{"v":0,"d":"0.00"}},{"$f":"+[9]Tabulka!BC64","v":0},{"$f":"+[9]Tabulka!BD64","v":{"v":0,"d":"0.00"}},{"$f":"+[9]Tabulka!BE64","v":0},{"$f":"+[9]Tabulka!BF64","v":{"v":0,"d":"0.00"}},{"$f":"+[9]Tabulka!BG64","v":0},{"$f":"+[9]Tabulka!BH64","v":{"v":0,"d":"0.00"}},{"$f":"+[9]Tabulka!BI64","v":0},{"$f":"+[9]Tabulka!BJ64","v":{"v":0,"d":"0.00"}},{"$f":"+[9]Tabulka!AP64","v":{"v":0,"d":"0.00"}},{"$f":"+[9]Tabulka!AQ64","v":{"v":0,"d":"0.00"}},{"$f":"+[9]Tabulka!BM64","v":{"v":0,"d":"0.00"}},{"$f":"+[9]Tabulka!BN64","v":0},{"$f":"+[9]Tabulka!BO64","v":{"v":0,"d":"0.00"}}]
[null,{"$f":"[9]Tabulka!C65","v":0},{"$f":"[9]Tabulka!D65","v":0},{"$f":"[9]Tabulka!E65","v":"00:00:00"},{"$f":"[9]Tabulka!F65","v":0},{"$f":"[9]Tabulka!G65","v":0},{"$f":"[9]Tabulka!H65","v":0},{"$f":"+[9]Tabulka!AU65","v":0},{"$f":"+[9]Tabulka!AV65","v":{"v":0,"d":"0.00"}},{"$f":"+[9]Tabulka!AW65","v":0},{"$f":"+[9]Tabulka!AX65","v":{"v":0,"d":"0.00"}},{"$f":"+[9]Tabulka!AY65","v":0},{"$f":"+[9]Tabulka!AZ65","v":{"v":0,"d":"0.00"}},{"$f":"+[9]Tabulka!BA65","v":0},{"$f":"+[9]Tabulka!BB65","v":{"v":0,"d":"0.00"}},{"$f":"+[9]Tabulka!BC65","v":0},{"$f":"+[9]Tabulka!BD65","v":{"v":0,"d":"0.00"}},{"$f":"+[9]Tabulka!BE65","v":0},{"$f":"+[9]Tabulka!BF65","v":{"v":0,"d":"0.00"}},{"$f":"+[9]Tabulka!BG65","v":0},{"$f":"+[9]Tabulka!BH65","v":{"v":0,"d":"0.00"}},{"$f":"+[9]Tabulka!BI65","v":0},{"$f":"+[9]Tabulka!BJ65","v":{"v":0,"d":"0.00"}},{"$f":"+[9]Tabulka!AP65","v":{"v":0,"d":"0.00"}},{"$f":"+[9]Tabulka!AQ65","v":{"v":0,"d":"0.00"}},{"$f":"+[9]Tabulka!BM65","v":{"v":0,"d":"0.00"}},{"$f":"+[9]Tabulka!BN65","v":0},{"$f":"+[9]Tabulka!BO65","v":{"v":0,"d":"0.00"}}]
[null,{"$f":"[9]Tabulka!C66","v":0},{"$f":"[9]Tabulka!D66","v":0},{"$f":"[9]Tabulka!E66","v":"00:00:00"},{"$f":"[9]Tabulka!F66","v":0},{"$f":"[9]Tabulka!G66","v":0},{"$f":"[9]Tabulka!H66","v":0},{"$f":"+[9]Tabulka!AU66","v":0},{"$f":"+[9]Tabulka!AV66","v":{"v":0,"d":"0.00"}},{"$f":"+[9]Tabulka!AW66","v":0},{"$f":"+[9]Tabulka!AX66","v":{"v":0,"d":"0.00"}},{"$f":"+[9]Tabulka!AY66","v":0},{"$f":"+[9]Tabulka!AZ66","v":{"v":0,"d":"0.00"}},{"$f":"+[9]Tabulka!BA66","v":0},{"$f":"+[9]Tabulka!BB66","v":{"v":0,"d":"0.00"}},{"$f":"+[9]Tabulka!BC66","v":0},{"$f":"+[9]Tabulka!BD66","v":{"v":0,"d":"0.00"}},{"$f":"+[9]Tabulka!BE66","v":0},{"$f":"+[9]Tabulka!BF66","v":{"v":0,"d":"0.00"}},{"$f":"+[9]Tabulka!BG66","v":0},{"$f":"+[9]Tabulka!BH66","v":{"v":0,"d":"0.00"}},{"$f":"+[9]Tabulka!BI66","v":0},{"$f":"+[9]Tabulka!BJ66","v":{"v":0,"d":"0.00"}},{"$f":"+[9]Tabulka!AP66","v":{"v":0,"d":"0.00"}},{"$f":"+[9]Tabulka!AQ66","v":{"v":0,"d":"0.00"}},{"$f":"+[9]Tabulka!BM66","v":{"v":0,"d":"0.00"}},{"$f":"+[9]Tabulka!BN66","v":0},{"$f":"+[9]Tabulka!BO66","v":{"v":0,"d":"0.00"}}]

{"sheet":"Nejmladší žákyně","index":9,"n_rows":35,"n_cols":87,"rows_kept":35,"merged":[[2,1,2,6],[2,7,2,8],[2,9,2,10],[2,11,2,12],[2,13,2,14],[2,15,2,16],[2,17,2,18],[2,19,2,20],[2,21,2,22]]}
["PRŮBĚŽNÉ POŘADÍ RBTM KARVINÁ NEJMLADŠÍCH ŽÁKYŇ"]
[]
[null," - započítává se 5 nejlepších turnajů z 8 odehraných za poslední rok",{"$nulls":5},{"$f":"+Dorost!H3","v":"KARVINÁ 17.9.2011"},null,{"$f":"+Dorost!J3","v":"HAVÍŘOV 24.9.2011"},null,{"$f":"+Dorost!L3","v":"KARVINÁ 3.12.2011"},null,{"$f":"+Dorost!N3","v":"HAVÍŘOV 7.1.2012"},null,{"$f":"+Dorost!P3","v":"HAVÍŘOV 4.2.2012"},null,{"$f":"+Dorost!R3","v":"KARVINÁ 19.3.2011"},null,{"$f":"+Dorost!T3","v":"KARVINÁ 16.4.2011"},null,{"$f":"+Dorost!V3","v":"KARVINÁ 14.5.2011"}]
[{"$nulls":7},{"$f":"+[10]Tabulka!AU39","v":1},{"$f":"SUBTOTAL(9,I6:I300)","v":4.655343691373548},{"$f":"+[10]Tabulka!AW39","v":2},{"$f":"SUBTOTAL(9,K6:K300)","v":9.024743869762961},{"$f":"+[10]Tabulka!AY39","v":1},{"$f":"SUBTOTAL(9,M6:M300)","v":4.655343691373548},{"$f":"+[10]Tabulka!BA39","v":1},{"$f":"SUBTOTAL(9,O6:O300)","v":4.655343691373548},{"$f":"+[10]Tabulka!BC39","v":0},{"$f":"SUBTOTAL(9,Q6:Q300)","v":0},{"$f":"+[10]Tabulka!BE39","v":0},{"$f":"SUBTOTAL(9,S6:S300)","v":0},{"$f":"+[10]Tabulka!BG39","v":0},{"$f":"SUBTOTAL(9,U6:U300)","v":0},{"$f":"+[10]Tabulka!BI39","v":0},{"$f":"SUBTOTAL(9,W6:W300)","v":0},{"$f":"+[5]Tabulka!AP5","v":0},{"$f":"+[5]Tabulka!AQ5","v":0},{"$f":"+[5]Tabulka!AR5","v":0},{"$f":"+[5]Tabulka!AS5","v":0},{"$f":"+[5]Tabulka!AT5","v":0}]
[{"$f":"SUBTOTAL(3,A6:A216)","v":2},{"$f":"[5]Tabulka!C6","v":"Přijmení"},{"$f":"[5]Tabulka!D6","v":"jméno"},{"$f":"[5]Tabulka!E6","v":"nar"},{"$f":"[5]Tabulka!F6","v":"oddíl-klub"},{"$f":"[5]Tabulka!G6","v":"okr"},{"$f":"[5]Tabulka!H6","v":"pop"},{"$f":"+[5]Tabulka!Z6","v":"um."},{"$f":"+[5]Tabulka!AA6","v":"b."},{"$f":"+[5]Tabulka!AB6","v":"um."},{"$f":"+[5]Tabulka!AC6","v":"b."},{"$f":"+[5]Tabulka!AD6","v":"um."},{"$f":"+[5]Tabulka!AE6","v":"b."},{"$f":"+[5]Tabulka!AF6","v":"um."},{"$f":"+[5]Tabulka!AG6","v":"b."},{"$f":"+[5]Tabulka!AH6","v":"um."},{"$f":"+[5]Tabulka!AI6","v":"b."},{"$f":"+[5]Tabulka!AJ6","v":"um."},{"$f":"+[5]Tabulka!AK6","v":"b."},{"$f":"+[5]Tabulka!AL6","v":"um."},{"$f":"+[5]Tabulka!AM6","v":"b."},{"$f":"+[5]Tabulka!AN6","v":"um."},{"$f":"+[5]Tabulka!AO6","v":"b."},{"$f":"+[5]Tabulka!AP6","v":"I."},{"$f":"+[5]Tabulka!AQ6","v":"t"},{"$f":"+[5]Tabulka!AR6","v":"I.+II."},{"$f":"+[5]Tabulka!AS6","v":"t"},{"$f":"+[5]Tabulka!AT6","v":"R"},{"$nulls":5},{"$f":"[5]Tabulka!DG6","v":0},{"$f":"[5]Tabulka!DH6","v":0},{"$f":"[5]Tabulka!DI6","v":0},{"$f":"[5]Tabulka!DJ6","v":0},{"$f":"[5]Tabulka!DK6","v":0},{"$f":"[5]Tabulka!DL6","v":0},{"$f":"[5]Tabulka!DM6","v":0},{"$f":"[5]Tabulka!DN6","v":0},{"$f":"[5]Tabulka!DO6","v":0},{"$f":"[5]Tabulka!DP6","v":0},{"$f":"[5]Tabulka!DQ6","v":0},{"$f":"[5]Tabulka!DR6","v":0},{"$f":"[5]Tabulka!DS6","v":0},{"$f":"[5]Tabulka!DT6","v":0},{"$f":"[5]Tabulka!DU6","v":0},{"$f":"[5]Tabulka!DV6","v":0},{"$f":"[5]Tabulka!DW6","v":0},{"$f":"[5]Tabulka!DX6","v":0},{"$f":"[5]Tabulka!DY6","v":0},{"$f":"[5]Tabulka!DZ6","v":0},{"$f":"[5]Tabulka!EA6","v":0},{"$f":"[5]Tabulka!EB6","v":0},{"$f":"[5]Tabulka!EC6","v":0},{"$f":"[5]Tabulka!ED6","v":0},{"$f":"[5]Tabulka!EE6","v":0},{"$f":"[5]Tabulka!EF6","v":0},{"$f":"[5]Tabulka!EG6","v":0},{"$f":"[5]Tabulka!EH6","v":0},{"$f":"[5]Tabulka!EI6","v":0},{"$f":"[5]Tabulka!EJ6","v":0},{"$f":"[5]Tabulka!EK6","v":0},{"$f":"[5]Tabulka!EL6","v":0},{"$f":"[5]Tabulka!EM6","v":0},{"$f":"[5]Tabulka!EN6","v":0},{"$f":"[5]Tabulka!EO6","v":0},{"$f":"[5]Tabulka!EP6","v":0},{"$f":"[5]Tabulka!EQ6","v":0},{"$f":"[5]Tabulka!ER6","v":0},{"$f":"[5]Tabulka!ES6","v":0},{"$f":"[5]Tabulka!ET6","v":0},{"$f":"[5]Tabulka!EU6","v":0},{"$f":"[5]Tabulka!EV6","v":0},{"$f":"[5]Tabulka!EW6","v":0},{"$f":"[5]Tabulka!EX6","v":0},{"$f":"[5]Tabulka!EY6","v":0},{"$f":"[5]Tabulka!EZ6","v":0},{"$f":"[5]Tabulka!FA6","v":0},{"$f":"[5]Tabulka!FB6","v":0},{"$f":"[5]Tabulka!FC6","v":0},{"$f":"[5]Tabulka!FD6","v":0},{"$f":"[5]Tabulka!FE6","v":0},{"$f":"[5]Tabulka!FF6","v":0},{"$f":"[5]Tabulka!FG6","v":0},{"$f":"[5]Tabulka!FH6","v":0}]
["1",{"$f":"[10]Tabulka!C7","v":"FLORKOVÁ"},{"$f":"[10]Tabulka!D7","v":"Adéla"},{"$f":"[10]Tabulka!E7","v":"2001-09-04"},{"$f":"[10]Tabulka!F7","v":"Orlová- Siko TTC"},{"$f":"[10]Tabulka!G7","v":"KA"},{"$f":"[10]Tabulka!H7","v":100},{"$f":"+[10]Tabulka!AU7","v":1},{"$f":"+[10]Tabulka!AV7","v":{"v":4.655343691373548,"d":"4.66"}},{"$f":"+[10]Tabulka!AW7","v":1},{"$f":"+[10]Tabulka!AX7","v":{"v":4.655343691373548,"d":"4.66"}},{"$f":"+[10]Tabulka!AY7","v":0},{"$f":"+[10]Tabulka!AZ7","v":{"v":0,"d":"0.00"}},{"$f":"+[10]Tabulka!BA7","v":1},{"$f":"+[10]Tabulka!BB7","v":{"v":4.655343691373548,"d":"4.66"}},{"$f":"+[10]Tabulka!BC7","v":0},{"$f":"+[10]Tabulka!BD7","v":{"v":0,"d":"0.00"}},{"$f":"+[10]Tabulka!BE7","v":0},{"$f":"+[10]Tabulka!BF7","v":{"v":0,"d":"0.00"}},{"$f":"+[10]Tabulka!BG7","v":0},{"$f":"+[10]Tabulka!BH7","v":{"v":0,"d":"0.00"}},{"$f":"+[10]Tabulka!BI7","v":0},{"$f":"+[10]Tabulka!BJ7","v":{"v":0,"d":"0.00"}},{"$f":"+[10]Tabulka!AP7","v":{"v":0,"d":"0.00"}},{"$f":"+[10]Tabulka!AQ7","v":{"v":0,"d":"0.00"}},{"$f":"+[10]Tabulka!BM7","v":{"v":13.966031074120643,"d":"13.97"}},{"$f":"+[10]Tabulka!BN7","v":3},{"$f":"+[10]Tabulka!BO7","v":{"v":13.966031074120643,"d":"13.97"}}]
[null,{"$f":"[10]Tabulka!C8","v":"ŠTĚPÁNOVÁ"},{"$f":"[10]Tabulka!D8","v":"Gabriela"},{"$f":"[10]Tabulka!E8","v":"2001-03-31"},{"$f":"[10]Tabulka!F8","v":"Děhylov- Sokol TJ"},{"$f":"[10]Tabulka!G8","v":"OP"},{"$f":"[10]Tabulka!H8","v":100},{"$f":"+[10]Tabulka!AU8","v":2},{"$f":"+[10]Tabulka!AV8","v":{"v":4.369400178389413,"d":"4.37"}},{"$f":"+[10]Tabulka!AW8","v":1},{"$f":"+[10]Tabulka!AX8","v":{"v":4.655343691373548,"d":"4.66"}},{"$f":"+[10]Tabulka!AY8","v":0},{"$f":"+[10]Tabulka!AZ8","v":{"v":0,"d":"0.00"}},{"$f":"+[10]Tabulka!BA8","v":1},{"$f":"+[10]Tabulka!BB8","v":{"v":4.655343691373548,"d":"4.66"}},{"$f":"+[10]Tabulka!BC8","v":0},{"$f":"+[10]Tabulka!BD8","v":{"v":0,"d":"0.00"}},{"$f":"+[10]Tabulka!BE8","v":0},{"$f":"+[10]Tabulka!BF8","v":{"v":0,"d":"0.00"}},{"$f":"+[10]Tabulka!BG8","v":0},{"$f":"+[10]Tabulka!BH8","v":{"v":0,"d":"0.00"}},{"$f":"+[10]Tabulka!BI8","v":0},{"$f":"+[10]Tabulka!BJ8","v":{"v":0,"d":"0.00"}},{"$f":"+[10]Tabulka!AP8","v":{"v":60.05393361871877,"d":"60.05"}},{"$f":"+[10]Tabulka!AQ8","v":{"v":3,"d":"3.00"}},{"$f":"+[10]Tabulka!BM8","v":{"v":13.68008756113651,"d":"13.68"}},{"$f":"+[10]Tabulka!BN8","v":3},{"$f":"+[10]Tabulka!BO8","v":{"v":13.68008756113651,"d":"13.68"}}]
[null,{"$f":"[10]Tabulka!C9","v":"PALETOVÁ"},{"$f":"[10]Tabulka!D9","v":"Barbora"},{"$f":"[10]Tabulka!E9","v":"2001-07-14"},{"$f":"[10]Tabulka!F9","v":"Děhylov- Sokol TJ"},{"$f":"[10]Tabulka!G9","v":"OP"},{"$f":"[10]Tabulka!H9","v":100},{"$f":"+[10]Tabulka!AU9","v":3},{"$f":"+[10]Tabulka!AV9","v":{"v":4.101020071683792,"d":"4.10"}},{"$f":"+[10]Tabulka!AW9","v":2},{"$f":"+[10]Tabulka!AX9","v":{"v":4.369400178389413,"d":"4.37"}},{"$f":"+[10]Tabulka!AY9","v":0},{"$f":"+[10]Tabulka!AZ9","v":{"v":0,"d":"0.00"}},{"$f":"+[10]Tabulka!BA9","v":2},{"$f":"+[10]Tabulka!BB9","v":{"v":4.369400178389413,"d":"4.37"}},{"$f":"+[10]Tabulka!BC9","v":2},{"$f":"+[10]Tabulka!BD9","v":{"v":4.369400178389413,"d":"4.37"}},{"$f":"+[10]Tabulka!BE9","v":0},{"$f":"+[10]Tabulka!BF9","v":{"v":0,"d":"0.00"}},{"$f":"+[10]Tabulka!BG9","v":0},{"$f":"+[10]Tabulka!BH9","v":{"v":0,"d":"0.00"}},{"$f":"+[10]Tabulka!BI9","v":0},{"$f":"+[10]Tabulka!BJ9","v":{"v":0,"d":"0.00"}},{"$f":"+[10]Tabulka!AP9","v":{"v":54.057193383555095,"d":"54.06"}},{"$f":"+[10]Tabulka!AQ9","v":{"v":3,"d":"3.00"}},{"$f":"+[10]Tabulka!BM9","v":{"v":17.209220606852032,"d":"17.21"}},{"$f":"+[10]Tabulka!BN9","v":4},{"$f":"+[10]Tabulka!BO9","v":{"v":13.10820053516824,"d":"13.11"}}]
["1",{"$f":"[10]Tabulka!C10","v":"SYNKOVÁ"},{"$f":"[10]Tabulka!D10","v":"Markéta"},{"$f":"[10]Tabulka!E10","v":"2001-07-30"},{"$f":"[10]Tabulka!F10","v":"Děhylov- Sokol TJ"},{"$f":"[10]Tabulka!G10","v":"OP"},{"$f":"[10]Tabulka!H10","v":100},{"$f":"+[10]Tabulka!AU10","v":1},{"$f":"+[10]Tabulka!AV10","v":{"v":4.655343691373548,"d":"4.66"}},{"$f":"+[10]Tabulka!AW10","v":0},{"$f":"+[10]Tabulka!AX10","v":{"v":0,"d":"0.00"}},{"$f":"+[10]Tabulka!AY10","v":0},{"$f":"+[10]Tabulka!AZ10","v":{"v":0,"d":"0.00"}},{"$f":"+[10]Tabulka!BA10","v":0},{"$f":"+[10]Tabulka!BB10","v":{"v":0,"d":"0.00"}},{"$f":"+[10]Tabulka!BC10","v":1},{"$f":"+[10]Tabulka!BD10","v":{"v":4.655343691373548,"d":"4.66"}},{"$f":"+[10]Tabulka!BE10","v":0},{"$f":"+[10]Tabulka!BF10","v":{"v":0,"d":"0.00"}},{"$f":"+[10]Tabulka!BG10","v":0},{"$f":"+[10]Tabulka!BH10","v":{"v":0,"d":"0.00"}},{"$f":"+[10]Tabulka!BI10","v":0},{"$f":"+[10]Tabulka!BJ10","v":{"v":0,"d":"0.00"}},{"$f":"+[10]Tabulka!AP10","v":{"v":57.59481940705521,"d":"57.59"}},{"$f":"+[10]Tabulka!AQ10","v":{"v":3,"d":"3.00"}},{"$f":"+[10]Tabulka!BM10","v":{"v":9.310687382747096,"d":"9.31"}},{"$f":"+[10]Tabulka!BN10","v":2},{"$f":"+[10]Tabulka!BO10","v":{"v":9.310687382747096,"d":"9.31"}}]
["2",{"$f":"[10]Tabulka!C11","v":"WITOSZOVÁ"},{"$f":"[10]Tabulka!D11","v":"Klára"},{"$f":"[10]Tabulka!E11","v":"2003-09-25"},{"$f":"[10]Tabulka!F11","v":"Havířov- Baník SKST"},{"$f":"[10]Tabulka!G11","v":"KA"},{"$f":"[10]Tabulka!H11","v":100},{"$f":"+[10]Tabulka!AU11","v":0},{"$f":"+[10]Tabulka!AV11","v":{"v":0,"d":"0.00"}},{"$f":"+[10]Tabulka!AW11","v":2},{"$f":"+[10]Tabulka!AX11","v":{"v":4.369400178389413,"d":"4.37"}},{"$f":"+[10]Tabulka!AY11","v":1},{"$f":"+[10]Tabulka!AZ11","v":{"v":4.655343691373548,"d":"4.66"}},{"$f":"+[10]Tabulka!BA11","v":0},{"$f":"+[10]Tabulka!BB11","v":{"v":0,"d":"0.00"}},{"$f":"+[10]Tabulka!BC11","v":0},{"$f":"+[10]Tabulka!BD11","v":{"v":0,"d":"0.00"}},{"$f":"+[10]Tabulka!BE11","v":0},{"$f":"+[10]Tabulka!BF11","v":{"v":0,"d":"0.00"}},{"$f":"+[10]Tabulka!BG11","v":0},{"$f":"+[10]Tabulka!BH11","v":{"v":0,"d":"0.00"}},{"$f":"+[10]Tabulka!BI11","v":0},{"$f":"+[10]Tabulka!BJ11","v":{"v":0,"d":"0.00"}},{"$f":"+[10]Tabulka!AP11","v":{"v":0,"d":"0.00"}},{"$f":"+[10]Tabulka!AQ11","v":{"v":0,"d":"0.00"}},{"$f":"+[10]Tabulka!BM11","v":{"v":9.024743869762961,"d":"9.02"}},{"$f":"+[10]Tabulka!BN11","v":2},{"$f":"+[10]Tabulka!BO11","v":{"v":9.024743869762961,"d":"9.02"}}]
[null,{"$f":"[10]Tabulka!C12","v":"OTISKOVÁ"},{"$f":"[10]Tabulka!D12","v":"Hana"},{"$f":"[10]Tabulka!E12","v":"2001-01-01"},{"$f":"[10]Tabulka!F12","v":"Ostrava- Poruba- DDM"},{"$f":"[10]Tabulka!G12","v":"OV"},{"$f":"[10]Tabulka!H12","v":0},{"$f":"+[10]Tabulka!AU12","v":0},{"$f":"+[10]Tabulka!AV12","v":{"v":0,"d":"0.00"}},{"$f":"+[10]Tabulka!AW12","v":0},{"$f":"+[10]Tabulka!AX12","v":{"v":0,"d":"0.00"}},{"$f":"+[10]Tabulka!AY12","v":0},{"$f":"+[10]Tabulka!AZ12","v":{"v":0,"d":"0.00"}},{"$f":"+[10]Tabulka!BA12","v":3},{"$f":"+[10]Tabulka!BB12","v":{"v":4.101020071683792,"d":"4.10"}},{"$f":"+[10]Tabulka!BC12","v":0},{"$f":"+[10]Tabulka!BD12","v":{"v":0,"d":"0.00"}},{"$f":"+[10]Tabulka!BE12","v":0},{"$f":"+[10]Tabulka!BF12","v":{"v":0,"d":"0.00"}},{"$f":"+[10]Tabulka!BG12","v":0},{"$f":"+[10]Tabulka!BH12","v":{"v":0,"d":"0.00"}},{"$f":"+[10]Tabulka!BI12","v":0},{"$f":"+[10]Tabulka!BJ12","v":{"v":0,"d":"0.00"}},{"$f":"+[10]Tabulka!AP12","v":{"v":0,"d":"0.00"}},{"$f":"+[10]Tabulka!AQ12","v":{"v":0,"d":"0.00"}},{"$f":"+[10]Tabulka!BM12","v":{"v":4.101020071683792,"d":"4.10"}},{"$f":"+[10]Tabulka!BN12","v":1},{"$f":"+[10]Tabulka!BO12","v":{"v":4.101020071683792,"d":"4.10"}}]
[null,{"$f":"[10]Tabulka!C13","v":"ROZKYDALOVÁ"},{"$f":"[10]Tabulka!D13","v":"Eliška"},{"$f":"[10]Tabulka!E13","v":"2002-01-11"},{"$f":"[10]Tabulka!F13","v":"Frýdlant nad Ostravicí- SK"},{"$f":"[10]Tabulka!G13","v":"FM"},{"$f":"[10]Tabulka!H13","v":100},{"$f":"+[10]Tabulka!AU13","v":0},{"$f":"+[10]Tabulka!AV13","v":{"v":0,"d":"0.00"}},{"$f":"+[10]Tabulka!AW13","v":3},{"$f":"+[10]Tabulka!AX13","v":{"v":4.101020071683792,"d":"4.10"}},{"$f":"+[10]Tabulka!AY13","v":0},{"$f":"+[10]Tabulka!AZ13","v":{"v":0,"d":"0.00"}},{"$f":"+[10]Tabulka!BA13","v":0},{"$f":"+[10]Tabulka!BB13","v":{"v":0,"d":"0.00"}},{"$f":"+[10]Tabulka!BC13","v":0},{"$f":"+[10]Tabulka!BD13","v":{"v":0,"d":"0.00"}},{"$f":"+[10]Tabulka!BE13","v":0},{"$f":"+[10]Tabulka!BF13","v":{"v":0,"d":"0.00"}},{"$f":"+[10]Tabulka!BG13","v":0},{"$f":"+[10]Tabulka!BH13","v":{"v":0,"d":"0.00"}},{"$f":"+[10]Tabulka!BI13","v":0},{"$f":"+[10]Tabulka!BJ13","v":{"v":0,"d":"0.00"}},{"$f":"+[10]Tabulka!AP13","v":{"v":34.18562200406906,"d":"34.19"}},{"$f":"+[10]Tabulka!AQ13","v":{"v":2,"d":"2.00"}},{"$f":"+[10]Tabulka!BM13","v":{"v":4.101020071683792,"d":"4.10"}},{"$f":"+[10]Tabulka!BN13","v":1},{"$f":"+[10]Tabulka!BO13","v":{"v":4.101020071683792,"d":"4.10"}}]
[null,{"$f":"[10]Tabulka!C14","v":"SEKEROVÁ"},{"$f":"[10]Tabulka!D14","v":"Zuzana"},{"$f":"[10]Tabulka!E14","v":"2002-01-01"},{"$f":"[10]Tabulka!F14","v":"Polanka- Sokol"},{"$f":"[10]Tabulka!G14","v":"OV"},{"$f":"[10]Tabulka!H14","v":0},{"$f":"+[10]Tabulka!AU14","v":0},{"$f":"+[10]Tabulka!AV14","v":{"v":0,"d":"0.00"}},{"$f":"+[10]Tabulka!AW14","v":0},{"$f":"+[10]Tabulka!AX14","v":{"v":0,"d":"0.00"}},{"$f":"+[10]Tabulka!AY14","v":0},{"$f":"+[10]Tabulka!AZ14","v":{"v":0,"d":"0.00"}},{"$f":"+[10]Tabulka!BA14","v":3},{"$f":"+[10]Tabulka!BB14","v":{"v":4.101020071683792,"d":"4.10"}},{"$f":"+[10]Tabulka!BC14","v":0},{"$f":"+[10]Tabulka!BD14","v":{"v":0,"d":"0.00"}},{"$f":"+[10]Tabulka!BE14","v":0},{"$f":"+[10]Tabulka!BF14","v":{"v":0,"d":"0.00"}},{"$f":"+[10]Tabulka!BG14","v":0},{"$f":"+[10]Tabulka!BH14","v":{"v":0,"d":"0.00"}},{"$f":"+[10]Tabulka!BI14","v":0},{"$f":"+[10]Tabulka!BJ14","v":{"v":0,"d":"0.00"}},{"$f":"+[10]Tabulka!AP14","v":{"v":0,"d":"0.00"}},{"$f":"+[10]Tabulka!AQ14","v":{"v":0,"d":"0.00"}},{"$f":"+[10]Tabulka!BM14","v":{"v":4.101020071683792,"d":"4.10"}},{"$f":"+[10]Tabulka!BN14","v":1},{"$f":"+[10]Tabulka!BO14","v":{"v":4.101020071683792,"d":"4.10"}}]
[null,{"$f":"[10]Tabulka!C15","v":"HRABCOVÁ"},{"$f":"[10]Tabulka!D15","v":"Anna"},{"$f":"[10]Tabulka!E15","v":"2001-11-27"},{"$f":"[10]Tabulka!F15","v":"Frýdlant nad Ostravicí- SK"},{"$f":"[10]Tabulka!G15","v":"FM"},{"$f":"[10]Tabulka!H15","v":100},{"$f":"+[10]Tabulka!AU15","v":0},{"$f":"+[10]Tabulka!AV15","v":{"v":0,"d":"0.00"}},{"$f":"+[10]Tabulka!AW15","v":4},{"$f":"+[10]Tabulka!AX15","v":{"v":3.8491245804252903,"d":"3.85"}},{"$f":"+[10]Tabulka!AY15","v":0},{"$f":"+[10]Tabulka!AZ15","v":{"v":0,"d":"0.00"}},{"$f":"+[10]Tabulka!BA15","v":0},{"$f":"+[10]Tabulka!BB15","v":{"v":0,"d":"0.00"}},{"$f":"+[10]Tabulka!BC15","v":0},{"$f":"+[10]Tabulka!BD15","v":{"v":0,"d":"0.00"}},{"$f":"+[10]Tabulka!BE15","v":0},{"$f":"+[10]Tabulka!BF15","v":{"v":0,"d":"0.00"}},{"$f":"+[10]Tabulka!BG15","v":0},{"$f":"+[10]Tabulka!BH15","v":{"v":0,"d":"0.00"}},{"$f":"+[10]Tabulka!BI15","v":0},{"$f":"+[10]Tabulka!BJ15","v":{"v":0,"d":"0.00"}},{"$f":"+[10]Tabulka!AP15","v":{"v":33.368858711009835,"d":"33.37"}},{"$f":"+[10]Tabulka!AQ15","v":{"v":2,"d":"2.00"}},{"$f":"+[10]Tabulka!BM15","v":{"v":3.8491245804252903,"d":"3.85"}},{"$f":"+[10]Tabulka!BN15","v":1},{"$f":"+[10]Tabulka!BO15","v":{"v":3.8491245804252903,"d":"3.85"}}]
[null,{"$f":"[10]Tabulka!C16","v":"KARASOVÁ"},{"$f":"[10]Tabulka!D16","v":"Viktorie"},{"$f":"[10]Tabulka!E16","v":"2001-01-01"},{"$f":"[10]Tabulka!F16","v":"Nový Jičín- TJ"},{"$f":"[10]Tabulka!G16","v":"NJ"},{"$f":"[10]Tabulka!H16","v":0},{"$f":"+[10]Tabulka!AU16","v":0},{"$f":"+[10]Tabulka!AV16","v":{"v":0,"d":"0.00"}},{"$f":"+[10]Tabulka!AW16","v":0},{"$f":"+[10]Tabulka!AX16","v":{"v":0,"d":"0.00"}},{"$f":"+[10]Tabulka!AY16","v":0},{"$f":"+[10]Tabulka!AZ16","v":{"v":0,"d":"0.00"}},{"$f":"+[10]Tabulka!BA16","v":0},{"$f":"+[10]Tabulka!BB16","v":{"v":0,"d":"0.00"}},{"$f":"+[10]Tabulka!BC16","v":0},{"$f":"+[10]Tabulka!BD16","v":{"v":0,"d":"0.00"}},{"$f":"+[10]Tabulka!BE16","v":0},{"$f":"+[10]Tabulka!BF16","v":{"v":0,"d":"0.00"}},{"$f":"+[10]Tabulka!BG16","v":0},{"$f":"+[10]Tabulka!BH16","v":{"v":0,"d":"0.00"}},{"$f":"+[10]Tabulka!BI16","v":0},{"$f":"+[10]Tabulka!BJ16","v":{"v":0,"d":"0.00"}},{"$f":"+[10]Tabulka!AP16","v":{"v":0,"d":"0.00"}},{"$f":"+[10]Tabulka!AQ16","v":{"v":0,"d":"0.00"}},{"$f":"+[10]Tabulka!BM16","v":{"v":0,"d":"0.00"}},{"$f":"+[10]Tabulka!BN16","v":0},{"$f":"+[10]Tabulka!BO16","v":{"v":0,"d":"0.00"}}]
[null,{"$f":"[10]Tabulka!C17","v":"KOHÚTOVÁ"},{"$f":"[10]Tabulka!D17","v":"Michaela"},{"$f":"[10]Tabulka!E17","v":"2002-01-01"},{"$f":"[10]Tabulka!F17","v":"Karviná- KLUBsten KST"},{"$f":"[10]Tabulka!G17","v":"KA"},{"$f":"[10]Tabulka!H17","v":0},{"$f":"+[10]Tabulka!AU17","v":0},{"$f":"+[10]Tabulka!AV17","v":{"v":0,"d":"0.00"}},{"$f":"+[10]Tabulka!AW17","v":0},{"$f":"+[10]Tabulka!AX17","v":{"v":0,"d":"0.00"}},{"$f":"+[10]Tabulka!AY17","v":0},{"$f":"+[10]Tabulka!AZ17","v":{"v":0,"d":"0.00"}},{"$f":"+[10]Tabulka!BA17","v":0},{"$f":"+[10]Tabulka!BB17","v":{"v":0,"d":"0.00"}},{"$f":"+[10]Tabulka!BC17","v":0},{"$f":"+[10]Tabulka!BD17","v":{"v":0,"d":"0.00"}},{"$f":"+[10]Tabulka!BE17","v":0},{"$f":"+[10]Tabulka!BF17","v":{"v":0,"d":"0.00"}},{"$f":"+[10]Tabulka!BG17","v":0},{"$f":"+[10]Tabulka!BH17","v":{"v":0,"d":"0.00"}},{"$f":"+[10]Tabulka!BI17","v":0},{"$f":"+[10]Tabulka!BJ17","v":{"v":0,"d":"0.00"}},{"$f":"+[10]Tabulka!AP17","v":{"v":0,"d":"0.00"}},{"$f":"+[10]Tabulka!AQ17","v":{"v":0,"d":"0.00"}},{"$f":"+[10]Tabulka!BM17","v":{"v":0,"d":"0.00"}},{"$f":"+[10]Tabulka!BN17","v":0},{"$f":"+[10]Tabulka!BO17","v":{"v":0,"d":"0.00"}}]
[null,{"$f":"[10]Tabulka!C18","v":"KOLONIČNÁ"},{"$f":"[10]Tabulka!D18","v":"Markéta"},{"$f":"[10]Tabulka!E18","v":"2002-12-12"},{"$f":"[10]Tabulka!F18","v":"Hrabůvka- Sokol TJ"},{"$f":"[10]Tabulka!G18","v":"OV"},{"$f":"[10]Tabulka!H18","v":100},{"$f":"+[10]Tabulka!AU18","v":0},{"$f":"+[10]Tabulka!AV18","v":{"v":0,"d":"0.00"}},{"$f":"+[10]Tabulka!AW18","v":0},{"$f":"+[10]Tabulka!AX18","v":{"v":0,"d":"0.00"}},{"$f":"+[10]Tabulka!AY18","v":0},{"$f":"+[10]Tabulka!AZ18","v":{"v":0,"d":"0.00"}},{"$f":"+[10]Tabulka!BA18","v":0},{"$f":"+[10]Tabulka!BB18","v":{"v":0,"d":"0.00"}},{"$f":"+[10]Tabulka!BC18","v":0},{"$f":"+[10]Tabulka!BD18","v":{"v":0,"d":"0.00"}},{"$f":"+[10]Tabulka!BE18","v":0},{"$f":"+[10]Tabulka!BF18","v":{"v":0,"d":"0.00"}},{"$f":"+[10]Tabulka!BG18","v":0},{"$f":"+[10]Tabulka!BH18","v":{"v":0,"d":"0.00"}},{"$f":"+[10]Tabulka!BI18","v":0},{"$f":"+[10]Tabulka!BJ18","v":{"v":0,"d":"0.00"}},{"$f":"+[10]Tabulka!AP18","v":{"v":32.0858507524846,"d":"32.09"}},{"$f":"+[10]Tabulka!AQ18","v":{"v":2,"d":"2.00"}},{"$f":"+[10]Tabulka!BM18","v":{"v":0,"d":"0.00"}},{"$f":"+[10]Tabulka!BN18","v":0},{"$f":"+[10]Tabulka!BO18","v":{"v":0,"d":"0.00"}}]
[null,{"$f":"[10]Tabulka!C19","v":"POLLOVÁ"},{"$f":"[10]Tabulka!D19","v":"Valentýna"},{"$f":"[10]Tabulka!E19","v":"2001-01-01"},{"$f":"[10]Tabulka!F19","v":"Frýdlant nad Ostravicí- SK"},{"$f":"[10]Tabulka!G19","v":"FM"},{"$f":"[10]Tabulka!H19","v":0},{"$f":"+[10]Tabulka!AU19","v":0},{"$f":"+[10]Tabulka!AV19","v":{"v":0,"d":"0.00"}},{"$f":"+[10]Tabulka!AW19","v":0},{"$f":"+[10]Tabulka!AX19","v":{"v":0,"d":"0.00"}},{"$f":"+[10]Tabulka!AY19","v":0},{"$f":"+[10]Tabulka!AZ19","v":{"v":0,"d":"0.00"}},{"$f":"+[10]Tabulka!BA19","v":0},{"$f":"+[10]Tabulka!BB19","v":{"v":0,"d":"0.00"}},{"$f":"+[10]Tabulka!BC19","v":0},{"$f":"+[10]Tabulka!BD19","v":{"v":0,"d":"0.00"}},{"$f":"+[10]Tabulka!BE19","v":0},{"$f":"+[10]Tabulka!BF19","v":{"v":0,"d":"0.00"}},{"$f":"+[10]Tabulka!BG19","v":0},{"$f":"+[10]Tabulka!BH19","v":{"v":0,"d":"0.00"}},{"$f":"+[10]Tabulka!BI19","v":0},{"$f":"+[10]Tabulka!BJ19","v":{"v":0,"d":"0.00"}},{"$f":"+[10]Tabulka!AP19","v":{"v":0,"d":"0.00"}},{"$f":"+[10]Tabulka!AQ19","v":{"v":0,"d":"0.00"}},{"$f":"+[10]Tabulka!BM19","v":{"v":0,"d":"0.00"}},{"$f":"+[10]Tabulka!BN19","v":0},{"$f":"+[10]Tabulka!BO19","v":{"v":0,"d":"0.00"}}]
[null,{"$f":"[10]Tabulka!C20","v":"ŠTEFÁNKOVÁ"},{"$f":"[10]Tabulka!D20","v":"Šarlota"},{"$f":"[10]Tabulka!E20","v":"2003-01-01"},{"$f":"[10]Tabulka!F20","v":"Frýdlant nad Ostravicí- SK"},{"$f":"[10]Tabulka!G20","v":"FM"},{"$f":"[10]Tabulka!H20","v":0},{"$f":"+[10]Tabulka!AU20","v":0},{"$f":"+[10]Tabulka!AV20","v":{"v":0,"d":"0.00"}},{"$f":"+[10]Tabulka!AW20","v":0},{"$f":"+[10]Tabulka!AX20","v":{"v":0,"d":"0.00"}},{"$f":"+[10]Tabulka!AY20","v":0},{"$f":"+[10]Tabulka!AZ20","v":{"v":0,"d":"0.00"}},{"$f":"+[10]Tabulka!BA20","v":0},{"$f":"+[10]Tabulka!BB20","v":{"v":0,"d":"0.00"}},{"$f":"+[10]Tabulka!BC20","v":0},{"$f":"+[10]Tabulka!BD20","v":{"v":0,"d":"0.00"}},{"$f":"+[10]Tabulka!BE20","v":0},{"$f":"+[10]Tabulka!BF20","v":{"v":0,"d":"0.00"}},{"$f":"+[10]Tabulka!BG20","v":0},{"$f":"+[10]Tabulka!BH20","v":{"v":0,"d":"0.00"}},{"$f":"+[10]Tabulka!BI20","v":0},{"$f":"+[10]Tabulka!BJ20","v":{"v":0,"d":"0.00"}},{"$f":"+[10]Tabulka!AP20","v":{"v":16.551235695828748,"d":"16.55"}},{"$f":"+[10]Tabulka!AQ20","v":{"v":1,"d":"1.00"}},{"$f":"+[10]Tabulka!BM20","v":{"v":0,"d":"0.00"}},{"$f":"+[10]Tabulka!BN20","v":0},{"$f":"+[10]Tabulka!BO20","v":{"v":0,"d":"0.00"}}]
[null,{"$f":"[10]Tabulka!C21","v":0},{"$f":"[10]Tabulka!D21","v":0},{"$f":"[10]Tabulka!E21","v":"00:00:00"},{"$f":"[10]Tabulka!F21","v":0},{"$f":"[10]Tabulka!G21","v":0},{"$f":"[10]Tabulka!H21","v":0},{"$f":"+[10]Tabulka!AU21","v":0},{"$f":"+[10]Tabulka!AV21","v":{"v":0,"d":"0.00"}},{"$f":"+[10]Tabulka!AW21","v":0},{"$f":"+[10]Tabulka!AX21","v":{"v":0,"d":"0.00"}},{"$f":"+[10]Tabulka!AY21","v":0},{"$f":"+[10]Tabulka!AZ21","v":{"v":0,"d":"0.00"}},{"$f":"+[10]Tabulka!BA21","v":0},{"$f":"+[10]Tabulka!BB21","v":{"v":0,"d":"0.00"}},{"$f":"+[10]Tabulka!BC21","v":0},{"$f":"+[10]Tabulka!BD21","v":{"v":0,"d":"0.00"}},{"$f":"+[10]Tabulka!BE21","v":0},{"$f":"+[10]Tabulka!BF21","v":{"v":0,"d":"0.00"}},{"$f":"+[10]Tabulka!BG21","v":0},{"$f":"+[10]Tabulka!BH21","v":{"v":0,"d":"0.00"}},{"$f":"+[10]Tabulka!BI21","v":0},{"$f":"+[10]Tabulka!BJ21","v":{"v":0,"d":"0.00"}},{"$f":"+[10]Tabulka!AP21","v":{"v":0,"d":"0.00"}},{"$f":"+[10]Tabulka!AQ21","v":{"v":0,"d":"0.00"}},{"$f":"+[10]Tabulka!BM21","v":{"v":0,"d":"0.00"}},{"$f":"+[10]Tabulka!BN21","v":0},{"$f":"+[10]Tabulka!BO21","v":{"v":0,"d":"0.00"}}]
[null,{"$f":"[10]Tabulka!C22","v":0},{"$f":"[10]Tabulka!D22","v":0},{"$f":"[10]Tabulka!E22","v":"00:00:00"},{"$f":"[10]Tabulka!F22","v":0},{"$f":"[10]Tabulka!G22","v":0},{"$f":"[10]Tabulka!H22","v":0},{"$f":"+[10]Tabulka!AU22","v":0},{"$f":"+[10]Tabulka!AV22","v":{"v":0,"d":"0.00"}},{"$f":"+[10]Tabulka!AW22","v":0},{"$f":"+[10]Tabulka!AX22","v":{"v":0,"d":"0.00"}},{"$f":"+[10]Tabulka!AY22","v":0},{"$f":"+[10]Tabulka!AZ22","v":{"v":0,"d":"0.00"}},{"$f":"+[10]Tabulka!BA22","v":0},{"$f":"+[10]Tabulka!BB22","v":{"v":0,"d":"0.00"}},{"$f":"+[10]Tabulka!BC22","v":0},{"$f":"+[10]Tabulka!BD22","v":{"v":0,"d":"0.00"}},{"$f":"+[10]Tabulka!BE22","v":0},{"$f":"+[10]Tabulka!BF22","v":{"v":0,"d":"0.00"}},{"$f":"+[10]Tabulka!BG22","v":0},{"$f":"+[10]Tabulka!BH22","v":{"v":0,"d":"0.00"}},{"$f":"+[10]Tabulka!BI22","v":0},{"$f":"+[10]Tabulka!BJ22","v":{"v":0,"d":"0.00"}},{"$f":"+[10]Tabulka!AP22","v":{"v":0,"d":"0.00"}},{"$f":"+[10]Tabulka!AQ22","v":{"v":0,"d":"0.00"}},{"$f":"+[10]Tabulka!BM22","v":{"v":0,"d":"0.00"}},{"$f":"+[10]Tabulka!BN22","v":0},{"$f":"+[10]Tabulka!BO22","v":{"v":0,"d":"0.00"}}]
[null,{"$f":"[10]Tabulka!C23","v":0},{"$f":"[10]Tabulka!D23","v":0},{"$f":"[10]Tabulka!E23","v":"00:00:00"},{"$f":"[10]Tabulka!F23","v":0},{"$f":"[10]Tabulka!G23","v":0},{"$f":"[10]Tabulka!H23","v":0},{"$f":"+[10]Tabulka!AU23","v":0},{"$f":"+[10]Tabulka!AV23","v":{"v":0,"d":"0.00"}},{"$f":"+[10]Tabulka!AW23","v":0},{"$f":"+[10]Tabulka!AX23","v":{"v":0,"d":"0.00"}},{"$f":"+[10]Tabulka!AY23","v":0},{"$f":"+[10]Tabulka!AZ23","v":{"v":0,"d":"0.00"}},{"$f":"+[10]Tabulka!BA23","v":0},{"$f":"+[10]Tabulka!BB23","v":{"v":0,"d":"0.00"}},{"$f":"+[10]Tabulka!BC23","v":0},{"$f":"+[10]Tabulka!BD23","v":{"v":0,"d":"0.00"}},{"$f":"+[10]Tabulka!BE23","v":0},{"$f":"+[10]Tabulka!BF23","v":{"v":0,"d":"0.00"}},{"$f":"+[10]Tabulka!BG23","v":0},{"$f":"+[10]Tabulka!BH23","v":{"v":0,"d":"0.00"}},{"$f":"+[10]Tabulka!BI23","v":0},{"$f":"+[10]Tabulka!BJ23","v":{"v":0,"d":"0.00"}},{"$f":"+[10]Tabulka!AP23","v":{"v":0,"d":"0.00"}},{"$f":"+[10]Tabulka!AQ23","v":{"v":0,"d":"0.00"}},{"$f":"+[10]Tabulka!BM23","v":{"v":0,"d":"0.00"}},{"$f":"+[10]Tabulka!BN23","v":0},{"$f":"+[10]Tabulka!BO23","v":{"v":0,"d":"0.00"}}]
[null,{"$f":"[10]Tabulka!C24","v":0},{"$f":"[10]Tabulka!D24","v":0},{"$f":"[10]Tabulka!E24","v":"00:00:00"},{"$f":"[10]Tabulka!F24","v":0},{"$f":"[10]Tabulka!G24","v":0},{"$f":"[10]Tabulka!H24","v":0},{"$f":"+[10]Tabulka!AU24","v":0},{"$f":"+[10]Tabulka!AV24","v":{"v":0,"d":"0.00"}},{"$f":"+[10]Tabulka!AW24","v":0},{"$f":"+[10]Tabulka!AX24","v":{"v":0,"d":"0.00"}},{"$f":"+[10]Tabulka!AY24","v":0},{"$f":"+[10]Tabulka!AZ24","v":{"v":0,"d":"0.00"}},{"$f":"+[10]Tabulka!BA24","v":0},{"$f":"+[10]Tabulka!BB24","v":{"v":0,"d":"0.00"}},{"$f":"+[10]Tabulka!BC24","v":0},{"$f":"+[10]Tabulka!BD24","v":{"v":0,"d":"0.00"}},{"$f":"+[10]Tabulka!BE24","v":0},{"$f":"+[10]Tabulka!BF24","v":{"v":0,"d":"0.00"}},{"$f":"+[10]Tabulka!BG24","v":0},{"$f":"+[10]Tabulka!BH24","v":{"v":0,"d":"0.00"}},{"$f":"+[10]Tabulka!BI24","v":0},{"$f":"+[10]Tabulka!BJ24","v":{"v":0,"d":"0.00"}},{"$f":"+[10]Tabulka!AP24","v":{"v":0,"d":"0.00"}},{"$f":"+[10]Tabulka!AQ24","v":{"v":0,"d":"0.00"}},{"$f":"+[10]Tabulka!BM24","v":{"v":0,"d":"0.00"}},{"$f":"+[10]Tabulka!BN24","v":0},{"$f":"+[10]Tabulka!BO24","v":{"v":0,"d":"0.00"}}]
[null,{"$f":"[10]Tabulka!C25","v":0},{"$f":"[10]Tabulka!D25","v":0},{"$f":"[10]Tabulka!E25","v":"00:00:00"},{"$f":"[10]Tabulka!F25","v":0},{"$f":"[10]Tabulka!G25","v":0},{"$f":"[10]Tabulka!H25","v":0},{"$f":"+[10]Tabulka!AU25","v":0},{"$f":"+[10]Tabulka!AV25","v":{"v":0,"d":"0.00"}},{"$f":"+[10]Tabulka!AW25","v":0},{"$f":"+[10]Tabulka!AX25","v":{"v":0,"d":"0.00"}},{"$f":"+[10]Tabulka!AY25","v":0},{"$f":"+[10]Tabulka!AZ25","v":{"v":0,"d":"0.00"}},{"$f":"+[10]Tabulka!BA25","v":0},{"$f":"+[10]Tabulka!BB25","v":{"v":0,"d":"0.00"}},{"$f":"+[10]Tabulka!BC25","v":0},{"$f":"+[10]Tabulka!BD25","v":{"v":0,"d":"0.00"}},{"$f":"+[10]Tabulka!BE25","v":0},{"$f":"+[10]Tabulka!BF25","v":{"v":0,"d":"0.00"}},{"$f":"+[10]Tabulka!BG25","v":0},{"$f":"+[10]Tabulka!BH25","v":{"v":0,"d":"0.00"}},{"$f":"+[10]Tabulka!BI25","v":0},{"$f":"+[10]Tabulka!BJ25","v":{"v":0,"d":"0.00"}},{"$f":"+[10]Tabulka!AP25","v":{"v":0,"d":"0.00"}},{"$f":"+[10]Tabulka!AQ25","v":{"v":0,"d":"0.00"}},{"$f":"+[10]Tabulka!BM25","v":{"v":0,"d":"0.00"}},{"$f":"+[10]Tabulka!BN25","v":0},{"$f":"+[10]Tabulka!BO25","v":{"v":0,"d":"0.00"}}]
[null,{"$f":"[10]Tabulka!C26","v":0},{"$f":"[10]Tabulka!D26","v":0},{"$f":"[10]Tabulka!E26","v":"00:00:00"},{"$f":"[10]Tabulka!F26","v":0},{"$f":"[10]Tabulka!G26","v":0},{"$f":"[10]Tabulka!H26","v":0},{"$f":"+[10]Tabulka!AU26","v":0},{"$f":"+[10]Tabulka!AV26","v":{"v":0,"d":"0.00"}},{"$f":"+[10]Tabulka!AW26","v":0},{"$f":"+[10]Tabulka!AX26","v":{"v":0,"d":"0.00"}},{"$f":"+[10]Tabulka!AY26","v":0},{"$f":"+[10]Tabulka!AZ26","v":{"v":0,"d":"0.00"}},{"$f":"+[10]Tabulka!BA26","v":0},{"$f":"+[10]Tabulka!BB26","v":{"v":0,"d":"0.00"}},{"$f":"+[10]Tabulka!BC26","v":0},{"$f":"+[10]Tabulka!BD26","v":{"v":0,"d":"0.00"}},{"$f":"+[10]Tabulka!BE26","v":0},{"$f":"+[10]Tabulka!BF26","v":{"v":0,"d":"0.00"}},{"$f":"+[10]Tabulka!BG26","v":0},{"$f":"+[10]Tabulka!BH26","v":{"v":0,"d":"0.00"}},{"$f":"+[10]Tabulka!BI26","v":0},{"$f":"+[10]Tabulka!BJ26","v":{"v":0,"d":"0.00"}},{"$f":"+[10]Tabulka!AP26","v":{"v":0,"d":"0.00"}},{"$f":"+[10]Tabulka!AQ26","v":{"v":0,"d":"0.00"}},{"$f":"+[10]Tabulka!BM26","v":{"v":0,"d":"0.00"}},{"$f":"+[10]Tabulka!BN26","v":0},{"$f":"+[10]Tabulka!BO26","v":{"v":0,"d":"0.00"}}]
[null,{"$f":"[10]Tabulka!C27","v":0},{"$f":"[10]Tabulka!D27","v":0},{"$f":"[10]Tabulka!E27","v":"00:00:00"},{"$f":"[10]Tabulka!F27","v":0},{"$f":"[10]Tabulka!G27","v":0},{"$f":"[10]Tabulka!H27","v":0},{"$f":"+[10]Tabulka!AU27","v":0},{"$f":"+[10]Tabulka!AV27","v":{"v":0,"d":"0.00"}},{"$f":"+[10]Tabulka!AW27","v":0},{"$f":"+[10]Tabulka!AX27","v":{"v":0,"d":"0.00"}},{"$f":"+[10]Tabulka!AY27","v":0},{"$f":"+[10]Tabulka!AZ27","v":{"v":0,"d":"0.00"}},{"$f":"+[10]Tabulka!BA27","v":0},{"$f":"+[10]Tabulka!BB27","v":{"v":0,"d":"0.00"}},{"$f":"+[10]Tabulka!BC27","v":0},{"$f":"+[10]Tabulka!BD27","v":{"v":0,"d":"0.00"}},{"$f":"+[10]Tabulka!BE27","v":0},{"$f":"+[10]Tabulka!BF27","v":{"v":0,"d":"0.00"}},{"$f":"+[10]Tabulka!BG27","v":0},{"$f":"+[10]Tabulka!BH27","v":{"v":0,"d":"0.00"}},{"$f":"+[10]Tabulka!BI27","v":0},{"$f":"+[10]Tabulka!BJ27","v":{"v":0,"d":"0.00"}},{"$f":"+[10]Tabulka!AP27","v":{"v":0,"d":"0.00"}},{"$f":"+[10]Tabulka!AQ27","v":{"v":0,"d":"0.00"}},{"$f":"+[10]Tabulka!BM27","v":{"v":0,"d":"0.00"}},{"$f":"+[10]Tabulka!BN27","v":0},{"$f":"+[10]Tabulka!BO27","v":{"v":0,"d":"0.00"}}]
[null,{"$f":"[10]Tabulka!C28","v":0},{"$f":"[10]Tabulka!D28","v":0},{"$f":"[10]Tabulka!E28","v":"00:00:00"},{"$f":"[10]Tabulka!F28","v":0},{"$f":"[10]Tabulka!G28","v":0},{"$f":"[10]Tabulka!H28","v":0},{"$f":"+[10]Tabulka!AU28","v":0},{"$f":"+[10]Tabulka!AV28","v":{"v":0,"d":"0.00"}},{"$f":"+[10]Tabulka!AW28","v":0},{"$f":"+[10]Tabulka!AX28","v":{"v":0,"d":"0.00"}},{"$f":"+[10]Tabulka!AY28","v":0},{"$f":"+[10]Tabulka!AZ28","v":{"v":0,"d":"0.00"}},{"$f":"+[10]Tabulka!BA28","v":0},{"$f":"+[10]Tabulka!BB28","v":{"v":0,"d":"0.00"}},{"$f":"+[10]Tabulka!BC28","v":0},{"$f":"+[10]Tabulka!BD28","v":{"v":0,"d":"0.00"}},{"$f":"+[10]Tabulka!BE28","v":0},{"$f":"+[10]Tabulka!BF28","v":{"v":0,"d":"0.00"}},{"$f":"+[10]Tabulka!BG28","v":0},{"$f":"+[10]Tabulka!BH28","v":{"v":0,"d":"0.00"}},{"$f":"+[10]Tabulka!BI28","v":0},{"$f":"+[10]Tabulka!BJ28","v":{"v":0,"d":"0.00"}},{"$f":"+[10]Tabulka!AP28","v":{"v":0,"d":"0.00"}},{"$f":"+[10]Tabulka!AQ28","v":{"v":0,"d":"0.00"}},{"$f":"+[10]Tabulka!BM28","v":{"v":0,"d":"0.00"}},{"$f":"+[10]Tabulka!BN28","v":0},{"$f":"+[10]Tabulka!BO28","v":{"v":0,"d":"0.00"}}]
[null,{"$f":"[10]Tabulka!C29","v":0},{"$f":"[10]Tabulka!D29","v":0},{"$f":"[10]Tabulka!E29","v":"00:00:00"},{"$f":"[10]Tabulka!F29","v":0},{"$f":"[10]Tabulka!G29","v":0},{"$f":"[10]Tabulka!H29","v":0},{"$f":"+[10]Tabulka!AU29","v":0},{"$f":"+[10]Tabulka!AV29","v":{"v":0,"d":"0.00"}},{"$f":"+[10]Tabulka!AW29","v":0},{"$f":"+[10]Tabulka!AX29","v":{"v":0,"d":"0.00"}},{"$f":"+[10]Tabulka!AY29","v":0},{"$f":"+[10]Tabulka!AZ29","v":{"v":0,"d":"0.00"}},{"$f":"+[10]Tabulka!BA29","v":0},{"$f":"+[10]Tabulka!BB29","v":{"v":0,"d":"0.00"}},{"$f":"+[10]Tabulka!BC29","v":0},{"$f":"+[10]Tabulka!BD29","v":{"v":0,"d":"0.00"}},{"$f":"+[10]Tabulka!BE29","v":0},{"$f":"+[10]Tabulka!BF29","v":{"v":0,"d":"0.00"}},{"$f":"+[10]Tabulka!BG29","v":0},{"$f":"+[10]Tabulka!BH29","v":{"v":0,"d":"0.00"}},{"$f":"+[10]Tabulka!BI29","v":0},{"$f":"+[10]Tabulka!BJ29","v":{"v":0,"d":"0.00"}},{"$f":"+[10]Tabulka!AP29","v":{"v":0,"d":"0.00"}},{"$f":"+[10]Tabulka!AQ29","v":{"v":0,"d":"0.00"}},{"$f":"+[10]Tabulka!BM29","v":{"v":0,"d":"0.00"}},{"$f":"+[10]Tabulka!BN29","v":0},{"$f":"+[10]Tabulka!BO29","v":{"v":0,"d":"0.00"}}]
[null,{"$f":"[10]Tabulka!C30","v":0},{"$f":"[10]Tabulka!D30","v":0},{"$f":"[10]Tabulka!E30","v":"00:00:00"},{"$f":"[10]Tabulka!F30","v":0},{"$f":"[10]Tabulka!G30","v":0},{"$f":"[10]Tabulka!H30","v":0},{"$f":"+[10]Tabulka!AU30","v":0},{"$f":"+[10]Tabulka!AV30","v":{"v":0,"d":"0.00"}},{"$f":"+[10]Tabulka!AW30","v":0},{"$f":"+[10]Tabulka!AX30","v":{"v":0,"d":"0.00"}},{"$f":"+[10]Tabulka!AY30","v":0},{"$f":"+[10]Tabulka!AZ30","v":{"v":0,"d":"0.00"}},{"$f":"+[10]Tabulka!BA30","v":0},{"$f":"+[10]Tabulka!BB30","v":{"v":0,"d":"0.00"}},{"$f":"+[10]Tabulka!BC30","v":0},{"$f":"+[10]Tabulka!BD30","v":{"v":0,"d":"0.00"}},{"$f":"+[10]Tabulka!BE30","v":0},{"$f":"+[10]Tabulka!BF30","v":{"v":0,"d":"0.00"}},{"$f":"+[10]Tabulka!BG30","v":0},{"$f":"+[10]Tabulka!BH30","v":{"v":0,"d":"0.00"}},{"$f":"+[10]Tabulka!BI30","v":0},{"$f":"+[10]Tabulka!BJ30","v":{"v":0,"d":"0.00"}},{"$f":"+[10]Tabulka!AP30","v":{"v":0,"d":"0.00"}},{"$f":"+[10]Tabulka!AQ30","v":{"v":0,"d":"0.00"}},{"$f":"+[10]Tabulka!BM30","v":{"v":0,"d":"0.00"}},{"$f":"+[10]Tabulka!BN30","v":0},{"$f":"+[10]Tabulka!BO30","v":{"v":0,"d":"0.00"}}]
[null,{"$f":"[10]Tabulka!C31","v":0},{"$f":"[10]Tabulka!D31","v":0},{"$f":"[10]Tabulka!E31","v":"00:00:00"},{"$f":"[10]Tabulka!F31","v":0},{"$f":"[10]Tabulka!G31","v":0},{"$f":"[10]Tabulka!H31","v":0},{"$f":"+[10]Tabulka!AU31","v":0},{"$f":"+[10]Tabulka!AV31","v":{"v":0,"d":"0.00"}},{"$f":"+[10]Tabulka!AW31","v":0},{"$f":"+[10]Tabulka!AX31","v":{"v":0,"d":"0.00"}},{"$f":"+[10]Tabulka!AY31","v":0},{"$f":"+[10]Tabulka!AZ31","v":{"v":0,"d":"0.00"}},{"$f":"+[10]Tabulka!BA31","v":0},{"$f":"+[10]Tabulka!BB31","v":{"v":0,"d":"0.00"}},{"$f":"+[10]Tabulka!BC31","v":0},{"$f":"+[10]Tabulka!BD31","v":{"v":0,"d":"0.00"}},{"$f":"+[10]Tabulka!BE31","v":0},{"$f":"+[10]Tabulka!BF31","v":{"v":0,"d":"0.00"}},{"$f":"+[10]Tabulka!BG31","v":0},{"$f":"+[10]Tabulka!BH31","v":{"v":0,"d":"0.00"}},{"$f":"+[10]Tabulka!BI31","v":0},{"$f":"+[10]Tabulka!BJ31","v":{"v":0,"d":"0.00"}},{"$f":"+[10]Tabulka!AP31","v":{"v":0,"d":"0.00"}},{"$f":"+[10]Tabulka!AQ31","v":{"v":0,"d":"0.00"}},{"$f":"+[10]Tabulka!BM31","v":{"v":0,"d":"0.00"}},{"$f":"+[10]Tabulka!BN31","v":0},{"$f":"+[10]Tabulka!BO31","v":{"v":0,"d":"0.00"}}]
[null,{"$f":"[10]Tabulka!C32","v":0},{"$f":"[10]Tabulka!D32","v":0},{"$f":"[10]Tabulka!E32","v":"00:00:00"},{"$f":"[10]Tabulka!F32","v":0},{"$f":"[10]Tabulka!G32","v":0},{"$f":"[10]Tabulka!H32","v":0},{"$f":"+[10]Tabulka!AU32","v":0},{"$f":"+[10]Tabulka!AV32","v":{"v":0,"d":"0.00"}},{"$f":"+[10]Tabulka!AW32","v":0},{"$f":"+[10]Tabulka!AX32","v":{"v":0,"d":"0.00"}},{"$f":"+[10]Tabulka!AY32","v":0},{"$f":"+[10]Tabulka!AZ32","v":{"v":0,"d":"0.00"}},{"$f":"+[10]Tabulka!BA32","v":0},{"$f":"+[10]Tabulka!BB32","v":{"v":0,"d":"0.00"}},{"$f":"+[10]Tabulka!BC32","v":0},{"$f":"+[10]Tabulka!BD32","v":{"v":0,"d":"0.00"}},{"$f":"+[10]Tabulka!BE32","v":0},{"$f":"+[10]Tabulka!BF32","v":{"v":0,"d":"0.00"}},{"$f":"+[10]Tabulka!BG32","v":0},{"$f":"+[10]Tabulka!BH32","v":{"v":0,"d":"0.00"}},{"$f":"+[10]Tabulka!BI32","v":0},{"$f":"+[10]Tabulka!BJ32","v":{"v":0,"d":"0.00"}},{"$f":"+[10]Tabulka!AP32","v":{"v":0,"d":"0.00"}},{"$f":"+[10]Tabulka!AQ32","v":{"v":0,"d":"0.00"}},{"$f":"+[10]Tabulka!BM32","v":{"v":0,"d":"0.00"}},{"$f":"+[10]Tabulka!BN32","v":0},{"$f":"+[10]Tabulka!BO32","v":{"v":0,"d":"0.00"}}]
[null,{"$f":"[10]Tabulka!C33","v":0},{"$f":"[10]Tabulka!D33","v":0},{"$f":"[10]Tabulka!E33","v":"00:00:00"},{"$f":"[10]Tabulka!F33","v":0},{"$f":"[10]Tabulka!G33","v":0},{"$f":"[10]Tabulka!H33","v":0},{"$f":"+[10]Tabulka!AU33","v":0},{"$f":"+[10]Tabulka!AV33","v":{"v":0,"d":"0.00"}},{"$f":"+[10]Tabulka!AW33","v":0},{"$f":"+[10]Tabulka!AX33","v":{"v":0,"d":"0.00"}},{"$f":"+[10]Tabulka!AY33","v":0},{"$f":"+[10]Tabulka!AZ33","v":{"v":0,"d":"0.00"}},{"$f":"+[10]Tabulka!BA33","v":0},{"$f":"+[10]Tabulka!BB33","v":{"v":0,"d":"0.00"}},{"$f":"+[10]Tabulka!BC33","v":0},{"$f":"+[10]Tabulka!BD33","v":{"v":0,"d":"0.00"}},{"$f":"+[10]Tabulka!BE33","v":0},{"$f":"+[10]Tabulka!BF33","v":{"v":0,"d":"0.00"}},{"$f":"+[10]Tabulka!BG33","v":0},{"$f":"+[10]Tabulka!BH33","v":{"v":0,"d":"0.00"}},{"$f":"+[10]Tabulka!BI33","v":0},{"$f":"+[10]Tabulka!BJ33","v":{"v":0,"d":"0.00"}},{"$f":"+[10]Tabulka!AP33","v":{"v":0,"d":"0.00"}},{"$f":"+[10]Tabulka!AQ33","v":{"v":0,"d":"0.00"}},{"$f":"+[10]Tabulka!BM33","v":{"v":0,"d":"0.00"}},{"$f":"+[10]Tabulka!BN33","v":0},{"$f":"+[10]Tabulka!BO33","v":{"v":0,"d":"0.00"}}]
[null,{"$f":"[10]Tabulka!C34","v":0},{"$f":"[10]Tabulka!D34","v":0},{"$f":"[10]Tabulka!E34","v":"00:00:00"},{"$f":"[10]Tabulka!F34","v":0},{"$f":"[10]Tabulka!G34","v":0},{"$f":"[10]Tabulka!H34","v":0},{"$f":"+[10]Tabulka!AU34","v":0},{"$f":"+[10]Tabulka!AV34","v":{"v":0,"d":"0.00"}},{"$f":"+[10]Tabulka!AW34","v":0},{"$f":"+[10]Tabulka!AX34","v":{"v":0,"d":"0.00"}},{"$f":"+[10]Tabulka!AY34","v":0},{"$f":"+[10]Tabulka!AZ34","v":{"v":0,"d":"0.00"}},{"$f":"+[10]Tabulka!BA34","v":0},{"$f":"+[10]Tabulka!BB34","v":{"v":0,"d":"0.00"}},{"$f":"+[10]Tabulka!BC34","v":0},{"$f":"+[10]Tabulka!BD34","v":{"v":0,"d":"0.00"}},{"$f":"+[10]Tabulka!BE34","v":0},{"$f":"+[10]Tabulka!BF34","v":{"v":0,"d":"0.00"}},{"$f":"+[10]Tabulka!BG34","v":0},{"$f":"+[10]Tabulka!BH34","v":{"v":0,"d":"0.00"}},{"$f":"+[10]Tabulka!BI34","v":0},{"$f":"+[10]Tabulka!BJ34","v":{"v":0,"d":"0.00"}},{"$f":"+[10]Tabulka!AP34","v":{"v":0,"d":"0.00"}},{"$f":"+[10]Tabulka!AQ34","v":{"v":0,"d":"0.00"}},{"$f":"+[10]Tabulka!BM34","v":{"v":0,"d":"0.00"}},{"$f":"+[10]Tabulka!BN34","v":0},{"$f":"+[10]Tabulka!BO34","v":{"v":0,"d":"0.00"}}]
[null,{"$f":"[10]Tabulka!C35","v":0},{"$f":"[10]Tabulka!D35","v":0},{"$f":"[10]Tabulka!E35","v":"00:00:00"},{"$f":"[10]Tabulka!F35","v":0},{"$f":"[10]Tabulka!G35","v":0},{"$f":"[10]Tabulka!H35","v":0},{"$f":"+[10]Tabulka!AU35","v":0},{"$f":"+[10]Tabulka!AV35","v":{"v":0,"d":"0.00"}},{"$f":"+[10]Tabulka!AW35","v":0},{"$f":"+[10]Tabulka!AX35","v":{"v":0,"d":"0.00"}},{"$f":"+[10]Tabulka!AY35","v":0},{"$f":"+[10]Tabulka!AZ35","v":{"v":0,"d":"0.00"}},{"$f":"+[10]Tabulka!BA35","v":0},{"$f":"+[10]Tabulka!BB35","v":{"v":0,"d":"0.00"}},{"$f":"+[10]Tabulka!BC35","v":0},{"$f":"+[10]Tabulka!BD35","v":{"v":0,"d":"0.00"}},{"$f":"+[10]Tabulka!BE35","v":0},{"$f":"+[10]Tabulka!BF35","v":{"v":0,"d":"0.00"}},{"$f":"+[10]Tabulka!BG35","v":0},{"$f":"+[10]Tabulka!BH35","v":{"v":0,"d":"0.00"}},{"$f":"+[10]Tabulka!BI35","v":0},{"$f":"+[10]Tabulka!BJ35","v":{"v":0,"d":"0.00"}},{"$f":"+[10]Tabulka!AP35","v":{"v":0,"d":"0.00"}},{"$f":"+[10]Tabulka!AQ35","v":{"v":0,"d":"0.00"}},{"$f":"+[10]Tabulka!BM35","v":{"v":0,"d":"0.00"}},{"$f":"+[10]Tabulka!BN35","v":0},{"$f":"+[10]Tabulka!BO35","v":{"v":0,"d":"0.00"}}]
[null,{"$f":"[10]Tabulka!C36","v":0},{"$f":"[10]Tabulka!D36","v":0},{"$f":"[10]Tabulka!E36","v":"00:00:00"},{"$f":"[10]Tabulka!F36","v":0},{"$f":"[10]Tabulka!G36","v":0},{"$f":"[10]Tabulka!H36","v":0},{"$f":"+[10]Tabulka!AU36","v":0},{"$f":"+[10]Tabulka!AV36","v":{"v":0,"d":"0.00"}},{"$f":"+[10]Tabulka!AW36","v":0},{"$f":"+[10]Tabulka!AX36","v":{"v":0,"d":"0.00"}},{"$f":"+[10]Tabulka!AY36","v":0},{"$f":"+[10]Tabulka!AZ36","v":{"v":0,"d":"0.00"}},{"$f":"+[10]Tabulka!BA36","v":0},{"$f":"+[10]Tabulka!BB36","v":{"v":0,"d":"0.00"}},{"$f":"+[10]Tabulka!BC36","v":0},{"$f":"+[10]Tabulka!BD36","v":{"v":0,"d":"0.00"}},{"$f":"+[10]Tabulka!BE36","v":0},{"$f":"+[10]Tabulka!BF36","v":{"v":0,"d":"0.00"}},{"$f":"+[10]Tabulka!BG36","v":0},{"$f":"+[10]Tabulka!BH36","v":{"v":0,"d":"0.00"}},{"$f":"+[10]Tabulka!BI36","v":0},{"$f":"+[10]Tabulka!BJ36","v":{"v":0,"d":"0.00"}},{"$f":"+[10]Tabulka!AP36","v":{"v":0,"d":"0.00"}},{"$f":"+[10]Tabulka!AQ36","v":{"v":0,"d":"0.00"}},{"$f":"+[10]Tabulka!BM36","v":{"v":0,"d":"0.00"}},{"$f":"+[10]Tabulka!BN36","v":0},{"$f":"+[10]Tabulka!BO36","v":{"v":0,"d":"0.00"}}]